{"text_format":"1","workbook":"xlsx","n_sheets":18,"sheets":["OKL","Лист1","OKL (2)","OKL (3)","ОКЛ","Лист2 (2)","Лист3","Выбор ОКЛ","Заказ 2","Несущий элемент","КПС","КСБ","Силовой кабель","ЛОУТОКС-СПЕЦЛАН-КЭРС-КШС","ЗАКАЗ","Итого","КАБЕЛИ","Лист2"],"not_rendered":{"charts":0,"images":0,"macros":1,"external_links":0,"defined_names":11,"comments":0,"pivot_tables":0},"unopened":[],"bounds":{"document_bytes":16777216,"sheet_cells":100000,"rows_first":2000,"rows_last":500,"rows_between":2000,"halvings":0,"cell_chars":16384,"cell_head_chars":4096},"cells_cut":0,"cells_raw":0,"read":"whole","date_system":"1900"}

{"sheet":"OKL","index":0,"n_rows":211,"n_cols":4,"rows_kept":211,"cut":false,"hidden":true,"merged":[]}
["OKLName","TY","Weight","Volume"]
["МРП15","-ТУ 42.22.12-098-47273194-2018"]
["МРП15ГК","-ТУ 42.22.12-098-47273194-2018"]
["МРП15СП","-ТУ 42.22.12-098-47273194-2018"]
["ГЕФЕСТ-МР32","-ТУ 16.К99-083-2015"]
["ГФ-HF20","-ТУ 42.22.12-098-47273194-2018"]
["Х","-ТУ 42.22.12-098-47273194-2018"]
["ХД80х40","-ТУ 42.22.12-098-47273194-2018"]
["ХД80х40ГК","-ТУ 42.22.12-098-47273194-2018"]
["Тр6/70","-ТУ 42.22.12-098-47273194-2018"]
["К1Д25х25Э","-ТУ 16.К99-065-2014"]
["К1Д40х25Э","-ТУ 16.К99-065-2014"]
["К1Д40х40Э","-ТУ 16.К99-065-2014"]
["К1Д60х40Э","-ТУ 16.К99-065-2014"]
["К2/100Д100х40Э","-ТУ 16.К99-065-2014"]
["К2/100Д100х55Э","-ТУ 16.К99-065-2014"]
["К2/100Д60х40Э","-ТУ 16.К99-065-2014"]
["К2/100Д60х60Э","-ТУ 16.К99-065-2014"]
["К2/200Д100х40Э","-ТУ 16.К99-065-2014"]
["К2/200Д100х55Э","-ТУ 16.К99-065-2014"]
["К2/200Д60х60Э","-ТУ 16.К99-065-2014"]
["К2/70Д25х25Э","-ТУ 16.К99-065-2014"]
["К2/70Д40х25Э","-ТУ 16.К99-065-2014"]
["К2/70Д40х40Э","-ТУ 16.К99-065-2014"]
["К2/70Д60х40Э","-ТУ 16.К99-065-2014"]
["КиТ-МР20(с протяжкой)","-ТУ 16.К99-081-2016"]
["ГЕФЕСТ-ККМО","-ТУ 16.К99-083-2015"]
["ГЕФЕСТ-МР15","-ТУ 16.К99-083-2015"]
["ГЕФЕСТ-МР18","-ТУ 16.К99-083-2015"]
["ГЕФЕСТ-МР20","-ТУ 16.К99-083-2015"]
["ГЕФЕСТ-МР22","-ТУ 16.К99-083-2015"]
["ГЕФЕСТ-МР25","-ТУ 16.К99-083-2015"]
["ГЛ16","-ТУ 42.22.12-098-47273194-2018"]
["ГЛ16ГК","-ТУ 42.22.12-098-47273194-2018"]
["ГЛ16СП","-ТУ 42.22.12-098-47273194-2018"]
["ГЛ20","-ТУ 42.22.12-098-47273194-2018"]
["ГЛ20ГК","-ТУ 42.22.12-098-47273194-2018"]
["ГЛ20СП","-ТУ 42.22.12-098-47273194-2018"]
["ГЛ25","-ТУ 42.22.12-098-47273194-2018"]
["ГЛ25ГК","-ТУ 42.22.12-098-47273194-2018"]
["ГЛ25СП","-ТУ 42.22.12-098-47273194-2018"]
["ГЛ32","-ТУ 42.22.12-098-47273194-2018"]
["ГЛ32ГК","-ТУ 42.22.12-098-47273194-2018"]
["ГЛ32СП","-ТУ 42.22.12-098-47273194-2018"]
["ГЛ40","-ТУ 42.22.12-098-47273194-2018"]
["ГЛ40ГК","-ТУ 42.22.12-098-47273194-2018"]
["ГЛ40СП","-ТУ 42.22.12-098-47273194-2018"]
["ГЛ50","-ТУ 42.22.12-098-47273194-2018"]
["ГЛ50ГК","-ТУ 42.22.12-098-47273194-2018"]
["ГЛ50СП","-ТУ 42.22.12-098-47273194-2018"]
["ГФ16","-ТУ 42.22.12-098-47273194-2018"]
["ГФ16ГК","-ТУ 42.22.12-098-47273194-2018"]
["ГФ16СП","-ТУ 42.22.12-098-47273194-2018"]
["ГФ20","-ТУ 42.22.12-098-47273194-2018"]
["ГФ20ГК","-ТУ 42.22.12-098-47273194-2018"]
["ГФ20СП","-ТУ 42.22.12-098-47273194-2018"]
["ГФ25","-ТУ 42.22.12-098-47273194-2018"]
["ГФ25ГК","-ТУ 42.22.12-098-47273194-2018"]
["ГФ25СП","-ТУ 42.22.12-098-47273194-2018"]
["ГФ32","-ТУ 42.22.12-098-47273194-2018"]
["ГФ32ГК","-ТУ 42.22.12-098-47273194-2018"]
["ГФ32СП","-ТУ 42.22.12-098-47273194-2018"]
["ГФ40","-ТУ 42.22.12-098-47273194-2018"]
["ГФ40ГК","-ТУ 42.22.12-098-47273194-2018"]
["ГФ40СП","-ТУ 42.22.12-098-47273194-2018"]
["ГФ50","-ТУ 42.22.12-098-47273194-2018"]
["ГФ50ГК","-ТУ 42.22.12-098-47273194-2018"]
["ГФ50СП","-ТУ 42.22.12-098-47273194-2018"]
["К1","-ТУ 16.К99-065-2014"]
["К1Д25х25","-ТУ 16.К99-065-2014"]
["К1Д40х25","-ТУ 16.К99-065-2014"]
["К1Д40х40","-ТУ 16.К99-065-2014"]
["К1Д60х40","-ТУ 16.К99-065-2014"]
["К2/100","-ТУ 16.К99-065-2014"]
["К2/100Д100х40","-ТУ 16.К99-065-2014"]
["К2/100Д100х60","-ТУ 16.К99-065-2014"]
["К2/100Д60х40","-ТУ 16.К99-065-2014"]
["К2/100Д60х60","-ТУ 16.К99-065-2014"]
["К2/200","-ТУ 16.К99-065-2014"]
["К2/200Д100х40","-ТУ 16.К99-065-2014"]
["К2/200Д100х60","-ТУ 16.К99-065-2014"]
["К2/200Д60х60","-ТУ 16.К99-065-2014"]
["К2/70","-ТУ 16.К99-065-2014"]
["К2/70Д25х25","-ТУ 16.К99-065-2014"]
["К2/70Д40х25","-ТУ 16.К99-065-2014"]
["К2/70Д40х40","-ТУ 16.К99-065-2014"]
["К2/70Д60х40","-ТУ 16.К99-065-2014"]
["КиТ-ГЛ16","-ТУ 16.К99-081-2016"]
["КиТ-ГЛ16П","-ТУ 16.К99-081-2016"]
["КиТ-ГЛ16Х","-ТУ 16.К99-081-2016"]
["КиТ-ГЛ20","-ТУ 16.К99-081-2016"]
["КиТ-ГЛ20П","-ТУ 16.К99-081-2016"]
["КиТ-ГЛ20Х","-ТУ 16.К99-081-2016"]
["КиТ-ГЛ25","-ТУ 16.К99-081-2016"]
["КиТ-ГЛ25П","-ТУ 16.К99-081-2016"]
["КиТ-ГЛ25Х","-ТУ 16.К99-081-2016"]
["КиТ-ГЛ32","-ТУ 16.К99-081-2016"]
["КиТ-ГЛ32П","-ТУ 16.К99-081-2016"]
["КиТ-ГЛ32Х","-ТУ 16.К99-081-2016"]
["КиТ-ГЛ40","-ТУ 16.К99-081-2016"]
["КиТ-ГЛ40П","-ТУ 16.К99-081-2016"]
["КиТ-ГЛ40Х","-ТУ 16.К99-081-2016"]
["КиТ-ГЛ50","-ТУ 16.К99-081-2016"]
["КиТ-ГЛ50П","-ТУ 16.К99-081-2016"]
["КиТ-ГЛ50Х","-ТУ 16.К99-081-2016"]
["КиТ-ГЛ-HFR16","-ТУ 16.К99-081-2016"]
["КиТ-ГЛ-HFR20","-ТУ 16.К99-081-2016"]
["КиТ-ГЛ-HFR25","-ТУ 16.К99-081-2016"]
["КиТ-ГЛ-HFR32","-ТУ 16.К99-081-2016"]
["КиТ-ГЛ-HFR40","-ТУ 16.К99-081-2016"]
["КиТ-ГЛ-HFR50","-ТУ 16.К99-081-2016"]
["КиТ-ГФ16","-ТУ 16.К99-081-2016"]
["КиТ-ГФ16П","-ТУ 16.К99-081-2016"]
["КиТ-ГФ16Х","-ТУ 16.К99-081-2016"]
["КиТ-ГФ20","-ТУ 16.К99-081-2016"]
["КиТ-ГФ20П","-ТУ 16.К99-081-2016"]
["КиТ-ГФ20Х","-ТУ 16.К99-081-2016"]
["КиТ-ГФ25","-ТУ 16.К99-081-2016"]
["КиТ-ГФ25П","-ТУ 16.К99-081-2016"]
["КиТ-ГФ25Х","-ТУ 16.К99-081-2016"]
["КиТ-ГФ32","-ТУ 16.К99-081-2016"]
["КиТ-ГФ32П","-ТУ 16.К99-081-2016"]
["КиТ-ГФ32Х","-ТУ 16.К99-081-2016"]
["КиТ-ГФ40","-ТУ 16.К99-081-2016"]
["КиТ-ГФ40П","-ТУ 16.К99-081-2016"]
["КиТ-ГФ40Х","-ТУ 16.К99-081-2016"]
["КиТ-ГФ50","-ТУ 16.К99-081-2016"]
["КиТ-ГФ50П","-ТУ 16.К99-081-2016"]
["КиТ-ГФ50Х","-ТУ 16.К99-081-2016"]
["КиТ-ГФ-HF16","-ТУ 16.К99-081-2016"]
["КиТ-ГФ-HF16П","-ТУ 16.К99-081-2016"]
["КиТ-ГФ-HF16Х","-ТУ 16.К99-081-2016"]
["КиТ-ГФ-HF20","-ТУ 16.К99-081-2016"]
["КиТ-ГФ-HF20П","-ТУ 16.К99-081-2016"]
["КиТ-ГФ-HF20Х","-ТУ 16.К99-081-2016"]
["КиТ-ГФ-HF25","-ТУ 16.К99-081-2016"]
["КиТ-ГФ-HF25П","-ТУ 16.К99-081-2016"]
["КиТ-ГФ-HF25Х","-ТУ 16.К99-081-2016"]
["КиТ-ГФ-HF32","-ТУ 16.К99-081-2016"]
["КиТ-ГФ-HF32П","-ТУ 16.К99-081-2016"]
["КиТ-ГФ-HF32Х","-ТУ 16.К99-081-2016"]
["КиТ-ГФ-HF40","-ТУ 16.К99-081-2016"]
["КиТ-ГФ-HF40П","-ТУ 16.К99-081-2016"]
["КиТ-ГФ-HF40Х","-ТУ 16.К99-081-2016"]
["КиТ-ГФ-HF50","-ТУ 16.К99-081-2016"]
["КиТ-ГФ-HF50П","-ТУ 16.К99-081-2016"]
["КиТ-ГФ-HF50Х","-ТУ 16.К99-081-2016"]
["КиТ-ГФ-HFR16","-ТУ 16.К99-081-2016"]
["КиТ-ГФ-HFR20","-ТУ 16.К99-081-2016"]
["КиТ-ГФ-HFR25","-ТУ 16.К99-081-2016"]
["КиТ-ГФ-HFR32","-ТУ 16.К99-081-2016"]
["КиТ-ГФ-HFR40","-ТУ 16.К99-081-2016"]
["КиТ-ГФ-HFR50","-ТУ 16.К99-081-2016"]
["КиТ-МР15","-ТУ 16.К99-081-2016"]
["КиТ-МР18","-ТУ 16.К99-081-2016"]
["КиТ-МР20","-ТУ 16.К99-081-2016"]
["КиТ-МР22","-ТУ 16.К99-081-2016"]
["КиТ-МР25","-ТУ 16.К99-081-2016"]
["КиТ-МР32","-ТУ 16.К99-081-2016"]
["КиТ-МР38","-ТУ 16.К99-081-2016"]
["КиТ-МР50","-ТУ 16.К99-081-2016"]
["КиТ-МРП15","-ТУ 16.К99-081-2016"]
["КиТ-МРП18","-ТУ 16.К99-081-2016"]
["КиТ-МРП20","-ТУ 16.К99-081-2016"]
["КиТ-МРП22","-ТУ 16.К99-081-2016"]
["КиТ-МРП25","-ТУ 16.К99-081-2016"]
["КиТ-МРП32","-ТУ 16.К99-081-2016"]
["КиТ-МРП38","-ТУ 16.К99-081-2016"]
["КиТ-МРП50","-ТУ 16.К99-081-2016"]
["КиТ-ОП","-ТУ 16.К99-081-2016"]
["Л","-ТУ 42.22.12-098-47273194-2018"]
["МР15","-ТУ 42.22.12-098-47273194-2018"]
["МР15ГК","-ТУ 42.22.12-098-47273194-2018"]
["МР15СП","-ТУ 42.22.12-098-47273194-2018"]
["МР20","-ТУ 42.22.12-098-47273194-2018"]
["МР20ГК","-ТУ 42.22.12-098-47273194-2018"]
["МР20СП","-ТУ 42.22.12-098-47273194-2018"]
["МР26","-ТУ 42.22.12-098-47273194-2018"]
["МР26ГК","-ТУ 42.22.12-098-47273194-2018"]
["МР26СП","-ТУ 42.22.12-098-47273194-2018"]
["МР35","-ТУ 42.22.12-098-47273194-2018"]
["МР35ГК","-ТУ 42.22.12-098-47273194-2018"]
["МР35СП","-ТУ 42.22.12-098-47273194-2018"]
["МР40","-ТУ 42.22.12-098-47273194-2018"]
["МР40ГК","-ТУ 42.22.12-098-47273194-2018"]
["МР40СП","-ТУ 42.22.12-098-47273194-2018"]
["МР50","-ТУ 42.22.12-098-47273194-2018"]
["МР50ГК","-ТУ 42.22.12-098-47273194-2018"]
["МР50СП","-ТУ 42.22.12-098-47273194-2018"]
["О","-ТУ 16.К99-072-2014"]
["С","-ТУ 42.22.12-098-47273194-2018"]
["Т","-ТУ 16.К99-071-2014"]
["Тр4/100","-ТУ 42.22.12-098-47273194-2018"]
["Тр4/200","-ТУ 42.22.12-098-47273194-2018"]
["Тр4/70","-ТУ 42.22.12-098-47273194-2018"]
["ХД100х40","-ТУ 42.22.12-098-47273194-2018"]
["ХД100х40ГК","-ТУ 42.22.12-098-47273194-2018"]
["ХД100х60","-ТУ 42.22.12-098-47273194-2018"]
["ХД100х60ГК","-ТУ 42.22.12-098-47273194-2018"]
["ХД25х17","-ТУ 42.22.12-098-47273194-2018"]
["ХД25х17ГК","-ТУ 42.22.12-098-47273194-2018"]
["ХД25х30","-ТУ 42.22.12-098-47273194-2018"]
["ХД25х30ГК","-ТУ 42.22.12-098-47273194-2018"]
["ХД40х17","-ТУ 42.22.12-098-47273194-2018"]
["ХД40х17ГК","-ТУ 42.22.12-098-47273194-2018"]
["ХД40х40","-ТУ 42.22.12-098-47273194-2018"]
["ХД40х40ГК","-ТУ 42.22.12-098-47273194-2018"]
["ХД60х40","-ТУ 42.22.12-098-47273194-2018"]
["ХД60х40ГК","-ТУ 42.22.12-098-47273194-2018"]
["ХД60х60","-ТУ 42.22.12-098-47273194-2018"]
["ХД60х60ГК","-ТУ 42.22.12-098-47273194-2018"]

{"sheet":"Лист1","index":1,"n_rows":0,"n_cols":0,"rows_kept":0,"cut":false,"hidden":true,"merged":[]}

{"sheet":"OKL (2)","index":2,"n_rows":218,"n_cols":5,"rows_kept":218,"cut":false,"hidden":true,"merged":[]}
["OKLName","Prefix","TY","Weight","Volume"]
[]
["ГЕФЕСТ-ККМО","СПЕЦКАБЛАЙН-","-ТУ 16.К99-083-2015"]
["ГЕФЕСТ-МР15","СПЕЦКАБЛАЙН-","-ТУ 16.К99-083-2015"]
["ГЕФЕСТ-МР18","СПЕЦКАБЛАЙН-","-ТУ 16.К99-083-2015"]
["ГЕФЕСТ-МР20","СПЕЦКАБЛАЙН-","-ТУ 16.К99-083-2015"]
["ГЕФЕСТ-МР22","СПЕЦКАБЛАЙН-","-ТУ 16.К99-083-2015"]
["ГЕФЕСТ-МР25","СПЕЦКАБЛАЙН-","-ТУ 16.К99-083-2015"]
["ГЕФЕСТ-МР32","СПЕЦКАБЛАЙН-","-ТУ 16.К99-083-2015"]
[]
["ГЛ16","СПЕЦКАБЛАЙН-","-ТУ 42.22.12-098-47273194-2018"]
["ГЛ16ГК","СПЕЦКАБЛАЙН-","-ТУ 42.22.12-098-47273194-2018"]
["ГЛ16СП","СПЕЦКАБЛАЙН-","-ТУ 42.22.12-098-47273194-2018"]
["ГЛ20","СПЕЦКАБЛАЙН-","-ТУ 42.22.12-098-47273194-2018"]
["ГЛ20ГК","СПЕЦКАБЛАЙН-","-ТУ 42.22.12-098-47273194-2018"]
["ГЛ20СП","СПЕЦКАБЛАЙН-","-ТУ 42.22.12-098-47273194-2018"]
["ГЛ25","СПЕЦКАБЛАЙН-","-ТУ 42.22.12-098-47273194-2018"]
["ГЛ25ГК","СПЕЦКАБЛАЙН-","-ТУ 42.22.12-098-47273194-2018"]
["ГЛ25СП","СПЕЦКАБЛАЙН-","-ТУ 42.22.12-098-47273194-2018"]
["ГЛ32","СПЕЦКАБЛАЙН-","-ТУ 42.22.12-098-47273194-2018"]
["ГЛ32ГК","СПЕЦКАБЛАЙН-","-ТУ 42.22.12-098-47273194-2018"]
["ГЛ32СП","СПЕЦКАБЛАЙН-","-ТУ 42.22.12-098-47273194-2018"]
["ГЛ40","СПЕЦКАБЛАЙН-","-ТУ 42.22.12-098-47273194-2018"]
["ГЛ40ГК","СПЕЦКАБЛАЙН-","-ТУ 42.22.12-098-47273194-2018"]
["ГЛ40СП","СПЕЦКАБЛАЙН-","-ТУ 42.22.12-098-47273194-2018"]
["ГЛ50","СПЕЦКАБЛАЙН-","-ТУ 42.22.12-098-47273194-2018"]
["ГЛ50ГК","СПЕЦКАБЛАЙН-","-ТУ 42.22.12-098-47273194-2018"]
["ГЛ50СП","СПЕЦКАБЛАЙН-","-ТУ 42.22.12-098-47273194-2018"]
["ГФ16","СПЕЦКАБЛАЙН-","-ТУ 42.22.12-098-47273194-2018"]
["ГФ16ГК","СПЕЦКАБЛАЙН-","-ТУ 42.22.12-098-47273194-2018"]
["ГФ16СП","СПЕЦКАБЛАЙН-","-ТУ 42.22.12-098-47273194-2018"]
["ГФ20","СПЕЦКАБЛАЙН-","-ТУ 42.22.12-098-47273194-2018"]
["ГФ20ГК","СПЕЦКАБЛАЙН-","-ТУ 42.22.12-098-47273194-2018"]
["ГФ20СП","СПЕЦКАБЛАЙН-","-ТУ 42.22.12-098-47273194-2018"]
["ГФ25","СПЕЦКАБЛАЙН-","-ТУ 42.22.12-098-47273194-2018"]
["ГФ25ГК","СПЕЦКАБЛАЙН-","-ТУ 42.22.12-098-47273194-2018"]
["ГФ25СП","СПЕЦКАБЛАЙН-","-ТУ 42.22.12-098-47273194-2018"]
["ГФ32","СПЕЦКАБЛАЙН-","-ТУ 42.22.12-098-47273194-2018"]
["ГФ32ГК","СПЕЦКАБЛАЙН-","-ТУ 42.22.12-098-47273194-2018"]
["ГФ32СП","СПЕЦКАБЛАЙН-","-ТУ 42.22.12-098-47273194-2018"]
["ГФ40","СПЕЦКАБЛАЙН-","-ТУ 42.22.12-098-47273194-2018"]
["ГФ40ГК","СПЕЦКАБЛАЙН-","-ТУ 42.22.12-098-47273194-2018"]
["ГФ40СП","СПЕЦКАБЛАЙН-","-ТУ 42.22.12-098-47273194-2018"]
["ГФ50","СПЕЦКАБЛАЙН-","-ТУ 42.22.12-098-47273194-2018"]
["ГФ50ГК","СПЕЦКАБЛАЙН-","-ТУ 42.22.12-098-47273194-2018"]
["ГФ50СП","СПЕЦКАБЛАЙН-","-ТУ 42.22.12-098-47273194-2018"]
["ГФ-HF20","СПЕЦКАБЛАЙН-","-ТУ 42.22.12-098-47273194-2018"]
[]
["К1","СПЕЦКАБЛАЙН-","-ТУ 16.К99-065-2014"]
["К1Д25х25","СПЕЦКАБЛАЙН-","-ТУ 16.К99-065-2014"]
["К1Д25х25Э","СПЕЦКАБЛАЙН-","-ТУ 16.К99-065-2014"]
["К1Д40х25","СПЕЦКАБЛАЙН-","-ТУ 16.К99-065-2014"]
["К1Д40х25Э","СПЕЦКАБЛАЙН-","-ТУ 16.К99-065-2014"]
["К1Д40х40","СПЕЦКАБЛАЙН-","-ТУ 16.К99-065-2014"]
["К1Д40х40Э","СПЕЦКАБЛАЙН-","-ТУ 16.К99-065-2014"]
["К1Д60х40","СПЕЦКАБЛАЙН-","-ТУ 16.К99-065-2014"]
["К1Д60х40Э","СПЕЦКАБЛАЙН-","-ТУ 16.К99-065-2014"]
[]
["К2/100","СПЕЦКАБЛАЙН-","-ТУ 16.К99-065-2014"]
["К2/100Д100х40","СПЕЦКАБЛАЙН-","-ТУ 16.К99-065-2014"]
["К2/100Д100х40Э","СПЕЦКАБЛАЙН-","-ТУ 16.К99-065-2014"]
["К2/100Д100х55Э","СПЕЦКАБЛАЙН-","-ТУ 16.К99-065-2014"]
["К2/100Д100х60","СПЕЦКАБЛАЙН-","-ТУ 16.К99-065-2014"]
["К2/100Д60х40","СПЕЦКАБЛАЙН-","-ТУ 16.К99-065-2014"]
["К2/100Д60х40Э","СПЕЦКАБЛАЙН-","-ТУ 16.К99-065-2014"]
["К2/100Д60х60","СПЕЦКАБЛАЙН-","-ТУ 16.К99-065-2014"]
["К2/100Д60х60Э","СПЕЦКАБЛАЙН-","-ТУ 16.К99-065-2014"]
["К2/200","СПЕЦКАБЛАЙН-","-ТУ 16.К99-065-2014"]
["К2/200Д100х40","СПЕЦКАБЛАЙН-","-ТУ 16.К99-065-2014"]
["К2/200Д100х40Э","СПЕЦКАБЛАЙН-","-ТУ 16.К99-065-2014"]
["К2/200Д100х55Э","СПЕЦКАБЛАЙН-","-ТУ 16.К99-065-2014"]
["К2/200Д100х60","СПЕЦКАБЛАЙН-","-ТУ 16.К99-065-2014"]
["К2/200Д60х60","СПЕЦКАБЛАЙН-","-ТУ 16.К99-065-2014"]
["К2/200Д60х60Э","СПЕЦКАБЛАЙН-","-ТУ 16.К99-065-2014"]
["К2/70","СПЕЦКАБЛАЙН-","-ТУ 16.К99-065-2014"]
["К2/70Д25х25","СПЕЦКАБЛАЙН-","-ТУ 16.К99-065-2014"]
["К2/70Д25х25Э","СПЕЦКАБЛАЙН-","-ТУ 16.К99-065-2014"]
["К2/70Д40х25","СПЕЦКАБЛАЙН-","-ТУ 16.К99-065-2014"]
["К2/70Д40х25Э","СПЕЦКАБЛАЙН-","-ТУ 16.К99-065-2014"]
["К2/70Д40х40","СПЕЦКАБЛАЙН-","-ТУ 16.К99-065-2014"]
["К2/70Д40х40Э","СПЕЦКАБЛАЙН-","-ТУ 16.К99-065-2014"]
["К2/70Д60х40","СПЕЦКАБЛАЙН-","-ТУ 16.К99-065-2014"]
["К2/70Д60х40Э","СПЕЦКАБЛАЙН-","-ТУ 16.К99-065-2014"]
[]
["КиТ-ГЛ16","СПЕЦКАБЛАЙН-","-ТУ 16.К99-081-2016"]
["КиТ-ГЛ16П","СПЕЦКАБЛАЙН-","-ТУ 16.К99-081-2016"]
["КиТ-ГЛ16Х","СПЕЦКАБЛАЙН-","-ТУ 16.К99-081-2016"]
["КиТ-ГЛ20","СПЕЦКАБЛАЙН-","-ТУ 16.К99-081-2016"]
["КиТ-ГЛ20П","СПЕЦКАБЛАЙН-","-ТУ 16.К99-081-2016"]
["КиТ-ГЛ20Х","СПЕЦКАБЛАЙН-","-ТУ 16.К99-081-2016"]
["КиТ-ГЛ25","СПЕЦКАБЛАЙН-","-ТУ 16.К99-081-2016"]
["КиТ-ГЛ25П","СПЕЦКАБЛАЙН-","-ТУ 16.К99-081-2016"]
["КиТ-ГЛ25Х","СПЕЦКАБЛАЙН-","-ТУ 16.К99-081-2016"]
["КиТ-ГЛ32","СПЕЦКАБЛАЙН-","-ТУ 16.К99-081-2016"]
["КиТ-ГЛ32П","СПЕЦКАБЛАЙН-","-ТУ 16.К99-081-2016"]
["КиТ-ГЛ32Х","СПЕЦКАБЛАЙН-","-ТУ 16.К99-081-2016"]
["КиТ-ГЛ40","СПЕЦКАБЛАЙН-","-ТУ 16.К99-081-2016"]
["КиТ-ГЛ40П","СПЕЦКАБЛАЙН-","-ТУ 16.К99-081-2016"]
["КиТ-ГЛ40Х","СПЕЦКАБЛАЙН-","-ТУ 16.К99-081-2016"]
["КиТ-ГЛ50","СПЕЦКАБЛАЙН-","-ТУ 16.К99-081-2016"]
["КиТ-ГЛ50П","СПЕЦКАБЛАЙН-","-ТУ 16.К99-081-2016"]
["КиТ-ГЛ50Х","СПЕЦКАБЛАЙН-","-ТУ 16.К99-081-2016"]
["КиТ-ГЛ-HFR16","СПЕЦКАБЛАЙН-","-ТУ 16.К99-081-2016"]
["КиТ-ГЛ-HFR20","СПЕЦКАБЛАЙН-","-ТУ 16.К99-081-2016"]
["КиТ-ГЛ-HFR25","СПЕЦКАБЛАЙН-","-ТУ 16.К99-081-2016"]
["КиТ-ГЛ-HFR32","СПЕЦКАБЛАЙН-","-ТУ 16.К99-081-2016"]
["КиТ-ГЛ-HFR40","СПЕЦКАБЛАЙН-","-ТУ 16.К99-081-2016"]
["КиТ-ГЛ-HFR50","СПЕЦКАБЛАЙН-","-ТУ 16.К99-081-2016"]
["КиТ-ГФ16","СПЕЦКАБЛАЙН-","-ТУ 16.К99-081-2016"]
["КиТ-ГФ16П","СПЕЦКАБЛАЙН-","-ТУ 16.К99-081-2016"]
["КиТ-ГФ16Х","СПЕЦКАБЛАЙН-","-ТУ 16.К99-081-2016"]
["КиТ-ГФ20","СПЕЦКАБЛАЙН-","-ТУ 16.К99-081-2016"]
["КиТ-ГФ20П","СПЕЦКАБЛАЙН-","-ТУ 16.К99-081-2016"]
["КиТ-ГФ20Х","СПЕЦКАБЛАЙН-","-ТУ 16.К99-081-2016"]
["КиТ-ГФ25","СПЕЦКАБЛАЙН-","-ТУ 16.К99-081-2016"]
["КиТ-ГФ25П","СПЕЦКАБЛАЙН-","-ТУ 16.К99-081-2016"]
["КиТ-ГФ25Х","СПЕЦКАБЛАЙН-","-ТУ 16.К99-081-2016"]
["КиТ-ГФ32","СПЕЦКАБЛАЙН-","-ТУ 16.К99-081-2016"]
["КиТ-ГФ32П","СПЕЦКАБЛАЙН-","-ТУ 16.К99-081-2016"]
["КиТ-ГФ32Х","СПЕЦКАБЛАЙН-","-ТУ 16.К99-081-2016"]
["КиТ-ГФ40","СПЕЦКАБЛАЙН-","-ТУ 16.К99-081-2016"]
["КиТ-ГФ40П","СПЕЦКАБЛАЙН-","-ТУ 16.К99-081-2016"]
["КиТ-ГФ40Х","СПЕЦКАБЛАЙН-","-ТУ 16.К99-081-2016"]
["КиТ-ГФ50","СПЕЦКАБЛАЙН-","-ТУ 16.К99-081-2016"]
["КиТ-ГФ50П","СПЕЦКАБЛАЙН-","-ТУ 16.К99-081-2016"]
["КиТ-ГФ50Х","СПЕЦКАБЛАЙН-","-ТУ 16.К99-081-2016"]
["КиТ-ГФ-HF16","СПЕЦКАБЛАЙН-","-ТУ 16.К99-081-2016"]
["КиТ-ГФ-HF16П","СПЕЦКАБЛАЙН-","-ТУ 16.К99-081-2016"]
["КиТ-ГФ-HF16Х","СПЕЦКАБЛАЙН-","-ТУ 16.К99-081-2016"]
["КиТ-ГФ-HF20","СПЕЦКАБЛАЙН-","-ТУ 16.К99-081-2016"]
["КиТ-ГФ-HF20П","СПЕЦКАБЛАЙН-","-ТУ 16.К99-081-2016"]
["КиТ-ГФ-HF20Х","СПЕЦКАБЛАЙН-","-ТУ 16.К99-081-2016"]
["КиТ-ГФ-HF25","СПЕЦКАБЛАЙН-","-ТУ 16.К99-081-2016"]
["КиТ-ГФ-HF25П","СПЕЦКАБЛАЙН-","-ТУ 16.К99-081-2016"]
["КиТ-ГФ-HF25Х","СПЕЦКАБЛАЙН-","-ТУ 16.К99-081-2016"]
["КиТ-ГФ-HF32","СПЕЦКАБЛАЙН-","-ТУ 16.К99-081-2016"]
["КиТ-ГФ-HF32П","СПЕЦКАБЛАЙН-","-ТУ 16.К99-081-2016"]
["КиТ-ГФ-HF32Х","СПЕЦКАБЛАЙН-","-ТУ 16.К99-081-2016"]
["КиТ-ГФ-HF40","СПЕЦКАБЛАЙН-","-ТУ 16.К99-081-2016"]
["КиТ-ГФ-HF40П","СПЕЦКАБЛАЙН-","-ТУ 16.К99-081-2016"]
["КиТ-ГФ-HF40Х","СПЕЦКАБЛАЙН-","-ТУ 16.К99-081-2016"]
["КиТ-ГФ-HF50","СПЕЦКАБЛАЙН-","-ТУ 16.К99-081-2016"]
["КиТ-ГФ-HF50П","СПЕЦКАБЛАЙН-","-ТУ 16.К99-081-2016"]
["КиТ-ГФ-HF50Х","СПЕЦКАБЛАЙН-","-ТУ 16.К99-081-2016"]
["КиТ-ГФ-HFR16","СПЕЦКАБЛАЙН-","-ТУ 16.К99-081-2016"]
["КиТ-ГФ-HFR20","СПЕЦКАБЛАЙН-","-ТУ 16.К99-081-2016"]
["КиТ-ГФ-HFR25","СПЕЦКАБЛАЙН-","-ТУ 16.К99-081-2016"]
["КиТ-ГФ-HFR32","СПЕЦКАБЛАЙН-","-ТУ 16.К99-081-2016"]
["КиТ-ГФ-HFR40","СПЕЦКАБЛАЙН-","-ТУ 16.К99-081-2016"]
["КиТ-ГФ-HFR50","СПЕЦКАБЛАЙН-","-ТУ 16.К99-081-2016"]
["КиТ-МР15","СПЕЦКАБЛАЙН-","-ТУ 16.К99-081-2016"]
["КиТ-МР18","СПЕЦКАБЛАЙН-","-ТУ 16.К99-081-2016"]
["КиТ-МР20","СПЕЦКАБЛАЙН-","-ТУ 16.К99-081-2016"]
["КиТ-МР20(с протяжкой)","СПЕЦКАБЛАЙН-","-ТУ 16.К99-081-2016"]
["КиТ-МР22","СПЕЦКАБЛАЙН-","-ТУ 16.К99-081-2016"]
["КиТ-МР25","СПЕЦКАБЛАЙН-","-ТУ 16.К99-081-2016"]
["КиТ-МР32","СПЕЦКАБЛАЙН-","-ТУ 16.К99-081-2016"]
["КиТ-МР38","СПЕЦКАБЛАЙН-","-ТУ 16.К99-081-2016"]
["КиТ-МР50","СПЕЦКАБЛАЙН-","-ТУ 16.К99-081-2016"]
["КиТ-МРП15","СПЕЦКАБЛАЙН-","-ТУ 16.К99-081-2016"]
["КиТ-МРП18","СПЕЦКАБЛАЙН-","-ТУ 16.К99-081-2016"]
["КиТ-МРП20","СПЕЦКАБЛАЙН-","-ТУ 16.К99-081-2016"]
["КиТ-МРП22","СПЕЦКАБЛАЙН-","-ТУ 16.К99-081-2016"]
["КиТ-МРП25","СПЕЦКАБЛАЙН-","-ТУ 16.К99-081-2016"]
["КиТ-МРП32","СПЕЦКАБЛАЙН-","-ТУ 16.К99-081-2016"]
["КиТ-МРП38","СПЕЦКАБЛАЙН-","-ТУ 16.К99-081-2016"]
["КиТ-МРП50","СПЕЦКАБЛАЙН-","-ТУ 16.К99-081-2016"]
["КиТ-ОП","СПЕЦКАБЛАЙН-","-ТУ 16.К99-081-2016"]
[]
["МР15","СПЕЦКАБЛАЙН-","-ТУ 42.22.12-098-47273194-2018"]
["МР15ГК","СПЕЦКАБЛАЙН-","-ТУ 42.22.12-098-47273194-2018"]
["МР15СП","СПЕЦКАБЛАЙН-","-ТУ 42.22.12-098-47273194-2018"]
["МР20","СПЕЦКАБЛАЙН-","-ТУ 42.22.12-098-47273194-2018"]
["МР20ГК","СПЕЦКАБЛАЙН-","-ТУ 42.22.12-098-47273194-2018"]
["МР20СП","СПЕЦКАБЛАЙН-","-ТУ 42.22.12-098-47273194-2018"]
["МР26","СПЕЦКАБЛАЙН-","-ТУ 42.22.12-098-47273194-2018"]
["МР26ГК","СПЕЦКАБЛАЙН-","-ТУ 42.22.12-098-47273194-2018"]
["МР26СП","СПЕЦКАБЛАЙН-","-ТУ 42.22.12-098-47273194-2018"]
["МР35","СПЕЦКАБЛАЙН-","-ТУ 42.22.12-098-47273194-2018"]
["МР35ГК","СПЕЦКАБЛАЙН-","-ТУ 42.22.12-098-47273194-2018"]
["МР35СП","СПЕЦКАБЛАЙН-","-ТУ 42.22.12-098-47273194-2018"]
["МР40","СПЕЦКАБЛАЙН-","-ТУ 42.22.12-098-47273194-2018"]
["МР40ГК","СПЕЦКАБЛАЙН-","-ТУ 42.22.12-098-47273194-2018"]
["МР40СП","СПЕЦКАБЛАЙН-","-ТУ 42.22.12-098-47273194-2018"]
["МР50","СПЕЦКАБЛАЙН-","-ТУ 42.22.12-098-47273194-2018"]
["МР50ГК","СПЕЦКАБЛАЙН-","-ТУ 42.22.12-098-47273194-2018"]
["МР50СП","СПЕЦКАБЛАЙН-","-ТУ 42.22.12-098-47273194-2018"]
["МРП15","СПЕЦКАБЛАЙН-","-ТУ 42.22.12-098-47273194-2018"]
["МРП15ГК","СПЕЦКАБЛАЙН-","-ТУ 42.22.12-098-47273194-2018"]
["МРП15СП","СПЕЦКАБЛАЙН-","-ТУ 42.22.12-098-47273194-2018"]
["Тр4/100","СПЕЦКАБЛАЙН-","-ТУ 42.22.12-098-47273194-2018"]
["Тр4/200","СПЕЦКАБЛАЙН-","-ТУ 42.22.12-098-47273194-2018"]
["Тр4/70","СПЕЦКАБЛАЙН-","-ТУ 42.22.12-098-47273194-2018"]
["Тр6/70","СПЕЦКАБЛАЙН-","-ТУ 42.22.12-098-47273194-2018"]
["Х","СПЕЦКАБЛАЙН-","-ТУ 42.22.12-098-47273194-2018"]
["ХД100х40","СПЕЦКАБЛАЙН-","-ТУ 42.22.12-098-47273194-2018"]
["ХД100х40ГК","СПЕЦКАБЛАЙН-","-ТУ 42.22.12-098-47273194-2018"]
["ХД100х60","СПЕЦКАБЛАЙН-","-ТУ 42.22.12-098-47273194-2018"]
["ХД100х60ГК","СПЕЦКАБЛАЙН-","-ТУ 42.22.12-098-47273194-2018"]
["ХД25х17","СПЕЦКАБЛАЙН-","-ТУ 42.22.12-098-47273194-2018"]
["ХД25х17ГК","СПЕЦКАБЛАЙН-","-ТУ 42.22.12-098-47273194-2018"]
["ХД25х30","СПЕЦКАБЛАЙН-","-ТУ 42.22.12-098-47273194-2018"]
["ХД25х30ГК","СПЕЦКАБЛАЙН-","-ТУ 42.22.12-098-47273194-2018"]
["ХД40х17","СПЕЦКАБЛАЙН-","-ТУ 42.22.12-098-47273194-2018"]
["ХД40х17ГК","СПЕЦКАБЛАЙН-","-ТУ 42.22.12-098-47273194-2018"]
["ХД40х40","СПЕЦКАБЛАЙН-","-ТУ 42.22.12-098-47273194-2018"]
["ХД40х40ГК","СПЕЦКАБЛАЙН-","-ТУ 42.22.12-098-47273194-2018"]
["ХД60х40","СПЕЦКАБЛАЙН-","-ТУ 42.22.12-098-47273194-2018"]
["ХД60х40ГК","СПЕЦКАБЛАЙН-","-ТУ 42.22.12-098-47273194-2018"]
["ХД60х60","СПЕЦКАБЛАЙН-","-ТУ 42.22.12-098-47273194-2018"]
["ХД60х60ГК","СПЕЦКАБЛАЙН-","-ТУ 42.22.12-098-47273194-2018"]
["ХД80х40","СПЕЦКАБЛАЙН-","-ТУ 42.22.12-098-47273194-2018"]
["ХД80х40ГК","СПЕЦКАБЛАЙН-","-ТУ 42.22.12-098-47273194-2018"]
[]
["Л","Составной элемент ОКЛ СПЕЦКАБЛАЙН-","-ТУ 42.22.12-098-47273194-2018"]
["О","Составной элемент ОКЛ СПЕЦКАБЛАЙН-","-ТУ 16.К99-072-2014"]
["С","СПЕЦКАБЛАЙН-","-ТУ 42.22.12-098-47273194-2018"]
["Т","Составной элемент ОКЛ СПЕЦКАБЛАЙН-","-ТУ 16.К99-071-2014"]

{"sheet":"OKL (3)","index":3,"n_rows":224,"n_cols":47,"rows_kept":224,"cut":false,"hidden":true,"merged":[[0,23,0,31]]}
[null,null,null,null,null,null,null,null,null,null,null,null,null,null,null,null,null,null,null,null,null,null,null,"Отбор"]
[null,null,{"$f":"MAX(C11:C242)","v":147},null,{"$f":"D11","v":"Огнестойкая Кабельная Линия\nв виде металлорукава, размером 20 мм,\nс креплением к бетону\nс помощью металлических скоб"},{"$f":"CONCATENATE(\"*\",ОКЛ!AL10, \"*\")","v":"*СПЕЦКАБЛАЙН-КиТ-МР20*"},null,null,null,"Выбор",null,null,null,null,null,null,{"$f":"'Заказ 2'!M39*1","v":4},null,null,null,{"$f":"'Заказ 2'!F13*1","v":2},null,{"$f":"'Заказ 2'!F24*1","v":1}]
[]
[null,null,null,null,null,{"$f":"OFFSET(F10,$C2,0)","v":"металлорукава"},{"$f":"CONCATENATE(OFFSET(G10,$C2,0), \" мм\")","v":"20 мм"},{"$f":"OFFSET(H10,$C2,0)","v":"металлических скоб"},{"$f":"OFFSET(I10,$C2,0)","v":"бетону"},null,null,null,null,null,null,null,null,{"$f":"OFFSET(R10,$C2,0)","v":"ПВХ"},null,{"$f":"OFFSET(T10,$C2,0)","v":"бетон"},null,{"$f":"OFFSET(V10,$C2,0)","v":"Скоба"},null,"Тип","Повер","Кпеж","Т","П","К",null,null,{"$f":"MAX(AF11:AF224)","v":22},null,null,{"$f":"AI224","v":"*1*СПЕЦКАБЛАЙН-ГЕФЕСТ-МР15#2$*2*СПЕЦКАБЛАЙН-ГЕФЕСТ-МР18#3$*3*СПЕЦКАБЛАЙН-ГЕФЕСТ-МР20#4$*4*СПЕЦКАБЛАЙН-ГЕФЕСТ-МР22#5$*5*СПЕЦКАБЛАЙН-ГЕФЕСТ-МР25#6$*6*СПЕЦКАБЛАЙН-ГЕФЕСТ-МР32#7$*7*СПЕЦКАБЛАЙН-КиТ-МР15#145$*8*СПЕЦКАБЛАЙН-КиТ-МР18#146$*9*СПЕЦКАБЛАЙН-КиТ-МР20#147$*10*СПЕЦКАБЛАЙН-КиТ-МР20(с протяжкой)#148$*11*СПЕЦКАБЛАЙН-КиТ-МР22#149$*12*СПЕЦКАБЛАЙН-КиТ-МР25#150$*13*СПЕЦКАБЛАЙН-КиТ-МР32#151$*14*СПЕЦКАБЛАЙН-КиТ-МР38#152$*15*СПЕЦКАБЛАЙН-КиТ-МР50#153$*16*СПЕЦКАБЛАЙН-МР15#163$*17*СПЕЦКАБЛАЙН-МР20#166$*18*СПЕЦКАБЛАЙН-МР26#169$*19*СПЕЦКАБЛАЙН-МР35#172$*20*СПЕЦКАБЛАЙН-МР40#175$*21*СПЕЦКАБЛАЙН-МР50#178$*22*СПЕЦКАБЛАЙН-МРП15#181$"}]
[null,null,null,null,null,null,null,null,"крепление к",null,"Prefix","OKLName","TY","Тип несущего элемента",null,"Разновидность несущего элемента",null,"материал",null,"крепление к",null,"крепеж"]
[]
[]
[null,null,null,null,null,null,null,null,null,null,null,null,null,null,null,null,null,null,null,null,null,null,null,null,null,null,null,null,null,null,null,null,null,null,null,null,null,null,null,null,null,null,null,null,"Т","П","К"]
[null,null,null,null,null,null,null,null,null,null,null,null,null,null,null,null,null,null,null,null,null,null,null,null,null,null,{"$f":"PRODUCT(AA11:AA223)","v":3.3856163827939972E+148},{"$f":"PRODUCT(AB11:AB223)","v":3.6516330485792507E+39},{"$f":"PRODUCT(AC11:AC223)","v":5.5206143891243642E+23},null,null,0,null,null,null,null,null,null,null,null,null,null,1,11,{"$f":"COUNTIF(AA$11:AA$223,$AR9)","v":18},{"$f":"COUNTIF(AB$11:AB$223,$AR9)","v":0},{"$f":"COUNTIF(AC$11:AC$223,$AR9)","v":0}]
[null,null,null,null,null,null,null,null,null,null,null,null,null,null,null,null,null,null,null,null,null,null,null,null,null,null,null,null,null,null,null,null,null,null,null,null,null,null,null,null,null,null,2,12,25,22,22]
[{"$f":"AG11","v":""},null,{"$f":"IF(ISERR(FIND(\"Огнес\",E11)),\"\",J11)","v":""},{"$f":"CONCATENATE(E11,D12)","v":"Огнестойкая Кабельная Линия\nв виде металлорукава, размером 20 мм,\nс креплением к бетону\nс помощью металлических скоб"},{"$f":"IF(ISERR(FIND($F$2,CONCATENATE(\"*\",$K11,$L11,\"*\"))),\"\",CONCATENATE(\"Огнестойкая Кабельная Линия\", CHAR(10), \"в виде \",F11,IF(ISBLANK(G11),\"\",CONCATENATE(\", размером \",G11,\" мм\")),IF(ISBLANK(H11),\"\",CONCATENATE(\",\", CHAR(10), \"с креплением к \",I11, CHAR(10), \"с помощью \", H11))))","v":""},"металлическиого короба","25x20","дюбель-хомутов","бетону",1,"СПЕЦКАБЛАЙН-","ГЕФЕСТ-ККМО","-ТУ 16.К99-083-2015","Короб","металлический короб","металлический короб",{"$f":"ОКЛ!F121","v":3},"Металл",1,"бетон",{"$f":"ОКЛ!D$136","v":2},"Дюбель-хомут",{"$f":"ОКЛ!D$146","v":3},{"$f":"IF(Q11=Q$2, 1, 0)","v":0},{"$f":"IF(U11=U$2, 1, IF(U$2=1, 1,0))","v":1},{"$f":"IF(W11=W$2, 1, IF(W$2=1, 1,0))","v":1},{"$f":"IF(0<Y11*Z11, VLOOKUP(Q11, AQ$9:AR$21, 2), \"\")","v":13},{"$f":"IF(0<X11*Z11,VLOOKUP(U11, AQ$9:AR$21, 2),\"\")","v":""},{"$f":"IF(0<X11*Y11,VLOOKUP(W11, AQ$9:AR$21, 2),\"\")","v":""},null,null,{"$f":"IF(X11*Y11*Z11=0, 0, MAX(AF$9:AF10 )+1)","v":0},{"$f":"IF(AF11=0,\"\",CONCATENATE(\"*\",AF11,\"*\"))","v":""},{"$f":"IF(AF11=0,\"\", CONCATENATE(AG11, K11, L11,\"#\", J11, \"$\"))","v":""},{"$f":"CONCATENATE(AI10,AH11)","v":""},null,null,null,null,null,null,null,3,13,1,7,0]
[{"$f":"AG12","v":"*1*"},null,"",{"$f":"CONCATENATE(E12,D13)","v":"Огнестойкая Кабельная Линия\nв виде металлорукава, размером 20 мм,\nс креплением к бетону\nс помощью металлических скоб"},{"$f":"IF(ISERR(FIND($F$2,CONCATENATE(\"*\",$K12,$L12,\"*\"))),\"\",CONCATENATE(\"Огнестойкая Кабельная Линия\", CHAR(10), \"в виде \",F12,IF(ISBLANK(G12),\"\",CONCATENATE(\", размером \",G12,\" мм\")),IF(ISBLANK(H12),\"\",CONCATENATE(\",\", CHAR(10), \"с креплением к \",I12, CHAR(10), \"с помощью \", H12))))","v":""},"металлорукава",15,"металлических скоб","бетону",2,"СПЕЦКАБЛАЙН-","ГЕФЕСТ-МР15","-ТУ 16.К99-083-2015","металлорукав","металлорукав","металлорукав",{"$f":"ОКЛ!F$122","v":4},"Металл",1,"бетон",{"$f":"ОКЛ!D$136","v":2},"Скоба",{"$f":"ОКЛ!D$145","v":2},1,{"$f":"IF(U12=U$2, 1, IF(U$2=1, 1,0))","v":1},1,{"$f":"IF(0<Y12*Z12, VLOOKUP(Q12, AQ$9:AR$21, 2), \"\")","v":14},{"$f":"IF(0<X12*Z12,VLOOKUP(U12, AQ$9:AR$21, 2),\"\")","v":12},{"$f":"IF(0<X12*Y12,VLOOKUP(W12, AQ$9:AR$21, 2),\"\")","v":12},null,null,{"$f":"IF(X12*Y12*Z12=0, 0, MAX(AF$9:AF11 )+1)","v":1},"*1*","*1*СПЕЦКАБЛАЙН-ГЕФЕСТ-МР15#2$",{"$f":"CONCATENATE(AI11,AH12)","v":"*1*СПЕЦКАБЛАЙН-ГЕФЕСТ-МР15#2$"},null,null,null,null,null,null,null,4,14,22,7,0]
["*2*",null,"","Огнестойкая Кабельная Линия\nв виде металлорукава, размером 20 мм,\nс креплением к бетону\nс помощью металлических скоб","","металлорукава",18,"металлических скоб","бетону",3,"СПЕЦКАБЛАЙН-","ГЕФЕСТ-МР18","-ТУ 16.К99-083-2015","металлорукав","металлорукав","металлорукав",{"$f":"ОКЛ!F$122","v":4},"Металл",1,"бетон",{"$f":"ОКЛ!D$136","v":2},"Скоба",{"$f":"ОКЛ!D$145","v":2},{"$f":"IF(Q13=Q$2, 1, 0)","v":1},1,1,14,12,12,null,null,{"$f":"IF(X13*Y13*Z13=0, 0, MAX(AF$9:AF12 )+1)","v":2},"*2*","*2*СПЕЦКАБЛАЙН-ГЕФЕСТ-МР18#3$","*1*СПЕЦКАБЛАЙН-ГЕФЕСТ-МР15#2$*2*СПЕЦКАБЛАЙН-ГЕФЕСТ-МР18#3$",null,null,null,null,null,null,null,5,15,8,0,0]
["*3*",null,"","Огнестойкая Кабельная Линия\nв виде металлорукава, размером 20 мм,\nс креплением к бетону\nс помощью металлических скоб","","металлорукава",20,"металлических скоб","бетону",4,"СПЕЦКАБЛАЙН-","ГЕФЕСТ-МР20","-ТУ 16.К99-083-2015","металлорукав","металлорукав","металлорукав",{"$f":"ОКЛ!F$122","v":4},"Металл",1,"бетон",{"$f":"ОКЛ!D$136","v":2},"Скоба",{"$f":"ОКЛ!D$145","v":2},1,1,1,14,12,12,null,null,{"$f":"IF(X14*Y14*Z14=0, 0, MAX(AF$9:AF13 )+1)","v":3},"*3*","*3*СПЕЦКАБЛАЙН-ГЕФЕСТ-МР20#4$","*1*СПЕЦКАБЛАЙН-ГЕФЕСТ-МР15#2$*2*СПЕЦКАБЛАЙН-ГЕФЕСТ-МР18#3$*3*СПЕЦКАБЛАЙН-ГЕФЕСТ-МР20#4$",null,null,null,null,null,null,null,6,16,3,0,0]
["*4*",null,"","Огнестойкая Кабельная Линия\nв виде металлорукава, размером 20 мм,\nс креплением к бетону\nс помощью металлических скоб","","металлорукава",22,"металлических скоб","бетону",5,"СПЕЦКАБЛАЙН-","ГЕФЕСТ-МР22","-ТУ 16.К99-083-2015","металлорукав","металлорукав","металлорукав",{"$f":"ОКЛ!F$122","v":4},"Металл",1,"бетон",{"$f":"ОКЛ!D$136","v":2},"Скоба",{"$f":"ОКЛ!D$145","v":2},1,1,1,14,12,12,null,null,{"$f":"IF(X15*Y15*Z15=0, 0, MAX(AF$9:AF14 )+1)","v":4},"*4*","*4*СПЕЦКАБЛАЙН-ГЕФЕСТ-МР22#5$","*1*СПЕЦКАБЛАЙН-ГЕФЕСТ-МР15#2$*2*СПЕЦКАБЛАЙН-ГЕФЕСТ-МР18#3$*3*СПЕЦКАБЛАЙН-ГЕФЕСТ-МР20#4$*4*СПЕЦКАБЛАЙН-ГЕФЕСТ-МР22#5$",null,null,null,null,null,null,null,7,17,39,0,0]
["*5*",null,"","Огнестойкая Кабельная Линия\nв виде металлорукава, размером 20 мм,\nс креплением к бетону\nс помощью металлических скоб","","металлорукава",25,"металлических скоб","бетону",6,"СПЕЦКАБЛАЙН-","ГЕФЕСТ-МР25","-ТУ 16.К99-083-2015","металлорукав","металлорукав","металлорукав",{"$f":"ОКЛ!F$122","v":4},"Металл",1,"бетон",{"$f":"ОКЛ!D$136","v":2},"Скоба",{"$f":"ОКЛ!D$145","v":2},1,1,1,14,12,12,null,null,{"$f":"IF(X16*Y16*Z16=0, 0, MAX(AF$9:AF15 )+1)","v":5},"*5*","*5*СПЕЦКАБЛАЙН-ГЕФЕСТ-МР25#6$","*1*СПЕЦКАБЛАЙН-ГЕФЕСТ-МР15#2$*2*СПЕЦКАБЛАЙН-ГЕФЕСТ-МР18#3$*3*СПЕЦКАБЛАЙН-ГЕФЕСТ-МР20#4$*4*СПЕЦКАБЛАЙН-ГЕФЕСТ-МР22#5$*5*СПЕЦКАБЛАЙН-ГЕФЕСТ-МР25#6$",null,null,null,null,null,null,null,8,18,3,0,0]
["*6*",null,"","Огнестойкая Кабельная Линия\nв виде металлорукава, размером 20 мм,\nс креплением к бетону\nс помощью металлических скоб","","металлорукава",32,"металлических скоб","бетону",7,"СПЕЦКАБЛАЙН-","ГЕФЕСТ-МР32","-ТУ 16.К99-083-2015","металлорукав","металлорукав","металлорукав",{"$f":"ОКЛ!F$122","v":4},"Металл",1,"бетон",{"$f":"ОКЛ!D$136","v":2},"Скоба",{"$f":"ОКЛ!D$145","v":2},1,1,1,14,12,12,null,null,{"$f":"IF(X17*Y17*Z17=0, 0, MAX(AF$9:AF16 )+1)","v":6},"*6*","*6*СПЕЦКАБЛАЙН-ГЕФЕСТ-МР32#7$","*1*СПЕЦКАБЛАЙН-ГЕФЕСТ-МР15#2$*2*СПЕЦКАБЛАЙН-ГЕФЕСТ-МР18#3$*3*СПЕЦКАБЛАЙН-ГЕФЕСТ-МР20#4$*4*СПЕЦКАБЛАЙН-ГЕФЕСТ-МР22#5$*5*СПЕЦКАБЛАЙН-ГЕФЕСТ-МР25#6$*6*СПЕЦКАБЛАЙН-ГЕФЕСТ-МР32#7$",null,null,null,null,null,null,null,9,19,5,0,0]
["",null,"","Огнестойкая Кабельная Линия\nв виде металлорукава, размером 20 мм,\nс креплением к бетону\nс помощью металлических скоб","","гладкой ПВХ трубы",16,"металлических скоб","бетону",9,"СПЕЦКАБЛАЙН-","ГЛ16","-ТУ 42.22.12-098-47273194-2018","Труба","гладкая","Гладка труба",{"$f":"ОКЛ!F$119","v":1},"ПВХ",2,"бетон",{"$f":"ОКЛ!D$136","v":2},"Скоба",{"$f":"ОКЛ!D$145","v":2},0,{"$f":"IF(U18=U$2, 1, IF(U$2=1, 1,0))","v":1},1,11,"","",null,null,{"$f":"IF(X18*Y18*Z18=0, 0, MAX(AF$9:AF17 )+1)","v":0},"","","*1*СПЕЦКАБЛАЙН-ГЕФЕСТ-МР15#2$*2*СПЕЦКАБЛАЙН-ГЕФЕСТ-МР18#3$*3*СПЕЦКАБЛАЙН-ГЕФЕСТ-МР20#4$*4*СПЕЦКАБЛАЙН-ГЕФЕСТ-МР22#5$*5*СПЕЦКАБЛАЙН-ГЕФЕСТ-МР25#6$*6*СПЕЦКАБЛАЙН-ГЕФЕСТ-МР32#7$",null,null,null,null,null,null,null,10,20,1,0,0]
["",null,"","Огнестойкая Кабельная Линия\nв виде металлорукава, размером 20 мм,\nс креплением к бетону\nс помощью металлических скоб","","гладкой ПВХ трубы",16,"металлических скоб","гипсокортон",8,"СПЕЦКАБЛАЙН-","ГЛ16ГК","-ТУ 42.22.12-098-47273194-2018","Труба","гладкая","Гладка труба",{"$f":"ОКЛ!F$119","v":1},"ПВХ",2,"гипсокортон",{"$f":"ОКЛ!D$137","v":3},"Скоба",{"$f":"ОКЛ!D$145","v":2},0,0,1,"","","",null,null,{"$f":"IF(X19*Y19*Z19=0, 0, MAX(AF$9:AF18 )+1)","v":0},{"$f":"IF(AF19=0,\"\",CONCATENATE(\"*\",AF19,\"*\"))","v":""},"",{"$f":"CONCATENATE(AI18,AH19)","v":"*1*СПЕЦКАБЛАЙН-ГЕФЕСТ-МР15#2$*2*СПЕЦКАБЛАЙН-ГЕФЕСТ-МР18#3$*3*СПЕЦКАБЛАЙН-ГЕФЕСТ-МР20#4$*4*СПЕЦКАБЛАЙН-ГЕФЕСТ-МР22#5$*5*СПЕЦКАБЛАЙН-ГЕФЕСТ-МР25#6$*6*СПЕЦКАБЛАЙН-ГЕФЕСТ-МР32#7$"},null,null,null,null,null,null,null,11,21,1,0,0]
["",null,"","Огнестойкая Кабельная Линия\nв виде металлорукава, размером 20 мм,\nс креплением к бетону\nс помощью металлических скоб","","гладкой ПВХ трубы",20,"металлических скоб","сендвичпаннели",10,"СПЕЦКАБЛАЙН-","ГЛ16СП","-ТУ 42.22.12-098-47273194-2018","Труба","гладкая","Гладка труба",{"$f":"ОКЛ!F$119","v":1},"ПВХ",2,"сендвичпаннель",{"$f":"ОКЛ!D$138","v":4},"Скоба",{"$f":"ОКЛ!D$145","v":2},0,0,1,"","","",null,null,{"$f":"IF(X20*Y20*Z20=0, 0, MAX(AF$9:AF19 )+1)","v":0},"","","*1*СПЕЦКАБЛАЙН-ГЕФЕСТ-МР15#2$*2*СПЕЦКАБЛАЙН-ГЕФЕСТ-МР18#3$*3*СПЕЦКАБЛАЙН-ГЕФЕСТ-МР20#4$*4*СПЕЦКАБЛАЙН-ГЕФЕСТ-МР22#5$*5*СПЕЦКАБЛАЙН-ГЕФЕСТ-МР25#6$*6*СПЕЦКАБЛАЙН-ГЕФЕСТ-МР32#7$",null,null,null,null,null,null,null,12,22,2,0,0]
["",null,"","Огнестойкая Кабельная Линия\nв виде металлорукава, размером 20 мм,\nс креплением к бетону\nс помощью металлических скоб","","гладкой ПВХ трубы",20,"металлических скоб","бетону",11,"СПЕЦКАБЛАЙН-","ГЛ20","-ТУ 42.22.12-098-47273194-2018","Труба","гладкая","Гладка труба",{"$f":"ОКЛ!F$119","v":1},"ПВХ",2,"бетон",{"$f":"ОКЛ!D$136","v":2},"Скоба",{"$f":"ОКЛ!D$145","v":2},0,1,1,11,"","",null,null,{"$f":"IF(X21*Y21*Z21=0, 0, MAX(AF$9:AF20 )+1)","v":0},"","","*1*СПЕЦКАБЛАЙН-ГЕФЕСТ-МР15#2$*2*СПЕЦКАБЛАЙН-ГЕФЕСТ-МР18#3$*3*СПЕЦКАБЛАЙН-ГЕФЕСТ-МР20#4$*4*СПЕЦКАБЛАЙН-ГЕФЕСТ-МР22#5$*5*СПЕЦКАБЛАЙН-ГЕФЕСТ-МР25#6$*6*СПЕЦКАБЛАЙН-ГЕФЕСТ-МР32#7$"]
["",null,"","Огнестойкая Кабельная Линия\nв виде металлорукава, размером 20 мм,\nс креплением к бетону\nс помощью металлических скоб","","гладкой ПВХ трубы",20,"металлических скоб","гипсокортон",12,"СПЕЦКАБЛАЙН-","ГЛ20ГК","-ТУ 42.22.12-098-47273194-2018","Труба","гладкая","Гладка труба",{"$f":"ОКЛ!F$119","v":1},"ПВХ",2,"гипсокортон",{"$f":"ОКЛ!D$137","v":3},"Скоба",{"$f":"ОКЛ!D$145","v":2},0,0,1,"","","",null,null,{"$f":"IF(X22*Y22*Z22=0, 0, MAX(AF$9:AF21 )+1)","v":0},"","","*1*СПЕЦКАБЛАЙН-ГЕФЕСТ-МР15#2$*2*СПЕЦКАБЛАЙН-ГЕФЕСТ-МР18#3$*3*СПЕЦКАБЛАЙН-ГЕФЕСТ-МР20#4$*4*СПЕЦКАБЛАЙН-ГЕФЕСТ-МР22#5$*5*СПЕЦКАБЛАЙН-ГЕФЕСТ-МР25#6$*6*СПЕЦКАБЛАЙН-ГЕФЕСТ-МР32#7$"]
["",null,"","Огнестойкая Кабельная Линия\nв виде металлорукава, размером 20 мм,\nс креплением к бетону\nс помощью металлических скоб","","гладкой ПВХ трубы",20,"металлических скоб","сендвичпаннели",13,"СПЕЦКАБЛАЙН-","ГЛ20СП","-ТУ 42.22.12-098-47273194-2018","Труба","гладкая","Гладка труба",{"$f":"ОКЛ!F$119","v":1},"ПВХ",2,"сендвичпаннель",{"$f":"ОКЛ!D$138","v":4},"Скоба",{"$f":"ОКЛ!D$145","v":2},0,0,1,"","","",null,null,{"$f":"IF(X23*Y23*Z23=0, 0, MAX(AF$9:AF22 )+1)","v":0},"","","*1*СПЕЦКАБЛАЙН-ГЕФЕСТ-МР15#2$*2*СПЕЦКАБЛАЙН-ГЕФЕСТ-МР18#3$*3*СПЕЦКАБЛАЙН-ГЕФЕСТ-МР20#4$*4*СПЕЦКАБЛАЙН-ГЕФЕСТ-МР22#5$*5*СПЕЦКАБЛАЙН-ГЕФЕСТ-МР25#6$*6*СПЕЦКАБЛАЙН-ГЕФЕСТ-МР32#7$"]
["",null,"","Огнестойкая Кабельная Линия\nв виде металлорукава, размером 20 мм,\nс креплением к бетону\nс помощью металлических скоб","","гладкой ПВХ трубы",25,"металлических скоб","бетону",14,"СПЕЦКАБЛАЙН-","ГЛ25","-ТУ 42.22.12-098-47273194-2018","Труба","гладкая","Гладка труба",{"$f":"ОКЛ!F$119","v":1},"ПВХ",2,"бетон",{"$f":"ОКЛ!D$136","v":2},"Скоба",{"$f":"ОКЛ!D$145","v":2},0,1,1,11,"","",null,null,{"$f":"IF(X24*Y24*Z24=0, 0, MAX(AF$9:AF23 )+1)","v":0},"","","*1*СПЕЦКАБЛАЙН-ГЕФЕСТ-МР15#2$*2*СПЕЦКАБЛАЙН-ГЕФЕСТ-МР18#3$*3*СПЕЦКАБЛАЙН-ГЕФЕСТ-МР20#4$*4*СПЕЦКАБЛАЙН-ГЕФЕСТ-МР22#5$*5*СПЕЦКАБЛАЙН-ГЕФЕСТ-МР25#6$*6*СПЕЦКАБЛАЙН-ГЕФЕСТ-МР32#7$"]
["",null,"","Огнестойкая Кабельная Линия\nв виде металлорукава, размером 20 мм,\nс креплением к бетону\nс помощью металлических скоб","","гладкой ПВХ трубы",25,"металлических скоб","гипсокортон",15,"СПЕЦКАБЛАЙН-","ГЛ25ГК","-ТУ 42.22.12-098-47273194-2018","Труба","гладкая","Гладка труба",{"$f":"ОКЛ!F$119","v":1},"ПВХ",2,"гипсокортон",{"$f":"ОКЛ!D$137","v":3},"Скоба",{"$f":"ОКЛ!D$145","v":2},0,0,1,"","","",null,null,{"$f":"IF(X25*Y25*Z25=0, 0, MAX(AF$9:AF24 )+1)","v":0},"","","*1*СПЕЦКАБЛАЙН-ГЕФЕСТ-МР15#2$*2*СПЕЦКАБЛАЙН-ГЕФЕСТ-МР18#3$*3*СПЕЦКАБЛАЙН-ГЕФЕСТ-МР20#4$*4*СПЕЦКАБЛАЙН-ГЕФЕСТ-МР22#5$*5*СПЕЦКАБЛАЙН-ГЕФЕСТ-МР25#6$*6*СПЕЦКАБЛАЙН-ГЕФЕСТ-МР32#7$"]
["",null,"","Огнестойкая Кабельная Линия\nв виде металлорукава, размером 20 мм,\nс креплением к бетону\nс помощью металлических скоб","","гладкой ПВХ трубы",32,"металлических скоб","сендвичпаннели",16,"СПЕЦКАБЛАЙН-","ГЛ25СП","-ТУ 42.22.12-098-47273194-2018","Труба","гладкая","Гладка труба",{"$f":"ОКЛ!F$119","v":1},"ПВХ",2,"сендвичпаннель",{"$f":"ОКЛ!D$138","v":4},"Скоба",{"$f":"ОКЛ!D$145","v":2},0,0,1,"","","",null,null,{"$f":"IF(X26*Y26*Z26=0, 0, MAX(AF$9:AF25 )+1)","v":0},"","","*1*СПЕЦКАБЛАЙН-ГЕФЕСТ-МР15#2$*2*СПЕЦКАБЛАЙН-ГЕФЕСТ-МР18#3$*3*СПЕЦКАБЛАЙН-ГЕФЕСТ-МР20#4$*4*СПЕЦКАБЛАЙН-ГЕФЕСТ-МР22#5$*5*СПЕЦКАБЛАЙН-ГЕФЕСТ-МР25#6$*6*СПЕЦКАБЛАЙН-ГЕФЕСТ-МР32#7$"]
["",null,"","Огнестойкая Кабельная Линия\nв виде металлорукава, размером 20 мм,\nс креплением к бетону\nс помощью металлических скоб","","гладкой ПВХ трубы",32,"металлических скоб","бетону",17,"СПЕЦКАБЛАЙН-","ГЛ32","-ТУ 42.22.12-098-47273194-2018","Труба","гладкая","Гладка труба",{"$f":"ОКЛ!F$119","v":1},"ПВХ",2,"бетон",{"$f":"ОКЛ!D$136","v":2},"Скоба",{"$f":"ОКЛ!D$145","v":2},0,1,1,11,"","",null,null,{"$f":"IF(X27*Y27*Z27=0, 0, MAX(AF$9:AF26 )+1)","v":0},"","","*1*СПЕЦКАБЛАЙН-ГЕФЕСТ-МР15#2$*2*СПЕЦКАБЛАЙН-ГЕФЕСТ-МР18#3$*3*СПЕЦКАБЛАЙН-ГЕФЕСТ-МР20#4$*4*СПЕЦКАБЛАЙН-ГЕФЕСТ-МР22#5$*5*СПЕЦКАБЛАЙН-ГЕФЕСТ-МР25#6$*6*СПЕЦКАБЛАЙН-ГЕФЕСТ-МР32#7$"]
["",null,"","Огнестойкая Кабельная Линия\nв виде металлорукава, размером 20 мм,\nс креплением к бетону\nс помощью металлических скоб","","гладкой ПВХ трубы",32,"металлических скоб","гипсокортон",18,"СПЕЦКАБЛАЙН-","ГЛ32ГК","-ТУ 42.22.12-098-47273194-2018","Труба","гладкая","Гладка труба",{"$f":"ОКЛ!F$119","v":1},"ПВХ",2,"гипсокортон",{"$f":"ОКЛ!D$137","v":3},"Скоба",{"$f":"ОКЛ!D$145","v":2},0,0,1,"","","",null,null,{"$f":"IF(X28*Y28*Z28=0, 0, MAX(AF$9:AF27 )+1)","v":0},"","","*1*СПЕЦКАБЛАЙН-ГЕФЕСТ-МР15#2$*2*СПЕЦКАБЛАЙН-ГЕФЕСТ-МР18#3$*3*СПЕЦКАБЛАЙН-ГЕФЕСТ-МР20#4$*4*СПЕЦКАБЛАЙН-ГЕФЕСТ-МР22#5$*5*СПЕЦКАБЛАЙН-ГЕФЕСТ-МР25#6$*6*СПЕЦКАБЛАЙН-ГЕФЕСТ-МР32#7$"]
["",null,"","Огнестойкая Кабельная Линия\nв виде металлорукава, размером 20 мм,\nс креплением к бетону\nс помощью металлических скоб","","гладкой ПВХ трубы",32,"металлических скоб","сендвичпаннели",19,"СПЕЦКАБЛАЙН-","ГЛ32СП","-ТУ 42.22.12-098-47273194-2018","Труба","гладкая","Гладка труба",{"$f":"ОКЛ!F$119","v":1},"ПВХ",2,"сендвичпаннель",{"$f":"ОКЛ!D$138","v":4},"Скоба",{"$f":"ОКЛ!D$145","v":2},0,0,1,"","","",null,null,{"$f":"IF(X29*Y29*Z29=0, 0, MAX(AF$9:AF28 )+1)","v":0},"","","*1*СПЕЦКАБЛАЙН-ГЕФЕСТ-МР15#2$*2*СПЕЦКАБЛАЙН-ГЕФЕСТ-МР18#3$*3*СПЕЦКАБЛАЙН-ГЕФЕСТ-МР20#4$*4*СПЕЦКАБЛАЙН-ГЕФЕСТ-МР22#5$*5*СПЕЦКАБЛАЙН-ГЕФЕСТ-МР25#6$*6*СПЕЦКАБЛАЙН-ГЕФЕСТ-МР32#7$"]
["",null,"","Огнестойкая Кабельная Линия\nв виде металлорукава, размером 20 мм,\nс креплением к бетону\nс помощью металлических скоб","","гладкой ПВХ трубы",40,"металлических скоб","бетону",20,"СПЕЦКАБЛАЙН-","ГЛ40","-ТУ 42.22.12-098-47273194-2018","Труба","гладкая","Гладка труба",{"$f":"ОКЛ!F$119","v":1},"ПВХ",2,"бетон",{"$f":"ОКЛ!D$136","v":2},"Скоба",{"$f":"ОКЛ!D$145","v":2},0,1,1,11,"","",null,null,{"$f":"IF(X30*Y30*Z30=0, 0, MAX(AF$9:AF29 )+1)","v":0},"","","*1*СПЕЦКАБЛАЙН-ГЕФЕСТ-МР15#2$*2*СПЕЦКАБЛАЙН-ГЕФЕСТ-МР18#3$*3*СПЕЦКАБЛАЙН-ГЕФЕСТ-МР20#4$*4*СПЕЦКАБЛАЙН-ГЕФЕСТ-МР22#5$*5*СПЕЦКАБЛАЙН-ГЕФЕСТ-МР25#6$*6*СПЕЦКАБЛАЙН-ГЕФЕСТ-МР32#7$"]
["",null,"","Огнестойкая Кабельная Линия\nв виде металлорукава, размером 20 мм,\nс креплением к бетону\nс помощью металлических скоб","","гладкой ПВХ трубы",40,"металлических скоб","гипсокортон",21,"СПЕЦКАБЛАЙН-","ГЛ40ГК","-ТУ 42.22.12-098-47273194-2018","Труба","гладкая","Гладка труба",{"$f":"ОКЛ!F$119","v":1},"ПВХ",2,"гипсокортон",{"$f":"ОКЛ!D$137","v":3},"Скоба",{"$f":"ОКЛ!D$145","v":2},0,0,1,{"$f":"IF(0<Y31*Z31, VLOOKUP(Q31, AQ$9:AR$21, 2), \"\")","v":""},{"$f":"IF(0<X31*Z31,VLOOKUP(U31, AQ$9:AR$21, 2),\"\")","v":""},{"$f":"IF(0<X31*Y31,VLOOKUP(W31, AQ$9:AR$21, 2),\"\")","v":""},null,null,{"$f":"IF(X31*Y31*Z31=0, 0, MAX(AF$9:AF30 )+1)","v":0},"","","*1*СПЕЦКАБЛАЙН-ГЕФЕСТ-МР15#2$*2*СПЕЦКАБЛАЙН-ГЕФЕСТ-МР18#3$*3*СПЕЦКАБЛАЙН-ГЕФЕСТ-МР20#4$*4*СПЕЦКАБЛАЙН-ГЕФЕСТ-МР22#5$*5*СПЕЦКАБЛАЙН-ГЕФЕСТ-МР25#6$*6*СПЕЦКАБЛАЙН-ГЕФЕСТ-МР32#7$"]
["",null,"","Огнестойкая Кабельная Линия\nв виде металлорукава, размером 20 мм,\nс креплением к бетону\nс помощью металлических скоб","","гладкой ПВХ трубы",40,"металлических скоб","сендвичпаннели",22,"СПЕЦКАБЛАЙН-","ГЛ40СП","-ТУ 42.22.12-098-47273194-2018","Труба","гладкая","Гладка труба",{"$f":"ОКЛ!F$119","v":1},"ПВХ",2,"сендвичпаннель",{"$f":"ОКЛ!D$138","v":4},"Скоба",{"$f":"ОКЛ!D$145","v":2},0,0,1,"","","",null,null,{"$f":"IF(X32*Y32*Z32=0, 0, MAX(AF$9:AF31 )+1)","v":0},"","","*1*СПЕЦКАБЛАЙН-ГЕФЕСТ-МР15#2$*2*СПЕЦКАБЛАЙН-ГЕФЕСТ-МР18#3$*3*СПЕЦКАБЛАЙН-ГЕФЕСТ-МР20#4$*4*СПЕЦКАБЛАЙН-ГЕФЕСТ-МР22#5$*5*СПЕЦКАБЛАЙН-ГЕФЕСТ-МР25#6$*6*СПЕЦКАБЛАЙН-ГЕФЕСТ-МР32#7$"]
["",null,"","Огнестойкая Кабельная Линия\nв виде металлорукава, размером 20 мм,\nс креплением к бетону\nс помощью металлических скоб","","гладкой ПВХ трубы",50,"металлических скоб","бетону",23,"СПЕЦКАБЛАЙН-","ГЛ50","-ТУ 42.22.12-098-47273194-2018","Труба","гладкая","Гладка труба",{"$f":"ОКЛ!F$119","v":1},"ПВХ",2,"бетон",{"$f":"ОКЛ!D$136","v":2},"Скоба",{"$f":"ОКЛ!D$145","v":2},0,1,1,11,"","",null,null,{"$f":"IF(X33*Y33*Z33=0, 0, MAX(AF$9:AF32 )+1)","v":0},"","","*1*СПЕЦКАБЛАЙН-ГЕФЕСТ-МР15#2$*2*СПЕЦКАБЛАЙН-ГЕФЕСТ-МР18#3$*3*СПЕЦКАБЛАЙН-ГЕФЕСТ-МР20#4$*4*СПЕЦКАБЛАЙН-ГЕФЕСТ-МР22#5$*5*СПЕЦКАБЛАЙН-ГЕФЕСТ-МР25#6$*6*СПЕЦКАБЛАЙН-ГЕФЕСТ-МР32#7$"]
["",null,"","Огнестойкая Кабельная Линия\nв виде металлорукава, размером 20 мм,\nс креплением к бетону\nс помощью металлических скоб","","гладкой ПВХ трубы",50,"металлических скоб","гипсокортон",24,"СПЕЦКАБЛАЙН-","ГЛ50ГК","-ТУ 42.22.12-098-47273194-2018","Труба","гладкая","Гладка труба",{"$f":"ОКЛ!F$119","v":1},"ПВХ",2,"гипсокортон",{"$f":"ОКЛ!D$137","v":3},"Скоба",{"$f":"ОКЛ!D$145","v":2},0,0,1,"","","",null,null,{"$f":"IF(X34*Y34*Z34=0, 0, MAX(AF$9:AF33 )+1)","v":0},"","","*1*СПЕЦКАБЛАЙН-ГЕФЕСТ-МР15#2$*2*СПЕЦКАБЛАЙН-ГЕФЕСТ-МР18#3$*3*СПЕЦКАБЛАЙН-ГЕФЕСТ-МР20#4$*4*СПЕЦКАБЛАЙН-ГЕФЕСТ-МР22#5$*5*СПЕЦКАБЛАЙН-ГЕФЕСТ-МР25#6$*6*СПЕЦКАБЛАЙН-ГЕФЕСТ-МР32#7$"]
["",null,"","Огнестойкая Кабельная Линия\nв виде металлорукава, размером 20 мм,\nс креплением к бетону\nс помощью металлических скоб","","гладкой ПВХ трубы",50,"металлических скоб","сендвичпаннели",25,"СПЕЦКАБЛАЙН-","ГЛ50СП","-ТУ 42.22.12-098-47273194-2018","Труба","гладкая","Гладка труба",{"$f":"ОКЛ!F$119","v":1},"ПВХ",2,"сендвичпаннель",{"$f":"ОКЛ!D$138","v":4},"Скоба",{"$f":"ОКЛ!D$145","v":2},0,0,1,"","","",null,null,{"$f":"IF(X35*Y35*Z35=0, 0, MAX(AF$9:AF34 )+1)","v":0},"","","*1*СПЕЦКАБЛАЙН-ГЕФЕСТ-МР15#2$*2*СПЕЦКАБЛАЙН-ГЕФЕСТ-МР18#3$*3*СПЕЦКАБЛАЙН-ГЕФЕСТ-МР20#4$*4*СПЕЦКАБЛАЙН-ГЕФЕСТ-МР22#5$*5*СПЕЦКАБЛАЙН-ГЕФЕСТ-МР25#6$*6*СПЕЦКАБЛАЙН-ГЕФЕСТ-МР32#7$"]
["",null,"","Огнестойкая Кабельная Линия\nв виде металлорукава, размером 20 мм,\nс креплением к бетону\nс помощью металлических скоб","","гофрированной ПВХ трубы",16,"металлических скоб","бетону",26,"СПЕЦКАБЛАЙН-","ГФ16","-ТУ 42.22.12-098-47273194-2018","Труба","Гофрированная","Гофрированная труба",{"$f":"ОКЛ!F$120","v":2},"ПВХ",2,"бетон",{"$f":"ОКЛ!D$136","v":2},"Скоба",{"$f":"ОКЛ!D$145","v":2},0,1,1,12,"","",null,null,{"$f":"IF(X36*Y36*Z36=0, 0, MAX(AF$9:AF35 )+1)","v":0},"","","*1*СПЕЦКАБЛАЙН-ГЕФЕСТ-МР15#2$*2*СПЕЦКАБЛАЙН-ГЕФЕСТ-МР18#3$*3*СПЕЦКАБЛАЙН-ГЕФЕСТ-МР20#4$*4*СПЕЦКАБЛАЙН-ГЕФЕСТ-МР22#5$*5*СПЕЦКАБЛАЙН-ГЕФЕСТ-МР25#6$*6*СПЕЦКАБЛАЙН-ГЕФЕСТ-МР32#7$"]
["",null,"","Огнестойкая Кабельная Линия\nв виде металлорукава, размером 20 мм,\nс креплением к бетону\nс помощью металлических скоб","","гофрированной ПВХ трубы",16,"металлических скоб","гипсокортон",27,"СПЕЦКАБЛАЙН-","ГФ16ГК","-ТУ 42.22.12-098-47273194-2018","Труба","Гофрированная","Гофрированная труба",{"$f":"ОКЛ!F$120","v":2},"ПВХ",2,"гипсокортон",{"$f":"ОКЛ!D$137","v":3},"Скоба",{"$f":"ОКЛ!D$145","v":2},0,0,1,"","","",null,null,{"$f":"IF(X37*Y37*Z37=0, 0, MAX(AF$9:AF36 )+1)","v":0},"","","*1*СПЕЦКАБЛАЙН-ГЕФЕСТ-МР15#2$*2*СПЕЦКАБЛАЙН-ГЕФЕСТ-МР18#3$*3*СПЕЦКАБЛАЙН-ГЕФЕСТ-МР20#4$*4*СПЕЦКАБЛАЙН-ГЕФЕСТ-МР22#5$*5*СПЕЦКАБЛАЙН-ГЕФЕСТ-МР25#6$*6*СПЕЦКАБЛАЙН-ГЕФЕСТ-МР32#7$"]
["",null,"","Огнестойкая Кабельная Линия\nв виде металлорукава, размером 20 мм,\nс креплением к бетону\nс помощью металлических скоб","","гофрированной ПВХ трубы",16,"металлических скоб","сендвичпаннели",28,"СПЕЦКАБЛАЙН-","ГФ16СП","-ТУ 42.22.12-098-47273194-2018","Труба","Гофрированная","Гофрированная труба",{"$f":"ОКЛ!F$120","v":2},"ПВХ",2,"сендвичпаннель",{"$f":"ОКЛ!D$138","v":4},"Скоба",{"$f":"ОКЛ!D$145","v":2},0,0,1,"","","",null,null,{"$f":"IF(X38*Y38*Z38=0, 0, MAX(AF$9:AF37 )+1)","v":0},"","","*1*СПЕЦКАБЛАЙН-ГЕФЕСТ-МР15#2$*2*СПЕЦКАБЛАЙН-ГЕФЕСТ-МР18#3$*3*СПЕЦКАБЛАЙН-ГЕФЕСТ-МР20#4$*4*СПЕЦКАБЛАЙН-ГЕФЕСТ-МР22#5$*5*СПЕЦКАБЛАЙН-ГЕФЕСТ-МР25#6$*6*СПЕЦКАБЛАЙН-ГЕФЕСТ-МР32#7$"]
["",null,"","Огнестойкая Кабельная Линия\nв виде металлорукава, размером 20 мм,\nс креплением к бетону\nс помощью металлических скоб","","гофрированной ПВХ трубы",20,"металлических скоб","бетону",29,"СПЕЦКАБЛАЙН-","ГФ20","-ТУ 42.22.12-098-47273194-2018","Труба","Гофрированная","Гофрированная труба",{"$f":"ОКЛ!F$120","v":2},"ПВХ",2,"бетон",{"$f":"ОКЛ!D$136","v":2},"Скоба",{"$f":"ОКЛ!D$145","v":2},0,1,1,12,"","",null,null,{"$f":"IF(X39*Y39*Z39=0, 0, MAX(AF$9:AF38 )+1)","v":0},"","","*1*СПЕЦКАБЛАЙН-ГЕФЕСТ-МР15#2$*2*СПЕЦКАБЛАЙН-ГЕФЕСТ-МР18#3$*3*СПЕЦКАБЛАЙН-ГЕФЕСТ-МР20#4$*4*СПЕЦКАБЛАЙН-ГЕФЕСТ-МР22#5$*5*СПЕЦКАБЛАЙН-ГЕФЕСТ-МР25#6$*6*СПЕЦКАБЛАЙН-ГЕФЕСТ-МР32#7$"]
["",null,"","Огнестойкая Кабельная Линия\nв виде металлорукава, размером 20 мм,\nс креплением к бетону\nс помощью металлических скоб","","гофрированной ПВХ трубы",20,"металлических скоб","гипсокортон",30,"СПЕЦКАБЛАЙН-","ГФ20ГК","-ТУ 42.22.12-098-47273194-2018","Труба","Гофрированная","Гофрированная труба",{"$f":"ОКЛ!F$120","v":2},"ПВХ",2,"гипсокортон",{"$f":"ОКЛ!D$137","v":3},"Скоба",{"$f":"ОКЛ!D$145","v":2},0,0,1,"","","",null,null,{"$f":"IF(X40*Y40*Z40=0, 0, MAX(AF$9:AF39 )+1)","v":0},"","","*1*СПЕЦКАБЛАЙН-ГЕФЕСТ-МР15#2$*2*СПЕЦКАБЛАЙН-ГЕФЕСТ-МР18#3$*3*СПЕЦКАБЛАЙН-ГЕФЕСТ-МР20#4$*4*СПЕЦКАБЛАЙН-ГЕФЕСТ-МР22#5$*5*СПЕЦКАБЛАЙН-ГЕФЕСТ-МР25#6$*6*СПЕЦКАБЛАЙН-ГЕФЕСТ-МР32#7$"]
["",null,"","Огнестойкая Кабельная Линия\nв виде металлорукава, размером 20 мм,\nс креплением к бетону\nс помощью металлических скоб","","гофрированной ПВХ трубы",20,"металлических скоб","сендвичпаннели",31,"СПЕЦКАБЛАЙН-","ГФ20СП","-ТУ 42.22.12-098-47273194-2018","Труба","Гофрированная","Гофрированная труба",{"$f":"ОКЛ!F$120","v":2},"ПВХ",2,"сендвичпаннель",{"$f":"ОКЛ!D$138","v":4},"Скоба",{"$f":"ОКЛ!D$145","v":2},0,0,1,"","","",null,null,{"$f":"IF(X41*Y41*Z41=0, 0, MAX(AF$9:AF40 )+1)","v":0},"","","*1*СПЕЦКАБЛАЙН-ГЕФЕСТ-МР15#2$*2*СПЕЦКАБЛАЙН-ГЕФЕСТ-МР18#3$*3*СПЕЦКАБЛАЙН-ГЕФЕСТ-МР20#4$*4*СПЕЦКАБЛАЙН-ГЕФЕСТ-МР22#5$*5*СПЕЦКАБЛАЙН-ГЕФЕСТ-МР25#6$*6*СПЕЦКАБЛАЙН-ГЕФЕСТ-МР32#7$"]
["",null,"","Огнестойкая Кабельная Линия\nв виде металлорукава, размером 20 мм,\nс креплением к бетону\nс помощью металлических скоб","","гофрированной ПВХ трубы",25,"металлических скоб","бетону",32,"СПЕЦКАБЛАЙН-","ГФ25","-ТУ 42.22.12-098-47273194-2018","Труба","Гофрированная","Гофрированная труба",{"$f":"ОКЛ!F$120","v":2},"ПВХ",2,"бетон",{"$f":"ОКЛ!D$136","v":2},"Скоба",{"$f":"ОКЛ!D$145","v":2},0,1,1,12,"","",null,null,{"$f":"IF(X42*Y42*Z42=0, 0, MAX(AF$9:AF41 )+1)","v":0},"","","*1*СПЕЦКАБЛАЙН-ГЕФЕСТ-МР15#2$*2*СПЕЦКАБЛАЙН-ГЕФЕСТ-МР18#3$*3*СПЕЦКАБЛАЙН-ГЕФЕСТ-МР20#4$*4*СПЕЦКАБЛАЙН-ГЕФЕСТ-МР22#5$*5*СПЕЦКАБЛАЙН-ГЕФЕСТ-МР25#6$*6*СПЕЦКАБЛАЙН-ГЕФЕСТ-МР32#7$"]
["",null,"","Огнестойкая Кабельная Линия\nв виде металлорукава, размером 20 мм,\nс креплением к бетону\nс помощью металлических скоб","","гофрированной ПВХ трубы",25,"металлических скоб","гипсокортон",33,"СПЕЦКАБЛАЙН-","ГФ25ГК","-ТУ 42.22.12-098-47273194-2018","Труба","Гофрированная","Гофрированная труба",{"$f":"ОКЛ!F$120","v":2},"ПВХ",2,"гипсокортон",{"$f":"ОКЛ!D$137","v":3},"Скоба",{"$f":"ОКЛ!D$145","v":2},0,0,1,"","","",null,null,{"$f":"IF(X43*Y43*Z43=0, 0, MAX(AF$9:AF42 )+1)","v":0},"","","*1*СПЕЦКАБЛАЙН-ГЕФЕСТ-МР15#2$*2*СПЕЦКАБЛАЙН-ГЕФЕСТ-МР18#3$*3*СПЕЦКАБЛАЙН-ГЕФЕСТ-МР20#4$*4*СПЕЦКАБЛАЙН-ГЕФЕСТ-МР22#5$*5*СПЕЦКАБЛАЙН-ГЕФЕСТ-МР25#6$*6*СПЕЦКАБЛАЙН-ГЕФЕСТ-МР32#7$"]
["",null,"","Огнестойкая Кабельная Линия\nв виде металлорукава, размером 20 мм,\nс креплением к бетону\nс помощью металлических скоб","","гофрированной ПВХ трубы",25,"металлических скоб","сендвичпаннели",34,"СПЕЦКАБЛАЙН-","ГФ25СП","-ТУ 42.22.12-098-47273194-2018","Труба","Гофрированная","Гофрированная труба",{"$f":"ОКЛ!F$120","v":2},"ПВХ",2,"сендвичпаннель",{"$f":"ОКЛ!D$138","v":4},"Скоба",{"$f":"ОКЛ!D$145","v":2},0,0,1,"","","",null,null,{"$f":"IF(X44*Y44*Z44=0, 0, MAX(AF$9:AF43 )+1)","v":0},"","","*1*СПЕЦКАБЛАЙН-ГЕФЕСТ-МР15#2$*2*СПЕЦКАБЛАЙН-ГЕФЕСТ-МР18#3$*3*СПЕЦКАБЛАЙН-ГЕФЕСТ-МР20#4$*4*СПЕЦКАБЛАЙН-ГЕФЕСТ-МР22#5$*5*СПЕЦКАБЛАЙН-ГЕФЕСТ-МР25#6$*6*СПЕЦКАБЛАЙН-ГЕФЕСТ-МР32#7$"]
["",null,"","Огнестойкая Кабельная Линия\nв виде металлорукава, размером 20 мм,\nс креплением к бетону\nс помощью металлических скоб","","гофрированной ПВХ трубы",32,"металлических скоб","бетону",35,"СПЕЦКАБЛАЙН-","ГФ32","-ТУ 42.22.12-098-47273194-2018","Труба","Гофрированная","Гофрированная труба",{"$f":"ОКЛ!F$120","v":2},"ПВХ",2,"бетон",{"$f":"ОКЛ!D$136","v":2},"Скоба",{"$f":"ОКЛ!D$145","v":2},0,1,1,12,"","",null,null,{"$f":"IF(X45*Y45*Z45=0, 0, MAX(AF$9:AF44 )+1)","v":0},"","","*1*СПЕЦКАБЛАЙН-ГЕФЕСТ-МР15#2$*2*СПЕЦКАБЛАЙН-ГЕФЕСТ-МР18#3$*3*СПЕЦКАБЛАЙН-ГЕФЕСТ-МР20#4$*4*СПЕЦКАБЛАЙН-ГЕФЕСТ-МР22#5$*5*СПЕЦКАБЛАЙН-ГЕФЕСТ-МР25#6$*6*СПЕЦКАБЛАЙН-ГЕФЕСТ-МР32#7$"]
["",null,"","Огнестойкая Кабельная Линия\nв виде металлорукава, размером 20 мм,\nс креплением к бетону\nс помощью металлических скоб","","гофрированной ПВХ трубы",32,"металлических скоб","гипсокортон",36,"СПЕЦКАБЛАЙН-","ГФ32ГК","-ТУ 42.22.12-098-47273194-2018","Труба","Гофрированная","Гофрированная труба",{"$f":"ОКЛ!F$120","v":2},"ПВХ",2,"гипсокортон",{"$f":"ОКЛ!D$137","v":3},"Скоба",{"$f":"ОКЛ!D$145","v":2},0,0,1,"","","",null,null,{"$f":"IF(X46*Y46*Z46=0, 0, MAX(AF$9:AF45 )+1)","v":0},"","","*1*СПЕЦКАБЛАЙН-ГЕФЕСТ-МР15#2$*2*СПЕЦКАБЛАЙН-ГЕФЕСТ-МР18#3$*3*СПЕЦКАБЛАЙН-ГЕФЕСТ-МР20#4$*4*СПЕЦКАБЛАЙН-ГЕФЕСТ-МР22#5$*5*СПЕЦКАБЛАЙН-ГЕФЕСТ-МР25#6$*6*СПЕЦКАБЛАЙН-ГЕФЕСТ-МР32#7$"]
["",null,"","Огнестойкая Кабельная Линия\nв виде металлорукава, размером 20 мм,\nс креплением к бетону\nс помощью металлических скоб","","гофрированной ПВХ трубы",32,"металлических скоб","сендвичпаннели",37,"СПЕЦКАБЛАЙН-","ГФ32СП","-ТУ 42.22.12-098-47273194-2018","Труба","Гофрированная","Гофрированная труба",{"$f":"ОКЛ!F$120","v":2},"ПВХ",2,"сендвичпаннель",{"$f":"ОКЛ!D$138","v":4},"Скоба",{"$f":"ОКЛ!D$145","v":2},0,0,1,"","","",null,null,{"$f":"IF(X47*Y47*Z47=0, 0, MAX(AF$9:AF46 )+1)","v":0},"","","*1*СПЕЦКАБЛАЙН-ГЕФЕСТ-МР15#2$*2*СПЕЦКАБЛАЙН-ГЕФЕСТ-МР18#3$*3*СПЕЦКАБЛАЙН-ГЕФЕСТ-МР20#4$*4*СПЕЦКАБЛАЙН-ГЕФЕСТ-МР22#5$*5*СПЕЦКАБЛАЙН-ГЕФЕСТ-МР25#6$*6*СПЕЦКАБЛАЙН-ГЕФЕСТ-МР32#7$"]
["",null,"","Огнестойкая Кабельная Линия\nв виде металлорукава, размером 20 мм,\nс креплением к бетону\nс помощью металлических скоб","","гофрированной ПВХ трубы",40,"металлических скоб","бетону",38,"СПЕЦКАБЛАЙН-","ГФ40","-ТУ 42.22.12-098-47273194-2018","Труба","Гофрированная","Гофрированная труба",{"$f":"ОКЛ!F$120","v":2},"ПВХ",2,"бетон",{"$f":"ОКЛ!D$136","v":2},"Скоба",{"$f":"ОКЛ!D$145","v":2},0,1,1,12,"","",null,null,{"$f":"IF(X48*Y48*Z48=0, 0, MAX(AF$9:AF47 )+1)","v":0},"","","*1*СПЕЦКАБЛАЙН-ГЕФЕСТ-МР15#2$*2*СПЕЦКАБЛАЙН-ГЕФЕСТ-МР18#3$*3*СПЕЦКАБЛАЙН-ГЕФЕСТ-МР20#4$*4*СПЕЦКАБЛАЙН-ГЕФЕСТ-МР22#5$*5*СПЕЦКАБЛАЙН-ГЕФЕСТ-МР25#6$*6*СПЕЦКАБЛАЙН-ГЕФЕСТ-МР32#7$"]
["",null,"","Огнестойкая Кабельная Линия\nв виде металлорукава, размером 20 мм,\nс креплением к бетону\nс помощью металлических скоб","","гофрированной ПВХ трубы",40,"металлических скоб","гипсокортон",39,"СПЕЦКАБЛАЙН-","ГФ40ГК","-ТУ 42.22.12-098-47273194-2018","Труба","Гофрированная","Гофрированная труба",{"$f":"ОКЛ!F$120","v":2},"ПВХ",2,"гипсокортон",{"$f":"ОКЛ!D$137","v":3},"Скоба",{"$f":"ОКЛ!D$145","v":2},0,0,1,"","","",null,null,{"$f":"IF(X49*Y49*Z49=0, 0, MAX(AF$9:AF48 )+1)","v":0},"","","*1*СПЕЦКАБЛАЙН-ГЕФЕСТ-МР15#2$*2*СПЕЦКАБЛАЙН-ГЕФЕСТ-МР18#3$*3*СПЕЦКАБЛАЙН-ГЕФЕСТ-МР20#4$*4*СПЕЦКАБЛАЙН-ГЕФЕСТ-МР22#5$*5*СПЕЦКАБЛАЙН-ГЕФЕСТ-МР25#6$*6*СПЕЦКАБЛАЙН-ГЕФЕСТ-МР32#7$"]
["",null,"","Огнестойкая Кабельная Линия\nв виде металлорукава, размером 20 мм,\nс креплением к бетону\nс помощью металлических скоб","","гофрированной ПВХ трубы",40,"металлических скоб","сендвичпаннели",40,"СПЕЦКАБЛАЙН-","ГФ40СП","-ТУ 42.22.12-098-47273194-2018","Труба","Гофрированная","Гофрированная труба",{"$f":"ОКЛ!F$120","v":2},"ПВХ",2,"сендвичпаннель",{"$f":"ОКЛ!D$138","v":4},"Скоба",{"$f":"ОКЛ!D$145","v":2},0,0,1,"","","",null,null,{"$f":"IF(X50*Y50*Z50=0, 0, MAX(AF$9:AF49 )+1)","v":0},"","","*1*СПЕЦКАБЛАЙН-ГЕФЕСТ-МР15#2$*2*СПЕЦКАБЛАЙН-ГЕФЕСТ-МР18#3$*3*СПЕЦКАБЛАЙН-ГЕФЕСТ-МР20#4$*4*СПЕЦКАБЛАЙН-ГЕФЕСТ-МР22#5$*5*СПЕЦКАБЛАЙН-ГЕФЕСТ-МР25#6$*6*СПЕЦКАБЛАЙН-ГЕФЕСТ-МР32#7$"]
["",null,"","Огнестойкая Кабельная Линия\nв виде металлорукава, размером 20 мм,\nс креплением к бетону\nс помощью металлических скоб","","гофрированной ПВХ трубы",50,"металлических скоб","бетону",41,"СПЕЦКАБЛАЙН-","ГФ50","-ТУ 42.22.12-098-47273194-2018","Труба","Гофрированная","Гофрированная труба",{"$f":"ОКЛ!F$120","v":2},"ПВХ",2,"бетон",{"$f":"ОКЛ!D$136","v":2},"Скоба",{"$f":"ОКЛ!D$145","v":2},0,1,1,12,"","",null,null,{"$f":"IF(X51*Y51*Z51=0, 0, MAX(AF$9:AF50 )+1)","v":0},"","","*1*СПЕЦКАБЛАЙН-ГЕФЕСТ-МР15#2$*2*СПЕЦКАБЛАЙН-ГЕФЕСТ-МР18#3$*3*СПЕЦКАБЛАЙН-ГЕФЕСТ-МР20#4$*4*СПЕЦКАБЛАЙН-ГЕФЕСТ-МР22#5$*5*СПЕЦКАБЛАЙН-ГЕФЕСТ-МР25#6$*6*СПЕЦКАБЛАЙН-ГЕФЕСТ-МР32#7$"]
["",null,"","Огнестойкая Кабельная Линия\nв виде металлорукава, размером 20 мм,\nс креплением к бетону\nс помощью металлических скоб","","гофрированной ПВХ трубы",50,"металлических скоб","гипсокортон",42,"СПЕЦКАБЛАЙН-","ГФ50ГК","-ТУ 42.22.12-098-47273194-2018","Труба","Гофрированная","Гофрированная труба",{"$f":"ОКЛ!F$120","v":2},"ПВХ",2,"гипсокортон",{"$f":"ОКЛ!D$137","v":3},"Скоба",{"$f":"ОКЛ!D$145","v":2},0,0,1,"","","",null,null,{"$f":"IF(X52*Y52*Z52=0, 0, MAX(AF$9:AF51 )+1)","v":0},"","","*1*СПЕЦКАБЛАЙН-ГЕФЕСТ-МР15#2$*2*СПЕЦКАБЛАЙН-ГЕФЕСТ-МР18#3$*3*СПЕЦКАБЛАЙН-ГЕФЕСТ-МР20#4$*4*СПЕЦКАБЛАЙН-ГЕФЕСТ-МР22#5$*5*СПЕЦКАБЛАЙН-ГЕФЕСТ-МР25#6$*6*СПЕЦКАБЛАЙН-ГЕФЕСТ-МР32#7$"]
["",null,"","Огнестойкая Кабельная Линия\nв виде металлорукава, размером 20 мм,\nс креплением к бетону\nс помощью металлических скоб","","гофрированной ПВХ трубы",50,"металлических скоб","сендвичпаннели",43,"СПЕЦКАБЛАЙН-","ГФ50СП","-ТУ 42.22.12-098-47273194-2018","Труба","Гофрированная","Гофрированная труба",{"$f":"ОКЛ!F$120","v":2},"ПВХ",2,"сендвичпаннель",{"$f":"ОКЛ!D$138","v":4},"Скоба",{"$f":"ОКЛ!D$145","v":2},0,0,1,"","","",null,null,{"$f":"IF(X53*Y53*Z53=0, 0, MAX(AF$9:AF52 )+1)","v":0},"","","*1*СПЕЦКАБЛАЙН-ГЕФЕСТ-МР15#2$*2*СПЕЦКАБЛАЙН-ГЕФЕСТ-МР18#3$*3*СПЕЦКАБЛАЙН-ГЕФЕСТ-МР20#4$*4*СПЕЦКАБЛАЙН-ГЕФЕСТ-МР22#5$*5*СПЕЦКАБЛАЙН-ГЕФЕСТ-МР25#6$*6*СПЕЦКАБЛАЙН-ГЕФЕСТ-МР32#7$"]
["",null,"","Огнестойкая Кабельная Линия\nв виде металлорукава, размером 20 мм,\nс креплением к бетону\nс помощью металлических скоб","","гофрированной ПВХ трубы",20,"металлических скоб","бетону",44,"СПЕЦКАБЛАЙН-","ГФ-HF20","-ТУ 42.22.12-098-47273194-2018","Труба","Гофрированная","Гофрированная труба",{"$f":"ОКЛ!F$120","v":2},"Полиэлефина",3,"бетон",{"$f":"ОКЛ!D$136","v":2},"Скоба",{"$f":"ОКЛ!D$145","v":2},0,1,1,12,"","",null,null,{"$f":"IF(X54*Y54*Z54=0, 0, MAX(AF$9:AF53 )+1)","v":0},"","","*1*СПЕЦКАБЛАЙН-ГЕФЕСТ-МР15#2$*2*СПЕЦКАБЛАЙН-ГЕФЕСТ-МР18#3$*3*СПЕЦКАБЛАЙН-ГЕФЕСТ-МР20#4$*4*СПЕЦКАБЛАЙН-ГЕФЕСТ-МР22#5$*5*СПЕЦКАБЛАЙН-ГЕФЕСТ-МР25#6$*6*СПЕЦКАБЛАЙН-ГЕФЕСТ-МР32#7$"]
["",null,"","Огнестойкая Кабельная Линия\nв виде металлорукава, размером 20 мм,\nс креплением к бетону\nс помощью металлических скоб","","стального чулка",null,"металлических крючоков","бетону",45,"СПЕЦКАБЛАЙН-","К1","-ТУ 16.К99-065-2014","Оплетка","Стальной чулок","Стальной чулок",{"$f":"ОКЛ!F128","v":10},"Металл",1,"бетон",{"$f":"ОКЛ!D$136","v":2},"Крючок",{"$f":"ОКЛ!D$149","v":6},0,1,1,20,"","",null,null,{"$f":"IF(X55*Y55*Z55=0, 0, MAX(AF$9:AF54 )+1)","v":0},"","","*1*СПЕЦКАБЛАЙН-ГЕФЕСТ-МР15#2$*2*СПЕЦКАБЛАЙН-ГЕФЕСТ-МР18#3$*3*СПЕЦКАБЛАЙН-ГЕФЕСТ-МР20#4$*4*СПЕЦКАБЛАЙН-ГЕФЕСТ-МР22#5$*5*СПЕЦКАБЛАЙН-ГЕФЕСТ-МР25#6$*6*СПЕЦКАБЛАЙН-ГЕФЕСТ-МР32#7$"]
["",null,"","Огнестойкая Кабельная Линия\nв виде металлорукава, размером 20 мм,\nс креплением к бетону\nс помощью металлических скоб","","стального чулка в ПВХ коробе","25x25","дюбель-хомутов","бетону",46,"СПЕЦКАБЛАЙН-","К1Д25х25","-ТУ 16.К99-065-2014","Оплетка","Стальной чулок","пластиковый кабельканал",{"$f":"ОКЛ!F$125","v":7},"Металл",1,"бетон",{"$f":"ОКЛ!D$136","v":2},"Дюбель-хомут",{"$f":"ОКЛ!D$146","v":3},0,1,1,17,"","",null,null,{"$f":"IF(X56*Y56*Z56=0, 0, MAX(AF$9:AF55 )+1)","v":0},"","","*1*СПЕЦКАБЛАЙН-ГЕФЕСТ-МР15#2$*2*СПЕЦКАБЛАЙН-ГЕФЕСТ-МР18#3$*3*СПЕЦКАБЛАЙН-ГЕФЕСТ-МР20#4$*4*СПЕЦКАБЛАЙН-ГЕФЕСТ-МР22#5$*5*СПЕЦКАБЛАЙН-ГЕФЕСТ-МР25#6$*6*СПЕЦКАБЛАЙН-ГЕФЕСТ-МР32#7$"]
["",null,"","Огнестойкая Кабельная Линия\nв виде металлорукава, размером 20 мм,\nс креплением к бетону\nс помощью металлических скоб","","стального чулка в ПВХ коробе","25x25","дюбель-хомутов","бетону",47,"СПЕЦКАБЛАЙН-","К1Д25х25Э","-ТУ 16.К99-065-2014","Оплетка","Стальной чулок","пластиковый кабельканал",{"$f":"ОКЛ!F$125","v":7},"Металл",1,"бетон",{"$f":"ОКЛ!D$136","v":2},"Дюбель-хомут",{"$f":"ОКЛ!D$146","v":3},0,1,1,17,"","",null,null,{"$f":"IF(X57*Y57*Z57=0, 0, MAX(AF$9:AF56 )+1)","v":0},"","","*1*СПЕЦКАБЛАЙН-ГЕФЕСТ-МР15#2$*2*СПЕЦКАБЛАЙН-ГЕФЕСТ-МР18#3$*3*СПЕЦКАБЛАЙН-ГЕФЕСТ-МР20#4$*4*СПЕЦКАБЛАЙН-ГЕФЕСТ-МР22#5$*5*СПЕЦКАБЛАЙН-ГЕФЕСТ-МР25#6$*6*СПЕЦКАБЛАЙН-ГЕФЕСТ-МР32#7$"]
["",null,"","Огнестойкая Кабельная Линия\nв виде металлорукава, размером 20 мм,\nс креплением к бетону\nс помощью металлических скоб","","стального чулка в ПВХ коробе","40x25","дюбель-хомутов","бетону",48,"СПЕЦКАБЛАЙН-","К1Д40х25","-ТУ 16.К99-065-2014","Оплетка","Стальной чулок","пластиковый кабельканал",{"$f":"ОКЛ!F$125","v":7},"Металл",1,"бетон",{"$f":"ОКЛ!D$136","v":2},"Дюбель-хомут",{"$f":"ОКЛ!D$146","v":3},0,1,1,17,"","",null,null,{"$f":"IF(X58*Y58*Z58=0, 0, MAX(AF$9:AF57 )+1)","v":0},"","","*1*СПЕЦКАБЛАЙН-ГЕФЕСТ-МР15#2$*2*СПЕЦКАБЛАЙН-ГЕФЕСТ-МР18#3$*3*СПЕЦКАБЛАЙН-ГЕФЕСТ-МР20#4$*4*СПЕЦКАБЛАЙН-ГЕФЕСТ-МР22#5$*5*СПЕЦКАБЛАЙН-ГЕФЕСТ-МР25#6$*6*СПЕЦКАБЛАЙН-ГЕФЕСТ-МР32#7$"]
["",null,"","Огнестойкая Кабельная Линия\nв виде металлорукава, размером 20 мм,\nс креплением к бетону\nс помощью металлических скоб","","стального чулка в ПВХ коробе","40x25","дюбель-хомутов","бетону",49,"СПЕЦКАБЛАЙН-","К1Д40х25Э","-ТУ 16.К99-065-2014","Оплетка","Стальной чулок","пластиковый кабельканал",{"$f":"ОКЛ!F$125","v":7},"Металл",1,"бетон",{"$f":"ОКЛ!D$136","v":2},"Дюбель-хомут",{"$f":"ОКЛ!D$146","v":3},0,1,1,17,"","",null,null,{"$f":"IF(X59*Y59*Z59=0, 0, MAX(AF$9:AF58 )+1)","v":0},"","","*1*СПЕЦКАБЛАЙН-ГЕФЕСТ-МР15#2$*2*СПЕЦКАБЛАЙН-ГЕФЕСТ-МР18#3$*3*СПЕЦКАБЛАЙН-ГЕФЕСТ-МР20#4$*4*СПЕЦКАБЛАЙН-ГЕФЕСТ-МР22#5$*5*СПЕЦКАБЛАЙН-ГЕФЕСТ-МР25#6$*6*СПЕЦКАБЛАЙН-ГЕФЕСТ-МР32#7$"]
["",null,"","Огнестойкая Кабельная Линия\nв виде металлорукава, размером 20 мм,\nс креплением к бетону\nс помощью металлических скоб","","стального чулка в ПВХ коробе","40x40","дюбель-хомутов","бетону",50,"СПЕЦКАБЛАЙН-","К1Д40х40","-ТУ 16.К99-065-2014","Оплетка","Стальной чулок","пластиковый кабельканал",{"$f":"ОКЛ!F$125","v":7},"Металл",1,"бетон",{"$f":"ОКЛ!D$136","v":2},"Дюбель-хомут",{"$f":"ОКЛ!D$146","v":3},0,1,1,17,"","",null,null,{"$f":"IF(X60*Y60*Z60=0, 0, MAX(AF$9:AF59 )+1)","v":0},"","","*1*СПЕЦКАБЛАЙН-ГЕФЕСТ-МР15#2$*2*СПЕЦКАБЛАЙН-ГЕФЕСТ-МР18#3$*3*СПЕЦКАБЛАЙН-ГЕФЕСТ-МР20#4$*4*СПЕЦКАБЛАЙН-ГЕФЕСТ-МР22#5$*5*СПЕЦКАБЛАЙН-ГЕФЕСТ-МР25#6$*6*СПЕЦКАБЛАЙН-ГЕФЕСТ-МР32#7$"]
["",null,"","Огнестойкая Кабельная Линия\nв виде металлорукава, размером 20 мм,\nс креплением к бетону\nс помощью металлических скоб","","стального чулка в ПВХ коробе","40x40","дюбель-хомутов","бетону",51,"СПЕЦКАБЛАЙН-","К1Д40х40Э","-ТУ 16.К99-065-2014","Оплетка","Стальной чулок","пластиковый кабельканал",{"$f":"ОКЛ!F$125","v":7},"Металл",1,"бетон",{"$f":"ОКЛ!D$136","v":2},"Дюбель-хомут",{"$f":"ОКЛ!D$146","v":3},0,1,1,17,"","",null,null,{"$f":"IF(X61*Y61*Z61=0, 0, MAX(AF$9:AF60 )+1)","v":0},"","","*1*СПЕЦКАБЛАЙН-ГЕФЕСТ-МР15#2$*2*СПЕЦКАБЛАЙН-ГЕФЕСТ-МР18#3$*3*СПЕЦКАБЛАЙН-ГЕФЕСТ-МР20#4$*4*СПЕЦКАБЛАЙН-ГЕФЕСТ-МР22#5$*5*СПЕЦКАБЛАЙН-ГЕФЕСТ-МР25#6$*6*СПЕЦКАБЛАЙН-ГЕФЕСТ-МР32#7$"]
["",null,"","Огнестойкая Кабельная Линия\nв виде металлорукава, размером 20 мм,\nс креплением к бетону\nс помощью металлических скоб","","стального чулка в ПВХ коробе","60x40","дюбель-хомутов","бетону",52,"СПЕЦКАБЛАЙН-","К1Д60х40","-ТУ 16.К99-065-2014","Оплетка","Стальной чулок","пластиковый кабельканал",{"$f":"ОКЛ!F$125","v":7},"Металл",1,"бетон",{"$f":"ОКЛ!D$136","v":2},"Дюбель-хомут",{"$f":"ОКЛ!D$146","v":3},0,1,1,17,"","",null,null,{"$f":"IF(X62*Y62*Z62=0, 0, MAX(AF$9:AF61 )+1)","v":0},"","","*1*СПЕЦКАБЛАЙН-ГЕФЕСТ-МР15#2$*2*СПЕЦКАБЛАЙН-ГЕФЕСТ-МР18#3$*3*СПЕЦКАБЛАЙН-ГЕФЕСТ-МР20#4$*4*СПЕЦКАБЛАЙН-ГЕФЕСТ-МР22#5$*5*СПЕЦКАБЛАЙН-ГЕФЕСТ-МР25#6$*6*СПЕЦКАБЛАЙН-ГЕФЕСТ-МР32#7$"]
["",null,"","Огнестойкая Кабельная Линия\nв виде металлорукава, размером 20 мм,\nс креплением к бетону\nс помощью металлических скоб","","стального чулка в ПВХ коробе","60x40","дюбель-хомутов","бетону",53,"СПЕЦКАБЛАЙН-","К1Д60х40Э","-ТУ 16.К99-065-2014","Оплетка","Стальной чулок","пластиковый кабельканал",{"$f":"ОКЛ!F$125","v":7},"Металл",1,"бетон",{"$f":"ОКЛ!D$136","v":2},"Дюбель-хомут",{"$f":"ОКЛ!D$146","v":3},0,1,1,17,"","",null,null,{"$f":"IF(X63*Y63*Z63=0, 0, MAX(AF$9:AF62 )+1)","v":0},"","","*1*СПЕЦКАБЛАЙН-ГЕФЕСТ-МР15#2$*2*СПЕЦКАБЛАЙН-ГЕФЕСТ-МР18#3$*3*СПЕЦКАБЛАЙН-ГЕФЕСТ-МР20#4$*4*СПЕЦКАБЛАЙН-ГЕФЕСТ-МР22#5$*5*СПЕЦКАБЛАЙН-ГЕФЕСТ-МР25#6$*6*СПЕЦКАБЛАЙН-ГЕФЕСТ-МР32#7$"]
["",null,"","Огнестойкая Кабельная Линия\nв виде металлорукава, размером 20 мм,\nс креплением к бетону\nс помощью металлических скоб","","сетки Манье",null,"металлических крючоков","бетону",54,"СПЕЦКАБЛАЙН-","К2/100","-ТУ 16.К99-065-2014","Сетка","групповая","Сетка манье",{"$f":"ОКЛ!F$126","v":8},"Металл",1,"бетон",{"$f":"ОКЛ!D$136","v":2},"Крючок",{"$f":"ОКЛ!D$149","v":6},0,1,1,18,"","",null,null,{"$f":"IF(X64*Y64*Z64=0, 0, MAX(AF$9:AF63 )+1)","v":0},"","","*1*СПЕЦКАБЛАЙН-ГЕФЕСТ-МР15#2$*2*СПЕЦКАБЛАЙН-ГЕФЕСТ-МР18#3$*3*СПЕЦКАБЛАЙН-ГЕФЕСТ-МР20#4$*4*СПЕЦКАБЛАЙН-ГЕФЕСТ-МР22#5$*5*СПЕЦКАБЛАЙН-ГЕФЕСТ-МР25#6$*6*СПЕЦКАБЛАЙН-ГЕФЕСТ-МР32#7$"]
["",null,{"$f":"IF(ISERR(FIND(\"Огнес\",E65)),\"\",J65)","v":""},"Огнестойкая Кабельная Линия\nв виде металлорукава, размером 20 мм,\nс креплением к бетону\nс помощью металлических скоб","","сетки Манье в ПВХ коробе","100x40","дюбель-хомутов","бетону",55,"СПЕЦКАБЛАЙН-","К2/100Д100х40","-ТУ 16.К99-065-2014","Сетка","групповая","пластиковый кабельканал",{"$f":"ОКЛ!F$125","v":7},"ПВХ",1,"бетон",{"$f":"ОКЛ!D$136","v":2},"Дюбель-хомут",{"$f":"ОКЛ!D$146","v":3},0,1,1,17,"","",null,null,{"$f":"IF(X65*Y65*Z65=0, 0, MAX(AF$9:AF64 )+1)","v":0},"","","*1*СПЕЦКАБЛАЙН-ГЕФЕСТ-МР15#2$*2*СПЕЦКАБЛАЙН-ГЕФЕСТ-МР18#3$*3*СПЕЦКАБЛАЙН-ГЕФЕСТ-МР20#4$*4*СПЕЦКАБЛАЙН-ГЕФЕСТ-МР22#5$*5*СПЕЦКАБЛАЙН-ГЕФЕСТ-МР25#6$*6*СПЕЦКАБЛАЙН-ГЕФЕСТ-МР32#7$"]
["",null,{"$f":"IF(ISERR(FIND(\"Огнес\",E66)),\"\",J66)","v":""},"Огнестойкая Кабельная Линия\nв виде металлорукава, размером 20 мм,\nс креплением к бетону\nс помощью металлических скоб","","сетки Манье в ПВХ коробе","100x40","дюбель-хомутов","бетону",56,"СПЕЦКАБЛАЙН-","К2/100Д100х40Э","-ТУ 16.К99-065-2014","Сетка","групповая","пластиковый кабельканал",{"$f":"ОКЛ!F$125","v":7},"ПВХ",1,"бетон",{"$f":"ОКЛ!D$136","v":2},"Дюбель-хомут",{"$f":"ОКЛ!D$146","v":3},0,1,1,17,"","",null,null,{"$f":"IF(X66*Y66*Z66=0, 0, MAX(AF$9:AF65 )+1)","v":0},"","","*1*СПЕЦКАБЛАЙН-ГЕФЕСТ-МР15#2$*2*СПЕЦКАБЛАЙН-ГЕФЕСТ-МР18#3$*3*СПЕЦКАБЛАЙН-ГЕФЕСТ-МР20#4$*4*СПЕЦКАБЛАЙН-ГЕФЕСТ-МР22#5$*5*СПЕЦКАБЛАЙН-ГЕФЕСТ-МР25#6$*6*СПЕЦКАБЛАЙН-ГЕФЕСТ-МР32#7$"]
["",null,"","Огнестойкая Кабельная Линия\nв виде металлорукава, размером 20 мм,\nс креплением к бетону\nс помощью металлических скоб","","сетки Манье в ПВХ коробе","100x55","дюбель-хомутов","бетону",57,"СПЕЦКАБЛАЙН-","К2/100Д100х55Э","-ТУ 16.К99-065-2014","Сетка","групповая","пластиковый кабельканал",{"$f":"ОКЛ!F$125","v":7},"ПВХ",1,"бетон",{"$f":"ОКЛ!D$136","v":2},"Дюбель-хомут",{"$f":"ОКЛ!D$146","v":3},0,1,1,17,"","",null,null,{"$f":"IF(X67*Y67*Z67=0, 0, MAX(AF$9:AF66 )+1)","v":0},"","","*1*СПЕЦКАБЛАЙН-ГЕФЕСТ-МР15#2$*2*СПЕЦКАБЛАЙН-ГЕФЕСТ-МР18#3$*3*СПЕЦКАБЛАЙН-ГЕФЕСТ-МР20#4$*4*СПЕЦКАБЛАЙН-ГЕФЕСТ-МР22#5$*5*СПЕЦКАБЛАЙН-ГЕФЕСТ-МР25#6$*6*СПЕЦКАБЛАЙН-ГЕФЕСТ-МР32#7$"]
["",null,"","Огнестойкая Кабельная Линия\nв виде металлорукава, размером 20 мм,\nс креплением к бетону\nс помощью металлических скоб","","сетки Манье в ПВХ коробе","100x60","дюбель-хомутов","бетону",58,"СПЕЦКАБЛАЙН-","К2/100Д100х60","-ТУ 16.К99-065-2014","Сетка","групповая","пластиковый кабельканал",{"$f":"ОКЛ!F$125","v":7},"ПВХ",1,"бетон",{"$f":"ОКЛ!D$136","v":2},"Дюбель-хомут",{"$f":"ОКЛ!D$146","v":3},0,1,1,17,"","",null,null,{"$f":"IF(X68*Y68*Z68=0, 0, MAX(AF$9:AF67 )+1)","v":0},"","","*1*СПЕЦКАБЛАЙН-ГЕФЕСТ-МР15#2$*2*СПЕЦКАБЛАЙН-ГЕФЕСТ-МР18#3$*3*СПЕЦКАБЛАЙН-ГЕФЕСТ-МР20#4$*4*СПЕЦКАБЛАЙН-ГЕФЕСТ-МР22#5$*5*СПЕЦКАБЛАЙН-ГЕФЕСТ-МР25#6$*6*СПЕЦКАБЛАЙН-ГЕФЕСТ-МР32#7$"]
["",null,"","Огнестойкая Кабельная Линия\nв виде металлорукава, размером 20 мм,\nс креплением к бетону\nс помощью металлических скоб","","сетки Манье в ПВХ коробе","60x40","дюбель-хомутов","бетону",59,"СПЕЦКАБЛАЙН-","К2/100Д60х40","-ТУ 16.К99-065-2014","Сетка","групповая","пластиковый кабельканал",{"$f":"ОКЛ!F$125","v":7},"ПВХ",1,"бетон",{"$f":"ОКЛ!D$136","v":2},"Дюбель-хомут",{"$f":"ОКЛ!D$146","v":3},0,1,1,17,"","",null,null,{"$f":"IF(X69*Y69*Z69=0, 0, MAX(AF$9:AF68 )+1)","v":0},"","","*1*СПЕЦКАБЛАЙН-ГЕФЕСТ-МР15#2$*2*СПЕЦКАБЛАЙН-ГЕФЕСТ-МР18#3$*3*СПЕЦКАБЛАЙН-ГЕФЕСТ-МР20#4$*4*СПЕЦКАБЛАЙН-ГЕФЕСТ-МР22#5$*5*СПЕЦКАБЛАЙН-ГЕФЕСТ-МР25#6$*6*СПЕЦКАБЛАЙН-ГЕФЕСТ-МР32#7$"]
["",null,"","Огнестойкая Кабельная Линия\nв виде металлорукава, размером 20 мм,\nс креплением к бетону\nс помощью металлических скоб","","сетки Манье в ПВХ коробе","60x40","дюбель-хомутов","бетону",60,"СПЕЦКАБЛАЙН-","К2/100Д60х40Э","-ТУ 16.К99-065-2014","Сетка","групповая","пластиковый кабельканал",{"$f":"ОКЛ!F$125","v":7},"ПВХ",1,"бетон",{"$f":"ОКЛ!D$136","v":2},"Дюбель-хомут",{"$f":"ОКЛ!D$146","v":3},0,1,1,17,"","",null,null,{"$f":"IF(X70*Y70*Z70=0, 0, MAX(AF$9:AF69 )+1)","v":0},"","","*1*СПЕЦКАБЛАЙН-ГЕФЕСТ-МР15#2$*2*СПЕЦКАБЛАЙН-ГЕФЕСТ-МР18#3$*3*СПЕЦКАБЛАЙН-ГЕФЕСТ-МР20#4$*4*СПЕЦКАБЛАЙН-ГЕФЕСТ-МР22#5$*5*СПЕЦКАБЛАЙН-ГЕФЕСТ-МР25#6$*6*СПЕЦКАБЛАЙН-ГЕФЕСТ-МР32#7$"]
["",null,"","Огнестойкая Кабельная Линия\nв виде металлорукава, размером 20 мм,\nс креплением к бетону\nс помощью металлических скоб","","сетки Манье в ПВХ коробе","60x60","дюбель-хомутов","бетону",61,"СПЕЦКАБЛАЙН-","К2/100Д60х60","-ТУ 16.К99-065-2014","Сетка","групповая","пластиковый кабельканал",{"$f":"ОКЛ!F$125","v":7},"ПВХ",1,"бетон",{"$f":"ОКЛ!D$136","v":2},"Дюбель-хомут",{"$f":"ОКЛ!D$146","v":3},0,1,1,17,"","",null,null,{"$f":"IF(X71*Y71*Z71=0, 0, MAX(AF$9:AF70 )+1)","v":0},"","","*1*СПЕЦКАБЛАЙН-ГЕФЕСТ-МР15#2$*2*СПЕЦКАБЛАЙН-ГЕФЕСТ-МР18#3$*3*СПЕЦКАБЛАЙН-ГЕФЕСТ-МР20#4$*4*СПЕЦКАБЛАЙН-ГЕФЕСТ-МР22#5$*5*СПЕЦКАБЛАЙН-ГЕФЕСТ-МР25#6$*6*СПЕЦКАБЛАЙН-ГЕФЕСТ-МР32#7$"]
["",null,"","Огнестойкая Кабельная Линия\nв виде металлорукава, размером 20 мм,\nс креплением к бетону\nс помощью металлических скоб","","сетки Манье в ПВХ коробе","60x60","дюбель-хомутов","бетону",62,"СПЕЦКАБЛАЙН-","К2/100Д60х60Э","-ТУ 16.К99-065-2014","Сетка","групповая","пластиковый кабельканал",{"$f":"ОКЛ!F$125","v":7},"ПВХ",1,"бетон",{"$f":"ОКЛ!D$136","v":2},"Дюбель-хомут",{"$f":"ОКЛ!D$146","v":3},0,1,1,17,"","",null,null,{"$f":"IF(X72*Y72*Z72=0, 0, MAX(AF$9:AF71 )+1)","v":0},"","","*1*СПЕЦКАБЛАЙН-ГЕФЕСТ-МР15#2$*2*СПЕЦКАБЛАЙН-ГЕФЕСТ-МР18#3$*3*СПЕЦКАБЛАЙН-ГЕФЕСТ-МР20#4$*4*СПЕЦКАБЛАЙН-ГЕФЕСТ-МР22#5$*5*СПЕЦКАБЛАЙН-ГЕФЕСТ-МР25#6$*6*СПЕЦКАБЛАЙН-ГЕФЕСТ-МР32#7$"]
["",null,"","Огнестойкая Кабельная Линия\nв виде металлорукава, размером 20 мм,\nс креплением к бетону\nс помощью металлических скоб","","сетки Манье",null,"металлических крючоков","бетону",63,"СПЕЦКАБЛАЙН-","К2/200","-ТУ 16.К99-065-2014","Сетка","групповая","Сетка манье",{"$f":"ОКЛ!F$126","v":8},"Металл",1,"бетон",{"$f":"ОКЛ!D$136","v":2},"Крючок",{"$f":"ОКЛ!D$149","v":6},0,1,1,18,"","",null,null,{"$f":"IF(X73*Y73*Z73=0, 0, MAX(AF$9:AF72 )+1)","v":0},"","","*1*СПЕЦКАБЛАЙН-ГЕФЕСТ-МР15#2$*2*СПЕЦКАБЛАЙН-ГЕФЕСТ-МР18#3$*3*СПЕЦКАБЛАЙН-ГЕФЕСТ-МР20#4$*4*СПЕЦКАБЛАЙН-ГЕФЕСТ-МР22#5$*5*СПЕЦКАБЛАЙН-ГЕФЕСТ-МР25#6$*6*СПЕЦКАБЛАЙН-ГЕФЕСТ-МР32#7$"]
["",null,"","Огнестойкая Кабельная Линия\nв виде металлорукава, размером 20 мм,\nс креплением к бетону\nс помощью металлических скоб","","сетки Манье в ПВХ коробе","100x40","дюбель-хомутов","бетону",64,"СПЕЦКАБЛАЙН-","К2/200Д100х40","-ТУ 16.К99-065-2014","Сетка","групповая","пластиковый кабельканал",{"$f":"ОКЛ!F$125","v":7},"Металл",1,"бетон",{"$f":"ОКЛ!D$136","v":2},"Дюбель-хомут",{"$f":"ОКЛ!D$146","v":3},0,1,1,17,"","",null,null,{"$f":"IF(X74*Y74*Z74=0, 0, MAX(AF$9:AF73 )+1)","v":0},"","","*1*СПЕЦКАБЛАЙН-ГЕФЕСТ-МР15#2$*2*СПЕЦКАБЛАЙН-ГЕФЕСТ-МР18#3$*3*СПЕЦКАБЛАЙН-ГЕФЕСТ-МР20#4$*4*СПЕЦКАБЛАЙН-ГЕФЕСТ-МР22#5$*5*СПЕЦКАБЛАЙН-ГЕФЕСТ-МР25#6$*6*СПЕЦКАБЛАЙН-ГЕФЕСТ-МР32#7$"]
["",null,"","Огнестойкая Кабельная Линия\nв виде металлорукава, размером 20 мм,\nс креплением к бетону\nс помощью металлических скоб","","сетки Манье в ПВХ коробе","100x40","дюбель-хомутов","бетону",65,"СПЕЦКАБЛАЙН-","К2/200Д100х40Э","-ТУ 16.К99-065-2014","Сетка","групповая","пластиковый кабельканал",{"$f":"ОКЛ!F$125","v":7},"Металл",1,"бетон",{"$f":"ОКЛ!D$136","v":2},"Дюбель-хомут",{"$f":"ОКЛ!D$146","v":3},{"$f":"IF(Q75=Q$2, 1, 0)","v":0},{"$f":"IF(U75=U$2, 1, IF(U$2=1, 1,0))","v":1},{"$f":"IF(W75=W$2, 1, IF(W$2=1, 1,0))","v":1},17,"","",null,null,{"$f":"IF(X75*Y75*Z75=0, 0, MAX(AF$9:AF74 )+1)","v":0},"",{"$f":"IF(AF75=0,\"\", CONCATENATE(AG75, K75, L75,\"#\", J75, \"$\"))","v":""},"*1*СПЕЦКАБЛАЙН-ГЕФЕСТ-МР15#2$*2*СПЕЦКАБЛАЙН-ГЕФЕСТ-МР18#3$*3*СПЕЦКАБЛАЙН-ГЕФЕСТ-МР20#4$*4*СПЕЦКАБЛАЙН-ГЕФЕСТ-МР22#5$*5*СПЕЦКАБЛАЙН-ГЕФЕСТ-МР25#6$*6*СПЕЦКАБЛАЙН-ГЕФЕСТ-МР32#7$"]
[{"$f":"AG76","v":""},null,"",{"$f":"CONCATENATE(E76,D77)","v":"Огнестойкая Кабельная Линия\nв виде металлорукава, размером 20 мм,\nс креплением к бетону\nс помощью металлических скоб"},{"$f":"IF(ISERR(FIND($F$2,CONCATENATE(\"*\",$K76,$L76,\"*\"))),\"\",CONCATENATE(\"Огнестойкая Кабельная Линия\", CHAR(10), \"в виде \",F76,IF(ISBLANK(G76),\"\",CONCATENATE(\", размером \",G76,\" мм\")),IF(ISBLANK(H76),\"\",CONCATENATE(\",\", CHAR(10), \"с креплением к \",I76, CHAR(10), \"с помощью \", H76))))","v":""},"сетки Манье в ПВХ коробе","100x55","дюбель-хомутов","бетону",66,"СПЕЦКАБЛАЙН-","К2/200Д100х55Э","-ТУ 16.К99-065-2014","Сетка","групповая","пластиковый кабельканал",{"$f":"ОКЛ!F$125","v":7},"Металл",1,"бетон",{"$f":"ОКЛ!D$136","v":2},"Дюбель-хомут",{"$f":"ОКЛ!D$146","v":3},0,1,1,17,"","",null,null,{"$f":"IF(X76*Y76*Z76=0, 0, MAX(AF$9:AF75 )+1)","v":0},"","","*1*СПЕЦКАБЛАЙН-ГЕФЕСТ-МР15#2$*2*СПЕЦКАБЛАЙН-ГЕФЕСТ-МР18#3$*3*СПЕЦКАБЛАЙН-ГЕФЕСТ-МР20#4$*4*СПЕЦКАБЛАЙН-ГЕФЕСТ-МР22#5$*5*СПЕЦКАБЛАЙН-ГЕФЕСТ-МР25#6$*6*СПЕЦКАБЛАЙН-ГЕФЕСТ-МР32#7$"]
["",null,"","Огнестойкая Кабельная Линия\nв виде металлорукава, размером 20 мм,\nс креплением к бетону\nс помощью металлических скоб","","сетки Манье в ПВХ коробе","100x60","дюбель-хомутов","бетону",67,"СПЕЦКАБЛАЙН-","К2/200Д100х60","-ТУ 16.К99-065-2014","Сетка","групповая","пластиковый кабельканал",{"$f":"ОКЛ!F$125","v":7},"Металл",1,"бетон",{"$f":"ОКЛ!D$136","v":2},"Дюбель-хомут",{"$f":"ОКЛ!D$146","v":3},0,1,1,17,"","",null,null,{"$f":"IF(X77*Y77*Z77=0, 0, MAX(AF$9:AF76 )+1)","v":0},"","","*1*СПЕЦКАБЛАЙН-ГЕФЕСТ-МР15#2$*2*СПЕЦКАБЛАЙН-ГЕФЕСТ-МР18#3$*3*СПЕЦКАБЛАЙН-ГЕФЕСТ-МР20#4$*4*СПЕЦКАБЛАЙН-ГЕФЕСТ-МР22#5$*5*СПЕЦКАБЛАЙН-ГЕФЕСТ-МР25#6$*6*СПЕЦКАБЛАЙН-ГЕФЕСТ-МР32#7$"]
["",null,"","Огнестойкая Кабельная Линия\nв виде металлорукава, размером 20 мм,\nс креплением к бетону\nс помощью металлических скоб","","сетки Манье в ПВХ коробе","60x60","дюбель-хомутов","бетону",68,"СПЕЦКАБЛАЙН-","К2/200Д60х60","-ТУ 16.К99-065-2014","Сетка","групповая","пластиковый кабельканал",{"$f":"ОКЛ!F$125","v":7},"Металл",1,"бетон",{"$f":"ОКЛ!D$136","v":2},"Дюбель-хомут",{"$f":"ОКЛ!D$146","v":3},0,1,1,17,"","",null,null,{"$f":"IF(X78*Y78*Z78=0, 0, MAX(AF$9:AF77 )+1)","v":0},"","","*1*СПЕЦКАБЛАЙН-ГЕФЕСТ-МР15#2$*2*СПЕЦКАБЛАЙН-ГЕФЕСТ-МР18#3$*3*СПЕЦКАБЛАЙН-ГЕФЕСТ-МР20#4$*4*СПЕЦКАБЛАЙН-ГЕФЕСТ-МР22#5$*5*СПЕЦКАБЛАЙН-ГЕФЕСТ-МР25#6$*6*СПЕЦКАБЛАЙН-ГЕФЕСТ-МР32#7$"]
["",null,"","Огнестойкая Кабельная Линия\nв виде металлорукава, размером 20 мм,\nс креплением к бетону\nс помощью металлических скоб","","сетки Манье в ПВХ коробе","60x60","металлических крючоков","бетону",69,"СПЕЦКАБЛАЙН-","К2/200Д60х60Э","-ТУ 16.К99-065-2014","Сетка","групповая","пластиковый кабельканал",{"$f":"ОКЛ!F$125","v":7},"Металл",1,"бетон",{"$f":"ОКЛ!D$136","v":2},"Крючок",{"$f":"ОКЛ!D$149","v":6},0,1,1,17,"","",null,null,{"$f":"IF(X79*Y79*Z79=0, 0, MAX(AF$9:AF78 )+1)","v":0},"","","*1*СПЕЦКАБЛАЙН-ГЕФЕСТ-МР15#2$*2*СПЕЦКАБЛАЙН-ГЕФЕСТ-МР18#3$*3*СПЕЦКАБЛАЙН-ГЕФЕСТ-МР20#4$*4*СПЕЦКАБЛАЙН-ГЕФЕСТ-МР22#5$*5*СПЕЦКАБЛАЙН-ГЕФЕСТ-МР25#6$*6*СПЕЦКАБЛАЙН-ГЕФЕСТ-МР32#7$"]
["",null,"","Огнестойкая Кабельная Линия\nв виде металлорукава, размером 20 мм,\nс креплением к бетону\nс помощью металлических скоб","","сетки Манье",null,"дюбель-хомутов","бетону",70,"СПЕЦКАБЛАЙН-","К2/70","-ТУ 16.К99-065-2014","Сетка","групповая","Сетка манье",{"$f":"ОКЛ!F$126","v":8},"Металл",1,"бетон",{"$f":"ОКЛ!D$136","v":2},"Дюбель-хомут",{"$f":"ОКЛ!D$146","v":3},0,1,1,18,"","",null,null,{"$f":"IF(X80*Y80*Z80=0, 0, MAX(AF$9:AF79 )+1)","v":0},"","","*1*СПЕЦКАБЛАЙН-ГЕФЕСТ-МР15#2$*2*СПЕЦКАБЛАЙН-ГЕФЕСТ-МР18#3$*3*СПЕЦКАБЛАЙН-ГЕФЕСТ-МР20#4$*4*СПЕЦКАБЛАЙН-ГЕФЕСТ-МР22#5$*5*СПЕЦКАБЛАЙН-ГЕФЕСТ-МР25#6$*6*СПЕЦКАБЛАЙН-ГЕФЕСТ-МР32#7$"]
["",null,"","Огнестойкая Кабельная Линия\nв виде металлорукава, размером 20 мм,\nс креплением к бетону\nс помощью металлических скоб","","сетки Манье в ПВХ коробе","25x25","дюбель-хомутов","бетону",71,"СПЕЦКАБЛАЙН-","К2/70Д25х25","-ТУ 16.К99-065-2014","Сетка","групповая","пластиковый кабельканал",{"$f":"ОКЛ!F$125","v":7},"Металл",1,"бетон",{"$f":"ОКЛ!D$136","v":2},"Дюбель-хомут",{"$f":"ОКЛ!D$146","v":3},0,1,1,17,"","",null,null,{"$f":"IF(X81*Y81*Z81=0, 0, MAX(AF$9:AF80 )+1)","v":0},"","","*1*СПЕЦКАБЛАЙН-ГЕФЕСТ-МР15#2$*2*СПЕЦКАБЛАЙН-ГЕФЕСТ-МР18#3$*3*СПЕЦКАБЛАЙН-ГЕФЕСТ-МР20#4$*4*СПЕЦКАБЛАЙН-ГЕФЕСТ-МР22#5$*5*СПЕЦКАБЛАЙН-ГЕФЕСТ-МР25#6$*6*СПЕЦКАБЛАЙН-ГЕФЕСТ-МР32#7$"]
["",null,"","Огнестойкая Кабельная Линия\nв виде металлорукава, размером 20 мм,\nс креплением к бетону\nс помощью металлических скоб","","сетки Манье в ПВХ коробе","25x25","дюбель-хомутов","бетону",72,"СПЕЦКАБЛАЙН-","К2/70Д25х25Э","-ТУ 16.К99-065-2014","Сетка","групповая","пластиковый кабельканал",{"$f":"ОКЛ!F$125","v":7},"Металл",1,"бетон",{"$f":"ОКЛ!D$136","v":2},"Дюбель-хомут",{"$f":"ОКЛ!D$146","v":3},0,1,1,17,"","",null,null,{"$f":"IF(X82*Y82*Z82=0, 0, MAX(AF$9:AF81 )+1)","v":0},"","","*1*СПЕЦКАБЛАЙН-ГЕФЕСТ-МР15#2$*2*СПЕЦКАБЛАЙН-ГЕФЕСТ-МР18#3$*3*СПЕЦКАБЛАЙН-ГЕФЕСТ-МР20#4$*4*СПЕЦКАБЛАЙН-ГЕФЕСТ-МР22#5$*5*СПЕЦКАБЛАЙН-ГЕФЕСТ-МР25#6$*6*СПЕЦКАБЛАЙН-ГЕФЕСТ-МР32#7$"]
["",null,"","Огнестойкая Кабельная Линия\nв виде металлорукава, размером 20 мм,\nс креплением к бетону\nс помощью металлических скоб","","сетки Манье в ПВХ коробе","40x25","дюбель-хомутов","бетону",73,"СПЕЦКАБЛАЙН-","К2/70Д40х25","-ТУ 16.К99-065-2014","Сетка","групповая","пластиковый кабельканал",{"$f":"ОКЛ!F$125","v":7},"Металл",1,"бетон",{"$f":"ОКЛ!D$136","v":2},"Дюбель-хомут",{"$f":"ОКЛ!D$146","v":3},0,1,1,17,"","",null,null,{"$f":"IF(X83*Y83*Z83=0, 0, MAX(AF$9:AF82 )+1)","v":0},{"$f":"IF(AF83=0,\"\",CONCATENATE(\"*\",AF83,\"*\"))","v":""},"",{"$f":"CONCATENATE(AI82,AH83)","v":"*1*СПЕЦКАБЛАЙН-ГЕФЕСТ-МР15#2$*2*СПЕЦКАБЛАЙН-ГЕФЕСТ-МР18#3$*3*СПЕЦКАБЛАЙН-ГЕФЕСТ-МР20#4$*4*СПЕЦКАБЛАЙН-ГЕФЕСТ-МР22#5$*5*СПЕЦКАБЛАЙН-ГЕФЕСТ-МР25#6$*6*СПЕЦКАБЛАЙН-ГЕФЕСТ-МР32#7$"}]
["",null,"","Огнестойкая Кабельная Линия\nв виде металлорукава, размером 20 мм,\nс креплением к бетону\nс помощью металлических скоб","","сетки Манье в ПВХ коробе","40x25","дюбель-хомутов","бетону",74,"СПЕЦКАБЛАЙН-","К2/70Д40х25Э","-ТУ 16.К99-065-2014","Сетка","групповая","пластиковый кабельканал",{"$f":"ОКЛ!F$125","v":7},"Металл",1,"бетон",{"$f":"ОКЛ!D$136","v":2},"Дюбель-хомут",{"$f":"ОКЛ!D$146","v":3},0,1,1,17,"","",null,null,{"$f":"IF(X84*Y84*Z84=0, 0, MAX(AF$9:AF83 )+1)","v":0},"","","*1*СПЕЦКАБЛАЙН-ГЕФЕСТ-МР15#2$*2*СПЕЦКАБЛАЙН-ГЕФЕСТ-МР18#3$*3*СПЕЦКАБЛАЙН-ГЕФЕСТ-МР20#4$*4*СПЕЦКАБЛАЙН-ГЕФЕСТ-МР22#5$*5*СПЕЦКАБЛАЙН-ГЕФЕСТ-МР25#6$*6*СПЕЦКАБЛАЙН-ГЕФЕСТ-МР32#7$"]
["",null,"","Огнестойкая Кабельная Линия\nв виде металлорукава, размером 20 мм,\nс креплением к бетону\nс помощью металлических скоб","","сетки Манье в ПВХ коробе","40x40","дюбель-хомутов","бетону",75,"СПЕЦКАБЛАЙН-","К2/70Д40х40","-ТУ 16.К99-065-2014","Сетка","групповая","пластиковый кабельканал",{"$f":"ОКЛ!F$125","v":7},"Металл",1,"бетон",{"$f":"ОКЛ!D$136","v":2},"Дюбель-хомут",{"$f":"ОКЛ!D$146","v":3},0,1,1,17,"","",null,null,{"$f":"IF(X85*Y85*Z85=0, 0, MAX(AF$9:AF84 )+1)","v":0},"","","*1*СПЕЦКАБЛАЙН-ГЕФЕСТ-МР15#2$*2*СПЕЦКАБЛАЙН-ГЕФЕСТ-МР18#3$*3*СПЕЦКАБЛАЙН-ГЕФЕСТ-МР20#4$*4*СПЕЦКАБЛАЙН-ГЕФЕСТ-МР22#5$*5*СПЕЦКАБЛАЙН-ГЕФЕСТ-МР25#6$*6*СПЕЦКАБЛАЙН-ГЕФЕСТ-МР32#7$"]
["",null,"","Огнестойкая Кабельная Линия\nв виде металлорукава, размером 20 мм,\nс креплением к бетону\nс помощью металлических скоб","","сетки Манье в ПВХ коробе","40x40","дюбель-хомутов","бетону",76,"СПЕЦКАБЛАЙН-","К2/70Д40х40Э","-ТУ 16.К99-065-2014","Сетка","групповая","пластиковый кабельканал",{"$f":"ОКЛ!F$125","v":7},"Металл",1,"бетон",{"$f":"ОКЛ!D$136","v":2},"Дюбель-хомут",{"$f":"ОКЛ!D$146","v":3},0,1,1,17,"","",null,null,{"$f":"IF(X86*Y86*Z86=0, 0, MAX(AF$9:AF85 )+1)","v":0},"","","*1*СПЕЦКАБЛАЙН-ГЕФЕСТ-МР15#2$*2*СПЕЦКАБЛАЙН-ГЕФЕСТ-МР18#3$*3*СПЕЦКАБЛАЙН-ГЕФЕСТ-МР20#4$*4*СПЕЦКАБЛАЙН-ГЕФЕСТ-МР22#5$*5*СПЕЦКАБЛАЙН-ГЕФЕСТ-МР25#6$*6*СПЕЦКАБЛАЙН-ГЕФЕСТ-МР32#7$"]
["",null,"","Огнестойкая Кабельная Линия\nв виде металлорукава, размером 20 мм,\nс креплением к бетону\nс помощью металлических скоб","","сетки Манье в ПВХ коробе","60x40","дюбель-хомутов","бетону",77,"СПЕЦКАБЛАЙН-","К2/70Д60х40","-ТУ 16.К99-065-2014","Сетка","групповая","пластиковый кабельканал",{"$f":"ОКЛ!F$125","v":7},"Металл",1,"бетон",{"$f":"ОКЛ!D$136","v":2},"Дюбель-хомут",{"$f":"ОКЛ!D$146","v":3},0,1,1,17,"","",null,null,{"$f":"IF(X87*Y87*Z87=0, 0, MAX(AF$9:AF86 )+1)","v":0},"","","*1*СПЕЦКАБЛАЙН-ГЕФЕСТ-МР15#2$*2*СПЕЦКАБЛАЙН-ГЕФЕСТ-МР18#3$*3*СПЕЦКАБЛАЙН-ГЕФЕСТ-МР20#4$*4*СПЕЦКАБЛАЙН-ГЕФЕСТ-МР22#5$*5*СПЕЦКАБЛАЙН-ГЕФЕСТ-МР25#6$*6*СПЕЦКАБЛАЙН-ГЕФЕСТ-МР32#7$"]
["",null,"","Огнестойкая Кабельная Линия\nв виде металлорукава, размером 20 мм,\nс креплением к бетону\nс помощью металлических скоб","","сетки Манье в ПВХ коробе","60x40","дюбель-хомутов","бетону",78,"СПЕЦКАБЛАЙН-","К2/70Д60х40Э","-ТУ 16.К99-065-2014","Сетка","групповая","пластиковый кабельканал",{"$f":"ОКЛ!F$125","v":7},"Металл",1,"бетон",{"$f":"ОКЛ!D$136","v":2},"Дюбель-хомут",{"$f":"ОКЛ!D$146","v":3},0,1,1,17,"","",null,null,{"$f":"IF(X88*Y88*Z88=0, 0, MAX(AF$9:AF87 )+1)","v":0},"","","*1*СПЕЦКАБЛАЙН-ГЕФЕСТ-МР15#2$*2*СПЕЦКАБЛАЙН-ГЕФЕСТ-МР18#3$*3*СПЕЦКАБЛАЙН-ГЕФЕСТ-МР20#4$*4*СПЕЦКАБЛАЙН-ГЕФЕСТ-МР22#5$*5*СПЕЦКАБЛАЙН-ГЕФЕСТ-МР25#6$*6*СПЕЦКАБЛАЙН-ГЕФЕСТ-МР32#7$"]
["",null,"","Огнестойкая Кабельная Линия\nв виде металлорукава, размером 20 мм,\nс креплением к бетону\nс помощью металлических скоб","","гладкой ПВХ трубы",16,"металлических скоб","бетону",79,"СПЕЦКАБЛАЙН-","КиТ-ГЛ16","-ТУ 16.К99-081-2016","Труба","гладкая","Гладка труба",{"$f":"ОКЛ!F$119","v":1},"ПВХ",2,"бетон",{"$f":"ОКЛ!D$136","v":2},"Скоба",{"$f":"ОКЛ!D$145","v":2},0,1,1,11,"","",null,null,{"$f":"IF(X89*Y89*Z89=0, 0, MAX(AF$9:AF88 )+1)","v":0},"","","*1*СПЕЦКАБЛАЙН-ГЕФЕСТ-МР15#2$*2*СПЕЦКАБЛАЙН-ГЕФЕСТ-МР18#3$*3*СПЕЦКАБЛАЙН-ГЕФЕСТ-МР20#4$*4*СПЕЦКАБЛАЙН-ГЕФЕСТ-МР22#5$*5*СПЕЦКАБЛАЙН-ГЕФЕСТ-МР25#6$*6*СПЕЦКАБЛАЙН-ГЕФЕСТ-МР32#7$"]
["",null,"","Огнестойкая Кабельная Линия\nв виде металлорукава, размером 20 мм,\nс креплением к бетону\nс помощью металлических скоб","","гладкой ПВХ трубы",16,"проволки","металлоконструкции",80,"СПЕЦКАБЛАЙН-","КиТ-ГЛ16П","-ТУ 16.К99-081-2016","Труба","гладкая","Гладка труба",{"$f":"ОКЛ!F$119","v":1},"ПВХ",2,"арматура",{"$f":"ОКЛ!D$139","v":5},"Проволока",{"$f":"ОКЛ!D$148","v":5},0,0,1,"","","",null,null,{"$f":"IF(X90*Y90*Z90=0, 0, MAX(AF$9:AF89 )+1)","v":0},"","","*1*СПЕЦКАБЛАЙН-ГЕФЕСТ-МР15#2$*2*СПЕЦКАБЛАЙН-ГЕФЕСТ-МР18#3$*3*СПЕЦКАБЛАЙН-ГЕФЕСТ-МР20#4$*4*СПЕЦКАБЛАЙН-ГЕФЕСТ-МР22#5$*5*СПЕЦКАБЛАЙН-ГЕФЕСТ-МР25#6$*6*СПЕЦКАБЛАЙН-ГЕФЕСТ-МР32#7$"]
["",null,"","Огнестойкая Кабельная Линия\nв виде металлорукава, размером 20 мм,\nс креплением к бетону\nс помощью металлических скоб","","гладкой ПВХ трубы",16,"металлических стяжек","металлоконструкции",81,"СПЕЦКАБЛАЙН-","КиТ-ГЛ16Х","-ТУ 16.К99-081-2016","Труба","гладкая","Гладка труба",{"$f":"ОКЛ!F$119","v":1},"ПВХ",2,"арматура",{"$f":"ОКЛ!D$139","v":5},"Хомут",{"$f":"ОКЛ!D$147","v":4},0,0,1,"","","",null,null,{"$f":"IF(X91*Y91*Z91=0, 0, MAX(AF$9:AF90 )+1)","v":0},"","","*1*СПЕЦКАБЛАЙН-ГЕФЕСТ-МР15#2$*2*СПЕЦКАБЛАЙН-ГЕФЕСТ-МР18#3$*3*СПЕЦКАБЛАЙН-ГЕФЕСТ-МР20#4$*4*СПЕЦКАБЛАЙН-ГЕФЕСТ-МР22#5$*5*СПЕЦКАБЛАЙН-ГЕФЕСТ-МР25#6$*6*СПЕЦКАБЛАЙН-ГЕФЕСТ-МР32#7$"]
["",null,"","Огнестойкая Кабельная Линия\nв виде металлорукава, размером 20 мм,\nс креплением к бетону\nс помощью металлических скоб","","гладкой ПВХ трубы",20,"металлических скоб","бетону",82,"СПЕЦКАБЛАЙН-","КиТ-ГЛ20","-ТУ 16.К99-081-2016","Труба","гладкая","Гладка труба",{"$f":"ОКЛ!F$119","v":1},"ПВХ",2,"бетон",{"$f":"ОКЛ!D$136","v":2},"Скоба",{"$f":"ОКЛ!D$145","v":2},0,1,1,11,"","",null,null,{"$f":"IF(X92*Y92*Z92=0, 0, MAX(AF$9:AF91 )+1)","v":0},"","","*1*СПЕЦКАБЛАЙН-ГЕФЕСТ-МР15#2$*2*СПЕЦКАБЛАЙН-ГЕФЕСТ-МР18#3$*3*СПЕЦКАБЛАЙН-ГЕФЕСТ-МР20#4$*4*СПЕЦКАБЛАЙН-ГЕФЕСТ-МР22#5$*5*СПЕЦКАБЛАЙН-ГЕФЕСТ-МР25#6$*6*СПЕЦКАБЛАЙН-ГЕФЕСТ-МР32#7$"]
["",null,"","Огнестойкая Кабельная Линия\nв виде металлорукава, размером 20 мм,\nс креплением к бетону\nс помощью металлических скоб","","гладкой ПВХ трубы",20,"проволки","металлоконструкции",83,"СПЕЦКАБЛАЙН-","КиТ-ГЛ20П","-ТУ 16.К99-081-2016","Труба","гладкая","Гладка труба",{"$f":"ОКЛ!F$119","v":1},"ПВХ",2,"арматура",{"$f":"ОКЛ!D$139","v":5},"Проволока",{"$f":"ОКЛ!D$148","v":5},0,0,1,"","","",null,null,{"$f":"IF(X93*Y93*Z93=0, 0, MAX(AF$9:AF92 )+1)","v":0},"","","*1*СПЕЦКАБЛАЙН-ГЕФЕСТ-МР15#2$*2*СПЕЦКАБЛАЙН-ГЕФЕСТ-МР18#3$*3*СПЕЦКАБЛАЙН-ГЕФЕСТ-МР20#4$*4*СПЕЦКАБЛАЙН-ГЕФЕСТ-МР22#5$*5*СПЕЦКАБЛАЙН-ГЕФЕСТ-МР25#6$*6*СПЕЦКАБЛАЙН-ГЕФЕСТ-МР32#7$"]
["",null,"","Огнестойкая Кабельная Линия\nв виде металлорукава, размером 20 мм,\nс креплением к бетону\nс помощью металлических скоб","","гладкой ПВХ трубы",20,"металлических стяжек","металлоконструкции",84,"СПЕЦКАБЛАЙН-","КиТ-ГЛ20Х","-ТУ 16.К99-081-2016","Труба","гладкая","Гладка труба",{"$f":"ОКЛ!F$119","v":1},"ПВХ",2,"арматура",{"$f":"ОКЛ!D$139","v":5},"Хомут",{"$f":"ОКЛ!D$147","v":4},0,0,1,"","","",null,null,{"$f":"IF(X94*Y94*Z94=0, 0, MAX(AF$9:AF93 )+1)","v":0},"","","*1*СПЕЦКАБЛАЙН-ГЕФЕСТ-МР15#2$*2*СПЕЦКАБЛАЙН-ГЕФЕСТ-МР18#3$*3*СПЕЦКАБЛАЙН-ГЕФЕСТ-МР20#4$*4*СПЕЦКАБЛАЙН-ГЕФЕСТ-МР22#5$*5*СПЕЦКАБЛАЙН-ГЕФЕСТ-МР25#6$*6*СПЕЦКАБЛАЙН-ГЕФЕСТ-МР32#7$"]
["",null,"","Огнестойкая Кабельная Линия\nв виде металлорукава, размером 20 мм,\nс креплением к бетону\nс помощью металлических скоб","","гладкой ПВХ трубы",25,"металлических скоб","бетону",85,"СПЕЦКАБЛАЙН-","КиТ-ГЛ25","-ТУ 16.К99-081-2016","Труба","гладкая","Гладка труба",{"$f":"ОКЛ!F$119","v":1},"ПВХ",2,"бетон",{"$f":"ОКЛ!D$136","v":2},"Скоба",{"$f":"ОКЛ!D$145","v":2},0,1,1,{"$f":"IF(0<Y95*Z95, VLOOKUP(Q95, AQ$9:AR$21, 2), \"\")","v":11},{"$f":"IF(0<X95*Z95,VLOOKUP(U95, AQ$9:AR$21, 2),\"\")","v":""},{"$f":"IF(0<X95*Y95,VLOOKUP(W95, AQ$9:AR$21, 2),\"\")","v":""},null,null,{"$f":"IF(X95*Y95*Z95=0, 0, MAX(AF$9:AF94 )+1)","v":0},"","","*1*СПЕЦКАБЛАЙН-ГЕФЕСТ-МР15#2$*2*СПЕЦКАБЛАЙН-ГЕФЕСТ-МР18#3$*3*СПЕЦКАБЛАЙН-ГЕФЕСТ-МР20#4$*4*СПЕЦКАБЛАЙН-ГЕФЕСТ-МР22#5$*5*СПЕЦКАБЛАЙН-ГЕФЕСТ-МР25#6$*6*СПЕЦКАБЛАЙН-ГЕФЕСТ-МР32#7$"]
["",null,"","Огнестойкая Кабельная Линия\nв виде металлорукава, размером 20 мм,\nс креплением к бетону\nс помощью металлических скоб","","гладкой ПВХ трубы",25,"проволки","металлоконструкции",86,"СПЕЦКАБЛАЙН-","КиТ-ГЛ25П","-ТУ 16.К99-081-2016","Труба","гладкая","Гладка труба",{"$f":"ОКЛ!F$119","v":1},"ПВХ",2,"арматура",{"$f":"ОКЛ!D$139","v":5},"Проволока",{"$f":"ОКЛ!D$148","v":5},0,0,1,"","","",null,null,{"$f":"IF(X96*Y96*Z96=0, 0, MAX(AF$9:AF95 )+1)","v":0},"","","*1*СПЕЦКАБЛАЙН-ГЕФЕСТ-МР15#2$*2*СПЕЦКАБЛАЙН-ГЕФЕСТ-МР18#3$*3*СПЕЦКАБЛАЙН-ГЕФЕСТ-МР20#4$*4*СПЕЦКАБЛАЙН-ГЕФЕСТ-МР22#5$*5*СПЕЦКАБЛАЙН-ГЕФЕСТ-МР25#6$*6*СПЕЦКАБЛАЙН-ГЕФЕСТ-МР32#7$"]
["",null,"","Огнестойкая Кабельная Линия\nв виде металлорукава, размером 20 мм,\nс креплением к бетону\nс помощью металлических скоб","","гладкой ПВХ трубы",25,"металлических стяжек","металлоконструкции",87,"СПЕЦКАБЛАЙН-","КиТ-ГЛ25Х","-ТУ 16.К99-081-2016","Труба","гладкая","Гладка труба",{"$f":"ОКЛ!F$119","v":1},"ПВХ",2,"арматура",{"$f":"ОКЛ!D$139","v":5},"Хомут",{"$f":"ОКЛ!D$147","v":4},0,0,1,"","","",null,null,{"$f":"IF(X97*Y97*Z97=0, 0, MAX(AF$9:AF96 )+1)","v":0},"","","*1*СПЕЦКАБЛАЙН-ГЕФЕСТ-МР15#2$*2*СПЕЦКАБЛАЙН-ГЕФЕСТ-МР18#3$*3*СПЕЦКАБЛАЙН-ГЕФЕСТ-МР20#4$*4*СПЕЦКАБЛАЙН-ГЕФЕСТ-МР22#5$*5*СПЕЦКАБЛАЙН-ГЕФЕСТ-МР25#6$*6*СПЕЦКАБЛАЙН-ГЕФЕСТ-МР32#7$"]
["",null,"","Огнестойкая Кабельная Линия\nв виде металлорукава, размером 20 мм,\nс креплением к бетону\nс помощью металлических скоб","","гладкой ПВХ трубы",32,"металлических скоб","бетону",88,"СПЕЦКАБЛАЙН-","КиТ-ГЛ32","-ТУ 16.К99-081-2016","Труба","гладкая","Гладка труба",{"$f":"ОКЛ!F$119","v":1},"ПВХ",2,"бетон",{"$f":"ОКЛ!D$136","v":2},"Скоба",{"$f":"ОКЛ!D$145","v":2},0,1,1,11,"","",null,null,{"$f":"IF(X98*Y98*Z98=0, 0, MAX(AF$9:AF97 )+1)","v":0},"","","*1*СПЕЦКАБЛАЙН-ГЕФЕСТ-МР15#2$*2*СПЕЦКАБЛАЙН-ГЕФЕСТ-МР18#3$*3*СПЕЦКАБЛАЙН-ГЕФЕСТ-МР20#4$*4*СПЕЦКАБЛАЙН-ГЕФЕСТ-МР22#5$*5*СПЕЦКАБЛАЙН-ГЕФЕСТ-МР25#6$*6*СПЕЦКАБЛАЙН-ГЕФЕСТ-МР32#7$"]
["",null,"","Огнестойкая Кабельная Линия\nв виде металлорукава, размером 20 мм,\nс креплением к бетону\nс помощью металлических скоб","","гладкой ПВХ трубы",32,"проволки","металлоконструкции",89,"СПЕЦКАБЛАЙН-","КиТ-ГЛ32П","-ТУ 16.К99-081-2016","Труба","гладкая","Гладка труба",{"$f":"ОКЛ!F$119","v":1},"ПВХ",2,"арматура",{"$f":"ОКЛ!D$139","v":5},"Проволока",{"$f":"ОКЛ!D$148","v":5},0,0,1,"","","",null,null,{"$f":"IF(X99*Y99*Z99=0, 0, MAX(AF$9:AF98 )+1)","v":0},"","","*1*СПЕЦКАБЛАЙН-ГЕФЕСТ-МР15#2$*2*СПЕЦКАБЛАЙН-ГЕФЕСТ-МР18#3$*3*СПЕЦКАБЛАЙН-ГЕФЕСТ-МР20#4$*4*СПЕЦКАБЛАЙН-ГЕФЕСТ-МР22#5$*5*СПЕЦКАБЛАЙН-ГЕФЕСТ-МР25#6$*6*СПЕЦКАБЛАЙН-ГЕФЕСТ-МР32#7$"]
["",null,"","Огнестойкая Кабельная Линия\nв виде металлорукава, размером 20 мм,\nс креплением к бетону\nс помощью металлических скоб","","гладкой ПВХ трубы",32,"металлических стяжек","металлоконструкции",90,"СПЕЦКАБЛАЙН-","КиТ-ГЛ32Х","-ТУ 16.К99-081-2016","Труба","гладкая","Гладка труба",{"$f":"ОКЛ!F$119","v":1},"ПВХ",2,"арматура",{"$f":"ОКЛ!D$139","v":5},"Хомут",{"$f":"ОКЛ!D$147","v":4},0,0,1,"","","",null,null,{"$f":"IF(X100*Y100*Z100=0, 0, MAX(AF$9:AF99 )+1)","v":0},"","","*1*СПЕЦКАБЛАЙН-ГЕФЕСТ-МР15#2$*2*СПЕЦКАБЛАЙН-ГЕФЕСТ-МР18#3$*3*СПЕЦКАБЛАЙН-ГЕФЕСТ-МР20#4$*4*СПЕЦКАБЛАЙН-ГЕФЕСТ-МР22#5$*5*СПЕЦКАБЛАЙН-ГЕФЕСТ-МР25#6$*6*СПЕЦКАБЛАЙН-ГЕФЕСТ-МР32#7$"]
["",null,"","Огнестойкая Кабельная Линия\nв виде металлорукава, размером 20 мм,\nс креплением к бетону\nс помощью металлических скоб","","гладкой ПВХ трубы",40,"металлических скоб","бетону",91,"СПЕЦКАБЛАЙН-","КиТ-ГЛ40","-ТУ 16.К99-081-2016","Труба","гладкая","Гладка труба",{"$f":"ОКЛ!F$119","v":1},"ПВХ",2,"бетон",{"$f":"ОКЛ!D$136","v":2},"Скоба",{"$f":"ОКЛ!D$145","v":2},0,1,1,11,"","",null,null,{"$f":"IF(X101*Y101*Z101=0, 0, MAX(AF$9:AF100 )+1)","v":0},"","","*1*СПЕЦКАБЛАЙН-ГЕФЕСТ-МР15#2$*2*СПЕЦКАБЛАЙН-ГЕФЕСТ-МР18#3$*3*СПЕЦКАБЛАЙН-ГЕФЕСТ-МР20#4$*4*СПЕЦКАБЛАЙН-ГЕФЕСТ-МР22#5$*5*СПЕЦКАБЛАЙН-ГЕФЕСТ-МР25#6$*6*СПЕЦКАБЛАЙН-ГЕФЕСТ-МР32#7$"]
["",null,"","Огнестойкая Кабельная Линия\nв виде металлорукава, размером 20 мм,\nс креплением к бетону\nс помощью металлических скоб","","гладкой ПВХ трубы",40,"проволки","металлоконструкции",92,"СПЕЦКАБЛАЙН-","КиТ-ГЛ40П","-ТУ 16.К99-081-2016","Труба","гладкая","Гладка труба",{"$f":"ОКЛ!F$119","v":1},"ПВХ",2,"арматура",{"$f":"ОКЛ!D$139","v":5},"Проволока",{"$f":"ОКЛ!D$148","v":5},0,0,1,"","","",null,null,{"$f":"IF(X102*Y102*Z102=0, 0, MAX(AF$9:AF101 )+1)","v":0},"","","*1*СПЕЦКАБЛАЙН-ГЕФЕСТ-МР15#2$*2*СПЕЦКАБЛАЙН-ГЕФЕСТ-МР18#3$*3*СПЕЦКАБЛАЙН-ГЕФЕСТ-МР20#4$*4*СПЕЦКАБЛАЙН-ГЕФЕСТ-МР22#5$*5*СПЕЦКАБЛАЙН-ГЕФЕСТ-МР25#6$*6*СПЕЦКАБЛАЙН-ГЕФЕСТ-МР32#7$"]
["",null,"","Огнестойкая Кабельная Линия\nв виде металлорукава, размером 20 мм,\nс креплением к бетону\nс помощью металлических скоб","","гладкой ПВХ трубы",40,"металлических стяжек","металлоконструкции",93,"СПЕЦКАБЛАЙН-","КиТ-ГЛ40Х","-ТУ 16.К99-081-2016","Труба","гладкая","Гладка труба",{"$f":"ОКЛ!F$119","v":1},"ПВХ",2,"арматура",{"$f":"ОКЛ!D$139","v":5},"Хомут",{"$f":"ОКЛ!D$147","v":4},0,0,1,"","","",null,null,{"$f":"IF(X103*Y103*Z103=0, 0, MAX(AF$9:AF102 )+1)","v":0},"","","*1*СПЕЦКАБЛАЙН-ГЕФЕСТ-МР15#2$*2*СПЕЦКАБЛАЙН-ГЕФЕСТ-МР18#3$*3*СПЕЦКАБЛАЙН-ГЕФЕСТ-МР20#4$*4*СПЕЦКАБЛАЙН-ГЕФЕСТ-МР22#5$*5*СПЕЦКАБЛАЙН-ГЕФЕСТ-МР25#6$*6*СПЕЦКАБЛАЙН-ГЕФЕСТ-МР32#7$"]
["",null,"","Огнестойкая Кабельная Линия\nв виде металлорукава, размером 20 мм,\nс креплением к бетону\nс помощью металлических скоб","","гладкой ПВХ трубы",50,"металлических скоб","бетону",94,"СПЕЦКАБЛАЙН-","КиТ-ГЛ50","-ТУ 16.К99-081-2016","Труба","гладкая","Гладка труба",{"$f":"ОКЛ!F$119","v":1},"ПВХ",2,"бетон",{"$f":"ОКЛ!D$136","v":2},"Скоба",{"$f":"ОКЛ!D$145","v":2},0,1,1,11,"","",null,null,{"$f":"IF(X104*Y104*Z104=0, 0, MAX(AF$9:AF103 )+1)","v":0},"","","*1*СПЕЦКАБЛАЙН-ГЕФЕСТ-МР15#2$*2*СПЕЦКАБЛАЙН-ГЕФЕСТ-МР18#3$*3*СПЕЦКАБЛАЙН-ГЕФЕСТ-МР20#4$*4*СПЕЦКАБЛАЙН-ГЕФЕСТ-МР22#5$*5*СПЕЦКАБЛАЙН-ГЕФЕСТ-МР25#6$*6*СПЕЦКАБЛАЙН-ГЕФЕСТ-МР32#7$"]
["",null,"","Огнестойкая Кабельная Линия\nв виде металлорукава, размером 20 мм,\nс креплением к бетону\nс помощью металлических скоб","","гладкой ПВХ трубы",50,"проволки","металлоконструкции",95,"СПЕЦКАБЛАЙН-","КиТ-ГЛ50П","-ТУ 16.К99-081-2016","Труба","гладкая","Гладка труба",{"$f":"ОКЛ!F$119","v":1},"ПВХ",2,"арматура",{"$f":"ОКЛ!D$139","v":5},"Проволока",{"$f":"ОКЛ!D$148","v":5},0,0,1,"","","",null,null,{"$f":"IF(X105*Y105*Z105=0, 0, MAX(AF$9:AF104 )+1)","v":0},"","","*1*СПЕЦКАБЛАЙН-ГЕФЕСТ-МР15#2$*2*СПЕЦКАБЛАЙН-ГЕФЕСТ-МР18#3$*3*СПЕЦКАБЛАЙН-ГЕФЕСТ-МР20#4$*4*СПЕЦКАБЛАЙН-ГЕФЕСТ-МР22#5$*5*СПЕЦКАБЛАЙН-ГЕФЕСТ-МР25#6$*6*СПЕЦКАБЛАЙН-ГЕФЕСТ-МР32#7$"]
["",null,"","Огнестойкая Кабельная Линия\nв виде металлорукава, размером 20 мм,\nс креплением к бетону\nс помощью металлических скоб","","гладкой ПВХ трубы",50,"металлических стяжек","металлоконструкции",96,"СПЕЦКАБЛАЙН-","КиТ-ГЛ50Х","-ТУ 16.К99-081-2016","Труба","гладкая","Гладка труба",{"$f":"ОКЛ!F$119","v":1},"ПВХ",2,"арматура",{"$f":"ОКЛ!D$139","v":5},"Хомут",{"$f":"ОКЛ!D$147","v":4},0,0,1,"","","",null,null,{"$f":"IF(X106*Y106*Z106=0, 0, MAX(AF$9:AF105 )+1)","v":0},"","","*1*СПЕЦКАБЛАЙН-ГЕФЕСТ-МР15#2$*2*СПЕЦКАБЛАЙН-ГЕФЕСТ-МР18#3$*3*СПЕЦКАБЛАЙН-ГЕФЕСТ-МР20#4$*4*СПЕЦКАБЛАЙН-ГЕФЕСТ-МР22#5$*5*СПЕЦКАБЛАЙН-ГЕФЕСТ-МР25#6$*6*СПЕЦКАБЛАЙН-ГЕФЕСТ-МР32#7$"]
["",null,"","Огнестойкая Кабельная Линия\nв виде металлорукава, размером 20 мм,\nс креплением к бетону\nс помощью металлических скоб","","гладкой безгалогенной трубы",16,"металлических скоб","бетону",97,"СПЕЦКАБЛАЙН-","КиТ-ГЛ-HFR16","-ТУ 16.К99-081-2016","Труба","гладкая","Гладка труба",{"$f":"ОКЛ!F$119","v":1},"Полиолефин",3,"бетон",{"$f":"ОКЛ!D$136","v":2},"Скоба",{"$f":"ОКЛ!D$145","v":2},0,1,1,11,"","",null,null,{"$f":"IF(X107*Y107*Z107=0, 0, MAX(AF$9:AF106 )+1)","v":0},"","","*1*СПЕЦКАБЛАЙН-ГЕФЕСТ-МР15#2$*2*СПЕЦКАБЛАЙН-ГЕФЕСТ-МР18#3$*3*СПЕЦКАБЛАЙН-ГЕФЕСТ-МР20#4$*4*СПЕЦКАБЛАЙН-ГЕФЕСТ-МР22#5$*5*СПЕЦКАБЛАЙН-ГЕФЕСТ-МР25#6$*6*СПЕЦКАБЛАЙН-ГЕФЕСТ-МР32#7$"]
["",null,"","Огнестойкая Кабельная Линия\nв виде металлорукава, размером 20 мм,\nс креплением к бетону\nс помощью металлических скоб","","гладкой безгалогенной трубы",20,"металлических скоб","бетону",98,"СПЕЦКАБЛАЙН-","КиТ-ГЛ-HFR20","-ТУ 16.К99-081-2016","Труба","гладкая","Гладка труба",{"$f":"ОКЛ!F$119","v":1},"Полиолефин",3,"бетон",{"$f":"ОКЛ!D$136","v":2},"Скоба",{"$f":"ОКЛ!D$145","v":2},0,1,1,11,"","",null,null,{"$f":"IF(X108*Y108*Z108=0, 0, MAX(AF$9:AF107 )+1)","v":0},"","","*1*СПЕЦКАБЛАЙН-ГЕФЕСТ-МР15#2$*2*СПЕЦКАБЛАЙН-ГЕФЕСТ-МР18#3$*3*СПЕЦКАБЛАЙН-ГЕФЕСТ-МР20#4$*4*СПЕЦКАБЛАЙН-ГЕФЕСТ-МР22#5$*5*СПЕЦКАБЛАЙН-ГЕФЕСТ-МР25#6$*6*СПЕЦКАБЛАЙН-ГЕФЕСТ-МР32#7$"]
["",null,"","Огнестойкая Кабельная Линия\nв виде металлорукава, размером 20 мм,\nс креплением к бетону\nс помощью металлических скоб","","гладкой безгалогенной трубы",25,"металлических скоб","бетону",99,"СПЕЦКАБЛАЙН-","КиТ-ГЛ-HFR25","-ТУ 16.К99-081-2016","Труба","гладкая","Гладка труба",{"$f":"ОКЛ!F$119","v":1},"Полиолефин",3,"бетон",{"$f":"ОКЛ!D$136","v":2},"Скоба",{"$f":"ОКЛ!D$145","v":2},0,1,1,11,"","",null,null,{"$f":"IF(X109*Y109*Z109=0, 0, MAX(AF$9:AF108 )+1)","v":0},"","","*1*СПЕЦКАБЛАЙН-ГЕФЕСТ-МР15#2$*2*СПЕЦКАБЛАЙН-ГЕФЕСТ-МР18#3$*3*СПЕЦКАБЛАЙН-ГЕФЕСТ-МР20#4$*4*СПЕЦКАБЛАЙН-ГЕФЕСТ-МР22#5$*5*СПЕЦКАБЛАЙН-ГЕФЕСТ-МР25#6$*6*СПЕЦКАБЛАЙН-ГЕФЕСТ-МР32#7$"]
["",null,"","Огнестойкая Кабельная Линия\nв виде металлорукава, размером 20 мм,\nс креплением к бетону\nс помощью металлических скоб","","гладкой безгалогенной трубы",32,"металлических скоб","бетону",100,"СПЕЦКАБЛАЙН-","КиТ-ГЛ-HFR32","-ТУ 16.К99-081-2016","Труба","гладкая","Гладка труба",{"$f":"ОКЛ!F$119","v":1},"Полиолефин",3,"бетон",{"$f":"ОКЛ!D$136","v":2},"Скоба",{"$f":"ОКЛ!D$145","v":2},0,1,1,11,"","",null,null,{"$f":"IF(X110*Y110*Z110=0, 0, MAX(AF$9:AF109 )+1)","v":0},"","","*1*СПЕЦКАБЛАЙН-ГЕФЕСТ-МР15#2$*2*СПЕЦКАБЛАЙН-ГЕФЕСТ-МР18#3$*3*СПЕЦКАБЛАЙН-ГЕФЕСТ-МР20#4$*4*СПЕЦКАБЛАЙН-ГЕФЕСТ-МР22#5$*5*СПЕЦКАБЛАЙН-ГЕФЕСТ-МР25#6$*6*СПЕЦКАБЛАЙН-ГЕФЕСТ-МР32#7$"]
["",null,"","Огнестойкая Кабельная Линия\nв виде металлорукава, размером 20 мм,\nс креплением к бетону\nс помощью металлических скоб","","гладкой безгалогенной трубы",40,"металлических скоб","бетону",101,"СПЕЦКАБЛАЙН-","КиТ-ГЛ-HFR40","-ТУ 16.К99-081-2016","Труба","гладкая","Гладка труба",{"$f":"ОКЛ!F$119","v":1},"Полиолефин",3,"бетон",{"$f":"ОКЛ!D$136","v":2},"Скоба",{"$f":"ОКЛ!D$145","v":2},0,1,1,11,"","",null,null,{"$f":"IF(X111*Y111*Z111=0, 0, MAX(AF$9:AF110 )+1)","v":0},"","","*1*СПЕЦКАБЛАЙН-ГЕФЕСТ-МР15#2$*2*СПЕЦКАБЛАЙН-ГЕФЕСТ-МР18#3$*3*СПЕЦКАБЛАЙН-ГЕФЕСТ-МР20#4$*4*СПЕЦКАБЛАЙН-ГЕФЕСТ-МР22#5$*5*СПЕЦКАБЛАЙН-ГЕФЕСТ-МР25#6$*6*СПЕЦКАБЛАЙН-ГЕФЕСТ-МР32#7$"]
["",null,"","Огнестойкая Кабельная Линия\nв виде металлорукава, размером 20 мм,\nс креплением к бетону\nс помощью металлических скоб","","гладкой безгалогенной трубы",50,"металлических скоб","бетону",102,"СПЕЦКАБЛАЙН-","КиТ-ГЛ-HFR50","-ТУ 16.К99-081-2016","Труба","гладкая","Гладка труба",{"$f":"ОКЛ!F$119","v":1},"Полиолефин",3,"бетон",{"$f":"ОКЛ!D$136","v":2},"Скоба",{"$f":"ОКЛ!D$145","v":2},0,1,1,11,"","",null,null,{"$f":"IF(X112*Y112*Z112=0, 0, MAX(AF$9:AF111 )+1)","v":0},"","","*1*СПЕЦКАБЛАЙН-ГЕФЕСТ-МР15#2$*2*СПЕЦКАБЛАЙН-ГЕФЕСТ-МР18#3$*3*СПЕЦКАБЛАЙН-ГЕФЕСТ-МР20#4$*4*СПЕЦКАБЛАЙН-ГЕФЕСТ-МР22#5$*5*СПЕЦКАБЛАЙН-ГЕФЕСТ-МР25#6$*6*СПЕЦКАБЛАЙН-ГЕФЕСТ-МР32#7$"]
["",null,"","Огнестойкая Кабельная Линия\nв виде металлорукава, размером 20 мм,\nс креплением к бетону\nс помощью металлических скоб","","гофрированной ПВХ трубы",16,"металлических скоб","бетону",103,"СПЕЦКАБЛАЙН-","КиТ-ГФ16","-ТУ 16.К99-081-2016","Труба","Гофрированная","Гофрированная труба",{"$f":"ОКЛ!F$120","v":2},"ПВХ",2,"бетон",{"$f":"ОКЛ!D$136","v":2},"Скоба",{"$f":"ОКЛ!D$145","v":2},0,1,1,12,"","",null,null,{"$f":"IF(X113*Y113*Z113=0, 0, MAX(AF$9:AF112 )+1)","v":0},"","","*1*СПЕЦКАБЛАЙН-ГЕФЕСТ-МР15#2$*2*СПЕЦКАБЛАЙН-ГЕФЕСТ-МР18#3$*3*СПЕЦКАБЛАЙН-ГЕФЕСТ-МР20#4$*4*СПЕЦКАБЛАЙН-ГЕФЕСТ-МР22#5$*5*СПЕЦКАБЛАЙН-ГЕФЕСТ-МР25#6$*6*СПЕЦКАБЛАЙН-ГЕФЕСТ-МР32#7$"]
["",null,"","Огнестойкая Кабельная Линия\nв виде металлорукава, размером 20 мм,\nс креплением к бетону\nс помощью металлических скоб","","гофрированной ПВХ трубы",16,"проволки","металлоконструкции",104,"СПЕЦКАБЛАЙН-","КиТ-ГФ16П","-ТУ 16.К99-081-2016","Труба","Гофрированная","Гофрированная труба",{"$f":"ОКЛ!F$120","v":2},"ПВХ",2,"арматура",{"$f":"ОКЛ!D$139","v":5},"Проволока",{"$f":"ОКЛ!D$148","v":5},0,0,1,"","","",null,null,{"$f":"IF(X114*Y114*Z114=0, 0, MAX(AF$9:AF113 )+1)","v":0},"","","*1*СПЕЦКАБЛАЙН-ГЕФЕСТ-МР15#2$*2*СПЕЦКАБЛАЙН-ГЕФЕСТ-МР18#3$*3*СПЕЦКАБЛАЙН-ГЕФЕСТ-МР20#4$*4*СПЕЦКАБЛАЙН-ГЕФЕСТ-МР22#5$*5*СПЕЦКАБЛАЙН-ГЕФЕСТ-МР25#6$*6*СПЕЦКАБЛАЙН-ГЕФЕСТ-МР32#7$"]
["",null,"","Огнестойкая Кабельная Линия\nв виде металлорукава, размером 20 мм,\nс креплением к бетону\nс помощью металлических скоб","","гофрированной ПВХ трубы",16,"металлических стяжек","металлоконструкции",105,"СПЕЦКАБЛАЙН-","КиТ-ГФ16Х","-ТУ 16.К99-081-2016","Труба","Гофрированная","Гофрированная труба",{"$f":"ОКЛ!F$120","v":2},"ПВХ",2,"арматура",{"$f":"ОКЛ!D$139","v":5},"Хомут",{"$f":"ОКЛ!D$147","v":4},0,0,1,"","","",null,null,{"$f":"IF(X115*Y115*Z115=0, 0, MAX(AF$9:AF114 )+1)","v":0},"","","*1*СПЕЦКАБЛАЙН-ГЕФЕСТ-МР15#2$*2*СПЕЦКАБЛАЙН-ГЕФЕСТ-МР18#3$*3*СПЕЦКАБЛАЙН-ГЕФЕСТ-МР20#4$*4*СПЕЦКАБЛАЙН-ГЕФЕСТ-МР22#5$*5*СПЕЦКАБЛАЙН-ГЕФЕСТ-МР25#6$*6*СПЕЦКАБЛАЙН-ГЕФЕСТ-МР32#7$"]
["",null,"","Огнестойкая Кабельная Линия\nв виде металлорукава, размером 20 мм,\nс креплением к бетону\nс помощью металлических скоб","","гофрированной ПВХ трубы",20,"металлических скоб","бетону",106,"СПЕЦКАБЛАЙН-","КиТ-ГФ20","-ТУ 16.К99-081-2016","Труба","Гофрированная","Гофрированная труба",{"$f":"ОКЛ!F$120","v":2},"ПВХ",2,"бетон",{"$f":"ОКЛ!D$136","v":2},"Скоба",{"$f":"ОКЛ!D$145","v":2},0,1,1,12,"","",null,null,{"$f":"IF(X116*Y116*Z116=0, 0, MAX(AF$9:AF115 )+1)","v":0},"","","*1*СПЕЦКАБЛАЙН-ГЕФЕСТ-МР15#2$*2*СПЕЦКАБЛАЙН-ГЕФЕСТ-МР18#3$*3*СПЕЦКАБЛАЙН-ГЕФЕСТ-МР20#4$*4*СПЕЦКАБЛАЙН-ГЕФЕСТ-МР22#5$*5*СПЕЦКАБЛАЙН-ГЕФЕСТ-МР25#6$*6*СПЕЦКАБЛАЙН-ГЕФЕСТ-МР32#7$"]
["",null,"","Огнестойкая Кабельная Линия\nв виде металлорукава, размером 20 мм,\nс креплением к бетону\nс помощью металлических скоб","","гофрированной ПВХ трубы",20,"проволки","металлоконструкции",107,"СПЕЦКАБЛАЙН-","КиТ-ГФ20П","-ТУ 16.К99-081-2016","Труба","Гофрированная","Гофрированная труба",{"$f":"ОКЛ!F$120","v":2},"ПВХ",2,"арматура",{"$f":"ОКЛ!D$139","v":5},"Проволока",{"$f":"ОКЛ!D$148","v":5},0,0,1,"","","",null,null,{"$f":"IF(X117*Y117*Z117=0, 0, MAX(AF$9:AF116 )+1)","v":0},"","","*1*СПЕЦКАБЛАЙН-ГЕФЕСТ-МР15#2$*2*СПЕЦКАБЛАЙН-ГЕФЕСТ-МР18#3$*3*СПЕЦКАБЛАЙН-ГЕФЕСТ-МР20#4$*4*СПЕЦКАБЛАЙН-ГЕФЕСТ-МР22#5$*5*СПЕЦКАБЛАЙН-ГЕФЕСТ-МР25#6$*6*СПЕЦКАБЛАЙН-ГЕФЕСТ-МР32#7$"]
["",null,"","Огнестойкая Кабельная Линия\nв виде металлорукава, размером 20 мм,\nс креплением к бетону\nс помощью металлических скоб","","гофрированной ПВХ трубы",20,"металлических стяжек","металлоконструкции",108,"СПЕЦКАБЛАЙН-","КиТ-ГФ20Х","-ТУ 16.К99-081-2016","Труба","Гофрированная","Гофрированная труба",{"$f":"ОКЛ!F$120","v":2},"ПВХ",2,"арматура",{"$f":"ОКЛ!D$139","v":5},"Хомут",{"$f":"ОКЛ!D$147","v":4},0,0,1,"","","",null,null,{"$f":"IF(X118*Y118*Z118=0, 0, MAX(AF$9:AF117 )+1)","v":0},"","","*1*СПЕЦКАБЛАЙН-ГЕФЕСТ-МР15#2$*2*СПЕЦКАБЛАЙН-ГЕФЕСТ-МР18#3$*3*СПЕЦКАБЛАЙН-ГЕФЕСТ-МР20#4$*4*СПЕЦКАБЛАЙН-ГЕФЕСТ-МР22#5$*5*СПЕЦКАБЛАЙН-ГЕФЕСТ-МР25#6$*6*СПЕЦКАБЛАЙН-ГЕФЕСТ-МР32#7$"]
["",null,"","Огнестойкая Кабельная Линия\nв виде металлорукава, размером 20 мм,\nс креплением к бетону\nс помощью металлических скоб","","гофрированной ПВХ трубы",25,"металлических скоб","бетону",109,"СПЕЦКАБЛАЙН-","КиТ-ГФ25","-ТУ 16.К99-081-2016","Труба","Гофрированная","Гофрированная труба",{"$f":"ОКЛ!F$120","v":2},"ПВХ",2,"бетон",{"$f":"ОКЛ!D$136","v":2},"Скоба",{"$f":"ОКЛ!D$145","v":2},0,1,1,12,"","",null,null,{"$f":"IF(X119*Y119*Z119=0, 0, MAX(AF$9:AF118 )+1)","v":0},"","","*1*СПЕЦКАБЛАЙН-ГЕФЕСТ-МР15#2$*2*СПЕЦКАБЛАЙН-ГЕФЕСТ-МР18#3$*3*СПЕЦКАБЛАЙН-ГЕФЕСТ-МР20#4$*4*СПЕЦКАБЛАЙН-ГЕФЕСТ-МР22#5$*5*СПЕЦКАБЛАЙН-ГЕФЕСТ-МР25#6$*6*СПЕЦКАБЛАЙН-ГЕФЕСТ-МР32#7$"]
["",null,"","Огнестойкая Кабельная Линия\nв виде металлорукава, размером 20 мм,\nс креплением к бетону\nс помощью металлических скоб","","гофрированной ПВХ трубы",25,"проволки","металлоконструкции",110,"СПЕЦКАБЛАЙН-","КиТ-ГФ25П","-ТУ 16.К99-081-2016","Труба","Гофрированная","Гофрированная труба",{"$f":"ОКЛ!F$120","v":2},"ПВХ",2,"арматура",{"$f":"ОКЛ!D$139","v":5},"Проволока",{"$f":"ОКЛ!D$148","v":5},0,0,1,"","","",null,null,{"$f":"IF(X120*Y120*Z120=0, 0, MAX(AF$9:AF119 )+1)","v":0},"","","*1*СПЕЦКАБЛАЙН-ГЕФЕСТ-МР15#2$*2*СПЕЦКАБЛАЙН-ГЕФЕСТ-МР18#3$*3*СПЕЦКАБЛАЙН-ГЕФЕСТ-МР20#4$*4*СПЕЦКАБЛАЙН-ГЕФЕСТ-МР22#5$*5*СПЕЦКАБЛАЙН-ГЕФЕСТ-МР25#6$*6*СПЕЦКАБЛАЙН-ГЕФЕСТ-МР32#7$"]
["",null,"","Огнестойкая Кабельная Линия\nв виде металлорукава, размером 20 мм,\nс креплением к бетону\nс помощью металлических скоб","","гофрированной ПВХ трубы",25,"металлических стяжек","металлоконструкции",111,"СПЕЦКАБЛАЙН-","КиТ-ГФ25Х","-ТУ 16.К99-081-2016","Труба","Гофрированная","Гофрированная труба",{"$f":"ОКЛ!F$120","v":2},"ПВХ",2,"арматура",{"$f":"ОКЛ!D$139","v":5},"Хомут",{"$f":"ОКЛ!D$147","v":4},0,0,1,"","","",null,null,{"$f":"IF(X121*Y121*Z121=0, 0, MAX(AF$9:AF120 )+1)","v":0},"","","*1*СПЕЦКАБЛАЙН-ГЕФЕСТ-МР15#2$*2*СПЕЦКАБЛАЙН-ГЕФЕСТ-МР18#3$*3*СПЕЦКАБЛАЙН-ГЕФЕСТ-МР20#4$*4*СПЕЦКАБЛАЙН-ГЕФЕСТ-МР22#5$*5*СПЕЦКАБЛАЙН-ГЕФЕСТ-МР25#6$*6*СПЕЦКАБЛАЙН-ГЕФЕСТ-МР32#7$"]
["",null,"","Огнестойкая Кабельная Линия\nв виде металлорукава, размером 20 мм,\nс креплением к бетону\nс помощью металлических скоб","","гофрированной ПВХ трубы",32,"металлических скоб","бетону",112,"СПЕЦКАБЛАЙН-","КиТ-ГФ32","-ТУ 16.К99-081-2016","Труба","Гофрированная","Гофрированная труба",{"$f":"ОКЛ!F$120","v":2},"ПВХ",2,"бетон",{"$f":"ОКЛ!D$136","v":2},"Скоба",{"$f":"ОКЛ!D$145","v":2},0,1,1,12,"","",null,null,{"$f":"IF(X122*Y122*Z122=0, 0, MAX(AF$9:AF121 )+1)","v":0},"","","*1*СПЕЦКАБЛАЙН-ГЕФЕСТ-МР15#2$*2*СПЕЦКАБЛАЙН-ГЕФЕСТ-МР18#3$*3*СПЕЦКАБЛАЙН-ГЕФЕСТ-МР20#4$*4*СПЕЦКАБЛАЙН-ГЕФЕСТ-МР22#5$*5*СПЕЦКАБЛАЙН-ГЕФЕСТ-МР25#6$*6*СПЕЦКАБЛАЙН-ГЕФЕСТ-МР32#7$"]
["",null,"","Огнестойкая Кабельная Линия\nв виде металлорукава, размером 20 мм,\nс креплением к бетону\nс помощью металлических скоб","","гофрированной ПВХ трубы",32,"проволки","металлоконструкции",113,"СПЕЦКАБЛАЙН-","КиТ-ГФ32П","-ТУ 16.К99-081-2016","Труба","Гофрированная","Гофрированная труба",{"$f":"ОКЛ!F$120","v":2},"ПВХ",2,"арматура",{"$f":"ОКЛ!D$139","v":5},"Проволока",{"$f":"ОКЛ!D$148","v":5},0,0,1,"","","",null,null,{"$f":"IF(X123*Y123*Z123=0, 0, MAX(AF$9:AF122 )+1)","v":0},"","","*1*СПЕЦКАБЛАЙН-ГЕФЕСТ-МР15#2$*2*СПЕЦКАБЛАЙН-ГЕФЕСТ-МР18#3$*3*СПЕЦКАБЛАЙН-ГЕФЕСТ-МР20#4$*4*СПЕЦКАБЛАЙН-ГЕФЕСТ-МР22#5$*5*СПЕЦКАБЛАЙН-ГЕФЕСТ-МР25#6$*6*СПЕЦКАБЛАЙН-ГЕФЕСТ-МР32#7$"]
["",null,"","Огнестойкая Кабельная Линия\nв виде металлорукава, размером 20 мм,\nс креплением к бетону\nс помощью металлических скоб","","гофрированной ПВХ трубы",32,"металлических стяжек","металлоконструкции",114,"СПЕЦКАБЛАЙН-","КиТ-ГФ32Х","-ТУ 16.К99-081-2016","Труба","Гофрированная","Гофрированная труба",{"$f":"ОКЛ!F$120","v":2},"ПВХ",2,"арматура",{"$f":"ОКЛ!D$139","v":5},"Хомут",{"$f":"ОКЛ!D$147","v":4},0,0,1,"","","",null,null,{"$f":"IF(X124*Y124*Z124=0, 0, MAX(AF$9:AF123 )+1)","v":0},"","","*1*СПЕЦКАБЛАЙН-ГЕФЕСТ-МР15#2$*2*СПЕЦКАБЛАЙН-ГЕФЕСТ-МР18#3$*3*СПЕЦКАБЛАЙН-ГЕФЕСТ-МР20#4$*4*СПЕЦКАБЛАЙН-ГЕФЕСТ-МР22#5$*5*СПЕЦКАБЛАЙН-ГЕФЕСТ-МР25#6$*6*СПЕЦКАБЛАЙН-ГЕФЕСТ-МР32#7$"]
["",null,"","Огнестойкая Кабельная Линия\nв виде металлорукава, размером 20 мм,\nс креплением к бетону\nс помощью металлических скоб","","гофрированной ПВХ трубы",40,"металлических скоб","бетону",115,"СПЕЦКАБЛАЙН-","КиТ-ГФ40","-ТУ 16.К99-081-2016","Труба","Гофрированная","Гофрированная труба",{"$f":"ОКЛ!F$120","v":2},"ПВХ",2,"бетон",{"$f":"ОКЛ!D$136","v":2},"Скоба",{"$f":"ОКЛ!D$145","v":2},0,1,1,12,"","",null,null,{"$f":"IF(X125*Y125*Z125=0, 0, MAX(AF$9:AF124 )+1)","v":0},"","","*1*СПЕЦКАБЛАЙН-ГЕФЕСТ-МР15#2$*2*СПЕЦКАБЛАЙН-ГЕФЕСТ-МР18#3$*3*СПЕЦКАБЛАЙН-ГЕФЕСТ-МР20#4$*4*СПЕЦКАБЛАЙН-ГЕФЕСТ-МР22#5$*5*СПЕЦКАБЛАЙН-ГЕФЕСТ-МР25#6$*6*СПЕЦКАБЛАЙН-ГЕФЕСТ-МР32#7$"]
["",null,"","Огнестойкая Кабельная Линия\nв виде металлорукава, размером 20 мм,\nс креплением к бетону\nс помощью металлических скоб","","гофрированной ПВХ трубы",40,"проволки","металлоконструкции",116,"СПЕЦКАБЛАЙН-","КиТ-ГФ40П","-ТУ 16.К99-081-2016","Труба","Гофрированная","Гофрированная труба",{"$f":"ОКЛ!F$120","v":2},"ПВХ",2,"арматура",{"$f":"ОКЛ!D$139","v":5},"Проволока",{"$f":"ОКЛ!D$148","v":5},0,0,1,"","","",null,null,{"$f":"IF(X126*Y126*Z126=0, 0, MAX(AF$9:AF125 )+1)","v":0},"","","*1*СПЕЦКАБЛАЙН-ГЕФЕСТ-МР15#2$*2*СПЕЦКАБЛАЙН-ГЕФЕСТ-МР18#3$*3*СПЕЦКАБЛАЙН-ГЕФЕСТ-МР20#4$*4*СПЕЦКАБЛАЙН-ГЕФЕСТ-МР22#5$*5*СПЕЦКАБЛАЙН-ГЕФЕСТ-МР25#6$*6*СПЕЦКАБЛАЙН-ГЕФЕСТ-МР32#7$"]
["",null,"","Огнестойкая Кабельная Линия\nв виде металлорукава, размером 20 мм,\nс креплением к бетону\nс помощью металлических скоб","","гофрированной ПВХ трубы",40,"металлических стяжек","металлоконструкции",117,"СПЕЦКАБЛАЙН-","КиТ-ГФ40Х","-ТУ 16.К99-081-2016","Труба","Гофрированная","Гофрированная труба",{"$f":"ОКЛ!F$120","v":2},"ПВХ",2,"арматура",{"$f":"ОКЛ!D$139","v":5},"Хомут",{"$f":"ОКЛ!D$147","v":4},0,0,1,"","",{"$f":"IF(0<X127*Y127,VLOOKUP(W127, AQ$9:AR$21, 2),\"\")","v":""},null,null,{"$f":"IF(X127*Y127*Z127=0, 0, MAX(AF$9:AF126 )+1)","v":0},"","","*1*СПЕЦКАБЛАЙН-ГЕФЕСТ-МР15#2$*2*СПЕЦКАБЛАЙН-ГЕФЕСТ-МР18#3$*3*СПЕЦКАБЛАЙН-ГЕФЕСТ-МР20#4$*4*СПЕЦКАБЛАЙН-ГЕФЕСТ-МР22#5$*5*СПЕЦКАБЛАЙН-ГЕФЕСТ-МР25#6$*6*СПЕЦКАБЛАЙН-ГЕФЕСТ-МР32#7$"]
["",null,"","Огнестойкая Кабельная Линия\nв виде металлорукава, размером 20 мм,\nс креплением к бетону\nс помощью металлических скоб","","гофрированной ПВХ трубы",50,"металлических скоб","бетону",118,"СПЕЦКАБЛАЙН-","КиТ-ГФ50","-ТУ 16.К99-081-2016","Труба","Гофрированная","Гофрированная труба",{"$f":"ОКЛ!F$120","v":2},"ПВХ",2,"бетон",{"$f":"ОКЛ!D$136","v":2},"Скоба",{"$f":"ОКЛ!D$145","v":2},0,1,1,12,"","",null,null,{"$f":"IF(X128*Y128*Z128=0, 0, MAX(AF$9:AF127 )+1)","v":0},"","","*1*СПЕЦКАБЛАЙН-ГЕФЕСТ-МР15#2$*2*СПЕЦКАБЛАЙН-ГЕФЕСТ-МР18#3$*3*СПЕЦКАБЛАЙН-ГЕФЕСТ-МР20#4$*4*СПЕЦКАБЛАЙН-ГЕФЕСТ-МР22#5$*5*СПЕЦКАБЛАЙН-ГЕФЕСТ-МР25#6$*6*СПЕЦКАБЛАЙН-ГЕФЕСТ-МР32#7$"]
["",null,"","Огнестойкая Кабельная Линия\nв виде металлорукава, размером 20 мм,\nс креплением к бетону\nс помощью металлических скоб","","гофрированной ПВХ трубы",50,"проволки","металлоконструкции",119,"СПЕЦКАБЛАЙН-","КиТ-ГФ50П","-ТУ 16.К99-081-2016","Труба","Гофрированная","Гофрированная труба",{"$f":"ОКЛ!F$120","v":2},"ПВХ",2,"арматура",{"$f":"ОКЛ!D$139","v":5},"Проволока",{"$f":"ОКЛ!D$148","v":5},0,0,1,"","","",null,null,{"$f":"IF(X129*Y129*Z129=0, 0, MAX(AF$9:AF128 )+1)","v":0},"","","*1*СПЕЦКАБЛАЙН-ГЕФЕСТ-МР15#2$*2*СПЕЦКАБЛАЙН-ГЕФЕСТ-МР18#3$*3*СПЕЦКАБЛАЙН-ГЕФЕСТ-МР20#4$*4*СПЕЦКАБЛАЙН-ГЕФЕСТ-МР22#5$*5*СПЕЦКАБЛАЙН-ГЕФЕСТ-МР25#6$*6*СПЕЦКАБЛАЙН-ГЕФЕСТ-МР32#7$"]
["",null,{"$f":"IF(ISERR(FIND(\"Огнес\",E130)),\"\",J130)","v":""},"Огнестойкая Кабельная Линия\nв виде металлорукава, размером 20 мм,\nс креплением к бетону\nс помощью металлических скоб","","гофрированной ПВХ трубы",50,"металлических стяжек","металлоконструкции",120,"СПЕЦКАБЛАЙН-","КиТ-ГФ50Х","-ТУ 16.К99-081-2016","Труба","Гофрированная","Гофрированная труба",{"$f":"ОКЛ!F$120","v":2},"ПВХ",2,"арматура",{"$f":"ОКЛ!D$139","v":5},"Хомут",{"$f":"ОКЛ!D$147","v":4},0,0,1,"","","",null,null,{"$f":"IF(X130*Y130*Z130=0, 0, MAX(AF$9:AF129 )+1)","v":0},"","","*1*СПЕЦКАБЛАЙН-ГЕФЕСТ-МР15#2$*2*СПЕЦКАБЛАЙН-ГЕФЕСТ-МР18#3$*3*СПЕЦКАБЛАЙН-ГЕФЕСТ-МР20#4$*4*СПЕЦКАБЛАЙН-ГЕФЕСТ-МР22#5$*5*СПЕЦКАБЛАЙН-ГЕФЕСТ-МР25#6$*6*СПЕЦКАБЛАЙН-ГЕФЕСТ-МР32#7$"]
["",null,"","Огнестойкая Кабельная Линия\nв виде металлорукава, размером 20 мм,\nс креплением к бетону\nс помощью металлических скоб","","гофрированной безгалогенной трубы",16,"металлических скоб","бетону",121,"СПЕЦКАБЛАЙН-","КиТ-ГФ-HF16","-ТУ 16.К99-081-2016","Труба","Гофрированная","Гофрированная труба",{"$f":"ОКЛ!F$120","v":2},"Полиолефин",3,"бетон",{"$f":"ОКЛ!D$136","v":2},"Скоба",{"$f":"ОКЛ!D$145","v":2},0,1,1,12,"","",null,null,{"$f":"IF(X131*Y131*Z131=0, 0, MAX(AF$9:AF130 )+1)","v":0},"","","*1*СПЕЦКАБЛАЙН-ГЕФЕСТ-МР15#2$*2*СПЕЦКАБЛАЙН-ГЕФЕСТ-МР18#3$*3*СПЕЦКАБЛАЙН-ГЕФЕСТ-МР20#4$*4*СПЕЦКАБЛАЙН-ГЕФЕСТ-МР22#5$*5*СПЕЦКАБЛАЙН-ГЕФЕСТ-МР25#6$*6*СПЕЦКАБЛАЙН-ГЕФЕСТ-МР32#7$"]
["",null,"","Огнестойкая Кабельная Линия\nв виде металлорукава, размером 20 мм,\nс креплением к бетону\nс помощью металлических скоб","","гофрированной безгалогенной трубы",16,"проволки","металлоконструкции",122,"СПЕЦКАБЛАЙН-","КиТ-ГФ-HF16П","-ТУ 16.К99-081-2016","Труба","Гофрированная","Гофрированная труба",{"$f":"ОКЛ!F$120","v":2},"Полиолефин",3,"арматура",{"$f":"ОКЛ!D$139","v":5},"Проволока",{"$f":"ОКЛ!D$148","v":5},0,0,1,"","","",null,null,{"$f":"IF(X132*Y132*Z132=0, 0, MAX(AF$9:AF131 )+1)","v":0},"","","*1*СПЕЦКАБЛАЙН-ГЕФЕСТ-МР15#2$*2*СПЕЦКАБЛАЙН-ГЕФЕСТ-МР18#3$*3*СПЕЦКАБЛАЙН-ГЕФЕСТ-МР20#4$*4*СПЕЦКАБЛАЙН-ГЕФЕСТ-МР22#5$*5*СПЕЦКАБЛАЙН-ГЕФЕСТ-МР25#6$*6*СПЕЦКАБЛАЙН-ГЕФЕСТ-МР32#7$"]
["",null,"","Огнестойкая Кабельная Линия\nв виде металлорукава, размером 20 мм,\nс креплением к бетону\nс помощью металлических скоб","","гофрированной безгалогенной трубы",16,"металлических стяжек","металлоконструкции",123,"СПЕЦКАБЛАЙН-","КиТ-ГФ-HF16Х","-ТУ 16.К99-081-2016","Труба","Гофрированная","Гофрированная труба",{"$f":"ОКЛ!F$120","v":2},"Полиолефин",3,"арматура",{"$f":"ОКЛ!D$139","v":5},"Хомут",{"$f":"ОКЛ!D$147","v":4},0,0,1,"","","",null,null,{"$f":"IF(X133*Y133*Z133=0, 0, MAX(AF$9:AF132 )+1)","v":0},"","","*1*СПЕЦКАБЛАЙН-ГЕФЕСТ-МР15#2$*2*СПЕЦКАБЛАЙН-ГЕФЕСТ-МР18#3$*3*СПЕЦКАБЛАЙН-ГЕФЕСТ-МР20#4$*4*СПЕЦКАБЛАЙН-ГЕФЕСТ-МР22#5$*5*СПЕЦКАБЛАЙН-ГЕФЕСТ-МР25#6$*6*СПЕЦКАБЛАЙН-ГЕФЕСТ-МР32#7$"]
["",null,"","Огнестойкая Кабельная Линия\nв виде металлорукава, размером 20 мм,\nс креплением к бетону\nс помощью металлических скоб","","гофрированной безгалогенной трубы",20,"металлических скоб","бетону",124,"СПЕЦКАБЛАЙН-","КиТ-ГФ-HF20","-ТУ 16.К99-081-2016","Труба","Гофрированная","Гофрированная труба",{"$f":"ОКЛ!F$120","v":2},"Полиолефин",3,"бетон",{"$f":"ОКЛ!D$136","v":2},"Скоба",{"$f":"ОКЛ!D$145","v":2},0,1,1,12,"","",null,null,{"$f":"IF(X134*Y134*Z134=0, 0, MAX(AF$9:AF133 )+1)","v":0},"","","*1*СПЕЦКАБЛАЙН-ГЕФЕСТ-МР15#2$*2*СПЕЦКАБЛАЙН-ГЕФЕСТ-МР18#3$*3*СПЕЦКАБЛАЙН-ГЕФЕСТ-МР20#4$*4*СПЕЦКАБЛАЙН-ГЕФЕСТ-МР22#5$*5*СПЕЦКАБЛАЙН-ГЕФЕСТ-МР25#6$*6*СПЕЦКАБЛАЙН-ГЕФЕСТ-МР32#7$"]
["",null,"","Огнестойкая Кабельная Линия\nв виде металлорукава, размером 20 мм,\nс креплением к бетону\nс помощью металлических скоб","","гофрированной безгалогенной трубы",20,"проволки","металлоконструкции",125,"СПЕЦКАБЛАЙН-","КиТ-ГФ-HF20П","-ТУ 16.К99-081-2016","Труба","Гофрированная","Гофрированная труба",{"$f":"ОКЛ!F$120","v":2},"Полиолефин",3,"арматура",{"$f":"ОКЛ!D$139","v":5},"Проволока",{"$f":"ОКЛ!D$148","v":5},0,0,1,"","","",null,null,{"$f":"IF(X135*Y135*Z135=0, 0, MAX(AF$9:AF134 )+1)","v":0},"","","*1*СПЕЦКАБЛАЙН-ГЕФЕСТ-МР15#2$*2*СПЕЦКАБЛАЙН-ГЕФЕСТ-МР18#3$*3*СПЕЦКАБЛАЙН-ГЕФЕСТ-МР20#4$*4*СПЕЦКАБЛАЙН-ГЕФЕСТ-МР22#5$*5*СПЕЦКАБЛАЙН-ГЕФЕСТ-МР25#6$*6*СПЕЦКАБЛАЙН-ГЕФЕСТ-МР32#7$"]
["",null,"","Огнестойкая Кабельная Линия\nв виде металлорукава, размером 20 мм,\nс креплением к бетону\nс помощью металлических скоб","","гофрированной безгалогенной трубы",20,"металлических стяжек","металлоконструкции",126,"СПЕЦКАБЛАЙН-","КиТ-ГФ-HF20Х","-ТУ 16.К99-081-2016","Труба","Гофрированная","Гофрированная труба",{"$f":"ОКЛ!F$120","v":2},"Полиолефин",3,"арматура",{"$f":"ОКЛ!D$139","v":5},"Хомут",{"$f":"ОКЛ!D$147","v":4},0,0,1,"","","",null,null,{"$f":"IF(X136*Y136*Z136=0, 0, MAX(AF$9:AF135 )+1)","v":0},"","","*1*СПЕЦКАБЛАЙН-ГЕФЕСТ-МР15#2$*2*СПЕЦКАБЛАЙН-ГЕФЕСТ-МР18#3$*3*СПЕЦКАБЛАЙН-ГЕФЕСТ-МР20#4$*4*СПЕЦКАБЛАЙН-ГЕФЕСТ-МР22#5$*5*СПЕЦКАБЛАЙН-ГЕФЕСТ-МР25#6$*6*СПЕЦКАБЛАЙН-ГЕФЕСТ-МР32#7$"]
["",null,"","Огнестойкая Кабельная Линия\nв виде металлорукава, размером 20 мм,\nс креплением к бетону\nс помощью металлических скоб","","гофрированной безгалогенной трубы",25,"металлических скоб","бетону",127,"СПЕЦКАБЛАЙН-","КиТ-ГФ-HF25","-ТУ 16.К99-081-2016","Труба","Гофрированная","Гофрированная труба",{"$f":"ОКЛ!F$120","v":2},"Полиолефин",3,"бетон",{"$f":"ОКЛ!D$136","v":2},"Скоба",{"$f":"ОКЛ!D$145","v":2},0,1,1,12,"","",null,null,{"$f":"IF(X137*Y137*Z137=0, 0, MAX(AF$9:AF136 )+1)","v":0},"","","*1*СПЕЦКАБЛАЙН-ГЕФЕСТ-МР15#2$*2*СПЕЦКАБЛАЙН-ГЕФЕСТ-МР18#3$*3*СПЕЦКАБЛАЙН-ГЕФЕСТ-МР20#4$*4*СПЕЦКАБЛАЙН-ГЕФЕСТ-МР22#5$*5*СПЕЦКАБЛАЙН-ГЕФЕСТ-МР25#6$*6*СПЕЦКАБЛАЙН-ГЕФЕСТ-МР32#7$"]
["",null,"","Огнестойкая Кабельная Линия\nв виде металлорукава, размером 20 мм,\nс креплением к бетону\nс помощью металлических скоб","","гофрированной безгалогенной трубы",25,"проволки","металлоконструкции",128,"СПЕЦКАБЛАЙН-","КиТ-ГФ-HF25П","-ТУ 16.К99-081-2016","Труба","Гофрированная","Гофрированная труба",{"$f":"ОКЛ!F$120","v":2},"Полиолефин",3,"арматура",{"$f":"ОКЛ!D$139","v":5},"Проволока",{"$f":"ОКЛ!D$148","v":5},0,0,1,"","","",null,null,{"$f":"IF(X138*Y138*Z138=0, 0, MAX(AF$9:AF137 )+1)","v":0},"","","*1*СПЕЦКАБЛАЙН-ГЕФЕСТ-МР15#2$*2*СПЕЦКАБЛАЙН-ГЕФЕСТ-МР18#3$*3*СПЕЦКАБЛАЙН-ГЕФЕСТ-МР20#4$*4*СПЕЦКАБЛАЙН-ГЕФЕСТ-МР22#5$*5*СПЕЦКАБЛАЙН-ГЕФЕСТ-МР25#6$*6*СПЕЦКАБЛАЙН-ГЕФЕСТ-МР32#7$"]
["",null,"","Огнестойкая Кабельная Линия\nв виде металлорукава, размером 20 мм,\nс креплением к бетону\nс помощью металлических скоб","","гофрированной безгалогенной трубы",25,"металлических стяжек","металлоконструкции",129,"СПЕЦКАБЛАЙН-","КиТ-ГФ-HF25Х","-ТУ 16.К99-081-2016","Труба","Гофрированная","Гофрированная труба",{"$f":"ОКЛ!F$120","v":2},"Полиолефин",3,"арматура",{"$f":"ОКЛ!D$139","v":5},"Хомут",{"$f":"ОКЛ!D$147","v":4},{"$f":"IF(Q139=Q$2, 1, 0)","v":0},{"$f":"IF(U139=U$2, 1, IF(U$2=1, 1,0))","v":0},{"$f":"IF(W139=W$2, 1, IF(W$2=1, 1,0))","v":1},"","","",null,null,{"$f":"IF(X139*Y139*Z139=0, 0, MAX(AF$9:AF138 )+1)","v":0},"",{"$f":"IF(AF139=0,\"\", CONCATENATE(AG139, K139, L139,\"#\", J139, \"$\"))","v":""},"*1*СПЕЦКАБЛАЙН-ГЕФЕСТ-МР15#2$*2*СПЕЦКАБЛАЙН-ГЕФЕСТ-МР18#3$*3*СПЕЦКАБЛАЙН-ГЕФЕСТ-МР20#4$*4*СПЕЦКАБЛАЙН-ГЕФЕСТ-МР22#5$*5*СПЕЦКАБЛАЙН-ГЕФЕСТ-МР25#6$*6*СПЕЦКАБЛАЙН-ГЕФЕСТ-МР32#7$"]
[{"$f":"AG140","v":""},null,"",{"$f":"CONCATENATE(E140,D141)","v":"Огнестойкая Кабельная Линия\nв виде металлорукава, размером 20 мм,\nс креплением к бетону\nс помощью металлических скоб"},{"$f":"IF(ISERR(FIND($F$2,CONCATENATE(\"*\",$K140,$L140,\"*\"))),\"\",CONCATENATE(\"Огнестойкая Кабельная Линия\", CHAR(10), \"в виде \",F140,IF(ISBLANK(G140),\"\",CONCATENATE(\", размером \",G140,\" мм\")),IF(ISBLANK(H140),\"\",CONCATENATE(\",\", CHAR(10), \"с креплением к \",I140, CHAR(10), \"с помощью \", H140))))","v":""},"гофрированной безгалогенной трубы",32,"металлических скоб","бетону",130,"СПЕЦКАБЛАЙН-","КиТ-ГФ-HF32","-ТУ 16.К99-081-2016","Труба","Гофрированная","Гофрированная труба",{"$f":"ОКЛ!F$120","v":2},"Полиолефин",3,"бетон",{"$f":"ОКЛ!D$136","v":2},"Скоба",{"$f":"ОКЛ!D$145","v":2},0,1,1,12,"","",null,null,{"$f":"IF(X140*Y140*Z140=0, 0, MAX(AF$9:AF139 )+1)","v":0},"","","*1*СПЕЦКАБЛАЙН-ГЕФЕСТ-МР15#2$*2*СПЕЦКАБЛАЙН-ГЕФЕСТ-МР18#3$*3*СПЕЦКАБЛАЙН-ГЕФЕСТ-МР20#4$*4*СПЕЦКАБЛАЙН-ГЕФЕСТ-МР22#5$*5*СПЕЦКАБЛАЙН-ГЕФЕСТ-МР25#6$*6*СПЕЦКАБЛАЙН-ГЕФЕСТ-МР32#7$"]
["",null,"","Огнестойкая Кабельная Линия\nв виде металлорукава, размером 20 мм,\nс креплением к бетону\nс помощью металлических скоб","","гофрированной безгалогенной трубы",32,"проволки","металлоконструкции",131,"СПЕЦКАБЛАЙН-","КиТ-ГФ-HF32П","-ТУ 16.К99-081-2016","Труба","Гофрированная","Гофрированная труба",{"$f":"ОКЛ!F$120","v":2},"Полиолефин",3,"арматура",{"$f":"ОКЛ!D$139","v":5},"Проволока",{"$f":"ОКЛ!D$148","v":5},0,0,1,"","","",null,null,{"$f":"IF(X141*Y141*Z141=0, 0, MAX(AF$9:AF140 )+1)","v":0},"","","*1*СПЕЦКАБЛАЙН-ГЕФЕСТ-МР15#2$*2*СПЕЦКАБЛАЙН-ГЕФЕСТ-МР18#3$*3*СПЕЦКАБЛАЙН-ГЕФЕСТ-МР20#4$*4*СПЕЦКАБЛАЙН-ГЕФЕСТ-МР22#5$*5*СПЕЦКАБЛАЙН-ГЕФЕСТ-МР25#6$*6*СПЕЦКАБЛАЙН-ГЕФЕСТ-МР32#7$"]
["",null,"","Огнестойкая Кабельная Линия\nв виде металлорукава, размером 20 мм,\nс креплением к бетону\nс помощью металлических скоб","","гофрированной безгалогенной трубы",32,"металлических стяжек","металлоконструкции",132,"СПЕЦКАБЛАЙН-","КиТ-ГФ-HF32Х","-ТУ 16.К99-081-2016","Труба","Гофрированная","Гофрированная труба",{"$f":"ОКЛ!F$120","v":2},"Полиолефин",3,"арматура",{"$f":"ОКЛ!D$139","v":5},"Хомут",{"$f":"ОКЛ!D$147","v":4},0,0,1,"","","",null,null,{"$f":"IF(X142*Y142*Z142=0, 0, MAX(AF$9:AF141 )+1)","v":0},"","","*1*СПЕЦКАБЛАЙН-ГЕФЕСТ-МР15#2$*2*СПЕЦКАБЛАЙН-ГЕФЕСТ-МР18#3$*3*СПЕЦКАБЛАЙН-ГЕФЕСТ-МР20#4$*4*СПЕЦКАБЛАЙН-ГЕФЕСТ-МР22#5$*5*СПЕЦКАБЛАЙН-ГЕФЕСТ-МР25#6$*6*СПЕЦКАБЛАЙН-ГЕФЕСТ-МР32#7$"]
["",null,"","Огнестойкая Кабельная Линия\nв виде металлорукава, размером 20 мм,\nс креплением к бетону\nс помощью металлических скоб","","гофрированной безгалогенной трубы",40,"металлических скоб","бетону",133,"СПЕЦКАБЛАЙН-","КиТ-ГФ-HF40","-ТУ 16.К99-081-2016","Труба","Гофрированная","Гофрированная труба",{"$f":"ОКЛ!F$120","v":2},"Полиолефин",3,"бетон",{"$f":"ОКЛ!D$136","v":2},"Скоба",{"$f":"ОКЛ!D$145","v":2},0,1,1,12,"","",null,null,{"$f":"IF(X143*Y143*Z143=0, 0, MAX(AF$9:AF142 )+1)","v":0},"","","*1*СПЕЦКАБЛАЙН-ГЕФЕСТ-МР15#2$*2*СПЕЦКАБЛАЙН-ГЕФЕСТ-МР18#3$*3*СПЕЦКАБЛАЙН-ГЕФЕСТ-МР20#4$*4*СПЕЦКАБЛАЙН-ГЕФЕСТ-МР22#5$*5*СПЕЦКАБЛАЙН-ГЕФЕСТ-МР25#6$*6*СПЕЦКАБЛАЙН-ГЕФЕСТ-МР32#7$"]
["",null,"","Огнестойкая Кабельная Линия\nв виде металлорукава, размером 20 мм,\nс креплением к бетону\nс помощью металлических скоб","","гофрированной безгалогенной трубы",40,"проволки","металлоконструкции",134,"СПЕЦКАБЛАЙН-","КиТ-ГФ-HF40П","-ТУ 16.К99-081-2016","Труба","Гофрированная","Гофрированная труба",{"$f":"ОКЛ!F$120","v":2},"Полиолефин",3,"арматура",{"$f":"ОКЛ!D$139","v":5},"Проволока",{"$f":"ОКЛ!D$148","v":5},0,0,1,"","","",null,null,{"$f":"IF(X144*Y144*Z144=0, 0, MAX(AF$9:AF143 )+1)","v":0},"","","*1*СПЕЦКАБЛАЙН-ГЕФЕСТ-МР15#2$*2*СПЕЦКАБЛАЙН-ГЕФЕСТ-МР18#3$*3*СПЕЦКАБЛАЙН-ГЕФЕСТ-МР20#4$*4*СПЕЦКАБЛАЙН-ГЕФЕСТ-МР22#5$*5*СПЕЦКАБЛАЙН-ГЕФЕСТ-МР25#6$*6*СПЕЦКАБЛАЙН-ГЕФЕСТ-МР32#7$"]
["",null,"","Огнестойкая Кабельная Линия\nв виде металлорукава, размером 20 мм,\nс креплением к бетону\nс помощью металлических скоб","","гофрированной безгалогенной трубы",40,"металлических стяжек","металлоконструкции",135,"СПЕЦКАБЛАЙН-","КиТ-ГФ-HF40Х","-ТУ 16.К99-081-2016","Труба","Гофрированная","Гофрированная труба",{"$f":"ОКЛ!F$120","v":2},"Полиолефин",3,"арматура",{"$f":"ОКЛ!D$139","v":5},"Хомут",{"$f":"ОКЛ!D$147","v":4},0,0,1,"","","",null,null,{"$f":"IF(X145*Y145*Z145=0, 0, MAX(AF$9:AF144 )+1)","v":0},"","","*1*СПЕЦКАБЛАЙН-ГЕФЕСТ-МР15#2$*2*СПЕЦКАБЛАЙН-ГЕФЕСТ-МР18#3$*3*СПЕЦКАБЛАЙН-ГЕФЕСТ-МР20#4$*4*СПЕЦКАБЛАЙН-ГЕФЕСТ-МР22#5$*5*СПЕЦКАБЛАЙН-ГЕФЕСТ-МР25#6$*6*СПЕЦКАБЛАЙН-ГЕФЕСТ-МР32#7$"]
["",null,"","Огнестойкая Кабельная Линия\nв виде металлорукава, размером 20 мм,\nс креплением к бетону\nс помощью металлических скоб","","гофрированной безгалогенной трубы",50,"металлических скоб","бетону",136,"СПЕЦКАБЛАЙН-","КиТ-ГФ-HF50","-ТУ 16.К99-081-2016","Труба","Гофрированная","Гофрированная труба",{"$f":"ОКЛ!F$120","v":2},"Полиолефин",3,"бетон",{"$f":"ОКЛ!D$136","v":2},"Скоба",{"$f":"ОКЛ!D$145","v":2},0,1,1,12,"","",null,null,{"$f":"IF(X146*Y146*Z146=0, 0, MAX(AF$9:AF145 )+1)","v":0},"","","*1*СПЕЦКАБЛАЙН-ГЕФЕСТ-МР15#2$*2*СПЕЦКАБЛАЙН-ГЕФЕСТ-МР18#3$*3*СПЕЦКАБЛАЙН-ГЕФЕСТ-МР20#4$*4*СПЕЦКАБЛАЙН-ГЕФЕСТ-МР22#5$*5*СПЕЦКАБЛАЙН-ГЕФЕСТ-МР25#6$*6*СПЕЦКАБЛАЙН-ГЕФЕСТ-МР32#7$"]
["",null,"","Огнестойкая Кабельная Линия\nв виде металлорукава, размером 20 мм,\nс креплением к бетону\nс помощью металлических скоб","","гофрированной безгалогенной трубы",50,"проволки","металлоконструкции",137,"СПЕЦКАБЛАЙН-","КиТ-ГФ-HF50П","-ТУ 16.К99-081-2016","Труба","Гофрированная","Гофрированная труба",{"$f":"ОКЛ!F$120","v":2},"Полиолефин",3,"арматура",{"$f":"ОКЛ!D$139","v":5},"Проволока",{"$f":"ОКЛ!D$148","v":5},0,0,1,"","","",null,null,{"$f":"IF(X147*Y147*Z147=0, 0, MAX(AF$9:AF146 )+1)","v":0},{"$f":"IF(AF147=0,\"\",CONCATENATE(\"*\",AF147,\"*\"))","v":""},"",{"$f":"CONCATENATE(AI146,AH147)","v":"*1*СПЕЦКАБЛАЙН-ГЕФЕСТ-МР15#2$*2*СПЕЦКАБЛАЙН-ГЕФЕСТ-МР18#3$*3*СПЕЦКАБЛАЙН-ГЕФЕСТ-МР20#4$*4*СПЕЦКАБЛАЙН-ГЕФЕСТ-МР22#5$*5*СПЕЦКАБЛАЙН-ГЕФЕСТ-МР25#6$*6*СПЕЦКАБЛАЙН-ГЕФЕСТ-МР32#7$"}]
["",null,"","Огнестойкая Кабельная Линия\nв виде металлорукава, размером 20 мм,\nс креплением к бетону\nс помощью металлических скоб","","гофрированной безгалогенной трубы",50,"металлических стяжек","металлоконструкции",138,"СПЕЦКАБЛАЙН-","КиТ-ГФ-HF50Х","-ТУ 16.К99-081-2016","Труба","Гофрированная","Гофрированная труба",{"$f":"ОКЛ!F$120","v":2},"Полиолефин",3,"арматура",{"$f":"ОКЛ!D$139","v":5},"Хомут",{"$f":"ОКЛ!D$147","v":4},0,0,1,"","","",null,null,{"$f":"IF(X148*Y148*Z148=0, 0, MAX(AF$9:AF147 )+1)","v":0},"","","*1*СПЕЦКАБЛАЙН-ГЕФЕСТ-МР15#2$*2*СПЕЦКАБЛАЙН-ГЕФЕСТ-МР18#3$*3*СПЕЦКАБЛАЙН-ГЕФЕСТ-МР20#4$*4*СПЕЦКАБЛАЙН-ГЕФЕСТ-МР22#5$*5*СПЕЦКАБЛАЙН-ГЕФЕСТ-МР25#6$*6*СПЕЦКАБЛАЙН-ГЕФЕСТ-МР32#7$"]
["",null,"","Огнестойкая Кабельная Линия\nв виде металлорукава, размером 20 мм,\nс креплением к бетону\nс помощью металлических скоб","","гофрированной безгалогенной трубы",16,"металлических скоб","бетону",139,"СПЕЦКАБЛАЙН-","КиТ-ГФ-HFR16","-ТУ 16.К99-081-2016","Труба","Гофрированная","Гофрированная труба",{"$f":"ОКЛ!F$120","v":2},"Полиолефин",3,"бетон",{"$f":"ОКЛ!D$136","v":2},"Скоба",{"$f":"ОКЛ!D$145","v":2},0,1,1,12,"","",null,null,{"$f":"IF(X149*Y149*Z149=0, 0, MAX(AF$9:AF148 )+1)","v":0},"","","*1*СПЕЦКАБЛАЙН-ГЕФЕСТ-МР15#2$*2*СПЕЦКАБЛАЙН-ГЕФЕСТ-МР18#3$*3*СПЕЦКАБЛАЙН-ГЕФЕСТ-МР20#4$*4*СПЕЦКАБЛАЙН-ГЕФЕСТ-МР22#5$*5*СПЕЦКАБЛАЙН-ГЕФЕСТ-МР25#6$*6*СПЕЦКАБЛАЙН-ГЕФЕСТ-МР32#7$"]
["",null,"","Огнестойкая Кабельная Линия\nв виде металлорукава, размером 20 мм,\nс креплением к бетону\nс помощью металлических скоб","","гофрированной безгалогенной трубы",20,"металлических скоб","бетону",140,"СПЕЦКАБЛАЙН-","КиТ-ГФ-HFR20","-ТУ 16.К99-081-2016","Труба","Гофрированная","Гофрированная труба",{"$f":"ОКЛ!F$120","v":2},"Полиолефин",3,"бетон",{"$f":"ОКЛ!D$136","v":2},"Скоба",{"$f":"ОКЛ!D$145","v":2},0,1,1,12,"","",null,null,{"$f":"IF(X150*Y150*Z150=0, 0, MAX(AF$9:AF149 )+1)","v":0},"","","*1*СПЕЦКАБЛАЙН-ГЕФЕСТ-МР15#2$*2*СПЕЦКАБЛАЙН-ГЕФЕСТ-МР18#3$*3*СПЕЦКАБЛАЙН-ГЕФЕСТ-МР20#4$*4*СПЕЦКАБЛАЙН-ГЕФЕСТ-МР22#5$*5*СПЕЦКАБЛАЙН-ГЕФЕСТ-МР25#6$*6*СПЕЦКАБЛАЙН-ГЕФЕСТ-МР32#7$"]
["",null,"","Огнестойкая Кабельная Линия\nв виде металлорукава, размером 20 мм,\nс креплением к бетону\nс помощью металлических скоб","","гофрированной безгалогенной трубы",25,"металлических скоб","бетону",141,"СПЕЦКАБЛАЙН-","КиТ-ГФ-HFR25","-ТУ 16.К99-081-2016","Труба","Гофрированная","Гофрированная труба",{"$f":"ОКЛ!F$120","v":2},"Полиолефин",3,"бетон",{"$f":"ОКЛ!D$136","v":2},"Скоба",{"$f":"ОКЛ!D$145","v":2},0,1,1,12,"","",null,null,{"$f":"IF(X151*Y151*Z151=0, 0, MAX(AF$9:AF150 )+1)","v":0},"","","*1*СПЕЦКАБЛАЙН-ГЕФЕСТ-МР15#2$*2*СПЕЦКАБЛАЙН-ГЕФЕСТ-МР18#3$*3*СПЕЦКАБЛАЙН-ГЕФЕСТ-МР20#4$*4*СПЕЦКАБЛАЙН-ГЕФЕСТ-МР22#5$*5*СПЕЦКАБЛАЙН-ГЕФЕСТ-МР25#6$*6*СПЕЦКАБЛАЙН-ГЕФЕСТ-МР32#7$"]
["",null,"","Огнестойкая Кабельная Линия\nв виде металлорукава, размером 20 мм,\nс креплением к бетону\nс помощью металлических скоб","","гофрированной безгалогенной трубы",32,"металлических скоб","бетону",142,"СПЕЦКАБЛАЙН-","КиТ-ГФ-HFR32","-ТУ 16.К99-081-2016","Труба","Гофрированная","Гофрированная труба",{"$f":"ОКЛ!F$120","v":2},"Полиолефин",3,"бетон",{"$f":"ОКЛ!D$136","v":2},"Скоба",{"$f":"ОКЛ!D$145","v":2},0,1,1,12,"","",null,null,{"$f":"IF(X152*Y152*Z152=0, 0, MAX(AF$9:AF151 )+1)","v":0},"","","*1*СПЕЦКАБЛАЙН-ГЕФЕСТ-МР15#2$*2*СПЕЦКАБЛАЙН-ГЕФЕСТ-МР18#3$*3*СПЕЦКАБЛАЙН-ГЕФЕСТ-МР20#4$*4*СПЕЦКАБЛАЙН-ГЕФЕСТ-МР22#5$*5*СПЕЦКАБЛАЙН-ГЕФЕСТ-МР25#6$*6*СПЕЦКАБЛАЙН-ГЕФЕСТ-МР32#7$"]
["",null,"","Огнестойкая Кабельная Линия\nв виде металлорукава, размером 20 мм,\nс креплением к бетону\nс помощью металлических скоб","","гофрированной безгалогенной трубы",40,"металлических скоб","бетону",143,"СПЕЦКАБЛАЙН-","КиТ-ГФ-HFR40","-ТУ 16.К99-081-2016","Труба","Гофрированная","Гофрированная труба",{"$f":"ОКЛ!F$120","v":2},"Полиолефин",3,"бетон",{"$f":"ОКЛ!D$136","v":2},"Скоба",{"$f":"ОКЛ!D$145","v":2},0,1,1,12,"","",null,null,{"$f":"IF(X153*Y153*Z153=0, 0, MAX(AF$9:AF152 )+1)","v":0},"","","*1*СПЕЦКАБЛАЙН-ГЕФЕСТ-МР15#2$*2*СПЕЦКАБЛАЙН-ГЕФЕСТ-МР18#3$*3*СПЕЦКАБЛАЙН-ГЕФЕСТ-МР20#4$*4*СПЕЦКАБЛАЙН-ГЕФЕСТ-МР22#5$*5*СПЕЦКАБЛАЙН-ГЕФЕСТ-МР25#6$*6*СПЕЦКАБЛАЙН-ГЕФЕСТ-МР32#7$"]
["",null,"","Огнестойкая Кабельная Линия\nв виде металлорукава, размером 20 мм,\nс креплением к бетону\nс помощью металлических скоб","","гофрированной безгалогенной трубы",50,"металлических скоб","бетону",144,"СПЕЦКАБЛАЙН-","КиТ-ГФ-HFR50","-ТУ 16.К99-081-2016","Труба","Гофрированная","Гофрированная труба",{"$f":"ОКЛ!F$120","v":2},"Полиолефин",3,"бетон",{"$f":"ОКЛ!D$136","v":2},"Скоба",{"$f":"ОКЛ!D$145","v":2},0,1,1,12,"","",null,null,{"$f":"IF(X154*Y154*Z154=0, 0, MAX(AF$9:AF153 )+1)","v":0},"","","*1*СПЕЦКАБЛАЙН-ГЕФЕСТ-МР15#2$*2*СПЕЦКАБЛАЙН-ГЕФЕСТ-МР18#3$*3*СПЕЦКАБЛАЙН-ГЕФЕСТ-МР20#4$*4*СПЕЦКАБЛАЙН-ГЕФЕСТ-МР22#5$*5*СПЕЦКАБЛАЙН-ГЕФЕСТ-МР25#6$*6*СПЕЦКАБЛАЙН-ГЕФЕСТ-МР32#7$"]
["*7*",null,"","Огнестойкая Кабельная Линия\nв виде металлорукава, размером 20 мм,\nс креплением к бетону\nс помощью металлических скоб","","металлорукава",15,"металлических скоб","бетону",145,"СПЕЦКАБЛАЙН-","КиТ-МР15","-ТУ 16.К99-081-2016","металлорукав","металлорукав","металлорукав",{"$f":"ОКЛ!F$122","v":4},"ПВХ",2,"бетон",{"$f":"ОКЛ!D$136","v":2},"Скоба",{"$f":"ОКЛ!D$145","v":2},1,1,1,14,12,12,null,null,{"$f":"IF(X155*Y155*Z155=0, 0, MAX(AF$9:AF154 )+1)","v":7},"*7*","*7*СПЕЦКАБЛАЙН-КиТ-МР15#145$","*1*СПЕЦКАБЛАЙН-ГЕФЕСТ-МР15#2$*2*СПЕЦКАБЛАЙН-ГЕФЕСТ-МР18#3$*3*СПЕЦКАБЛАЙН-ГЕФЕСТ-МР20#4$*4*СПЕЦКАБЛАЙН-ГЕФЕСТ-МР22#5$*5*СПЕЦКАБЛАЙН-ГЕФЕСТ-МР25#6$*6*СПЕЦКАБЛАЙН-ГЕФЕСТ-МР32#7$*7*СПЕЦКАБЛАЙН-КиТ-МР15#145$"]
["*8*",null,"","Огнестойкая Кабельная Линия\nв виде металлорукава, размером 20 мм,\nс креплением к бетону\nс помощью металлических скоб","","металлорукава",18,"металлических скоб","бетону",146,"СПЕЦКАБЛАЙН-","КиТ-МР18","-ТУ 16.К99-081-2016","металлорукав","металлорукав","металлорукав",{"$f":"ОКЛ!F$122","v":4},"ПВХ",2,"бетон",{"$f":"ОКЛ!D$136","v":2},"Скоба",{"$f":"ОКЛ!D$145","v":2},1,1,1,14,12,12,null,null,{"$f":"IF(X156*Y156*Z156=0, 0, MAX(AF$9:AF155 )+1)","v":8},"*8*","*8*СПЕЦКАБЛАЙН-КиТ-МР18#146$","*1*СПЕЦКАБЛАЙН-ГЕФЕСТ-МР15#2$*2*СПЕЦКАБЛАЙН-ГЕФЕСТ-МР18#3$*3*СПЕЦКАБЛАЙН-ГЕФЕСТ-МР20#4$*4*СПЕЦКАБЛАЙН-ГЕФЕСТ-МР22#5$*5*СПЕЦКАБЛАЙН-ГЕФЕСТ-МР25#6$*6*СПЕЦКАБЛАЙН-ГЕФЕСТ-МР32#7$*7*СПЕЦКАБЛАЙН-КиТ-МР15#145$*8*СПЕЦКАБЛАЙН-КиТ-МР18#146$"]
["*9*",null,147,"Огнестойкая Кабельная Линия\nв виде металлорукава, размером 20 мм,\nс креплением к бетону\nс помощью металлических скоб","Огнестойкая Кабельная Линия\nв виде металлорукава, размером 20 мм,\nс креплением к бетону\nс помощью металлических скоб","металлорукава",20,"металлических скоб","бетону",147,"СПЕЦКАБЛАЙН-","КиТ-МР20","-ТУ 16.К99-081-2016","металлорукав","металлорукав","металлорукав",{"$f":"ОКЛ!F$122","v":4},"ПВХ",2,"бетон",{"$f":"ОКЛ!D$136","v":2},"Скоба",{"$f":"ОКЛ!D$145","v":2},1,1,1,14,12,12,null,null,{"$f":"IF(X157*Y157*Z157=0, 0, MAX(AF$9:AF156 )+1)","v":9},"*9*","*9*СПЕЦКАБЛАЙН-КиТ-МР20#147$","*1*СПЕЦКАБЛАЙН-ГЕФЕСТ-МР15#2$*2*СПЕЦКАБЛАЙН-ГЕФЕСТ-МР18#3$*3*СПЕЦКАБЛАЙН-ГЕФЕСТ-МР20#4$*4*СПЕЦКАБЛАЙН-ГЕФЕСТ-МР22#5$*5*СПЕЦКАБЛАЙН-ГЕФЕСТ-МР25#6$*6*СПЕЦКАБЛАЙН-ГЕФЕСТ-МР32#7$*7*СПЕЦКАБЛАЙН-КиТ-МР15#145$*8*СПЕЦКАБЛАЙН-КиТ-МР18#146$*9*СПЕЦКАБЛАЙН-КиТ-МР20#147$"]
["*10*",null,"","","","металлорукава",20,"металлических скоб","бетону",148,"СПЕЦКАБЛАЙН-","КиТ-МР20(с протяжкой)","-ТУ 16.К99-081-2016","металлорукав","металлорукав","металлорукав",{"$f":"ОКЛ!F$122","v":4},"ПВХ",2,"бетон",{"$f":"ОКЛ!D$136","v":2},"Скоба",{"$f":"ОКЛ!D$145","v":2},1,1,1,14,12,12,null,null,{"$f":"IF(X158*Y158*Z158=0, 0, MAX(AF$9:AF157 )+1)","v":10},"*10*","*10*СПЕЦКАБЛАЙН-КиТ-МР20(с протяжкой)#148$","*1*СПЕЦКАБЛАЙН-ГЕФЕСТ-МР15#2$*2*СПЕЦКАБЛАЙН-ГЕФЕСТ-МР18#3$*3*СПЕЦКАБЛАЙН-ГЕФЕСТ-МР20#4$*4*СПЕЦКАБЛАЙН-ГЕФЕСТ-МР22#5$*5*СПЕЦКАБЛАЙН-ГЕФЕСТ-МР25#6$*6*СПЕЦКАБЛАЙН-ГЕФЕСТ-МР32#7$*7*СПЕЦКАБЛАЙН-КиТ-МР15#145$*8*СПЕЦКАБЛАЙН-КиТ-МР18#146$*9*СПЕЦКАБЛАЙН-КиТ-МР20#147$*10*СПЕЦКАБЛАЙН-КиТ-МР20(с протяжкой)#148$"]
["*11*",null,"","","","металлорукава",22,"металлических скоб","бетону",149,"СПЕЦКАБЛАЙН-","КиТ-МР22","-ТУ 16.К99-081-2016","металлорукав","металлорукав","металлорукав",{"$f":"ОКЛ!F$122","v":4},"ПВХ",2,"бетон",{"$f":"ОКЛ!D$136","v":2},"Скоба",{"$f":"ОКЛ!D$145","v":2},1,1,1,{"$f":"IF(0<Y159*Z159, VLOOKUP(Q159, AQ$9:AR$21, 2), \"\")","v":14},{"$f":"IF(0<X159*Z159,VLOOKUP(U159, AQ$9:AR$21, 2),\"\")","v":12},{"$f":"IF(0<X159*Y159,VLOOKUP(W159, AQ$9:AR$21, 2),\"\")","v":12},null,null,{"$f":"IF(X159*Y159*Z159=0, 0, MAX(AF$9:AF158 )+1)","v":11},"*11*","*11*СПЕЦКАБЛАЙН-КиТ-МР22#149$","*1*СПЕЦКАБЛАЙН-ГЕФЕСТ-МР15#2$*2*СПЕЦКАБЛАЙН-ГЕФЕСТ-МР18#3$*3*СПЕЦКАБЛАЙН-ГЕФЕСТ-МР20#4$*4*СПЕЦКАБЛАЙН-ГЕФЕСТ-МР22#5$*5*СПЕЦКАБЛАЙН-ГЕФЕСТ-МР25#6$*6*СПЕЦКАБЛАЙН-ГЕФЕСТ-МР32#7$*7*СПЕЦКАБЛАЙН-КиТ-МР15#145$*8*СПЕЦКАБЛАЙН-КиТ-МР18#146$*9*СПЕЦКАБЛАЙН-КиТ-МР20#147$*10*СПЕЦКАБЛАЙН-КиТ-МР20(с протяжкой)#148$*11*СПЕЦКАБЛАЙН-КиТ-МР22#149$"]
["*12*",null,"","","","металлорукава",25,"металлических скоб","бетону",150,"СПЕЦКАБЛАЙН-","КиТ-МР25","-ТУ 16.К99-081-2016","металлорукав","металлорукав","металлорукав",{"$f":"ОКЛ!F$122","v":4},"ПВХ",2,"бетон",{"$f":"ОКЛ!D$136","v":2},"Скоба",{"$f":"ОКЛ!D$145","v":2},1,1,1,14,12,12,null,null,{"$f":"IF(X160*Y160*Z160=0, 0, MAX(AF$9:AF159 )+1)","v":12},"*12*","*12*СПЕЦКАБЛАЙН-КиТ-МР25#150$","*1*СПЕЦКАБЛАЙН-ГЕФЕСТ-МР15#2$*2*СПЕЦКАБЛАЙН-ГЕФЕСТ-МР18#3$*3*СПЕЦКАБЛАЙН-ГЕФЕСТ-МР20#4$*4*СПЕЦКАБЛАЙН-ГЕФЕСТ-МР22#5$*5*СПЕЦКАБЛАЙН-ГЕФЕСТ-МР25#6$*6*СПЕЦКАБЛАЙН-ГЕФЕСТ-МР32#7$*7*СПЕЦКАБЛАЙН-КиТ-МР15#145$*8*СПЕЦКАБЛАЙН-КиТ-МР18#146$*9*СПЕЦКАБЛАЙН-КиТ-МР20#147$*10*СПЕЦКАБЛАЙН-КиТ-МР20(с протяжкой)#148$*11*СПЕЦКАБЛАЙН-КиТ-МР22#149$*12*СПЕЦКАБЛАЙН-КиТ-МР25#150$"]
["*13*",null,"","","","металлорукава",32,"металлических скоб","бетону",151,"СПЕЦКАБЛАЙН-","КиТ-МР32","-ТУ 16.К99-081-2016","металлорукав","металлорукав","металлорукав",{"$f":"ОКЛ!F$122","v":4},"ПВХ",2,"бетон",{"$f":"ОКЛ!D$136","v":2},"Скоба",{"$f":"ОКЛ!D$145","v":2},1,1,1,14,12,12,null,null,{"$f":"IF(X161*Y161*Z161=0, 0, MAX(AF$9:AF160 )+1)","v":13},"*13*","*13*СПЕЦКАБЛАЙН-КиТ-МР32#151$","*1*СПЕЦКАБЛАЙН-ГЕФЕСТ-МР15#2$*2*СПЕЦКАБЛАЙН-ГЕФЕСТ-МР18#3$*3*СПЕЦКАБЛАЙН-ГЕФЕСТ-МР20#4$*4*СПЕЦКАБЛАЙН-ГЕФЕСТ-МР22#5$*5*СПЕЦКАБЛАЙН-ГЕФЕСТ-МР25#6$*6*СПЕЦКАБЛАЙН-ГЕФЕСТ-МР32#7$*7*СПЕЦКАБЛАЙН-КиТ-МР15#145$*8*СПЕЦКАБЛАЙН-КиТ-МР18#146$*9*СПЕЦКАБЛАЙН-КиТ-МР20#147$*10*СПЕЦКАБЛАЙН-КиТ-МР20(с протяжкой)#148$*11*СПЕЦКАБЛАЙН-КиТ-МР22#149$*12*СПЕЦКАБЛАЙН-КиТ-МР25#150$*13*СПЕЦКАБЛАЙН-КиТ-МР32#151$"]
["*14*",null,"","","","металлорукава",38,"металлических скоб","бетону",152,"СПЕЦКАБЛАЙН-","КиТ-МР38","-ТУ 16.К99-081-2016","металлорукав","металлорукав","металлорукав",{"$f":"ОКЛ!F$122","v":4},"ПВХ",2,"бетон",{"$f":"ОКЛ!D$136","v":2},"Скоба",{"$f":"ОКЛ!D$145","v":2},1,1,1,14,12,12,null,null,{"$f":"IF(X162*Y162*Z162=0, 0, MAX(AF$9:AF161 )+1)","v":14},"*14*","*14*СПЕЦКАБЛАЙН-КиТ-МР38#152$","*1*СПЕЦКАБЛАЙН-ГЕФЕСТ-МР15#2$*2*СПЕЦКАБЛАЙН-ГЕФЕСТ-МР18#3$*3*СПЕЦКАБЛАЙН-ГЕФЕСТ-МР20#4$*4*СПЕЦКАБЛАЙН-ГЕФЕСТ-МР22#5$*5*СПЕЦКАБЛАЙН-ГЕФЕСТ-МР25#6$*6*СПЕЦКАБЛАЙН-ГЕФЕСТ-МР32#7$*7*СПЕЦКАБЛАЙН-КиТ-МР15#145$*8*СПЕЦКАБЛАЙН-КиТ-МР18#146$*9*СПЕЦКАБЛАЙН-КиТ-МР20#147$*10*СПЕЦКАБЛАЙН-КиТ-МР20(с протяжкой)#148$*11*СПЕЦКАБЛАЙН-КиТ-МР22#149$*12*СПЕЦКАБЛАЙН-КиТ-МР25#150$*13*СПЕЦКАБЛАЙН-КиТ-МР32#151$*14*СПЕЦКАБЛАЙН-КиТ-МР38#152$"]
["*15*",null,"","","","металлорукава",50,"металлических скоб","бетону",153,"СПЕЦКАБЛАЙН-","КиТ-МР50","-ТУ 16.К99-081-2016","металлорукав","металлорукав","металлорукав",{"$f":"ОКЛ!F$122","v":4},"ПВХ",2,"бетон",{"$f":"ОКЛ!D$136","v":2},"Скоба",{"$f":"ОКЛ!D$145","v":2},1,1,1,14,12,12,null,null,{"$f":"IF(X163*Y163*Z163=0, 0, MAX(AF$9:AF162 )+1)","v":15},"*15*","*15*СПЕЦКАБЛАЙН-КиТ-МР50#153$","*1*СПЕЦКАБЛАЙН-ГЕФЕСТ-МР15#2$*2*СПЕЦКАБЛАЙН-ГЕФЕСТ-МР18#3$*3*СПЕЦКАБЛАЙН-ГЕФЕСТ-МР20#4$*4*СПЕЦКАБЛАЙН-ГЕФЕСТ-МР22#5$*5*СПЕЦКАБЛАЙН-ГЕФЕСТ-МР25#6$*6*СПЕЦКАБЛАЙН-ГЕФЕСТ-МР32#7$*7*СПЕЦКАБЛАЙН-КиТ-МР15#145$*8*СПЕЦКАБЛАЙН-КиТ-МР18#146$*9*СПЕЦКАБЛАЙН-КиТ-МР20#147$*10*СПЕЦКАБЛАЙН-КиТ-МР20(с протяжкой)#148$*11*СПЕЦКАБЛАЙН-КиТ-МР22#149$*12*СПЕЦКАБЛАЙН-КиТ-МР25#150$*13*СПЕЦКАБЛАЙН-КиТ-МР32#151$*14*СПЕЦКАБЛАЙН-КиТ-МР38#152$*15*СПЕЦКАБЛАЙН-КиТ-МР50#153$"]
["",null,"","","","металлорукава в оболочке",15,"металлических скоб","бетону",154,"СПЕЦКАБЛАЙН-","КиТ-МРП15","-ТУ 16.К99-081-2016","металлорукав","металлорукав в оболочке","металлорукав в оболочке",{"$f":"ОКЛ!F$123","v":5},"ПВХ",2,"бетон",{"$f":"ОКЛ!D$136","v":2},"Скоба",{"$f":"ОКЛ!D$145","v":2},0,1,1,15,"","",null,null,{"$f":"IF(X164*Y164*Z164=0, 0, MAX(AF$9:AF163 )+1)","v":0},"","","*1*СПЕЦКАБЛАЙН-ГЕФЕСТ-МР15#2$*2*СПЕЦКАБЛАЙН-ГЕФЕСТ-МР18#3$*3*СПЕЦКАБЛАЙН-ГЕФЕСТ-МР20#4$*4*СПЕЦКАБЛАЙН-ГЕФЕСТ-МР22#5$*5*СПЕЦКАБЛАЙН-ГЕФЕСТ-МР25#6$*6*СПЕЦКАБЛАЙН-ГЕФЕСТ-МР32#7$*7*СПЕЦКАБЛАЙН-КиТ-МР15#145$*8*СПЕЦКАБЛАЙН-КиТ-МР18#146$*9*СПЕЦКАБЛАЙН-КиТ-МР20#147$*10*СПЕЦКАБЛАЙН-КиТ-МР20(с протяжкой)#148$*11*СПЕЦКАБЛАЙН-КиТ-МР22#149$*12*СПЕЦКАБЛАЙН-КиТ-МР25#150$*13*СПЕЦКАБЛАЙН-КиТ-МР32#151$*14*СПЕЦКАБЛАЙН-КиТ-МР38#152$*15*СПЕЦКАБЛАЙН-КиТ-МР50#153$"]
["",null,"","","","металлорукава в оболочке",18,"металлических скоб","бетону",155,"СПЕЦКАБЛАЙН-","КиТ-МРП18","-ТУ 16.К99-081-2016","металлорукав","металлорукав в оболочке","металлорукав в оболочке",{"$f":"ОКЛ!F$123","v":5},"ПВХ",2,"бетон",{"$f":"ОКЛ!D$136","v":2},"Скоба",{"$f":"ОКЛ!D$145","v":2},0,1,1,15,"","",null,null,{"$f":"IF(X165*Y165*Z165=0, 0, MAX(AF$9:AF164 )+1)","v":0},"","","*1*СПЕЦКАБЛАЙН-ГЕФЕСТ-МР15#2$*2*СПЕЦКАБЛАЙН-ГЕФЕСТ-МР18#3$*3*СПЕЦКАБЛАЙН-ГЕФЕСТ-МР20#4$*4*СПЕЦКАБЛАЙН-ГЕФЕСТ-МР22#5$*5*СПЕЦКАБЛАЙН-ГЕФЕСТ-МР25#6$*6*СПЕЦКАБЛАЙН-ГЕФЕСТ-МР32#7$*7*СПЕЦКАБЛАЙН-КиТ-МР15#145$*8*СПЕЦКАБЛАЙН-КиТ-МР18#146$*9*СПЕЦКАБЛАЙН-КиТ-МР20#147$*10*СПЕЦКАБЛАЙН-КиТ-МР20(с протяжкой)#148$*11*СПЕЦКАБЛАЙН-КиТ-МР22#149$*12*СПЕЦКАБЛАЙН-КиТ-МР25#150$*13*СПЕЦКАБЛАЙН-КиТ-МР32#151$*14*СПЕЦКАБЛАЙН-КиТ-МР38#152$*15*СПЕЦКАБЛАЙН-КиТ-МР50#153$"]
["",null,"","","","металлорукава в оболочке",20,"металлических скоб","бетону",156,"СПЕЦКАБЛАЙН-","КиТ-МРП20","-ТУ 16.К99-081-2016","металлорукав","металлорукав в оболочке","металлорукав в оболочке",{"$f":"ОКЛ!F$123","v":5},"ПВХ",2,"бетон",{"$f":"ОКЛ!D$136","v":2},"Скоба",{"$f":"ОКЛ!D$145","v":2},0,1,1,15,"","",null,null,{"$f":"IF(X166*Y166*Z166=0, 0, MAX(AF$9:AF165 )+1)","v":0},"","","*1*СПЕЦКАБЛАЙН-ГЕФЕСТ-МР15#2$*2*СПЕЦКАБЛАЙН-ГЕФЕСТ-МР18#3$*3*СПЕЦКАБЛАЙН-ГЕФЕСТ-МР20#4$*4*СПЕЦКАБЛАЙН-ГЕФЕСТ-МР22#5$*5*СПЕЦКАБЛАЙН-ГЕФЕСТ-МР25#6$*6*СПЕЦКАБЛАЙН-ГЕФЕСТ-МР32#7$*7*СПЕЦКАБЛАЙН-КиТ-МР15#145$*8*СПЕЦКАБЛАЙН-КиТ-МР18#146$*9*СПЕЦКАБЛАЙН-КиТ-МР20#147$*10*СПЕЦКАБЛАЙН-КиТ-МР20(с протяжкой)#148$*11*СПЕЦКАБЛАЙН-КиТ-МР22#149$*12*СПЕЦКАБЛАЙН-КиТ-МР25#150$*13*СПЕЦКАБЛАЙН-КиТ-МР32#151$*14*СПЕЦКАБЛАЙН-КиТ-МР38#152$*15*СПЕЦКАБЛАЙН-КиТ-МР50#153$"]
["",null,"","","","металлорукава в оболочке",22,"металлических скоб","бетону",157,"СПЕЦКАБЛАЙН-","КиТ-МРП22","-ТУ 16.К99-081-2016","металлорукав","металлорукав в оболочке","металлорукав в оболочке",{"$f":"ОКЛ!F$123","v":5},"ПВХ",2,"бетон",{"$f":"ОКЛ!D$136","v":2},"Скоба",{"$f":"ОКЛ!D$145","v":2},0,1,1,15,"","",null,null,{"$f":"IF(X167*Y167*Z167=0, 0, MAX(AF$9:AF166 )+1)","v":0},"","","*1*СПЕЦКАБЛАЙН-ГЕФЕСТ-МР15#2$*2*СПЕЦКАБЛАЙН-ГЕФЕСТ-МР18#3$*3*СПЕЦКАБЛАЙН-ГЕФЕСТ-МР20#4$*4*СПЕЦКАБЛАЙН-ГЕФЕСТ-МР22#5$*5*СПЕЦКАБЛАЙН-ГЕФЕСТ-МР25#6$*6*СПЕЦКАБЛАЙН-ГЕФЕСТ-МР32#7$*7*СПЕЦКАБЛАЙН-КиТ-МР15#145$*8*СПЕЦКАБЛАЙН-КиТ-МР18#146$*9*СПЕЦКАБЛАЙН-КиТ-МР20#147$*10*СПЕЦКАБЛАЙН-КиТ-МР20(с протяжкой)#148$*11*СПЕЦКАБЛАЙН-КиТ-МР22#149$*12*СПЕЦКАБЛАЙН-КиТ-МР25#150$*13*СПЕЦКАБЛАЙН-КиТ-МР32#151$*14*СПЕЦКАБЛАЙН-КиТ-МР38#152$*15*СПЕЦКАБЛАЙН-КиТ-МР50#153$"]
["",null,"","","","металлорукава в оболочке",25,"металлических скоб","бетону",158,"СПЕЦКАБЛАЙН-","КиТ-МРП25","-ТУ 16.К99-081-2016","металлорукав","металлорукав в оболочке","металлорукав в оболочке",{"$f":"ОКЛ!F$123","v":5},"ПВХ",2,"бетон",{"$f":"ОКЛ!D$136","v":2},"Скоба",{"$f":"ОКЛ!D$145","v":2},0,1,1,15,"","",null,null,{"$f":"IF(X168*Y168*Z168=0, 0, MAX(AF$9:AF167 )+1)","v":0},"","","*1*СПЕЦКАБЛАЙН-ГЕФЕСТ-МР15#2$*2*СПЕЦКАБЛАЙН-ГЕФЕСТ-МР18#3$*3*СПЕЦКАБЛАЙН-ГЕФЕСТ-МР20#4$*4*СПЕЦКАБЛАЙН-ГЕФЕСТ-МР22#5$*5*СПЕЦКАБЛАЙН-ГЕФЕСТ-МР25#6$*6*СПЕЦКАБЛАЙН-ГЕФЕСТ-МР32#7$*7*СПЕЦКАБЛАЙН-КиТ-МР15#145$*8*СПЕЦКАБЛАЙН-КиТ-МР18#146$*9*СПЕЦКАБЛАЙН-КиТ-МР20#147$*10*СПЕЦКАБЛАЙН-КиТ-МР20(с протяжкой)#148$*11*СПЕЦКАБЛАЙН-КиТ-МР22#149$*12*СПЕЦКАБЛАЙН-КиТ-МР25#150$*13*СПЕЦКАБЛАЙН-КиТ-МР32#151$*14*СПЕЦКАБЛАЙН-КиТ-МР38#152$*15*СПЕЦКАБЛАЙН-КиТ-МР50#153$"]
["",null,"","","","металлорукава в оболочке",32,"металлических скоб","бетону",159,"СПЕЦКАБЛАЙН-","КиТ-МРП32","-ТУ 16.К99-081-2016","металлорукав","металлорукав в оболочке","металлорукав в оболочке",{"$f":"ОКЛ!F$123","v":5},"ПВХ",2,"бетон",{"$f":"ОКЛ!D$136","v":2},"Скоба",{"$f":"ОКЛ!D$145","v":2},0,1,1,15,"","",null,null,{"$f":"IF(X169*Y169*Z169=0, 0, MAX(AF$9:AF168 )+1)","v":0},"","","*1*СПЕЦКАБЛАЙН-ГЕФЕСТ-МР15#2$*2*СПЕЦКАБЛАЙН-ГЕФЕСТ-МР18#3$*3*СПЕЦКАБЛАЙН-ГЕФЕСТ-МР20#4$*4*СПЕЦКАБЛАЙН-ГЕФЕСТ-МР22#5$*5*СПЕЦКАБЛАЙН-ГЕФЕСТ-МР25#6$*6*СПЕЦКАБЛАЙН-ГЕФЕСТ-МР32#7$*7*СПЕЦКАБЛАЙН-КиТ-МР15#145$*8*СПЕЦКАБЛАЙН-КиТ-МР18#146$*9*СПЕЦКАБЛАЙН-КиТ-МР20#147$*10*СПЕЦКАБЛАЙН-КиТ-МР20(с протяжкой)#148$*11*СПЕЦКАБЛАЙН-КиТ-МР22#149$*12*СПЕЦКАБЛАЙН-КиТ-МР25#150$*13*СПЕЦКАБЛАЙН-КиТ-МР32#151$*14*СПЕЦКАБЛАЙН-КиТ-МР38#152$*15*СПЕЦКАБЛАЙН-КиТ-МР50#153$"]
["",null,"","","","металлорукава в оболочке",28,"металлических скоб","бетону",160,"СПЕЦКАБЛАЙН-","КиТ-МРП38","-ТУ 16.К99-081-2016","металлорукав","металлорукав в оболочке","металлорукав в оболочке",{"$f":"ОКЛ!F$123","v":5},"ПВХ",2,"бетон",{"$f":"ОКЛ!D$136","v":2},"Скоба",{"$f":"ОКЛ!D$145","v":2},0,1,1,15,"","",null,null,{"$f":"IF(X170*Y170*Z170=0, 0, MAX(AF$9:AF169 )+1)","v":0},"","","*1*СПЕЦКАБЛАЙН-ГЕФЕСТ-МР15#2$*2*СПЕЦКАБЛАЙН-ГЕФЕСТ-МР18#3$*3*СПЕЦКАБЛАЙН-ГЕФЕСТ-МР20#4$*4*СПЕЦКАБЛАЙН-ГЕФЕСТ-МР22#5$*5*СПЕЦКАБЛАЙН-ГЕФЕСТ-МР25#6$*6*СПЕЦКАБЛАЙН-ГЕФЕСТ-МР32#7$*7*СПЕЦКАБЛАЙН-КиТ-МР15#145$*8*СПЕЦКАБЛАЙН-КиТ-МР18#146$*9*СПЕЦКАБЛАЙН-КиТ-МР20#147$*10*СПЕЦКАБЛАЙН-КиТ-МР20(с протяжкой)#148$*11*СПЕЦКАБЛАЙН-КиТ-МР22#149$*12*СПЕЦКАБЛАЙН-КиТ-МР25#150$*13*СПЕЦКАБЛАЙН-КиТ-МР32#151$*14*СПЕЦКАБЛАЙН-КиТ-МР38#152$*15*СПЕЦКАБЛАЙН-КиТ-МР50#153$"]
["",null,"","","","металлорукава в оболочке",50,"металлических скоб","бетону",161,"СПЕЦКАБЛАЙН-","КиТ-МРП50","-ТУ 16.К99-081-2016","металлорукав","металлорукав в оболочке","металлорукав в оболочке",{"$f":"ОКЛ!F$123","v":5},"ПВХ",2,"бетон",{"$f":"ОКЛ!D$136","v":2},"Скоба",{"$f":"ОКЛ!D$145","v":2},0,1,1,15,"","",null,null,{"$f":"IF(X171*Y171*Z171=0, 0, MAX(AF$9:AF170 )+1)","v":0},"","","*1*СПЕЦКАБЛАЙН-ГЕФЕСТ-МР15#2$*2*СПЕЦКАБЛАЙН-ГЕФЕСТ-МР18#3$*3*СПЕЦКАБЛАЙН-ГЕФЕСТ-МР20#4$*4*СПЕЦКАБЛАЙН-ГЕФЕСТ-МР22#5$*5*СПЕЦКАБЛАЙН-ГЕФЕСТ-МР25#6$*6*СПЕЦКАБЛАЙН-ГЕФЕСТ-МР32#7$*7*СПЕЦКАБЛАЙН-КиТ-МР15#145$*8*СПЕЦКАБЛАЙН-КиТ-МР18#146$*9*СПЕЦКАБЛАЙН-КиТ-МР20#147$*10*СПЕЦКАБЛАЙН-КиТ-МР20(с протяжкой)#148$*11*СПЕЦКАБЛАЙН-КиТ-МР22#149$*12*СПЕЦКАБЛАЙН-КиТ-МР25#150$*13*СПЕЦКАБЛАЙН-КиТ-МР32#151$*14*СПЕЦКАБЛАЙН-КиТ-МР38#152$*15*СПЕЦКАБЛАЙН-КиТ-МР50#153$"]
["",null,"","","","открытой прокладки кабеля",null,"дюбель-хомутов","бетону",162,"СПЕЦКАБЛАЙН-","КиТ-ОП","-ТУ 16.К99-081-2016","открытая прокладка",null,"Открытая прокладка",{"$f":"ОКЛ!F$124","v":6},null,4,"бетон",{"$f":"ОКЛ!D$136","v":2},"Дюбель-хомут",{"$f":"ОКЛ!D$146","v":3},0,1,1,16,"","",null,null,{"$f":"IF(X172*Y172*Z172=0, 0, MAX(AF$9:AF171 )+1)","v":0},"","","*1*СПЕЦКАБЛАЙН-ГЕФЕСТ-МР15#2$*2*СПЕЦКАБЛАЙН-ГЕФЕСТ-МР18#3$*3*СПЕЦКАБЛАЙН-ГЕФЕСТ-МР20#4$*4*СПЕЦКАБЛАЙН-ГЕФЕСТ-МР22#5$*5*СПЕЦКАБЛАЙН-ГЕФЕСТ-МР25#6$*6*СПЕЦКАБЛАЙН-ГЕФЕСТ-МР32#7$*7*СПЕЦКАБЛАЙН-КиТ-МР15#145$*8*СПЕЦКАБЛАЙН-КиТ-МР18#146$*9*СПЕЦКАБЛАЙН-КиТ-МР20#147$*10*СПЕЦКАБЛАЙН-КиТ-МР20(с протяжкой)#148$*11*СПЕЦКАБЛАЙН-КиТ-МР22#149$*12*СПЕЦКАБЛАЙН-КиТ-МР25#150$*13*СПЕЦКАБЛАЙН-КиТ-МР32#151$*14*СПЕЦКАБЛАЙН-КиТ-МР38#152$*15*СПЕЦКАБЛАЙН-КиТ-МР50#153$"]
["*16*",null,"","","","металлорукава",15,"металлических скоб","бетону",163,"СПЕЦКАБЛАЙН-","МР15","-ТУ 42.22.12-098-47273194-2018","металлорукав","металлорукав","металлорукав",{"$f":"ОКЛ!F$122","v":4},"Металл",1,"бетон",{"$f":"ОКЛ!D$136","v":2},"Скоба",{"$f":"ОКЛ!D$145","v":2},1,1,1,14,12,12,null,null,{"$f":"IF(X173*Y173*Z173=0, 0, MAX(AF$9:AF172 )+1)","v":16},"*16*","*16*СПЕЦКАБЛАЙН-МР15#163$","*1*СПЕЦКАБЛАЙН-ГЕФЕСТ-МР15#2$*2*СПЕЦКАБЛАЙН-ГЕФЕСТ-МР18#3$*3*СПЕЦКАБЛАЙН-ГЕФЕСТ-МР20#4$*4*СПЕЦКАБЛАЙН-ГЕФЕСТ-МР22#5$*5*СПЕЦКАБЛАЙН-ГЕФЕСТ-МР25#6$*6*СПЕЦКАБЛАЙН-ГЕФЕСТ-МР32#7$*7*СПЕЦКАБЛАЙН-КиТ-МР15#145$*8*СПЕЦКАБЛАЙН-КиТ-МР18#146$*9*СПЕЦКАБЛАЙН-КиТ-МР20#147$*10*СПЕЦКАБЛАЙН-КиТ-МР20(с протяжкой)#148$*11*СПЕЦКАБЛАЙН-КиТ-МР22#149$*12*СПЕЦКАБЛАЙН-КиТ-МР25#150$*13*СПЕЦКАБЛАЙН-КиТ-МР32#151$*14*СПЕЦКАБЛАЙН-КиТ-МР38#152$*15*СПЕЦКАБЛАЙН-КиТ-МР50#153$*16*СПЕЦКАБЛАЙН-МР15#163$"]
["",null,"","","","металлорукава",15,"металлических скоб","гипсокартону",164,"СПЕЦКАБЛАЙН-","МР15ГК","-ТУ 42.22.12-098-47273194-2018","металлорукав","металлорукав","металлорукав",{"$f":"ОКЛ!F$122","v":4},"Металл",1,"гипсокортон",{"$f":"ОКЛ!D$137","v":3},"Скоба",{"$f":"ОКЛ!D$145","v":2},1,0,1,"",13,"",null,null,{"$f":"IF(X174*Y174*Z174=0, 0, MAX(AF$9:AF173 )+1)","v":0},"","","*1*СПЕЦКАБЛАЙН-ГЕФЕСТ-МР15#2$*2*СПЕЦКАБЛАЙН-ГЕФЕСТ-МР18#3$*3*СПЕЦКАБЛАЙН-ГЕФЕСТ-МР20#4$*4*СПЕЦКАБЛАЙН-ГЕФЕСТ-МР22#5$*5*СПЕЦКАБЛАЙН-ГЕФЕСТ-МР25#6$*6*СПЕЦКАБЛАЙН-ГЕФЕСТ-МР32#7$*7*СПЕЦКАБЛАЙН-КиТ-МР15#145$*8*СПЕЦКАБЛАЙН-КиТ-МР18#146$*9*СПЕЦКАБЛАЙН-КиТ-МР20#147$*10*СПЕЦКАБЛАЙН-КиТ-МР20(с протяжкой)#148$*11*СПЕЦКАБЛАЙН-КиТ-МР22#149$*12*СПЕЦКАБЛАЙН-КиТ-МР25#150$*13*СПЕЦКАБЛАЙН-КиТ-МР32#151$*14*СПЕЦКАБЛАЙН-КиТ-МР38#152$*15*СПЕЦКАБЛАЙН-КиТ-МР50#153$*16*СПЕЦКАБЛАЙН-МР15#163$"]
["",null,"","","","металлорукава",15,"металлических скоб","сендвичпаннели",165,"СПЕЦКАБЛАЙН-","МР15СП","-ТУ 42.22.12-098-47273194-2018","металлорукав","металлорукав","металлорукав",{"$f":"ОКЛ!F$122","v":4},"Металл",1,"cендвичпаннель",{"$f":"ОКЛ!D$138","v":4},"Скоба",{"$f":"ОКЛ!D$145","v":2},1,0,1,"",14,"",null,null,{"$f":"IF(X175*Y175*Z175=0, 0, MAX(AF$9:AF174 )+1)","v":0},"","","*1*СПЕЦКАБЛАЙН-ГЕФЕСТ-МР15#2$*2*СПЕЦКАБЛАЙН-ГЕФЕСТ-МР18#3$*3*СПЕЦКАБЛАЙН-ГЕФЕСТ-МР20#4$*4*СПЕЦКАБЛАЙН-ГЕФЕСТ-МР22#5$*5*СПЕЦКАБЛАЙН-ГЕФЕСТ-МР25#6$*6*СПЕЦКАБЛАЙН-ГЕФЕСТ-МР32#7$*7*СПЕЦКАБЛАЙН-КиТ-МР15#145$*8*СПЕЦКАБЛАЙН-КиТ-МР18#146$*9*СПЕЦКАБЛАЙН-КиТ-МР20#147$*10*СПЕЦКАБЛАЙН-КиТ-МР20(с протяжкой)#148$*11*СПЕЦКАБЛАЙН-КиТ-МР22#149$*12*СПЕЦКАБЛАЙН-КиТ-МР25#150$*13*СПЕЦКАБЛАЙН-КиТ-МР32#151$*14*СПЕЦКАБЛАЙН-КиТ-МР38#152$*15*СПЕЦКАБЛАЙН-КиТ-МР50#153$*16*СПЕЦКАБЛАЙН-МР15#163$"]
["*17*",null,"","","","металлорукава",20,"металлических скоб","бетону",166,"СПЕЦКАБЛАЙН-","МР20","-ТУ 42.22.12-098-47273194-2018","металлорукав","металлорукав","металлорукав",{"$f":"ОКЛ!F$122","v":4},"Металл",1,"бетон",{"$f":"ОКЛ!D$136","v":2},"Скоба",{"$f":"ОКЛ!D$145","v":2},1,1,1,14,12,12,null,null,{"$f":"IF(X176*Y176*Z176=0, 0, MAX(AF$9:AF175 )+1)","v":17},"*17*","*17*СПЕЦКАБЛАЙН-МР20#166$","*1*СПЕЦКАБЛАЙН-ГЕФЕСТ-МР15#2$*2*СПЕЦКАБЛАЙН-ГЕФЕСТ-МР18#3$*3*СПЕЦКАБЛАЙН-ГЕФЕСТ-МР20#4$*4*СПЕЦКАБЛАЙН-ГЕФЕСТ-МР22#5$*5*СПЕЦКАБЛАЙН-ГЕФЕСТ-МР25#6$*6*СПЕЦКАБЛАЙН-ГЕФЕСТ-МР32#7$*7*СПЕЦКАБЛАЙН-КиТ-МР15#145$*8*СПЕЦКАБЛАЙН-КиТ-МР18#146$*9*СПЕЦКАБЛАЙН-КиТ-МР20#147$*10*СПЕЦКАБЛАЙН-КиТ-МР20(с протяжкой)#148$*11*СПЕЦКАБЛАЙН-КиТ-МР22#149$*12*СПЕЦКАБЛАЙН-КиТ-МР25#150$*13*СПЕЦКАБЛАЙН-КиТ-МР32#151$*14*СПЕЦКАБЛАЙН-КиТ-МР38#152$*15*СПЕЦКАБЛАЙН-КиТ-МР50#153$*16*СПЕЦКАБЛАЙН-МР15#163$*17*СПЕЦКАБЛАЙН-МР20#166$"]
["",null,"","","","металлорукава",20,"металлических скоб","гипсокартону",167,"СПЕЦКАБЛАЙН-","МР20ГК","-ТУ 42.22.12-098-47273194-2018","металлорукав","металлорукав","металлорукав",{"$f":"ОКЛ!F$122","v":4},"Металл",1,"гипсокортон",{"$f":"ОКЛ!D$137","v":3},"Скоба",{"$f":"ОКЛ!D$145","v":2},1,0,1,"",13,"",null,null,{"$f":"IF(X177*Y177*Z177=0, 0, MAX(AF$9:AF176 )+1)","v":0},"","","*1*СПЕЦКАБЛАЙН-ГЕФЕСТ-МР15#2$*2*СПЕЦКАБЛАЙН-ГЕФЕСТ-МР18#3$*3*СПЕЦКАБЛАЙН-ГЕФЕСТ-МР20#4$*4*СПЕЦКАБЛАЙН-ГЕФЕСТ-МР22#5$*5*СПЕЦКАБЛАЙН-ГЕФЕСТ-МР25#6$*6*СПЕЦКАБЛАЙН-ГЕФЕСТ-МР32#7$*7*СПЕЦКАБЛАЙН-КиТ-МР15#145$*8*СПЕЦКАБЛАЙН-КиТ-МР18#146$*9*СПЕЦКАБЛАЙН-КиТ-МР20#147$*10*СПЕЦКАБЛАЙН-КиТ-МР20(с протяжкой)#148$*11*СПЕЦКАБЛАЙН-КиТ-МР22#149$*12*СПЕЦКАБЛАЙН-КиТ-МР25#150$*13*СПЕЦКАБЛАЙН-КиТ-МР32#151$*14*СПЕЦКАБЛАЙН-КиТ-МР38#152$*15*СПЕЦКАБЛАЙН-КиТ-МР50#153$*16*СПЕЦКАБЛАЙН-МР15#163$*17*СПЕЦКАБЛАЙН-МР20#166$"]
["",null,"","","","металлорукава",20,"металлических скоб","сендвичпаннели",168,"СПЕЦКАБЛАЙН-","МР20СП","-ТУ 42.22.12-098-47273194-2018","металлорукав","металлорукав","металлорукав",{"$f":"ОКЛ!F$122","v":4},"Металл",1,"cендвичпаннель",{"$f":"ОКЛ!D$138","v":4},"Скоба",{"$f":"ОКЛ!D$145","v":2},1,0,1,"",14,"",null,null,{"$f":"IF(X178*Y178*Z178=0, 0, MAX(AF$9:AF177 )+1)","v":0},"","","*1*СПЕЦКАБЛАЙН-ГЕФЕСТ-МР15#2$*2*СПЕЦКАБЛАЙН-ГЕФЕСТ-МР18#3$*3*СПЕЦКАБЛАЙН-ГЕФЕСТ-МР20#4$*4*СПЕЦКАБЛАЙН-ГЕФЕСТ-МР22#5$*5*СПЕЦКАБЛАЙН-ГЕФЕСТ-МР25#6$*6*СПЕЦКАБЛАЙН-ГЕФЕСТ-МР32#7$*7*СПЕЦКАБЛАЙН-КиТ-МР15#145$*8*СПЕЦКАБЛАЙН-КиТ-МР18#146$*9*СПЕЦКАБЛАЙН-КиТ-МР20#147$*10*СПЕЦКАБЛАЙН-КиТ-МР20(с протяжкой)#148$*11*СПЕЦКАБЛАЙН-КиТ-МР22#149$*12*СПЕЦКАБЛАЙН-КиТ-МР25#150$*13*СПЕЦКАБЛАЙН-КиТ-МР32#151$*14*СПЕЦКАБЛАЙН-КиТ-МР38#152$*15*СПЕЦКАБЛАЙН-КиТ-МР50#153$*16*СПЕЦКАБЛАЙН-МР15#163$*17*СПЕЦКАБЛАЙН-МР20#166$"]
["*18*",null,"","","","металлорукава",26,"металлических скоб","бетону",169,"СПЕЦКАБЛАЙН-","МР26","-ТУ 42.22.12-098-47273194-2018","металлорукав","металлорукав","металлорукав",{"$f":"ОКЛ!F$122","v":4},"Металл",1,"бетон",{"$f":"ОКЛ!D$136","v":2},"Скоба",{"$f":"ОКЛ!D$145","v":2},1,1,1,14,12,12,null,null,{"$f":"IF(X179*Y179*Z179=0, 0, MAX(AF$9:AF178 )+1)","v":18},"*18*","*18*СПЕЦКАБЛАЙН-МР26#169$","*1*СПЕЦКАБЛАЙН-ГЕФЕСТ-МР15#2$*2*СПЕЦКАБЛАЙН-ГЕФЕСТ-МР18#3$*3*СПЕЦКАБЛАЙН-ГЕФЕСТ-МР20#4$*4*СПЕЦКАБЛАЙН-ГЕФЕСТ-МР22#5$*5*СПЕЦКАБЛАЙН-ГЕФЕСТ-МР25#6$*6*СПЕЦКАБЛАЙН-ГЕФЕСТ-МР32#7$*7*СПЕЦКАБЛАЙН-КиТ-МР15#145$*8*СПЕЦКАБЛАЙН-КиТ-МР18#146$*9*СПЕЦКАБЛАЙН-КиТ-МР20#147$*10*СПЕЦКАБЛАЙН-КиТ-МР20(с протяжкой)#148$*11*СПЕЦКАБЛАЙН-КиТ-МР22#149$*12*СПЕЦКАБЛАЙН-КиТ-МР25#150$*13*СПЕЦКАБЛАЙН-КиТ-МР32#151$*14*СПЕЦКАБЛАЙН-КиТ-МР38#152$*15*СПЕЦКАБЛАЙН-КиТ-МР50#153$*16*СПЕЦКАБЛАЙН-МР15#163$*17*СПЕЦКАБЛАЙН-МР20#166$*18*СПЕЦКАБЛАЙН-МР26#169$"]
["",null,"","","","металлорукава",26,"металлических скоб","гипсокартону",170,"СПЕЦКАБЛАЙН-","МР26ГК","-ТУ 42.22.12-098-47273194-2018","металлорукав","металлорукав","металлорукав",{"$f":"ОКЛ!F$122","v":4},"Металл",1,"гипсокортон",{"$f":"ОКЛ!D$137","v":3},"Скоба",{"$f":"ОКЛ!D$145","v":2},1,0,1,"",13,"",null,null,{"$f":"IF(X180*Y180*Z180=0, 0, MAX(AF$9:AF179 )+1)","v":0},"","","*1*СПЕЦКАБЛАЙН-ГЕФЕСТ-МР15#2$*2*СПЕЦКАБЛАЙН-ГЕФЕСТ-МР18#3$*3*СПЕЦКАБЛАЙН-ГЕФЕСТ-МР20#4$*4*СПЕЦКАБЛАЙН-ГЕФЕСТ-МР22#5$*5*СПЕЦКАБЛАЙН-ГЕФЕСТ-МР25#6$*6*СПЕЦКАБЛАЙН-ГЕФЕСТ-МР32#7$*7*СПЕЦКАБЛАЙН-КиТ-МР15#145$*8*СПЕЦКАБЛАЙН-КиТ-МР18#146$*9*СПЕЦКАБЛАЙН-КиТ-МР20#147$*10*СПЕЦКАБЛАЙН-КиТ-МР20(с протяжкой)#148$*11*СПЕЦКАБЛАЙН-КиТ-МР22#149$*12*СПЕЦКАБЛАЙН-КиТ-МР25#150$*13*СПЕЦКАБЛАЙН-КиТ-МР32#151$*14*СПЕЦКАБЛАЙН-КиТ-МР38#152$*15*СПЕЦКАБЛАЙН-КиТ-МР50#153$*16*СПЕЦКАБЛАЙН-МР15#163$*17*СПЕЦКАБЛАЙН-МР20#166$*18*СПЕЦКАБЛАЙН-МР26#169$"]
["",null,"","","","металлорукава",26,"металлических скоб","сендвичпаннели",171,"СПЕЦКАБЛАЙН-","МР26СП","-ТУ 42.22.12-098-47273194-2018","металлорукав","металлорукав","металлорукав",{"$f":"ОКЛ!F$122","v":4},"Металл",1,"cендвичпаннель",{"$f":"ОКЛ!D$138","v":4},"Скоба",{"$f":"ОКЛ!D$145","v":2},1,0,1,"",14,"",null,null,{"$f":"IF(X181*Y181*Z181=0, 0, MAX(AF$9:AF180 )+1)","v":0},"","","*1*СПЕЦКАБЛАЙН-ГЕФЕСТ-МР15#2$*2*СПЕЦКАБЛАЙН-ГЕФЕСТ-МР18#3$*3*СПЕЦКАБЛАЙН-ГЕФЕСТ-МР20#4$*4*СПЕЦКАБЛАЙН-ГЕФЕСТ-МР22#5$*5*СПЕЦКАБЛАЙН-ГЕФЕСТ-МР25#6$*6*СПЕЦКАБЛАЙН-ГЕФЕСТ-МР32#7$*7*СПЕЦКАБЛАЙН-КиТ-МР15#145$*8*СПЕЦКАБЛАЙН-КиТ-МР18#146$*9*СПЕЦКАБЛАЙН-КиТ-МР20#147$*10*СПЕЦКАБЛАЙН-КиТ-МР20(с протяжкой)#148$*11*СПЕЦКАБЛАЙН-КиТ-МР22#149$*12*СПЕЦКАБЛАЙН-КиТ-МР25#150$*13*СПЕЦКАБЛАЙН-КиТ-МР32#151$*14*СПЕЦКАБЛАЙН-КиТ-МР38#152$*15*СПЕЦКАБЛАЙН-КиТ-МР50#153$*16*СПЕЦКАБЛАЙН-МР15#163$*17*СПЕЦКАБЛАЙН-МР20#166$*18*СПЕЦКАБЛАЙН-МР26#169$"]
["*19*",null,"","","","металлорукава",35,"металлических скоб","бетону",172,"СПЕЦКАБЛАЙН-","МР35","-ТУ 42.22.12-098-47273194-2018","металлорукав","металлорукав","металлорукав",{"$f":"ОКЛ!F$122","v":4},"Металл",1,"бетон",{"$f":"ОКЛ!D$136","v":2},"Скоба",{"$f":"ОКЛ!D$145","v":2},1,1,1,14,12,12,null,null,{"$f":"IF(X182*Y182*Z182=0, 0, MAX(AF$9:AF181 )+1)","v":19},"*19*","*19*СПЕЦКАБЛАЙН-МР35#172$","*1*СПЕЦКАБЛАЙН-ГЕФЕСТ-МР15#2$*2*СПЕЦКАБЛАЙН-ГЕФЕСТ-МР18#3$*3*СПЕЦКАБЛАЙН-ГЕФЕСТ-МР20#4$*4*СПЕЦКАБЛАЙН-ГЕФЕСТ-МР22#5$*5*СПЕЦКАБЛАЙН-ГЕФЕСТ-МР25#6$*6*СПЕЦКАБЛАЙН-ГЕФЕСТ-МР32#7$*7*СПЕЦКАБЛАЙН-КиТ-МР15#145$*8*СПЕЦКАБЛАЙН-КиТ-МР18#146$*9*СПЕЦКАБЛАЙН-КиТ-МР20#147$*10*СПЕЦКАБЛАЙН-КиТ-МР20(с протяжкой)#148$*11*СПЕЦКАБЛАЙН-КиТ-МР22#149$*12*СПЕЦКАБЛАЙН-КиТ-МР25#150$*13*СПЕЦКАБЛАЙН-КиТ-МР32#151$*14*СПЕЦКАБЛАЙН-КиТ-МР38#152$*15*СПЕЦКАБЛАЙН-КиТ-МР50#153$*16*СПЕЦКАБЛАЙН-МР15#163$*17*СПЕЦКАБЛАЙН-МР20#166$*18*СПЕЦКАБЛАЙН-МР26#169$*19*СПЕЦКАБЛАЙН-МР35#172$"]
["",null,"","","","металлорукава",35,"металлических скоб","гипсокартону",173,"СПЕЦКАБЛАЙН-","МР35ГК","-ТУ 42.22.12-098-47273194-2018","металлорукав","металлорукав","металлорукав",{"$f":"ОКЛ!F$122","v":4},"Металл",1,"гипсокортон",{"$f":"ОКЛ!D$137","v":3},"Скоба",{"$f":"ОКЛ!D$145","v":2},1,0,1,"",13,"",null,null,{"$f":"IF(X183*Y183*Z183=0, 0, MAX(AF$9:AF182 )+1)","v":0},"","","*1*СПЕЦКАБЛАЙН-ГЕФЕСТ-МР15#2$*2*СПЕЦКАБЛАЙН-ГЕФЕСТ-МР18#3$*3*СПЕЦКАБЛАЙН-ГЕФЕСТ-МР20#4$*4*СПЕЦКАБЛАЙН-ГЕФЕСТ-МР22#5$*5*СПЕЦКАБЛАЙН-ГЕФЕСТ-МР25#6$*6*СПЕЦКАБЛАЙН-ГЕФЕСТ-МР32#7$*7*СПЕЦКАБЛАЙН-КиТ-МР15#145$*8*СПЕЦКАБЛАЙН-КиТ-МР18#146$*9*СПЕЦКАБЛАЙН-КиТ-МР20#147$*10*СПЕЦКАБЛАЙН-КиТ-МР20(с протяжкой)#148$*11*СПЕЦКАБЛАЙН-КиТ-МР22#149$*12*СПЕЦКАБЛАЙН-КиТ-МР25#150$*13*СПЕЦКАБЛАЙН-КиТ-МР32#151$*14*СПЕЦКАБЛАЙН-КиТ-МР38#152$*15*СПЕЦКАБЛАЙН-КиТ-МР50#153$*16*СПЕЦКАБЛАЙН-МР15#163$*17*СПЕЦКАБЛАЙН-МР20#166$*18*СПЕЦКАБЛАЙН-МР26#169$*19*СПЕЦКАБЛАЙН-МР35#172$"]
["",null,"","","","металлорукава",35,"металлических скоб","сендвичпаннели",174,"СПЕЦКАБЛАЙН-","МР35СП","-ТУ 42.22.12-098-47273194-2018","металлорукав","металлорукав","металлорукав",{"$f":"ОКЛ!F$122","v":4},"Металл",1,"cендвичпаннель",{"$f":"ОКЛ!D$138","v":4},"Скоба",{"$f":"ОКЛ!D$145","v":2},1,0,1,"",14,"",null,null,{"$f":"IF(X184*Y184*Z184=0, 0, MAX(AF$9:AF183 )+1)","v":0},"","","*1*СПЕЦКАБЛАЙН-ГЕФЕСТ-МР15#2$*2*СПЕЦКАБЛАЙН-ГЕФЕСТ-МР18#3$*3*СПЕЦКАБЛАЙН-ГЕФЕСТ-МР20#4$*4*СПЕЦКАБЛАЙН-ГЕФЕСТ-МР22#5$*5*СПЕЦКАБЛАЙН-ГЕФЕСТ-МР25#6$*6*СПЕЦКАБЛАЙН-ГЕФЕСТ-МР32#7$*7*СПЕЦКАБЛАЙН-КиТ-МР15#145$*8*СПЕЦКАБЛАЙН-КиТ-МР18#146$*9*СПЕЦКАБЛАЙН-КиТ-МР20#147$*10*СПЕЦКАБЛАЙН-КиТ-МР20(с протяжкой)#148$*11*СПЕЦКАБЛАЙН-КиТ-МР22#149$*12*СПЕЦКАБЛАЙН-КиТ-МР25#150$*13*СПЕЦКАБЛАЙН-КиТ-МР32#151$*14*СПЕЦКАБЛАЙН-КиТ-МР38#152$*15*СПЕЦКАБЛАЙН-КиТ-МР50#153$*16*СПЕЦКАБЛАЙН-МР15#163$*17*СПЕЦКАБЛАЙН-МР20#166$*18*СПЕЦКАБЛАЙН-МР26#169$*19*СПЕЦКАБЛАЙН-МР35#172$"]
["*20*",null,"","","","металлорукава",40,"металлических скоб","бетону",175,"СПЕЦКАБЛАЙН-","МР40","-ТУ 42.22.12-098-47273194-2018","металлорукав","металлорукав","металлорукав",{"$f":"ОКЛ!F$122","v":4},"Металл",1,"бетон",{"$f":"ОКЛ!D$136","v":2},"Скоба",{"$f":"ОКЛ!D$145","v":2},1,1,1,14,12,12,null,null,{"$f":"IF(X185*Y185*Z185=0, 0, MAX(AF$9:AF184 )+1)","v":20},"*20*","*20*СПЕЦКАБЛАЙН-МР40#175$","*1*СПЕЦКАБЛАЙН-ГЕФЕСТ-МР15#2$*2*СПЕЦКАБЛАЙН-ГЕФЕСТ-МР18#3$*3*СПЕЦКАБЛАЙН-ГЕФЕСТ-МР20#4$*4*СПЕЦКАБЛАЙН-ГЕФЕСТ-МР22#5$*5*СПЕЦКАБЛАЙН-ГЕФЕСТ-МР25#6$*6*СПЕЦКАБЛАЙН-ГЕФЕСТ-МР32#7$*7*СПЕЦКАБЛАЙН-КиТ-МР15#145$*8*СПЕЦКАБЛАЙН-КиТ-МР18#146$*9*СПЕЦКАБЛАЙН-КиТ-МР20#147$*10*СПЕЦКАБЛАЙН-КиТ-МР20(с протяжкой)#148$*11*СПЕЦКАБЛАЙН-КиТ-МР22#149$*12*СПЕЦКАБЛАЙН-КиТ-МР25#150$*13*СПЕЦКАБЛАЙН-КиТ-МР32#151$*14*СПЕЦКАБЛАЙН-КиТ-МР38#152$*15*СПЕЦКАБЛАЙН-КиТ-МР50#153$*16*СПЕЦКАБЛАЙН-МР15#163$*17*СПЕЦКАБЛАЙН-МР20#166$*18*СПЕЦКАБЛАЙН-МР26#169$*19*СПЕЦКАБЛАЙН-МР35#172$*20*СПЕЦКАБЛАЙН-МР40#175$"]
["",null,"","","","металлорукава",40,"металлических скоб","гипсокартону",176,"СПЕЦКАБЛАЙН-","МР40ГК","-ТУ 42.22.12-098-47273194-2018","металлорукав","металлорукав","металлорукав",{"$f":"ОКЛ!F$122","v":4},"Металл",1,"гипсокортон",{"$f":"ОКЛ!D$137","v":3},"Скоба",{"$f":"ОКЛ!D$145","v":2},1,0,1,"",13,"",null,null,{"$f":"IF(X186*Y186*Z186=0, 0, MAX(AF$9:AF185 )+1)","v":0},"","","*1*СПЕЦКАБЛАЙН-ГЕФЕСТ-МР15#2$*2*СПЕЦКАБЛАЙН-ГЕФЕСТ-МР18#3$*3*СПЕЦКАБЛАЙН-ГЕФЕСТ-МР20#4$*4*СПЕЦКАБЛАЙН-ГЕФЕСТ-МР22#5$*5*СПЕЦКАБЛАЙН-ГЕФЕСТ-МР25#6$*6*СПЕЦКАБЛАЙН-ГЕФЕСТ-МР32#7$*7*СПЕЦКАБЛАЙН-КиТ-МР15#145$*8*СПЕЦКАБЛАЙН-КиТ-МР18#146$*9*СПЕЦКАБЛАЙН-КиТ-МР20#147$*10*СПЕЦКАБЛАЙН-КиТ-МР20(с протяжкой)#148$*11*СПЕЦКАБЛАЙН-КиТ-МР22#149$*12*СПЕЦКАБЛАЙН-КиТ-МР25#150$*13*СПЕЦКАБЛАЙН-КиТ-МР32#151$*14*СПЕЦКАБЛАЙН-КиТ-МР38#152$*15*СПЕЦКАБЛАЙН-КиТ-МР50#153$*16*СПЕЦКАБЛАЙН-МР15#163$*17*СПЕЦКАБЛАЙН-МР20#166$*18*СПЕЦКАБЛАЙН-МР26#169$*19*СПЕЦКАБЛАЙН-МР35#172$*20*СПЕЦКАБЛАЙН-МР40#175$"]
["",null,"","","","металлорукава",40,"металлических скоб","сендвичпаннели",177,"СПЕЦКАБЛАЙН-","МР40СП","-ТУ 42.22.12-098-47273194-2018","металлорукав","металлорукав","металлорукав",{"$f":"ОКЛ!F$122","v":4},"Металл",1,"cендвичпаннель",{"$f":"ОКЛ!D$138","v":4},"Скоба",{"$f":"ОКЛ!D$145","v":2},1,0,1,"",14,"",null,null,{"$f":"IF(X187*Y187*Z187=0, 0, MAX(AF$9:AF186 )+1)","v":0},"","","*1*СПЕЦКАБЛАЙН-ГЕФЕСТ-МР15#2$*2*СПЕЦКАБЛАЙН-ГЕФЕСТ-МР18#3$*3*СПЕЦКАБЛАЙН-ГЕФЕСТ-МР20#4$*4*СПЕЦКАБЛАЙН-ГЕФЕСТ-МР22#5$*5*СПЕЦКАБЛАЙН-ГЕФЕСТ-МР25#6$*6*СПЕЦКАБЛАЙН-ГЕФЕСТ-МР32#7$*7*СПЕЦКАБЛАЙН-КиТ-МР15#145$*8*СПЕЦКАБЛАЙН-КиТ-МР18#146$*9*СПЕЦКАБЛАЙН-КиТ-МР20#147$*10*СПЕЦКАБЛАЙН-КиТ-МР20(с протяжкой)#148$*11*СПЕЦКАБЛАЙН-КиТ-МР22#149$*12*СПЕЦКАБЛАЙН-КиТ-МР25#150$*13*СПЕЦКАБЛАЙН-КиТ-МР32#151$*14*СПЕЦКАБЛАЙН-КиТ-МР38#152$*15*СПЕЦКАБЛАЙН-КиТ-МР50#153$*16*СПЕЦКАБЛАЙН-МР15#163$*17*СПЕЦКАБЛАЙН-МР20#166$*18*СПЕЦКАБЛАЙН-МР26#169$*19*СПЕЦКАБЛАЙН-МР35#172$*20*СПЕЦКАБЛАЙН-МР40#175$"]
["*21*",null,"","","","металлорукава",50,"металлических скоб","бетону",178,"СПЕЦКАБЛАЙН-","МР50","-ТУ 42.22.12-098-47273194-2018","металлорукав","металлорукав","металлорукав",{"$f":"ОКЛ!F$122","v":4},"Металл",1,"бетон",{"$f":"ОКЛ!D$136","v":2},"Скоба",{"$f":"ОКЛ!D$145","v":2},1,1,1,14,12,12,null,null,{"$f":"IF(X188*Y188*Z188=0, 0, MAX(AF$9:AF187 )+1)","v":21},"*21*","*21*СПЕЦКАБЛАЙН-МР50#178$","*1*СПЕЦКАБЛАЙН-ГЕФЕСТ-МР15#2$*2*СПЕЦКАБЛАЙН-ГЕФЕСТ-МР18#3$*3*СПЕЦКАБЛАЙН-ГЕФЕСТ-МР20#4$*4*СПЕЦКАБЛАЙН-ГЕФЕСТ-МР22#5$*5*СПЕЦКАБЛАЙН-ГЕФЕСТ-МР25#6$*6*СПЕЦКАБЛАЙН-ГЕФЕСТ-МР32#7$*7*СПЕЦКАБЛАЙН-КиТ-МР15#145$*8*СПЕЦКАБЛАЙН-КиТ-МР18#146$*9*СПЕЦКАБЛАЙН-КиТ-МР20#147$*10*СПЕЦКАБЛАЙН-КиТ-МР20(с протяжкой)#148$*11*СПЕЦКАБЛАЙН-КиТ-МР22#149$*12*СПЕЦКАБЛАЙН-КиТ-МР25#150$*13*СПЕЦКАБЛАЙН-КиТ-МР32#151$*14*СПЕЦКАБЛАЙН-КиТ-МР38#152$*15*СПЕЦКАБЛАЙН-КиТ-МР50#153$*16*СПЕЦКАБЛАЙН-МР15#163$*17*СПЕЦКАБЛАЙН-МР20#166$*18*СПЕЦКАБЛАЙН-МР26#169$*19*СПЕЦКАБЛАЙН-МР35#172$*20*СПЕЦКАБЛАЙН-МР40#175$*21*СПЕЦКАБЛАЙН-МР50#178$"]
["",null,"","","","металлорукава",50,"металлических скоб","гипсокартону",179,"СПЕЦКАБЛАЙН-","МР50ГК","-ТУ 42.22.12-098-47273194-2018","металлорукав","металлорукав","металлорукав",{"$f":"ОКЛ!F$122","v":4},"Металл",1,"гипсокортон",{"$f":"ОКЛ!D$137","v":3},"Скоба",{"$f":"ОКЛ!D$145","v":2},1,0,1,"",13,"",null,null,{"$f":"IF(X189*Y189*Z189=0, 0, MAX(AF$9:AF188 )+1)","v":0},"","","*1*СПЕЦКАБЛАЙН-ГЕФЕСТ-МР15#2$*2*СПЕЦКАБЛАЙН-ГЕФЕСТ-МР18#3$*3*СПЕЦКАБЛАЙН-ГЕФЕСТ-МР20#4$*4*СПЕЦКАБЛАЙН-ГЕФЕСТ-МР22#5$*5*СПЕЦКАБЛАЙН-ГЕФЕСТ-МР25#6$*6*СПЕЦКАБЛАЙН-ГЕФЕСТ-МР32#7$*7*СПЕЦКАБЛАЙН-КиТ-МР15#145$*8*СПЕЦКАБЛАЙН-КиТ-МР18#146$*9*СПЕЦКАБЛАЙН-КиТ-МР20#147$*10*СПЕЦКАБЛАЙН-КиТ-МР20(с протяжкой)#148$*11*СПЕЦКАБЛАЙН-КиТ-МР22#149$*12*СПЕЦКАБЛАЙН-КиТ-МР25#150$*13*СПЕЦКАБЛАЙН-КиТ-МР32#151$*14*СПЕЦКАБЛАЙН-КиТ-МР38#152$*15*СПЕЦКАБЛАЙН-КиТ-МР50#153$*16*СПЕЦКАБЛАЙН-МР15#163$*17*СПЕЦКАБЛАЙН-МР20#166$*18*СПЕЦКАБЛАЙН-МР26#169$*19*СПЕЦКАБЛАЙН-МР35#172$*20*СПЕЦКАБЛАЙН-МР40#175$*21*СПЕЦКАБЛАЙН-МР50#178$"]
["",null,"","","","металлорукава",50,"металлических скоб","сендвичпаннели",180,"СПЕЦКАБЛАЙН-","МР50СП","-ТУ 42.22.12-098-47273194-2018","металлорукав","металлорукав","металлорукав",{"$f":"ОКЛ!F$122","v":4},"Металл",1,"cендвичпаннель",{"$f":"ОКЛ!D$138","v":4},"Скоба",{"$f":"ОКЛ!D$145","v":2},1,0,1,"",14,"",null,null,{"$f":"IF(X190*Y190*Z190=0, 0, MAX(AF$9:AF189 )+1)","v":0},"","","*1*СПЕЦКАБЛАЙН-ГЕФЕСТ-МР15#2$*2*СПЕЦКАБЛАЙН-ГЕФЕСТ-МР18#3$*3*СПЕЦКАБЛАЙН-ГЕФЕСТ-МР20#4$*4*СПЕЦКАБЛАЙН-ГЕФЕСТ-МР22#5$*5*СПЕЦКАБЛАЙН-ГЕФЕСТ-МР25#6$*6*СПЕЦКАБЛАЙН-ГЕФЕСТ-МР32#7$*7*СПЕЦКАБЛАЙН-КиТ-МР15#145$*8*СПЕЦКАБЛАЙН-КиТ-МР18#146$*9*СПЕЦКАБЛАЙН-КиТ-МР20#147$*10*СПЕЦКАБЛАЙН-КиТ-МР20(с протяжкой)#148$*11*СПЕЦКАБЛАЙН-КиТ-МР22#149$*12*СПЕЦКАБЛАЙН-КиТ-МР25#150$*13*СПЕЦКАБЛАЙН-КиТ-МР32#151$*14*СПЕЦКАБЛАЙН-КиТ-МР38#152$*15*СПЕЦКАБЛАЙН-КиТ-МР50#153$*16*СПЕЦКАБЛАЙН-МР15#163$*17*СПЕЦКАБЛАЙН-МР20#166$*18*СПЕЦКАБЛАЙН-МР26#169$*19*СПЕЦКАБЛАЙН-МР35#172$*20*СПЕЦКАБЛАЙН-МР40#175$*21*СПЕЦКАБЛАЙН-МР50#178$"]
["*22*",null,"","","","металлорукава",15,"металлических скоб","бетону",181,"СПЕЦКАБЛАЙН-","МРП15","-ТУ 42.22.12-098-47273194-2018","металлорукав","металлорукав","металлорукав",{"$f":"ОКЛ!F$122","v":4},"Металл",1,"бетон",{"$f":"ОКЛ!D$136","v":2},"Скоба",{"$f":"ОКЛ!D$145","v":2},1,1,1,14,12,12,null,null,{"$f":"IF(X191*Y191*Z191=0, 0, MAX(AF$9:AF190 )+1)","v":22},"*22*","*22*СПЕЦКАБЛАЙН-МРП15#181$","*1*СПЕЦКАБЛАЙН-ГЕФЕСТ-МР15#2$*2*СПЕЦКАБЛАЙН-ГЕФЕСТ-МР18#3$*3*СПЕЦКАБЛАЙН-ГЕФЕСТ-МР20#4$*4*СПЕЦКАБЛАЙН-ГЕФЕСТ-МР22#5$*5*СПЕЦКАБЛАЙН-ГЕФЕСТ-МР25#6$*6*СПЕЦКАБЛАЙН-ГЕФЕСТ-МР32#7$*7*СПЕЦКАБЛАЙН-КиТ-МР15#145$*8*СПЕЦКАБЛАЙН-КиТ-МР18#146$*9*СПЕЦКАБЛАЙН-КиТ-МР20#147$*10*СПЕЦКАБЛАЙН-КиТ-МР20(с протяжкой)#148$*11*СПЕЦКАБЛАЙН-КиТ-МР22#149$*12*СПЕЦКАБЛАЙН-КиТ-МР25#150$*13*СПЕЦКАБЛАЙН-КиТ-МР32#151$*14*СПЕЦКАБЛАЙН-КиТ-МР38#152$*15*СПЕЦКАБЛАЙН-КиТ-МР50#153$*16*СПЕЦКАБЛАЙН-МР15#163$*17*СПЕЦКАБЛАЙН-МР20#166$*18*СПЕЦКАБЛАЙН-МР26#169$*19*СПЕЦКАБЛАЙН-МР35#172$*20*СПЕЦКАБЛАЙН-МР40#175$*21*СПЕЦКАБЛАЙН-МР50#178$*22*СПЕЦКАБЛАЙН-МРП15#181$"]
["",null,"","","","металлорукава",15,"металлических скоб","гипсокартону",182,"СПЕЦКАБЛАЙН-","МРП15ГК","-ТУ 42.22.12-098-47273194-2018","металлорукав","металлорукав","металлорукав",{"$f":"ОКЛ!F$122","v":4},"Металл",1,"гипсокортон",{"$f":"ОКЛ!D$137","v":3},"Скоба",{"$f":"ОКЛ!D$145","v":2},1,0,1,"",13,"",null,null,{"$f":"IF(X192*Y192*Z192=0, 0, MAX(AF$9:AF191 )+1)","v":0},"","","*1*СПЕЦКАБЛАЙН-ГЕФЕСТ-МР15#2$*2*СПЕЦКАБЛАЙН-ГЕФЕСТ-МР18#3$*3*СПЕЦКАБЛАЙН-ГЕФЕСТ-МР20#4$*4*СПЕЦКАБЛАЙН-ГЕФЕСТ-МР22#5$*5*СПЕЦКАБЛАЙН-ГЕФЕСТ-МР25#6$*6*СПЕЦКАБЛАЙН-ГЕФЕСТ-МР32#7$*7*СПЕЦКАБЛАЙН-КиТ-МР15#145$*8*СПЕЦКАБЛАЙН-КиТ-МР18#146$*9*СПЕЦКАБЛАЙН-КиТ-МР20#147$*10*СПЕЦКАБЛАЙН-КиТ-МР20(с протяжкой)#148$*11*СПЕЦКАБЛАЙН-КиТ-МР22#149$*12*СПЕЦКАБЛАЙН-КиТ-МР25#150$*13*СПЕЦКАБЛАЙН-КиТ-МР32#151$*14*СПЕЦКАБЛАЙН-КиТ-МР38#152$*15*СПЕЦКАБЛАЙН-КиТ-МР50#153$*16*СПЕЦКАБЛАЙН-МР15#163$*17*СПЕЦКАБЛАЙН-МР20#166$*18*СПЕЦКАБЛАЙН-МР26#169$*19*СПЕЦКАБЛАЙН-МР35#172$*20*СПЕЦКАБЛАЙН-МР40#175$*21*СПЕЦКАБЛАЙН-МР50#178$*22*СПЕЦКАБЛАЙН-МРП15#181$"]
["",null,"","","","металлорукава",15,"металлических скоб","сендвичпаннели",183,"СПЕЦКАБЛАЙН-","МРП15СП","-ТУ 42.22.12-098-47273194-2018","металлорукав","металлорукав","металлорукав",{"$f":"ОКЛ!F$122","v":4},"Металл",1,"cендвичпаннель",{"$f":"ОКЛ!D$138","v":4},"Скоба",{"$f":"ОКЛ!D$145","v":2},1,0,1,"",14,"",null,null,{"$f":"IF(X193*Y193*Z193=0, 0, MAX(AF$9:AF192 )+1)","v":0},"","","*1*СПЕЦКАБЛАЙН-ГЕФЕСТ-МР15#2$*2*СПЕЦКАБЛАЙН-ГЕФЕСТ-МР18#3$*3*СПЕЦКАБЛАЙН-ГЕФЕСТ-МР20#4$*4*СПЕЦКАБЛАЙН-ГЕФЕСТ-МР22#5$*5*СПЕЦКАБЛАЙН-ГЕФЕСТ-МР25#6$*6*СПЕЦКАБЛАЙН-ГЕФЕСТ-МР32#7$*7*СПЕЦКАБЛАЙН-КиТ-МР15#145$*8*СПЕЦКАБЛАЙН-КиТ-МР18#146$*9*СПЕЦКАБЛАЙН-КиТ-МР20#147$*10*СПЕЦКАБЛАЙН-КиТ-МР20(с протяжкой)#148$*11*СПЕЦКАБЛАЙН-КиТ-МР22#149$*12*СПЕЦКАБЛАЙН-КиТ-МР25#150$*13*СПЕЦКАБЛАЙН-КиТ-МР32#151$*14*СПЕЦКАБЛАЙН-КиТ-МР38#152$*15*СПЕЦКАБЛАЙН-КиТ-МР50#153$*16*СПЕЦКАБЛАЙН-МР15#163$*17*СПЕЦКАБЛАЙН-МР20#166$*18*СПЕЦКАБЛАЙН-МР26#169$*19*СПЕЦКАБЛАЙН-МР35#172$*20*СПЕЦКАБЛАЙН-МР40#175$*21*СПЕЦКАБЛАЙН-МР50#178$*22*СПЕЦКАБЛАЙН-МРП15#181$"]
["",null,{"$f":"IF(ISERR(FIND(\"Огнес\",E194)),\"\",J194)","v":""},"","","сетки Манье на троссу",4,"металлических крючоков","бетону",184,"СПЕЦКАБЛАЙН-","Тр4/100","-ТУ 42.22.12-098-47273194-2018","тросс","Сетка на тросу","Сетка манье на троссу",{"$f":"ОКЛ!F$127","v":9},"Металл",1,"бетон",{"$f":"ОКЛ!D$136","v":2},"Крючок",{"$f":"ОКЛ!D$149","v":6},0,1,1,19,"","",null,null,{"$f":"IF(X194*Y194*Z194=0, 0, MAX(AF$9:AF193 )+1)","v":0},"","","*1*СПЕЦКАБЛАЙН-ГЕФЕСТ-МР15#2$*2*СПЕЦКАБЛАЙН-ГЕФЕСТ-МР18#3$*3*СПЕЦКАБЛАЙН-ГЕФЕСТ-МР20#4$*4*СПЕЦКАБЛАЙН-ГЕФЕСТ-МР22#5$*5*СПЕЦКАБЛАЙН-ГЕФЕСТ-МР25#6$*6*СПЕЦКАБЛАЙН-ГЕФЕСТ-МР32#7$*7*СПЕЦКАБЛАЙН-КиТ-МР15#145$*8*СПЕЦКАБЛАЙН-КиТ-МР18#146$*9*СПЕЦКАБЛАЙН-КиТ-МР20#147$*10*СПЕЦКАБЛАЙН-КиТ-МР20(с протяжкой)#148$*11*СПЕЦКАБЛАЙН-КиТ-МР22#149$*12*СПЕЦКАБЛАЙН-КиТ-МР25#150$*13*СПЕЦКАБЛАЙН-КиТ-МР32#151$*14*СПЕЦКАБЛАЙН-КиТ-МР38#152$*15*СПЕЦКАБЛАЙН-КиТ-МР50#153$*16*СПЕЦКАБЛАЙН-МР15#163$*17*СПЕЦКАБЛАЙН-МР20#166$*18*СПЕЦКАБЛАЙН-МР26#169$*19*СПЕЦКАБЛАЙН-МР35#172$*20*СПЕЦКАБЛАЙН-МР40#175$*21*СПЕЦКАБЛАЙН-МР50#178$*22*СПЕЦКАБЛАЙН-МРП15#181$"]
["",null,"","","","сетки Манье на троссу",4,"металлических крючоков","бетону",185,"СПЕЦКАБЛАЙН-","Тр4/200","-ТУ 42.22.12-098-47273194-2018","тросс","Сетка на тросу","Сетка манье на троссу",{"$f":"ОКЛ!F$127","v":9},"Металл",1,"бетон",{"$f":"ОКЛ!D$136","v":2},"Крючок",{"$f":"ОКЛ!D$149","v":6},0,1,1,19,"","",null,null,{"$f":"IF(X195*Y195*Z195=0, 0, MAX(AF$9:AF194 )+1)","v":0},"","","*1*СПЕЦКАБЛАЙН-ГЕФЕСТ-МР15#2$*2*СПЕЦКАБЛАЙН-ГЕФЕСТ-МР18#3$*3*СПЕЦКАБЛАЙН-ГЕФЕСТ-МР20#4$*4*СПЕЦКАБЛАЙН-ГЕФЕСТ-МР22#5$*5*СПЕЦКАБЛАЙН-ГЕФЕСТ-МР25#6$*6*СПЕЦКАБЛАЙН-ГЕФЕСТ-МР32#7$*7*СПЕЦКАБЛАЙН-КиТ-МР15#145$*8*СПЕЦКАБЛАЙН-КиТ-МР18#146$*9*СПЕЦКАБЛАЙН-КиТ-МР20#147$*10*СПЕЦКАБЛАЙН-КиТ-МР20(с протяжкой)#148$*11*СПЕЦКАБЛАЙН-КиТ-МР22#149$*12*СПЕЦКАБЛАЙН-КиТ-МР25#150$*13*СПЕЦКАБЛАЙН-КиТ-МР32#151$*14*СПЕЦКАБЛАЙН-КиТ-МР38#152$*15*СПЕЦКАБЛАЙН-КиТ-МР50#153$*16*СПЕЦКАБЛАЙН-МР15#163$*17*СПЕЦКАБЛАЙН-МР20#166$*18*СПЕЦКАБЛАЙН-МР26#169$*19*СПЕЦКАБЛАЙН-МР35#172$*20*СПЕЦКАБЛАЙН-МР40#175$*21*СПЕЦКАБЛАЙН-МР50#178$*22*СПЕЦКАБЛАЙН-МРП15#181$"]
["",null,"","","","сетки Манье на троссу",4,"металлических крючоков","бетону",186,"СПЕЦКАБЛАЙН-","Тр4/70","-ТУ 42.22.12-098-47273194-2018","тросс","Сетка на тросу","Сетка манье на троссу",{"$f":"ОКЛ!F$127","v":9},"Металл",1,"бетон",{"$f":"ОКЛ!D$136","v":2},"Крючок",{"$f":"ОКЛ!D$149","v":6},0,1,1,19,"","",null,null,{"$f":"IF(X196*Y196*Z196=0, 0, MAX(AF$9:AF195 )+1)","v":0},"","","*1*СПЕЦКАБЛАЙН-ГЕФЕСТ-МР15#2$*2*СПЕЦКАБЛАЙН-ГЕФЕСТ-МР18#3$*3*СПЕЦКАБЛАЙН-ГЕФЕСТ-МР20#4$*4*СПЕЦКАБЛАЙН-ГЕФЕСТ-МР22#5$*5*СПЕЦКАБЛАЙН-ГЕФЕСТ-МР25#6$*6*СПЕЦКАБЛАЙН-ГЕФЕСТ-МР32#7$*7*СПЕЦКАБЛАЙН-КиТ-МР15#145$*8*СПЕЦКАБЛАЙН-КиТ-МР18#146$*9*СПЕЦКАБЛАЙН-КиТ-МР20#147$*10*СПЕЦКАБЛАЙН-КиТ-МР20(с протяжкой)#148$*11*СПЕЦКАБЛАЙН-КиТ-МР22#149$*12*СПЕЦКАБЛАЙН-КиТ-МР25#150$*13*СПЕЦКАБЛАЙН-КиТ-МР32#151$*14*СПЕЦКАБЛАЙН-КиТ-МР38#152$*15*СПЕЦКАБЛАЙН-КиТ-МР50#153$*16*СПЕЦКАБЛАЙН-МР15#163$*17*СПЕЦКАБЛАЙН-МР20#166$*18*СПЕЦКАБЛАЙН-МР26#169$*19*СПЕЦКАБЛАЙН-МР35#172$*20*СПЕЦКАБЛАЙН-МР40#175$*21*СПЕЦКАБЛАЙН-МР50#178$*22*СПЕЦКАБЛАЙН-МРП15#181$"]
["",null,"","","","сетки Манье на троссу",6,"металлических крючоков","бетону",187,"СПЕЦКАБЛАЙН-","Тр6/70","-ТУ 42.22.12-098-47273194-2018","тросс","Сетка на тросу","Сетка манье на троссу",{"$f":"ОКЛ!F$127","v":9},"Металл",1,"бетон",{"$f":"ОКЛ!D$136","v":2},"Крючок",{"$f":"ОКЛ!D$149","v":6},0,1,1,19,"","",null,null,{"$f":"IF(X197*Y197*Z197=0, 0, MAX(AF$9:AF196 )+1)","v":0},"","","*1*СПЕЦКАБЛАЙН-ГЕФЕСТ-МР15#2$*2*СПЕЦКАБЛАЙН-ГЕФЕСТ-МР18#3$*3*СПЕЦКАБЛАЙН-ГЕФЕСТ-МР20#4$*4*СПЕЦКАБЛАЙН-ГЕФЕСТ-МР22#5$*5*СПЕЦКАБЛАЙН-ГЕФЕСТ-МР25#6$*6*СПЕЦКАБЛАЙН-ГЕФЕСТ-МР32#7$*7*СПЕЦКАБЛАЙН-КиТ-МР15#145$*8*СПЕЦКАБЛАЙН-КиТ-МР18#146$*9*СПЕЦКАБЛАЙН-КиТ-МР20#147$*10*СПЕЦКАБЛАЙН-КиТ-МР20(с протяжкой)#148$*11*СПЕЦКАБЛАЙН-КиТ-МР22#149$*12*СПЕЦКАБЛАЙН-КиТ-МР25#150$*13*СПЕЦКАБЛАЙН-КиТ-МР32#151$*14*СПЕЦКАБЛАЙН-КиТ-МР38#152$*15*СПЕЦКАБЛАЙН-КиТ-МР50#153$*16*СПЕЦКАБЛАЙН-МР15#163$*17*СПЕЦКАБЛАЙН-МР20#166$*18*СПЕЦКАБЛАЙН-МР26#169$*19*СПЕЦКАБЛАЙН-МР35#172$*20*СПЕЦКАБЛАЙН-МР40#175$*21*СПЕЦКАБЛАЙН-МР50#178$*22*СПЕЦКАБЛАЙН-МРП15#181$"]
["",null,"","","","открытой прокладки кабеля",null,"дюбель-хомутов","бетону",188,"СПЕЦКАБЛАЙН-","Х","-ТУ 42.22.12-098-47273194-2018","открытая прокладка","открытая","Открытая прокладка",{"$f":"ОКЛ!F$124","v":6},null,4,"бетон",{"$f":"ОКЛ!D$136","v":2},"Дюбель-хомут",{"$f":"ОКЛ!D$146","v":3},0,1,1,16,"","",null,null,{"$f":"IF(X198*Y198*Z198=0, 0, MAX(AF$9:AF197 )+1)","v":0},"","","*1*СПЕЦКАБЛАЙН-ГЕФЕСТ-МР15#2$*2*СПЕЦКАБЛАЙН-ГЕФЕСТ-МР18#3$*3*СПЕЦКАБЛАЙН-ГЕФЕСТ-МР20#4$*4*СПЕЦКАБЛАЙН-ГЕФЕСТ-МР22#5$*5*СПЕЦКАБЛАЙН-ГЕФЕСТ-МР25#6$*6*СПЕЦКАБЛАЙН-ГЕФЕСТ-МР32#7$*7*СПЕЦКАБЛАЙН-КиТ-МР15#145$*8*СПЕЦКАБЛАЙН-КиТ-МР18#146$*9*СПЕЦКАБЛАЙН-КиТ-МР20#147$*10*СПЕЦКАБЛАЙН-КиТ-МР20(с протяжкой)#148$*11*СПЕЦКАБЛАЙН-КиТ-МР22#149$*12*СПЕЦКАБЛАЙН-КиТ-МР25#150$*13*СПЕЦКАБЛАЙН-КиТ-МР32#151$*14*СПЕЦКАБЛАЙН-КиТ-МР38#152$*15*СПЕЦКАБЛАЙН-КиТ-МР50#153$*16*СПЕЦКАБЛАЙН-МР15#163$*17*СПЕЦКАБЛАЙН-МР20#166$*18*СПЕЦКАБЛАЙН-МР26#169$*19*СПЕЦКАБЛАЙН-МР35#172$*20*СПЕЦКАБЛАЙН-МР40#175$*21*СПЕЦКАБЛАЙН-МР50#178$*22*СПЕЦКАБЛАЙН-МРП15#181$"]
["",null,"","","","ПВХ короба","100x40","дюбель-хомутов","бетону",189,"СПЕЦКАБЛАЙН-","ХД100х40","-ТУ 42.22.12-098-47273194-2018","короб","пластиковый кабельканал","пластиковый кабельканал",{"$f":"ОКЛ!F$125","v":7},"ПВХ",2,"бетон",{"$f":"ОКЛ!D$136","v":2},"Дюбель-хомут",{"$f":"ОКЛ!D$146","v":3},0,1,1,17,"","",null,null,{"$f":"IF(X199*Y199*Z199=0, 0, MAX(AF$9:AF198 )+1)","v":0},"","","*1*СПЕЦКАБЛАЙН-ГЕФЕСТ-МР15#2$*2*СПЕЦКАБЛАЙН-ГЕФЕСТ-МР18#3$*3*СПЕЦКАБЛАЙН-ГЕФЕСТ-МР20#4$*4*СПЕЦКАБЛАЙН-ГЕФЕСТ-МР22#5$*5*СПЕЦКАБЛАЙН-ГЕФЕСТ-МР25#6$*6*СПЕЦКАБЛАЙН-ГЕФЕСТ-МР32#7$*7*СПЕЦКАБЛАЙН-КиТ-МР15#145$*8*СПЕЦКАБЛАЙН-КиТ-МР18#146$*9*СПЕЦКАБЛАЙН-КиТ-МР20#147$*10*СПЕЦКАБЛАЙН-КиТ-МР20(с протяжкой)#148$*11*СПЕЦКАБЛАЙН-КиТ-МР22#149$*12*СПЕЦКАБЛАЙН-КиТ-МР25#150$*13*СПЕЦКАБЛАЙН-КиТ-МР32#151$*14*СПЕЦКАБЛАЙН-КиТ-МР38#152$*15*СПЕЦКАБЛАЙН-КиТ-МР50#153$*16*СПЕЦКАБЛАЙН-МР15#163$*17*СПЕЦКАБЛАЙН-МР20#166$*18*СПЕЦКАБЛАЙН-МР26#169$*19*СПЕЦКАБЛАЙН-МР35#172$*20*СПЕЦКАБЛАЙН-МР40#175$*21*СПЕЦКАБЛАЙН-МР50#178$*22*СПЕЦКАБЛАЙН-МРП15#181$"]
["",null,"","","","ПВХ короба","100x40","дюбель-хомутов","гипсокартону",190,"СПЕЦКАБЛАЙН-","ХД100х40ГК","-ТУ 42.22.12-098-47273194-2018","короб","пластиковый кабельканал","пластиковый кабельканал",{"$f":"ОКЛ!F$125","v":7},"ПВХ",2,"гипсокортон",{"$f":"ОКЛ!D$137","v":3},"Дюбель-хомут",{"$f":"ОКЛ!D$146","v":3},0,0,1,"","","",null,null,{"$f":"IF(X200*Y200*Z200=0, 0, MAX(AF$9:AF199 )+1)","v":0},"","","*1*СПЕЦКАБЛАЙН-ГЕФЕСТ-МР15#2$*2*СПЕЦКАБЛАЙН-ГЕФЕСТ-МР18#3$*3*СПЕЦКАБЛАЙН-ГЕФЕСТ-МР20#4$*4*СПЕЦКАБЛАЙН-ГЕФЕСТ-МР22#5$*5*СПЕЦКАБЛАЙН-ГЕФЕСТ-МР25#6$*6*СПЕЦКАБЛАЙН-ГЕФЕСТ-МР32#7$*7*СПЕЦКАБЛАЙН-КиТ-МР15#145$*8*СПЕЦКАБЛАЙН-КиТ-МР18#146$*9*СПЕЦКАБЛАЙН-КиТ-МР20#147$*10*СПЕЦКАБЛАЙН-КиТ-МР20(с протяжкой)#148$*11*СПЕЦКАБЛАЙН-КиТ-МР22#149$*12*СПЕЦКАБЛАЙН-КиТ-МР25#150$*13*СПЕЦКАБЛАЙН-КиТ-МР32#151$*14*СПЕЦКАБЛАЙН-КиТ-МР38#152$*15*СПЕЦКАБЛАЙН-КиТ-МР50#153$*16*СПЕЦКАБЛАЙН-МР15#163$*17*СПЕЦКАБЛАЙН-МР20#166$*18*СПЕЦКАБЛАЙН-МР26#169$*19*СПЕЦКАБЛАЙН-МР35#172$*20*СПЕЦКАБЛАЙН-МР40#175$*21*СПЕЦКАБЛАЙН-МР50#178$*22*СПЕЦКАБЛАЙН-МРП15#181$"]
["",null,"","","","ПВХ короба","100x60","дюбель-хомутов","бетону",191,"СПЕЦКАБЛАЙН-","ХД100х60","-ТУ 42.22.12-098-47273194-2018","короб","пластиковый кабельканал","пластиковый кабельканал",{"$f":"ОКЛ!F$125","v":7},"ПВХ",2,"бетон",{"$f":"ОКЛ!D$136","v":2},"Дюбель-хомут",{"$f":"ОКЛ!D$146","v":3},0,1,1,17,"","",null,null,{"$f":"IF(X201*Y201*Z201=0, 0, MAX(AF$9:AF200 )+1)","v":0},"","","*1*СПЕЦКАБЛАЙН-ГЕФЕСТ-МР15#2$*2*СПЕЦКАБЛАЙН-ГЕФЕСТ-МР18#3$*3*СПЕЦКАБЛАЙН-ГЕФЕСТ-МР20#4$*4*СПЕЦКАБЛАЙН-ГЕФЕСТ-МР22#5$*5*СПЕЦКАБЛАЙН-ГЕФЕСТ-МР25#6$*6*СПЕЦКАБЛАЙН-ГЕФЕСТ-МР32#7$*7*СПЕЦКАБЛАЙН-КиТ-МР15#145$*8*СПЕЦКАБЛАЙН-КиТ-МР18#146$*9*СПЕЦКАБЛАЙН-КиТ-МР20#147$*10*СПЕЦКАБЛАЙН-КиТ-МР20(с протяжкой)#148$*11*СПЕЦКАБЛАЙН-КиТ-МР22#149$*12*СПЕЦКАБЛАЙН-КиТ-МР25#150$*13*СПЕЦКАБЛАЙН-КиТ-МР32#151$*14*СПЕЦКАБЛАЙН-КиТ-МР38#152$*15*СПЕЦКАБЛАЙН-КиТ-МР50#153$*16*СПЕЦКАБЛАЙН-МР15#163$*17*СПЕЦКАБЛАЙН-МР20#166$*18*СПЕЦКАБЛАЙН-МР26#169$*19*СПЕЦКАБЛАЙН-МР35#172$*20*СПЕЦКАБЛАЙН-МР40#175$*21*СПЕЦКАБЛАЙН-МР50#178$*22*СПЕЦКАБЛАЙН-МРП15#181$"]
["",null,"","","","ПВХ короба","100x60","дюбель-хомутов","гипсокартону",192,"СПЕЦКАБЛАЙН-","ХД100х60ГК","-ТУ 42.22.12-098-47273194-2018","короб","пластиковый кабельканал","пластиковый кабельканал",{"$f":"ОКЛ!F$125","v":7},"ПВХ",2,"гипсокортон",{"$f":"ОКЛ!D$137","v":3},"Дюбель-хомут",{"$f":"ОКЛ!D$146","v":3},0,0,1,"","","",null,null,{"$f":"IF(X202*Y202*Z202=0, 0, MAX(AF$9:AF201 )+1)","v":0},"","","*1*СПЕЦКАБЛАЙН-ГЕФЕСТ-МР15#2$*2*СПЕЦКАБЛАЙН-ГЕФЕСТ-МР18#3$*3*СПЕЦКАБЛАЙН-ГЕФЕСТ-МР20#4$*4*СПЕЦКАБЛАЙН-ГЕФЕСТ-МР22#5$*5*СПЕЦКАБЛАЙН-ГЕФЕСТ-МР25#6$*6*СПЕЦКАБЛАЙН-ГЕФЕСТ-МР32#7$*7*СПЕЦКАБЛАЙН-КиТ-МР15#145$*8*СПЕЦКАБЛАЙН-КиТ-МР18#146$*9*СПЕЦКАБЛАЙН-КиТ-МР20#147$*10*СПЕЦКАБЛАЙН-КиТ-МР20(с протяжкой)#148$*11*СПЕЦКАБЛАЙН-КиТ-МР22#149$*12*СПЕЦКАБЛАЙН-КиТ-МР25#150$*13*СПЕЦКАБЛАЙН-КиТ-МР32#151$*14*СПЕЦКАБЛАЙН-КиТ-МР38#152$*15*СПЕЦКАБЛАЙН-КиТ-МР50#153$*16*СПЕЦКАБЛАЙН-МР15#163$*17*СПЕЦКАБЛАЙН-МР20#166$*18*СПЕЦКАБЛАЙН-МР26#169$*19*СПЕЦКАБЛАЙН-МР35#172$*20*СПЕЦКАБЛАЙН-МР40#175$*21*СПЕЦКАБЛАЙН-МР50#178$*22*СПЕЦКАБЛАЙН-МРП15#181$"]
["",null,"","","","ПВХ короба","25x17","дюбель-хомутов","бетону",193,"СПЕЦКАБЛАЙН-","ХД25х17","-ТУ 42.22.12-098-47273194-2018","короб","пластиковый кабельканал","пластиковый кабельканал",{"$f":"ОКЛ!F$125","v":7},"ПВХ",2,"бетон",{"$f":"ОКЛ!D$136","v":2},"Дюбель-хомут",{"$f":"ОКЛ!D$146","v":3},{"$f":"IF(Q203=Q$2, 1, 0)","v":0},{"$f":"IF(U203=U$2, 1, IF(U$2=1, 1,0))","v":1},{"$f":"IF(W203=W$2, 1, IF(W$2=1, 1,0))","v":1},17,"","",null,null,{"$f":"IF(X203*Y203*Z203=0, 0, MAX(AF$9:AF202 )+1)","v":0},"",{"$f":"IF(AF203=0,\"\", CONCATENATE(AG203, K203, L203,\"#\", J203, \"$\"))","v":""},"*1*СПЕЦКАБЛАЙН-ГЕФЕСТ-МР15#2$*2*СПЕЦКАБЛАЙН-ГЕФЕСТ-МР18#3$*3*СПЕЦКАБЛАЙН-ГЕФЕСТ-МР20#4$*4*СПЕЦКАБЛАЙН-ГЕФЕСТ-МР22#5$*5*СПЕЦКАБЛАЙН-ГЕФЕСТ-МР25#6$*6*СПЕЦКАБЛАЙН-ГЕФЕСТ-МР32#7$*7*СПЕЦКАБЛАЙН-КиТ-МР15#145$*8*СПЕЦКАБЛАЙН-КиТ-МР18#146$*9*СПЕЦКАБЛАЙН-КиТ-МР20#147$*10*СПЕЦКАБЛАЙН-КиТ-МР20(с протяжкой)#148$*11*СПЕЦКАБЛАЙН-КиТ-МР22#149$*12*СПЕЦКАБЛАЙН-КиТ-МР25#150$*13*СПЕЦКАБЛАЙН-КиТ-МР32#151$*14*СПЕЦКАБЛАЙН-КиТ-МР38#152$*15*СПЕЦКАБЛАЙН-КиТ-МР50#153$*16*СПЕЦКАБЛАЙН-МР15#163$*17*СПЕЦКАБЛАЙН-МР20#166$*18*СПЕЦКАБЛАЙН-МР26#169$*19*СПЕЦКАБЛАЙН-МР35#172$*20*СПЕЦКАБЛАЙН-МР40#175$*21*СПЕЦКАБЛАЙН-МР50#178$*22*СПЕЦКАБЛАЙН-МРП15#181$"]
[{"$f":"AG204","v":""},null,"",{"$f":"CONCATENATE(E204,D205)","v":""},{"$f":"IF(ISERR(FIND($F$2,CONCATENATE(\"*\",$K204,$L204,\"*\"))),\"\",CONCATENATE(\"Огнестойкая Кабельная Линия\", CHAR(10), \"в виде \",F204,IF(ISBLANK(G204),\"\",CONCATENATE(\", размером \",G204,\" мм\")),IF(ISBLANK(H204),\"\",CONCATENATE(\",\", CHAR(10), \"с креплением к \",I204, CHAR(10), \"с помощью \", H204))))","v":""},"ПВХ короба","25x17","дюбель-хомутов","гипсокартону",194,"СПЕЦКАБЛАЙН-","ХД25х17ГК","-ТУ 42.22.12-098-47273194-2018","короб","пластиковый кабельканал","пластиковый кабельканал",{"$f":"ОКЛ!F$125","v":7},"ПВХ",2,"гипсокортон",{"$f":"ОКЛ!D$137","v":3},"Дюбель-хомут",{"$f":"ОКЛ!D$146","v":3},0,0,1,"","","",null,null,{"$f":"IF(X204*Y204*Z204=0, 0, MAX(AF$9:AF203 )+1)","v":0},"","","*1*СПЕЦКАБЛАЙН-ГЕФЕСТ-МР15#2$*2*СПЕЦКАБЛАЙН-ГЕФЕСТ-МР18#3$*3*СПЕЦКАБЛАЙН-ГЕФЕСТ-МР20#4$*4*СПЕЦКАБЛАЙН-ГЕФЕСТ-МР22#5$*5*СПЕЦКАБЛАЙН-ГЕФЕСТ-МР25#6$*6*СПЕЦКАБЛАЙН-ГЕФЕСТ-МР32#7$*7*СПЕЦКАБЛАЙН-КиТ-МР15#145$*8*СПЕЦКАБЛАЙН-КиТ-МР18#146$*9*СПЕЦКАБЛАЙН-КиТ-МР20#147$*10*СПЕЦКАБЛАЙН-КиТ-МР20(с протяжкой)#148$*11*СПЕЦКАБЛАЙН-КиТ-МР22#149$*12*СПЕЦКАБЛАЙН-КиТ-МР25#150$*13*СПЕЦКАБЛАЙН-КиТ-МР32#151$*14*СПЕЦКАБЛАЙН-КиТ-МР38#152$*15*СПЕЦКАБЛАЙН-КиТ-МР50#153$*16*СПЕЦКАБЛАЙН-МР15#163$*17*СПЕЦКАБЛАЙН-МР20#166$*18*СПЕЦКАБЛАЙН-МР26#169$*19*СПЕЦКАБЛАЙН-МР35#172$*20*СПЕЦКАБЛАЙН-МР40#175$*21*СПЕЦКАБЛАЙН-МР50#178$*22*СПЕЦКАБЛАЙН-МРП15#181$"]
["",null,"","","","ПВХ короба","25x30","дюбель-хомутов","бетону",195,"СПЕЦКАБЛАЙН-","ХД25х30","-ТУ 42.22.12-098-47273194-2018","короб","пластиковый кабельканал","пластиковый кабельканал",{"$f":"ОКЛ!F$125","v":7},"ПВХ",2,"бетон",{"$f":"ОКЛ!D$136","v":2},"Дюбель-хомут",{"$f":"ОКЛ!D$146","v":3},0,1,1,17,"","",null,null,{"$f":"IF(X205*Y205*Z205=0, 0, MAX(AF$9:AF204 )+1)","v":0},"","","*1*СПЕЦКАБЛАЙН-ГЕФЕСТ-МР15#2$*2*СПЕЦКАБЛАЙН-ГЕФЕСТ-МР18#3$*3*СПЕЦКАБЛАЙН-ГЕФЕСТ-МР20#4$*4*СПЕЦКАБЛАЙН-ГЕФЕСТ-МР22#5$*5*СПЕЦКАБЛАЙН-ГЕФЕСТ-МР25#6$*6*СПЕЦКАБЛАЙН-ГЕФЕСТ-МР32#7$*7*СПЕЦКАБЛАЙН-КиТ-МР15#145$*8*СПЕЦКАБЛАЙН-КиТ-МР18#146$*9*СПЕЦКАБЛАЙН-КиТ-МР20#147$*10*СПЕЦКАБЛАЙН-КиТ-МР20(с протяжкой)#148$*11*СПЕЦКАБЛАЙН-КиТ-МР22#149$*12*СПЕЦКАБЛАЙН-КиТ-МР25#150$*13*СПЕЦКАБЛАЙН-КиТ-МР32#151$*14*СПЕЦКАБЛАЙН-КиТ-МР38#152$*15*СПЕЦКАБЛАЙН-КиТ-МР50#153$*16*СПЕЦКАБЛАЙН-МР15#163$*17*СПЕЦКАБЛАЙН-МР20#166$*18*СПЕЦКАБЛАЙН-МР26#169$*19*СПЕЦКАБЛАЙН-МР35#172$*20*СПЕЦКАБЛАЙН-МР40#175$*21*СПЕЦКАБЛАЙН-МР50#178$*22*СПЕЦКАБЛАЙН-МРП15#181$"]
["",null,"","","","ПВХ короба","25x30","дюбель-хомутов","гипсокартону",196,"СПЕЦКАБЛАЙН-","ХД25х30ГК","-ТУ 42.22.12-098-47273194-2018","короб","пластиковый кабельканал","пластиковый кабельканал",{"$f":"ОКЛ!F$125","v":7},"ПВХ",2,"гипсокортон",{"$f":"ОКЛ!D$137","v":3},"Дюбель-хомут",{"$f":"ОКЛ!D$146","v":3},0,0,1,"","","",null,null,{"$f":"IF(X206*Y206*Z206=0, 0, MAX(AF$9:AF205 )+1)","v":0},"","","*1*СПЕЦКАБЛАЙН-ГЕФЕСТ-МР15#2$*2*СПЕЦКАБЛАЙН-ГЕФЕСТ-МР18#3$*3*СПЕЦКАБЛАЙН-ГЕФЕСТ-МР20#4$*4*СПЕЦКАБЛАЙН-ГЕФЕСТ-МР22#5$*5*СПЕЦКАБЛАЙН-ГЕФЕСТ-МР25#6$*6*СПЕЦКАБЛАЙН-ГЕФЕСТ-МР32#7$*7*СПЕЦКАБЛАЙН-КиТ-МР15#145$*8*СПЕЦКАБЛАЙН-КиТ-МР18#146$*9*СПЕЦКАБЛАЙН-КиТ-МР20#147$*10*СПЕЦКАБЛАЙН-КиТ-МР20(с протяжкой)#148$*11*СПЕЦКАБЛАЙН-КиТ-МР22#149$*12*СПЕЦКАБЛАЙН-КиТ-МР25#150$*13*СПЕЦКАБЛАЙН-КиТ-МР32#151$*14*СПЕЦКАБЛАЙН-КиТ-МР38#152$*15*СПЕЦКАБЛАЙН-КиТ-МР50#153$*16*СПЕЦКАБЛАЙН-МР15#163$*17*СПЕЦКАБЛАЙН-МР20#166$*18*СПЕЦКАБЛАЙН-МР26#169$*19*СПЕЦКАБЛАЙН-МР35#172$*20*СПЕЦКАБЛАЙН-МР40#175$*21*СПЕЦКАБЛАЙН-МР50#178$*22*СПЕЦКАБЛАЙН-МРП15#181$"]
["",null,"","","","ПВХ короба","40x17","дюбель-хомутов","бетону",197,"СПЕЦКАБЛАЙН-","ХД40х17","-ТУ 42.22.12-098-47273194-2018","короб","пластиковый кабельканал","пластиковый кабельканал",{"$f":"ОКЛ!F$125","v":7},"ПВХ",2,"бетон",{"$f":"ОКЛ!D$136","v":2},"Дюбель-хомут",{"$f":"ОКЛ!D$146","v":3},0,1,1,17,"","",null,null,{"$f":"IF(X207*Y207*Z207=0, 0, MAX(AF$9:AF206 )+1)","v":0},"","","*1*СПЕЦКАБЛАЙН-ГЕФЕСТ-МР15#2$*2*СПЕЦКАБЛАЙН-ГЕФЕСТ-МР18#3$*3*СПЕЦКАБЛАЙН-ГЕФЕСТ-МР20#4$*4*СПЕЦКАБЛАЙН-ГЕФЕСТ-МР22#5$*5*СПЕЦКАБЛАЙН-ГЕФЕСТ-МР25#6$*6*СПЕЦКАБЛАЙН-ГЕФЕСТ-МР32#7$*7*СПЕЦКАБЛАЙН-КиТ-МР15#145$*8*СПЕЦКАБЛАЙН-КиТ-МР18#146$*9*СПЕЦКАБЛАЙН-КиТ-МР20#147$*10*СПЕЦКАБЛАЙН-КиТ-МР20(с протяжкой)#148$*11*СПЕЦКАБЛАЙН-КиТ-МР22#149$*12*СПЕЦКАБЛАЙН-КиТ-МР25#150$*13*СПЕЦКАБЛАЙН-КиТ-МР32#151$*14*СПЕЦКАБЛАЙН-КиТ-МР38#152$*15*СПЕЦКАБЛАЙН-КиТ-МР50#153$*16*СПЕЦКАБЛАЙН-МР15#163$*17*СПЕЦКАБЛАЙН-МР20#166$*18*СПЕЦКАБЛАЙН-МР26#169$*19*СПЕЦКАБЛАЙН-МР35#172$*20*СПЕЦКАБЛАЙН-МР40#175$*21*СПЕЦКАБЛАЙН-МР50#178$*22*СПЕЦКАБЛАЙН-МРП15#181$"]
["",null,"","","","ПВХ короба","40x17","дюбель-хомутов","гипсокартону",198,"СПЕЦКАБЛАЙН-","ХД40х17ГК","-ТУ 42.22.12-098-47273194-2018","короб","пластиковый кабельканал","пластиковый кабельканал",{"$f":"ОКЛ!F$125","v":7},"ПВХ",2,"гипсокортон",{"$f":"ОКЛ!D$137","v":3},"Дюбель-хомут",{"$f":"ОКЛ!D$146","v":3},0,0,1,"","","",null,null,{"$f":"IF(X208*Y208*Z208=0, 0, MAX(AF$9:AF207 )+1)","v":0},"","","*1*СПЕЦКАБЛАЙН-ГЕФЕСТ-МР15#2$*2*СПЕЦКАБЛАЙН-ГЕФЕСТ-МР18#3$*3*СПЕЦКАБЛАЙН-ГЕФЕСТ-МР20#4$*4*СПЕЦКАБЛАЙН-ГЕФЕСТ-МР22#5$*5*СПЕЦКАБЛАЙН-ГЕФЕСТ-МР25#6$*6*СПЕЦКАБЛАЙН-ГЕФЕСТ-МР32#7$*7*СПЕЦКАБЛАЙН-КиТ-МР15#145$*8*СПЕЦКАБЛАЙН-КиТ-МР18#146$*9*СПЕЦКАБЛАЙН-КиТ-МР20#147$*10*СПЕЦКАБЛАЙН-КиТ-МР20(с протяжкой)#148$*11*СПЕЦКАБЛАЙН-КиТ-МР22#149$*12*СПЕЦКАБЛАЙН-КиТ-МР25#150$*13*СПЕЦКАБЛАЙН-КиТ-МР32#151$*14*СПЕЦКАБЛАЙН-КиТ-МР38#152$*15*СПЕЦКАБЛАЙН-КиТ-МР50#153$*16*СПЕЦКАБЛАЙН-МР15#163$*17*СПЕЦКАБЛАЙН-МР20#166$*18*СПЕЦКАБЛАЙН-МР26#169$*19*СПЕЦКАБЛАЙН-МР35#172$*20*СПЕЦКАБЛАЙН-МР40#175$*21*СПЕЦКАБЛАЙН-МР50#178$*22*СПЕЦКАБЛАЙН-МРП15#181$"]
["",null,"","","","ПВХ короба","40x40","дюбель-хомутов","бетону",199,"СПЕЦКАБЛАЙН-","ХД40х40","-ТУ 42.22.12-098-47273194-2018","короб","пластиковый кабельканал","пластиковый кабельканал",{"$f":"ОКЛ!F$125","v":7},"ПВХ",2,"бетон",{"$f":"ОКЛ!D$136","v":2},"Дюбель-хомут",{"$f":"ОКЛ!D$146","v":3},0,1,1,17,"","",null,null,{"$f":"IF(X209*Y209*Z209=0, 0, MAX(AF$9:AF208 )+1)","v":0},"","","*1*СПЕЦКАБЛАЙН-ГЕФЕСТ-МР15#2$*2*СПЕЦКАБЛАЙН-ГЕФЕСТ-МР18#3$*3*СПЕЦКАБЛАЙН-ГЕФЕСТ-МР20#4$*4*СПЕЦКАБЛАЙН-ГЕФЕСТ-МР22#5$*5*СПЕЦКАБЛАЙН-ГЕФЕСТ-МР25#6$*6*СПЕЦКАБЛАЙН-ГЕФЕСТ-МР32#7$*7*СПЕЦКАБЛАЙН-КиТ-МР15#145$*8*СПЕЦКАБЛАЙН-КиТ-МР18#146$*9*СПЕЦКАБЛАЙН-КиТ-МР20#147$*10*СПЕЦКАБЛАЙН-КиТ-МР20(с протяжкой)#148$*11*СПЕЦКАБЛАЙН-КиТ-МР22#149$*12*СПЕЦКАБЛАЙН-КиТ-МР25#150$*13*СПЕЦКАБЛАЙН-КиТ-МР32#151$*14*СПЕЦКАБЛАЙН-КиТ-МР38#152$*15*СПЕЦКАБЛАЙН-КиТ-МР50#153$*16*СПЕЦКАБЛАЙН-МР15#163$*17*СПЕЦКАБЛАЙН-МР20#166$*18*СПЕЦКАБЛАЙН-МР26#169$*19*СПЕЦКАБЛАЙН-МР35#172$*20*СПЕЦКАБЛАЙН-МР40#175$*21*СПЕЦКАБЛАЙН-МР50#178$*22*СПЕЦКАБЛАЙН-МРП15#181$"]
["",null,"","","","ПВХ короба","40x40","дюбель-хомутов","гипсокартону",200,"СПЕЦКАБЛАЙН-","ХД40х40ГК","-ТУ 42.22.12-098-47273194-2018","короб","пластиковый кабельканал","пластиковый кабельканал",{"$f":"ОКЛ!F$125","v":7},"ПВХ",2,"гипсокортон",{"$f":"ОКЛ!D$137","v":3},"Дюбель-хомут",{"$f":"ОКЛ!D$146","v":3},0,0,1,"","","",null,null,{"$f":"IF(X210*Y210*Z210=0, 0, MAX(AF$9:AF209 )+1)","v":0},"","","*1*СПЕЦКАБЛАЙН-ГЕФЕСТ-МР15#2$*2*СПЕЦКАБЛАЙН-ГЕФЕСТ-МР18#3$*3*СПЕЦКАБЛАЙН-ГЕФЕСТ-МР20#4$*4*СПЕЦКАБЛАЙН-ГЕФЕСТ-МР22#5$*5*СПЕЦКАБЛАЙН-ГЕФЕСТ-МР25#6$*6*СПЕЦКАБЛАЙН-ГЕФЕСТ-МР32#7$*7*СПЕЦКАБЛАЙН-КиТ-МР15#145$*8*СПЕЦКАБЛАЙН-КиТ-МР18#146$*9*СПЕЦКАБЛАЙН-КиТ-МР20#147$*10*СПЕЦКАБЛАЙН-КиТ-МР20(с протяжкой)#148$*11*СПЕЦКАБЛАЙН-КиТ-МР22#149$*12*СПЕЦКАБЛАЙН-КиТ-МР25#150$*13*СПЕЦКАБЛАЙН-КиТ-МР32#151$*14*СПЕЦКАБЛАЙН-КиТ-МР38#152$*15*СПЕЦКАБЛАЙН-КиТ-МР50#153$*16*СПЕЦКАБЛАЙН-МР15#163$*17*СПЕЦКАБЛАЙН-МР20#166$*18*СПЕЦКАБЛАЙН-МР26#169$*19*СПЕЦКАБЛАЙН-МР35#172$*20*СПЕЦКАБЛАЙН-МР40#175$*21*СПЕЦКАБЛАЙН-МР50#178$*22*СПЕЦКАБЛАЙН-МРП15#181$"]
["",null,"","","","ПВХ короба","60x40","дюбель-хомутов","бетону",201,"СПЕЦКАБЛАЙН-","ХД60х40","-ТУ 42.22.12-098-47273194-2018","короб","пластиковый кабельканал","пластиковый кабельканал",{"$f":"ОКЛ!F$125","v":7},"ПВХ",2,"бетон",{"$f":"ОКЛ!D$136","v":2},"Дюбель-хомут",{"$f":"ОКЛ!D$146","v":3},0,1,1,17,"","",null,null,{"$f":"IF(X211*Y211*Z211=0, 0, MAX(AF$9:AF210 )+1)","v":0},{"$f":"IF(AF211=0,\"\",CONCATENATE(\"*\",AF211,\"*\"))","v":""},"",{"$f":"CONCATENATE(AI210,AH211)","v":"*1*СПЕЦКАБЛАЙН-ГЕФЕСТ-МР15#2$*2*СПЕЦКАБЛАЙН-ГЕФЕСТ-МР18#3$*3*СПЕЦКАБЛАЙН-ГЕФЕСТ-МР20#4$*4*СПЕЦКАБЛАЙН-ГЕФЕСТ-МР22#5$*5*СПЕЦКАБЛАЙН-ГЕФЕСТ-МР25#6$*6*СПЕЦКАБЛАЙН-ГЕФЕСТ-МР32#7$*7*СПЕЦКАБЛАЙН-КиТ-МР15#145$*8*СПЕЦКАБЛАЙН-КиТ-МР18#146$*9*СПЕЦКАБЛАЙН-КиТ-МР20#147$*10*СПЕЦКАБЛАЙН-КиТ-МР20(с протяжкой)#148$*11*СПЕЦКАБЛАЙН-КиТ-МР22#149$*12*СПЕЦКАБЛАЙН-КиТ-МР25#150$*13*СПЕЦКАБЛАЙН-КиТ-МР32#151$*14*СПЕЦКАБЛАЙН-КиТ-МР38#152$*15*СПЕЦКАБЛАЙН-КиТ-МР50#153$*16*СПЕЦКАБЛАЙН-МР15#163$*17*СПЕЦКАБЛАЙН-МР20#166$*18*СПЕЦКАБЛАЙН-МР26#169$*19*СПЕЦКАБЛАЙН-МР35#172$*20*СПЕЦКАБЛАЙН-МР40#175$*21*СПЕЦКАБЛАЙН-МР50#178$*22*СПЕЦКАБЛАЙН-МРП15#181$"}]
["",null,"","","","ПВХ короба","60x40","дюбель-хомутов","гипсокартону",202,"СПЕЦКАБЛАЙН-","ХД60х40ГК","-ТУ 42.22.12-098-47273194-2018","короб","пластиковый кабельканал","пластиковый кабельканал",{"$f":"ОКЛ!F$125","v":7},"ПВХ",2,"гипсокортон",{"$f":"ОКЛ!D$137","v":3},"Дюбель-хомут",{"$f":"ОКЛ!D$146","v":3},0,0,1,"","","",null,null,{"$f":"IF(X212*Y212*Z212=0, 0, MAX(AF$9:AF211 )+1)","v":0},"","","*1*СПЕЦКАБЛАЙН-ГЕФЕСТ-МР15#2$*2*СПЕЦКАБЛАЙН-ГЕФЕСТ-МР18#3$*3*СПЕЦКАБЛАЙН-ГЕФЕСТ-МР20#4$*4*СПЕЦКАБЛАЙН-ГЕФЕСТ-МР22#5$*5*СПЕЦКАБЛАЙН-ГЕФЕСТ-МР25#6$*6*СПЕЦКАБЛАЙН-ГЕФЕСТ-МР32#7$*7*СПЕЦКАБЛАЙН-КиТ-МР15#145$*8*СПЕЦКАБЛАЙН-КиТ-МР18#146$*9*СПЕЦКАБЛАЙН-КиТ-МР20#147$*10*СПЕЦКАБЛАЙН-КиТ-МР20(с протяжкой)#148$*11*СПЕЦКАБЛАЙН-КиТ-МР22#149$*12*СПЕЦКАБЛАЙН-КиТ-МР25#150$*13*СПЕЦКАБЛАЙН-КиТ-МР32#151$*14*СПЕЦКАБЛАЙН-КиТ-МР38#152$*15*СПЕЦКАБЛАЙН-КиТ-МР50#153$*16*СПЕЦКАБЛАЙН-МР15#163$*17*СПЕЦКАБЛАЙН-МР20#166$*18*СПЕЦКАБЛАЙН-МР26#169$*19*СПЕЦКАБЛАЙН-МР35#172$*20*СПЕЦКАБЛАЙН-МР40#175$*21*СПЕЦКАБЛАЙН-МР50#178$*22*СПЕЦКАБЛАЙН-МРП15#181$"]
["",null,"","","","ПВХ короба","60x60","дюбель-хомутов","бетону",203,"СПЕЦКАБЛАЙН-","ХД60х60","-ТУ 42.22.12-098-47273194-2018","короб","пластиковый кабельканал","пластиковый кабельканал",{"$f":"ОКЛ!F$125","v":7},"ПВХ",2,"бетон",{"$f":"ОКЛ!D$136","v":2},"Дюбель-хомут",{"$f":"ОКЛ!D$146","v":3},0,1,1,17,"","",null,null,{"$f":"IF(X213*Y213*Z213=0, 0, MAX(AF$9:AF212 )+1)","v":0},"","","*1*СПЕЦКАБЛАЙН-ГЕФЕСТ-МР15#2$*2*СПЕЦКАБЛАЙН-ГЕФЕСТ-МР18#3$*3*СПЕЦКАБЛАЙН-ГЕФЕСТ-МР20#4$*4*СПЕЦКАБЛАЙН-ГЕФЕСТ-МР22#5$*5*СПЕЦКАБЛАЙН-ГЕФЕСТ-МР25#6$*6*СПЕЦКАБЛАЙН-ГЕФЕСТ-МР32#7$*7*СПЕЦКАБЛАЙН-КиТ-МР15#145$*8*СПЕЦКАБЛАЙН-КиТ-МР18#146$*9*СПЕЦКАБЛАЙН-КиТ-МР20#147$*10*СПЕЦКАБЛАЙН-КиТ-МР20(с протяжкой)#148$*11*СПЕЦКАБЛАЙН-КиТ-МР22#149$*12*СПЕЦКАБЛАЙН-КиТ-МР25#150$*13*СПЕЦКАБЛАЙН-КиТ-МР32#151$*14*СПЕЦКАБЛАЙН-КиТ-МР38#152$*15*СПЕЦКАБЛАЙН-КиТ-МР50#153$*16*СПЕЦКАБЛАЙН-МР15#163$*17*СПЕЦКАБЛАЙН-МР20#166$*18*СПЕЦКАБЛАЙН-МР26#169$*19*СПЕЦКАБЛАЙН-МР35#172$*20*СПЕЦКАБЛАЙН-МР40#175$*21*СПЕЦКАБЛАЙН-МР50#178$*22*СПЕЦКАБЛАЙН-МРП15#181$"]
["",null,"","","","ПВХ короба","60x60","дюбель-хомутов","гипсокартону",204,"СПЕЦКАБЛАЙН-","ХД60х60ГК","-ТУ 42.22.12-098-47273194-2018","короб","пластиковый кабельканал","пластиковый кабельканал",{"$f":"ОКЛ!F$125","v":7},"ПВХ",2,"гипсокортон",{"$f":"ОКЛ!D$137","v":3},"Дюбель-хомут",{"$f":"ОКЛ!D$146","v":3},0,0,1,"","","",null,null,{"$f":"IF(X214*Y214*Z214=0, 0, MAX(AF$9:AF213 )+1)","v":0},"","","*1*СПЕЦКАБЛАЙН-ГЕФЕСТ-МР15#2$*2*СПЕЦКАБЛАЙН-ГЕФЕСТ-МР18#3$*3*СПЕЦКАБЛАЙН-ГЕФЕСТ-МР20#4$*4*СПЕЦКАБЛАЙН-ГЕФЕСТ-МР22#5$*5*СПЕЦКАБЛАЙН-ГЕФЕСТ-МР25#6$*6*СПЕЦКАБЛАЙН-ГЕФЕСТ-МР32#7$*7*СПЕЦКАБЛАЙН-КиТ-МР15#145$*8*СПЕЦКАБЛАЙН-КиТ-МР18#146$*9*СПЕЦКАБЛАЙН-КиТ-МР20#147$*10*СПЕЦКАБЛАЙН-КиТ-МР20(с протяжкой)#148$*11*СПЕЦКАБЛАЙН-КиТ-МР22#149$*12*СПЕЦКАБЛАЙН-КиТ-МР25#150$*13*СПЕЦКАБЛАЙН-КиТ-МР32#151$*14*СПЕЦКАБЛАЙН-КиТ-МР38#152$*15*СПЕЦКАБЛАЙН-КиТ-МР50#153$*16*СПЕЦКАБЛАЙН-МР15#163$*17*СПЕЦКАБЛАЙН-МР20#166$*18*СПЕЦКАБЛАЙН-МР26#169$*19*СПЕЦКАБЛАЙН-МР35#172$*20*СПЕЦКАБЛАЙН-МР40#175$*21*СПЕЦКАБЛАЙН-МР50#178$*22*СПЕЦКАБЛАЙН-МРП15#181$"]
["",null,"","","","ПВХ короба","60x40","дюбель-хомутов","бетону",205,"СПЕЦКАБЛАЙН-","ХД80х40","-ТУ 42.22.12-098-47273194-2018","короб","пластиковый кабельканал","пластиковый кабельканал",{"$f":"ОКЛ!F$125","v":7},"ПВХ",2,"бетон",{"$f":"ОКЛ!D$136","v":2},"Дюбель-хомут",{"$f":"ОКЛ!D$146","v":3},0,1,1,17,"","",null,null,{"$f":"IF(X215*Y215*Z215=0, 0, MAX(AF$9:AF214 )+1)","v":0},"","","*1*СПЕЦКАБЛАЙН-ГЕФЕСТ-МР15#2$*2*СПЕЦКАБЛАЙН-ГЕФЕСТ-МР18#3$*3*СПЕЦКАБЛАЙН-ГЕФЕСТ-МР20#4$*4*СПЕЦКАБЛАЙН-ГЕФЕСТ-МР22#5$*5*СПЕЦКАБЛАЙН-ГЕФЕСТ-МР25#6$*6*СПЕЦКАБЛАЙН-ГЕФЕСТ-МР32#7$*7*СПЕЦКАБЛАЙН-КиТ-МР15#145$*8*СПЕЦКАБЛАЙН-КиТ-МР18#146$*9*СПЕЦКАБЛАЙН-КиТ-МР20#147$*10*СПЕЦКАБЛАЙН-КиТ-МР20(с протяжкой)#148$*11*СПЕЦКАБЛАЙН-КиТ-МР22#149$*12*СПЕЦКАБЛАЙН-КиТ-МР25#150$*13*СПЕЦКАБЛАЙН-КиТ-МР32#151$*14*СПЕЦКАБЛАЙН-КиТ-МР38#152$*15*СПЕЦКАБЛАЙН-КиТ-МР50#153$*16*СПЕЦКАБЛАЙН-МР15#163$*17*СПЕЦКАБЛАЙН-МР20#166$*18*СПЕЦКАБЛАЙН-МР26#169$*19*СПЕЦКАБЛАЙН-МР35#172$*20*СПЕЦКАБЛАЙН-МР40#175$*21*СПЕЦКАБЛАЙН-МР50#178$*22*СПЕЦКАБЛАЙН-МРП15#181$"]
["",null,"","","","ПВХ короба","60x40","дюбель-хомутов","гипсокартону",206,"СПЕЦКАБЛАЙН-","ХД80х40ГК","-ТУ 42.22.12-098-47273194-2018","короб","пластиковый кабельканал","пластиковый кабельканал",{"$f":"ОКЛ!F$125","v":7},"ПВХ",2,"гипсокортон",{"$f":"ОКЛ!D$137","v":3},"Дюбель-хомут",{"$f":"ОКЛ!D$146","v":3},0,0,1,"","","",null,null,{"$f":"IF(X216*Y216*Z216=0, 0, MAX(AF$9:AF215 )+1)","v":0},"","","*1*СПЕЦКАБЛАЙН-ГЕФЕСТ-МР15#2$*2*СПЕЦКАБЛАЙН-ГЕФЕСТ-МР18#3$*3*СПЕЦКАБЛАЙН-ГЕФЕСТ-МР20#4$*4*СПЕЦКАБЛАЙН-ГЕФЕСТ-МР22#5$*5*СПЕЦКАБЛАЙН-ГЕФЕСТ-МР25#6$*6*СПЕЦКАБЛАЙН-ГЕФЕСТ-МР32#7$*7*СПЕЦКАБЛАЙН-КиТ-МР15#145$*8*СПЕЦКАБЛАЙН-КиТ-МР18#146$*9*СПЕЦКАБЛАЙН-КиТ-МР20#147$*10*СПЕЦКАБЛАЙН-КиТ-МР20(с протяжкой)#148$*11*СПЕЦКАБЛАЙН-КиТ-МР22#149$*12*СПЕЦКАБЛАЙН-КиТ-МР25#150$*13*СПЕЦКАБЛАЙН-КиТ-МР32#151$*14*СПЕЦКАБЛАЙН-КиТ-МР38#152$*15*СПЕЦКАБЛАЙН-КиТ-МР50#153$*16*СПЕЦКАБЛАЙН-МР15#163$*17*СПЕЦКАБЛАЙН-МР20#166$*18*СПЕЦКАБЛАЙН-МР26#169$*19*СПЕЦКАБЛАЙН-МР35#172$*20*СПЕЦКАБЛАЙН-МР40#175$*21*СПЕЦКАБЛАЙН-МР50#178$*22*СПЕЦКАБЛАЙН-МРП15#181$"]
["",null,"","","",null,null,null,"бетону",207,"Составной элемент ОКЛ СПЕЦКАБЛАЙН-","Л","-ТУ 42.22.12-098-47273194-2018","лоток","лоток","лоток",{"$f":"ОКЛ!F$130","v":12},"Металл",1,"бетон",{"$f":"ОКЛ!D$136","v":2},null,null,0,1,1,22,"","",null,null,{"$f":"IF(X217*Y217*Z217=0, 0, MAX(AF$9:AF216 )+1)","v":0},"","","*1*СПЕЦКАБЛАЙН-ГЕФЕСТ-МР15#2$*2*СПЕЦКАБЛАЙН-ГЕФЕСТ-МР18#3$*3*СПЕЦКАБЛАЙН-ГЕФЕСТ-МР20#4$*4*СПЕЦКАБЛАЙН-ГЕФЕСТ-МР22#5$*5*СПЕЦКАБЛАЙН-ГЕФЕСТ-МР25#6$*6*СПЕЦКАБЛАЙН-ГЕФЕСТ-МР32#7$*7*СПЕЦКАБЛАЙН-КиТ-МР15#145$*8*СПЕЦКАБЛАЙН-КиТ-МР18#146$*9*СПЕЦКАБЛАЙН-КиТ-МР20#147$*10*СПЕЦКАБЛАЙН-КиТ-МР20(с протяжкой)#148$*11*СПЕЦКАБЛАЙН-КиТ-МР22#149$*12*СПЕЦКАБЛАЙН-КиТ-МР25#150$*13*СПЕЦКАБЛАЙН-КиТ-МР32#151$*14*СПЕЦКАБЛАЙН-КиТ-МР38#152$*15*СПЕЦКАБЛАЙН-КиТ-МР50#153$*16*СПЕЦКАБЛАЙН-МР15#163$*17*СПЕЦКАБЛАЙН-МР20#166$*18*СПЕЦКАБЛАЙН-МР26#169$*19*СПЕЦКАБЛАЙН-МР35#172$*20*СПЕЦКАБЛАЙН-МР40#175$*21*СПЕЦКАБЛАЙН-МР50#178$*22*СПЕЦКАБЛАЙН-МРП15#181$"]
["",null,"","","","сетки Манье на троссу",6,"металлических крючоков","бетону",209,"СПЕЦКАБЛАЙН-","Тр6/100","-ТУ 42.22.12-098-47273194-2018","тросс","Сетка на тросу","Сетка манье на троссу",{"$f":"ОКЛ!F$127","v":9},null,1,"бетон",2,"Крючок",{"$f":"ОКЛ!D$149","v":6},0,1,1,19,"",{"$f":"IF(0<X218*Y218,VLOOKUP(W218, AQ$9:AR$21, 2),\"\")","v":""},null,null,{"$f":"IF(X218*Y218*Z218=0, 0, MAX(AF$9:AF217 )+1)","v":0},"","","*1*СПЕЦКАБЛАЙН-ГЕФЕСТ-МР15#2$*2*СПЕЦКАБЛАЙН-ГЕФЕСТ-МР18#3$*3*СПЕЦКАБЛАЙН-ГЕФЕСТ-МР20#4$*4*СПЕЦКАБЛАЙН-ГЕФЕСТ-МР22#5$*5*СПЕЦКАБЛАЙН-ГЕФЕСТ-МР25#6$*6*СПЕЦКАБЛАЙН-ГЕФЕСТ-МР32#7$*7*СПЕЦКАБЛАЙН-КиТ-МР15#145$*8*СПЕЦКАБЛАЙН-КиТ-МР18#146$*9*СПЕЦКАБЛАЙН-КиТ-МР20#147$*10*СПЕЦКАБЛАЙН-КиТ-МР20(с протяжкой)#148$*11*СПЕЦКАБЛАЙН-КиТ-МР22#149$*12*СПЕЦКАБЛАЙН-КиТ-МР25#150$*13*СПЕЦКАБЛАЙН-КиТ-МР32#151$*14*СПЕЦКАБЛАЙН-КиТ-МР38#152$*15*СПЕЦКАБЛАЙН-КиТ-МР50#153$*16*СПЕЦКАБЛАЙН-МР15#163$*17*СПЕЦКАБЛАЙН-МР20#166$*18*СПЕЦКАБЛАЙН-МР26#169$*19*СПЕЦКАБЛАЙН-МР35#172$*20*СПЕЦКАБЛАЙН-МР40#175$*21*СПЕЦКАБЛАЙН-МР50#178$*22*СПЕЦКАБЛАЙН-МРП15#181$"]
["",null,"","","",null,null,null,"бетону",208,"Составной элемент ОКЛ СПЕЦКАБЛАЙН-","О","-ТУ 16.К99-072-2014","лоток","лоток","лоток",{"$f":"ОКЛ!F$130","v":12},"металл",1,"бетон",{"$f":"ОКЛ!D$136","v":2},null,null,0,1,1,22,"","",null,null,{"$f":"IF(X219*Y219*Z219=0, 0, MAX(AF$9:AF218 )+1)","v":0},"","","*1*СПЕЦКАБЛАЙН-ГЕФЕСТ-МР15#2$*2*СПЕЦКАБЛАЙН-ГЕФЕСТ-МР18#3$*3*СПЕЦКАБЛАЙН-ГЕФЕСТ-МР20#4$*4*СПЕЦКАБЛАЙН-ГЕФЕСТ-МР22#5$*5*СПЕЦКАБЛАЙН-ГЕФЕСТ-МР25#6$*6*СПЕЦКАБЛАЙН-ГЕФЕСТ-МР32#7$*7*СПЕЦКАБЛАЙН-КиТ-МР15#145$*8*СПЕЦКАБЛАЙН-КиТ-МР18#146$*9*СПЕЦКАБЛАЙН-КиТ-МР20#147$*10*СПЕЦКАБЛАЙН-КиТ-МР20(с протяжкой)#148$*11*СПЕЦКАБЛАЙН-КиТ-МР22#149$*12*СПЕЦКАБЛАЙН-КиТ-МР25#150$*13*СПЕЦКАБЛАЙН-КиТ-МР32#151$*14*СПЕЦКАБЛАЙН-КиТ-МР38#152$*15*СПЕЦКАБЛАЙН-КиТ-МР50#153$*16*СПЕЦКАБЛАЙН-МР15#163$*17*СПЕЦКАБЛАЙН-МР20#166$*18*СПЕЦКАБЛАЙН-МР26#169$*19*СПЕЦКАБЛАЙН-МР35#172$*20*СПЕЦКАБЛАЙН-МР40#175$*21*СПЕЦКАБЛАЙН-МР50#178$*22*СПЕЦКАБЛАЙН-МРП15#181$"]
["",null,"","","","открытой прокладки кабеля",null,"металлических скоб","бетону",210,"СПЕЦКАБЛАЙН-","С","-ТУ 42.22.12-098-47273194-2018",null,"открытая","Открытая прокладка",{"$f":"ОКЛ!F$124","v":6},null,4,"бетон",{"$f":"ОКЛ!D$136","v":2},"Скоба",{"$f":"ОКЛ!D$145","v":2},0,1,1,16,"","",null,null,{"$f":"IF(X220*Y220*Z220=0, 0, MAX(AF$9:AF219 )+1)","v":0},"","","*1*СПЕЦКАБЛАЙН-ГЕФЕСТ-МР15#2$*2*СПЕЦКАБЛАЙН-ГЕФЕСТ-МР18#3$*3*СПЕЦКАБЛАЙН-ГЕФЕСТ-МР20#4$*4*СПЕЦКАБЛАЙН-ГЕФЕСТ-МР22#5$*5*СПЕЦКАБЛАЙН-ГЕФЕСТ-МР25#6$*6*СПЕЦКАБЛАЙН-ГЕФЕСТ-МР32#7$*7*СПЕЦКАБЛАЙН-КиТ-МР15#145$*8*СПЕЦКАБЛАЙН-КиТ-МР18#146$*9*СПЕЦКАБЛАЙН-КиТ-МР20#147$*10*СПЕЦКАБЛАЙН-КиТ-МР20(с протяжкой)#148$*11*СПЕЦКАБЛАЙН-КиТ-МР22#149$*12*СПЕЦКАБЛАЙН-КиТ-МР25#150$*13*СПЕЦКАБЛАЙН-КиТ-МР32#151$*14*СПЕЦКАБЛАЙН-КиТ-МР38#152$*15*СПЕЦКАБЛАЙН-КиТ-МР50#153$*16*СПЕЦКАБЛАЙН-МР15#163$*17*СПЕЦКАБЛАЙН-МР20#166$*18*СПЕЦКАБЛАЙН-МР26#169$*19*СПЕЦКАБЛАЙН-МР35#172$*20*СПЕЦКАБЛАЙН-МР40#175$*21*СПЕЦКАБЛАЙН-МР50#178$*22*СПЕЦКАБЛАЙН-МРП15#181$"]
["",null,"","","",null,null,null,"бетону",211,"Составной элемент ОКЛ СПЕЦКАБЛАЙН-","Т","-ТУ 16.К99-071-2014",null,"труба","Стальная труба",{"$f":"ОКЛ!F129","v":11},"Металл",1,"бетон",{"$f":"ОКЛ!D$136","v":2},null,null,0,1,1,21,"","",null,null,{"$f":"IF(X221*Y221*Z221=0, 0, MAX(AF$9:AF220 )+1)","v":0},"","","*1*СПЕЦКАБЛАЙН-ГЕФЕСТ-МР15#2$*2*СПЕЦКАБЛАЙН-ГЕФЕСТ-МР18#3$*3*СПЕЦКАБЛАЙН-ГЕФЕСТ-МР20#4$*4*СПЕЦКАБЛАЙН-ГЕФЕСТ-МР22#5$*5*СПЕЦКАБЛАЙН-ГЕФЕСТ-МР25#6$*6*СПЕЦКАБЛАЙН-ГЕФЕСТ-МР32#7$*7*СПЕЦКАБЛАЙН-КиТ-МР15#145$*8*СПЕЦКАБЛАЙН-КиТ-МР18#146$*9*СПЕЦКАБЛАЙН-КиТ-МР20#147$*10*СПЕЦКАБЛАЙН-КиТ-МР20(с протяжкой)#148$*11*СПЕЦКАБЛАЙН-КиТ-МР22#149$*12*СПЕЦКАБЛАЙН-КиТ-МР25#150$*13*СПЕЦКАБЛАЙН-КиТ-МР32#151$*14*СПЕЦКАБЛАЙН-КиТ-МР38#152$*15*СПЕЦКАБЛАЙН-КиТ-МР50#153$*16*СПЕЦКАБЛАЙН-МР15#163$*17*СПЕЦКАБЛАЙН-МР20#166$*18*СПЕЦКАБЛАЙН-МР26#169$*19*СПЕЦКАБЛАЙН-МР35#172$*20*СПЕЦКАБЛАЙН-МР40#175$*21*СПЕЦКАБЛАЙН-МР50#178$*22*СПЕЦКАБЛАЙН-МРП15#181$"]
["",null,"","","","открытой прокладки кабеля",null,"дюбель-хомутов","гипсокартону",212,"СПЕЦКАБЛАЙН-","ХГК","-ТУ 42.22.12-098-47273194-2018",null,"открытая","Открытая прокладка",{"$f":"ОКЛ!F$124","v":6},null,4,"гипсокортон",{"$f":"ОКЛ!D$137","v":3},"Дюбель-хомут",{"$f":"ОКЛ!D$146","v":3},0,0,1,"","","",null,null,{"$f":"IF(X222*Y222*Z222=0, 0, MAX(AF$9:AF221 )+1)","v":0},"","","*1*СПЕЦКАБЛАЙН-ГЕФЕСТ-МР15#2$*2*СПЕЦКАБЛАЙН-ГЕФЕСТ-МР18#3$*3*СПЕЦКАБЛАЙН-ГЕФЕСТ-МР20#4$*4*СПЕЦКАБЛАЙН-ГЕФЕСТ-МР22#5$*5*СПЕЦКАБЛАЙН-ГЕФЕСТ-МР25#6$*6*СПЕЦКАБЛАЙН-ГЕФЕСТ-МР32#7$*7*СПЕЦКАБЛАЙН-КиТ-МР15#145$*8*СПЕЦКАБЛАЙН-КиТ-МР18#146$*9*СПЕЦКАБЛАЙН-КиТ-МР20#147$*10*СПЕЦКАБЛАЙН-КиТ-МР20(с протяжкой)#148$*11*СПЕЦКАБЛАЙН-КиТ-МР22#149$*12*СПЕЦКАБЛАЙН-КиТ-МР25#150$*13*СПЕЦКАБЛАЙН-КиТ-МР32#151$*14*СПЕЦКАБЛАЙН-КиТ-МР38#152$*15*СПЕЦКАБЛАЙН-КиТ-МР50#153$*16*СПЕЦКАБЛАЙН-МР15#163$*17*СПЕЦКАБЛАЙН-МР20#166$*18*СПЕЦКАБЛАЙН-МР26#169$*19*СПЕЦКАБЛАЙН-МР35#172$*20*СПЕЦКАБЛАЙН-МР40#175$*21*СПЕЦКАБЛАЙН-МР50#178$*22*СПЕЦКАБЛАЙН-МРП15#181$"]
["",null,"","","","открытой прокладки кабеля",null,"дюбель-хомутов","сендвичпаннели",213,"СПЕЦКАБЛАЙН-","ХСП","-ТУ 42.22.12-098-47273194-2018",null,"открытая","Открытая прокладка",{"$f":"ОКЛ!F$124","v":6},null,4,"cендвичпаннель",{"$f":"ОКЛ!D$138","v":4},"Дюбель-хомут",{"$f":"ОКЛ!D$146","v":3},0,0,1,{"$f":"IF(0<Y223*Z223, VLOOKUP(Q223, AQ$9:AR$21, 2), \"\")","v":""},{"$f":"IF(0<X223*Z223,VLOOKUP(U223, AQ$9:AR$21, 2),\"\")","v":""},{"$f":"IF(0<X223*Y223,VLOOKUP(W223, AQ$9:AR$21, 2),\"\")","v":""},null,null,{"$f":"IF(X223*Y223*Z223=0, 0, MAX(AF$9:AF222 )+1)","v":0},"","","*1*СПЕЦКАБЛАЙН-ГЕФЕСТ-МР15#2$*2*СПЕЦКАБЛАЙН-ГЕФЕСТ-МР18#3$*3*СПЕЦКАБЛАЙН-ГЕФЕСТ-МР20#4$*4*СПЕЦКАБЛАЙН-ГЕФЕСТ-МР22#5$*5*СПЕЦКАБЛАЙН-ГЕФЕСТ-МР25#6$*6*СПЕЦКАБЛАЙН-ГЕФЕСТ-МР32#7$*7*СПЕЦКАБЛАЙН-КиТ-МР15#145$*8*СПЕЦКАБЛАЙН-КиТ-МР18#146$*9*СПЕЦКАБЛАЙН-КиТ-МР20#147$*10*СПЕЦКАБЛАЙН-КиТ-МР20(с протяжкой)#148$*11*СПЕЦКАБЛАЙН-КиТ-МР22#149$*12*СПЕЦКАБЛАЙН-КиТ-МР25#150$*13*СПЕЦКАБЛАЙН-КиТ-МР32#151$*14*СПЕЦКАБЛАЙН-КиТ-МР38#152$*15*СПЕЦКАБЛАЙН-КиТ-МР50#153$*16*СПЕЦКАБЛАЙН-МР15#163$*17*СПЕЦКАБЛАЙН-МР20#166$*18*СПЕЦКАБЛАЙН-МР26#169$*19*СПЕЦКАБЛАЙН-МР35#172$*20*СПЕЦКАБЛАЙН-МР40#175$*21*СПЕЦКАБЛАЙН-МР50#178$*22*СПЕЦКАБЛАЙН-МРП15#181$"]
[null,null,null,null,{"$f":"IF(ISERR(FIND($F$2,CONCATENATE(\"*\",$K224,$L224,\"*\"))),\"\",CONCATENATE(\"Огнестокйкая Кабельяная Линия\", CHAR(10), \"в виде \",F224,IF(ISBLANK(G224),\"\",CONCATENATE(\", размером \",G224,\" мм\")),IF(ISBLANK(H224),\"\",CONCATENATE(\",\", CHAR(10), \"с креплением к \",I224, CHAR(10), \"с помощью \", H224))))","v":""},null,null,null,null,214,null,null,null,null,null,null,null,null,null,null,null,null,null,null,null,null,null,null,null,null,null,{"$f":"IF(X224*Y224*Z224=0, 0, MAX(AF$9:AF223 )+1)","v":0},"","","*1*СПЕЦКАБЛАЙН-ГЕФЕСТ-МР15#2$*2*СПЕЦКАБЛАЙН-ГЕФЕСТ-МР18#3$*3*СПЕЦКАБЛАЙН-ГЕФЕСТ-МР20#4$*4*СПЕЦКАБЛАЙН-ГЕФЕСТ-МР22#5$*5*СПЕЦКАБЛАЙН-ГЕФЕСТ-МР25#6$*6*СПЕЦКАБЛАЙН-ГЕФЕСТ-МР32#7$*7*СПЕЦКАБЛАЙН-КиТ-МР15#145$*8*СПЕЦКАБЛАЙН-КиТ-МР18#146$*9*СПЕЦКАБЛАЙН-КиТ-МР20#147$*10*СПЕЦКАБЛАЙН-КиТ-МР20(с протяжкой)#148$*11*СПЕЦКАБЛАЙН-КиТ-МР22#149$*12*СПЕЦКАБЛАЙН-КиТ-МР25#150$*13*СПЕЦКАБЛАЙН-КиТ-МР32#151$*14*СПЕЦКАБЛАЙН-КиТ-МР38#152$*15*СПЕЦКАБЛАЙН-КиТ-МР50#153$*16*СПЕЦКАБЛАЙН-МР15#163$*17*СПЕЦКАБЛАЙН-МР20#166$*18*СПЕЦКАБЛАЙН-МР26#169$*19*СПЕЦКАБЛАЙН-МР35#172$*20*СПЕЦКАБЛАЙН-МР40#175$*21*СПЕЦКАБЛАЙН-МР50#178$*22*СПЕЦКАБЛАЙН-МРП15#181$"]

{"sheet":"ОКЛ","index":4,"n_rows":237,"n_cols":44,"rows_kept":237,"cut":false,"hidden":true,"merged":[]}
[]
[null,null,null,null,null,null,null,null,null,null,null,null,null,null,null,null,null,null,null,null,null,null,null,null,null,null,{"$f":"'OKL (3)'!AF4","v":22},null,{"$f":"'OKL (3)'!AI4","v":"*1*СПЕЦКАБЛАЙН-ГЕФЕСТ-МР15#2$*2*СПЕЦКАБЛАЙН-ГЕФЕСТ-МР18#3$*3*СПЕЦКАБЛАЙН-ГЕФЕСТ-МР20#4$*4*СПЕЦКАБЛАЙН-ГЕФЕСТ-МР22#5$*5*СПЕЦКАБЛАЙН-ГЕФЕСТ-МР25#6$*6*СПЕЦКАБЛАЙН-ГЕФЕСТ-МР32#7$*7*СПЕЦКАБЛАЙН-КиТ-МР15#145$*8*СПЕЦКАБЛАЙН-КиТ-МР18#146$*9*СПЕЦКАБЛАЙН-КиТ-МР20#147$*10*СПЕЦКАБЛАЙН-КиТ-МР20(с протяжкой)#148$*11*СПЕЦКАБЛАЙН-КиТ-МР22#149$*12*СПЕЦКАБЛАЙН-КиТ-МР25#150$*13*СПЕЦКАБЛАЙН-КиТ-МР32#151$*14*СПЕЦКАБЛАЙН-КиТ-МР38#152$*15*СПЕЦКАБЛАЙН-КиТ-МР50#153$*16*СПЕЦКАБЛАЙН-МР15#163$*17*СПЕЦКАБЛАЙН-МР20#166$*18*СПЕЦКАБЛАЙН-МР26#169$*19*СПЕЦКАБЛАЙН-МР35#172$*20*СПЕЦКАБЛАЙН-МР40#175$*21*СПЕЦКАБЛАЙН-МР50#178$*22*СПЕЦКАБЛАЙН-МРП15#181$"}]
[null,null,null,null,null,null,null,null,null,null,null,null,null,null,null,null,null,null,null,null,null,null,null,null,null,null,null,null,null,null,null,null,null,null,null,null,null,{"$f":"MAX(AP21:AP227)","v":2},null,"ТУ","ТИП","Поверхность монтажа","Материалл","Крепеж"]
[null,null,null,null,null,null,null,null,null,null,null,null,null,null,null,null,null,null,null,null,null,null,null,null,null,null,null,null,"Выбор кабеленесущего элемента",null,null,null,null,null,null,null,null,null,null,{"$f":"OFFSET('OKL (3)'!M10,ОКЛ!AL3,0)","v":"-ТУ 16.К99-083-2015"},{"$f":"OFFSET('OKL (3)'!P10,$AL3,0)","v":"металлорукав"},{"$f":"OFFSET('OKL (3)'!T10,$AL3,0)","v":"бетон"},{"$f":"OFFSET('OKL (3)'!R10,$AL3,0)","v":"Металл"},{"$f":"OFFSET('OKL (3)'!V10,$AL3,0)","v":"Скоба"}]
[]
[null,null,null,null,null,null,null,null,null,null,null,null,null,null,null,null,null,null,null,null,null,null,null,null,null,null,null,null,null,null,null,null,null,null,null,null,null,"удалить со страницы"]
[null,null,null,null,null,null,null,null,null,null,null,null,null,null,null,null,null,null,null,null,null,null,null,null,null,null,null,null,null,null,null,null,null,null,null,null,null,{"$f":"IF(COUNT(AE21:AE110)>1, \"ОШИБКА! Выберите один тип линии!!! \", IF(SUM(AG21:AG110) < 1, \"ОШИБКА! ВВЕДИТЕ метраж напротив ОКЛ!!!\", AM110))","v":"СПЕЦКАБЛАЙН-ГЕФЕСТ-МР15-444мВыберите кабель для ОКЛ на одной из  вкладок кабели"}]
[]
[]
[null,null,null,null,null,null,null,null,null,null,null,null,null,null,null,null,null,null,null,null,null,null,null,null,null,null,null,null,null,null,null,null,null,null,null,null,null,{"$f":"OFFSET(AC20,AJ15,0)","v":"СПЕЦКАБЛАЙН-КиТ-МР20"}]
[null,null,null,null,null,null,null,null,null,null,null,null,null,null,null,null,null,null,null,null,null,null,null,null,null,null,null,null,null,null,"выбор материала конструкции "]
[]
[]
[]
[null,null,null,null,null,null,null,null,null,null,null,null,null,null,null,null,null,null,null,null,null,null,null,null,null,null,null,null,null,null,null,null,null,null,null,9,null,null,null,null,null,"Спецификация"]
[]
[]
[]
[null,null,null,null,null,null,null,null,null,null,null,null,null,null,null,null,null,null,null,null,null,null,null,null,null,null,null,null,null,null,"Введите длину ОКЛ. Возможен выбор только одной ОКЛ.  "]
[null,null,null,null,null,null,null,null,null,null,null,null,null,null,null,null,null,null,null,null,null,null,null,null,null,null,null,null,null,null,null,null,null,null,null,null,null,"Выбранный тип ОКЛ и ее длина"]
[null,null,null,null,null,null,null,null,null,null,null,null,null,null,null,null,null,null,null,null,null,null,null,null,null,1,{"$f":"IF(Z21<AA$2+1,CONCATENATE(\"*\",Z21, \"*\"),\"\")","v":"*1*"},null,{"$f":"IF(Z21<AA$2+1, MID(AC$2,FIND(AA21,AC$2)+3, FIND(\"#\",AC$2, FIND(AA21,AC$2)) -FIND(AA21,AC$2)-3), \"\")","v":"СПЕЦКАБЛАЙН-ГЕФЕСТ-МР15"},{"$f":"IF(Z21<AA$2+1, MID(AC$2,FIND(\"#\",AC$2,FIND(AA21,AC$2))+1, FIND(\"$\",AC$2, FIND(AA21,AC$2)) -FIND(\"#\",AC$2,FIND(AA21,AC$2))-1), \"\")","v":"2"},444,{"$f":"IF(AC21=\"\", 0, 1)","v":1},{"$f":"AE21*AF21","v":444},null,null,null,null,{"$f":"IF(AE21=0,\"\",CONCATENATE(AC21,\"-\",AE21,\"м\"))","v":"СПЕЦКАБЛАЙН-ГЕФЕСТ-МР15-444м"},{"$f":"CONCATENATE(AM20,AL21)","v":"СПЕЦКАБЛАЙН-ГЕФЕСТ-МР15-444м"},null,null,{"$f":"IF(AE21=0, \"\", VALUE(AD21))","v":2}]
[null,null,null,null,null,null,null,null,null,null,null,null,null,null,null,null,null,null,null,null,null,null,null,null,null,2,{"$f":"IF(Z22<AA$2+1,CONCATENATE(\"*\",Z22, \"*\"),\"\")","v":"*2*"},null,{"$f":"IF(Z22<AA$2+1, MID(AC$2,FIND(AA22,AC$2)+3, FIND(\"#\",AC$2, FIND(AA22,AC$2)) -FIND(AA22,AC$2)-3), \"\")","v":"СПЕЦКАБЛАЙН-ГЕФЕСТ-МР18"},{"$f":"IF(Z22<AA$2+1, MID(AC$2,FIND(\"#\",AC$2,FIND(AA22,AC$2))+1, FIND(\"$\",AC$2, FIND(AA22,AC$2)) -FIND(\"#\",AC$2,FIND(AA22,AC$2))-1), \"\")","v":"3"},null,{"$f":"IF(AC22=\"\", 0, 1)","v":1},{"$f":"AE22*AF22","v":0},null,null,null,null,{"$f":"IF(AE22=0,\"\",CONCATENATE(AC22,\"-\",AE22,\"м\"))","v":""},{"$f":"CONCATENATE(AM21,AL22)","v":"СПЕЦКАБЛАЙН-ГЕФЕСТ-МР15-444м"},null,null,""]
[null,null,null,null,null,null,null,null,null,null,null,null,null,null,null,null,null,null,null,null,null,null,null,null,null,3,"*3*",null,"СПЕЦКАБЛАЙН-ГЕФЕСТ-МР20","4",null,1,0,null,null,null,null,"","СПЕЦКАБЛАЙН-ГЕФЕСТ-МР15-444м",null,null,""]
[null,null,null,null,null,null,null,null,null,null,null,null,null,null,null,null,null,null,null,null,null,null,null,null,null,4,"*4*",null,"СПЕЦКАБЛАЙН-ГЕФЕСТ-МР22","5",null,1,0,null,null,null,null,"","СПЕЦКАБЛАЙН-ГЕФЕСТ-МР15-444м",null,null,""]
[null,null,null,null,null,null,null,null,null,null,null,null,null,null,null,null,null,null,null,null,null,null,null,null,null,5,"*5*",null,"СПЕЦКАБЛАЙН-ГЕФЕСТ-МР25","6",null,1,0,null,null,null,null,"","СПЕЦКАБЛАЙН-ГЕФЕСТ-МР15-444м",null,null,""]
[null,null,null,null,null,null,null,null,null,null,null,null,null,null,null,null,null,null,null,null,null,null,null,null,null,6,"*6*",null,"СПЕЦКАБЛАЙН-ГЕФЕСТ-МР32","7",null,1,0,null,null,null,null,"","СПЕЦКАБЛАЙН-ГЕФЕСТ-МР15-444м",null,null,""]
[null,null,null,null,null,null,null,null,null,null,null,null,null,null,null,null,null,null,null,null,null,null,null,null,null,7,"*7*",null,"СПЕЦКАБЛАЙН-КиТ-МР15","145",null,1,0,null,null,null,null,"","СПЕЦКАБЛАЙН-ГЕФЕСТ-МР15-444м",null,null,""]
[null,null,null,null,null,null,null,null,null,null,null,null,null,null,null,null,null,null,null,null,null,null,null,null,null,8,"*8*",null,"СПЕЦКАБЛАЙН-КиТ-МР18","146",null,1,0,null,null,null,null,"Выберите кабель для ОКЛ на одной из  вкладок кабели","СПЕЦКАБЛАЙН-ГЕФЕСТ-МР15-444мВыберите кабель для ОКЛ на одной из  вкладок кабели",null,null,""]
[null,null,null,null,null,null,null,null,null,null,null,null,null,null,null,null,null,null,null,null,null,null,null,null,null,9,"*9*",null,"СПЕЦКАБЛАЙН-КиТ-МР20","147",null,1,0,null,null,null,null,"","СПЕЦКАБЛАЙН-ГЕФЕСТ-МР15-444мВыберите кабель для ОКЛ на одной из  вкладок кабели",null,null,{"$f":"IF(AE29=\"\", \"\", VALUE(AD29))","v":""}]
[null,null,null,null,null,null,null,null,null,null,null,null,null,null,null,null,null,null,null,null,null,null,null,null,null,10,"*10*",null,{"$f":"IF(Z30<AA$2+1, MID(AC$2,FIND(AA30,AC$2)+4, FIND(\"#\",AC$2, FIND(AA30,AC$2)) -FIND(AA30,AC$2)-4), \"\")","v":"СПЕЦКАБЛАЙН-КиТ-МР20(с протяжкой)"},"148",null,1,0,null,null,null,null,"","СПЕЦКАБЛАЙН-ГЕФЕСТ-МР15-444мВыберите кабель для ОКЛ на одной из  вкладок кабели",null,null,{"$f":"IF(AE30=\"\", \"\", VALUE(AD30))","v":""}]
[null,null,null,null,null,null,null,null,null,null,null,null,null,null,null,null,null,null,null,null,null,null,null,null,null,11,"*11*",null,{"$f":"IF(Z31<AA$2+1, MID(AC$2,FIND(AA31,AC$2)+4, FIND(\"#\",AC$2, FIND(AA31,AC$2)) -FIND(AA31,AC$2)-4), \"\")","v":"СПЕЦКАБЛАЙН-КиТ-МР22"},"149",null,1,0,null,null,null,null,"","СПЕЦКАБЛАЙН-ГЕФЕСТ-МР15-444мВыберите кабель для ОКЛ на одной из  вкладок кабели",null,null,""]
[null,null,null,null,null,null,null,null,null,null,null,null,null,null,null,null,null,null,null,null,null,null,null,null,null,12,"*12*",null,"СПЕЦКАБЛАЙН-КиТ-МР25","150",null,1,0,null,null,null,null,"","СПЕЦКАБЛАЙН-ГЕФЕСТ-МР15-444мВыберите кабель для ОКЛ на одной из  вкладок кабели",null,null,""]
[null,null,null,null,null,null,null,null,null,null,null,null,null,null,null,null,null,null,null,null,null,null,null,null,null,13,"*13*",null,"СПЕЦКАБЛАЙН-КиТ-МР32","151",null,1,0,null,null,null,null,"","СПЕЦКАБЛАЙН-ГЕФЕСТ-МР15-444мВыберите кабель для ОКЛ на одной из  вкладок кабели",null,null,""]
[null,null,null,null,null,null,null,null,null,null,null,null,null,null,null,null,null,null,null,null,null,null,null,null,null,14,"*14*",null,"СПЕЦКАБЛАЙН-КиТ-МР38","152",null,1,0,null,null,null,null,"","СПЕЦКАБЛАЙН-ГЕФЕСТ-МР15-444мВыберите кабель для ОКЛ на одной из  вкладок кабели",null,null,""]
[null,null,null,null,null,null,null,null,null,null,null,null,null,null,null,null,null,null,null,null,null,null,null,null,null,15,"*15*",null,"СПЕЦКАБЛАЙН-КиТ-МР50","153",null,1,0,null,null,null,null,"","СПЕЦКАБЛАЙН-ГЕФЕСТ-МР15-444мВыберите кабель для ОКЛ на одной из  вкладок кабели",null,null,""]
[null,null,null,null,null,null,null,null,null,null,null,null,null,null,null,null,null,null,null,null,null,null,null,null,null,16,"*16*",null,"СПЕЦКАБЛАЙН-МР15","163",null,1,0,null,null,null,null,"","СПЕЦКАБЛАЙН-ГЕФЕСТ-МР15-444мВыберите кабель для ОКЛ на одной из  вкладок кабели",null,null,""]
[null,null,null,null,null,null,null,null,null,null,null,null,null,null,null,null,null,null,null,null,null,null,null,null,null,17,"*17*",null,"СПЕЦКАБЛАЙН-МР20","166",null,1,0,null,null,null,null,"","СПЕЦКАБЛАЙН-ГЕФЕСТ-МР15-444мВыберите кабель для ОКЛ на одной из  вкладок кабели",null,null,""]
[null,null,null,null,null,null,null,null,null,null,null,null,null,null,null,null,null,null,null,null,null,null,null,null,null,18,"*18*",null,"СПЕЦКАБЛАЙН-МР26","169",null,1,0,null,null,null,null,{"$f":"IF(AE38=0,\"\",CONCATENATE(AC38,\"-\",AE38,\"м\"))","v":""},"СПЕЦКАБЛАЙН-ГЕФЕСТ-МР15-444мВыберите кабель для ОКЛ на одной из  вкладок кабели",null,null,""]
[null,null,null,null,null,null,null,null,null,null,null,null,null,null,null,null,null,null,null,null,null,null,null,null,null,19,"*19*",null,"СПЕЦКАБЛАЙН-МР35","172",null,1,0,null,null,null,null,"","СПЕЦКАБЛАЙН-ГЕФЕСТ-МР15-444мВыберите кабель для ОКЛ на одной из  вкладок кабели",null,null,""]
[null,null,null,null,null,null,null,null,null,null,null,null,null,null,null,null,null,null,null,null,null,null,null,null,null,20,"*20*",null,"СПЕЦКАБЛАЙН-МР40","175",null,1,0,null,null,null,null,"","СПЕЦКАБЛАЙН-ГЕФЕСТ-МР15-444мВыберите кабель для ОКЛ на одной из  вкладок кабели",null,null,""]
[null,null,null,null,null,null,null,null,null,null,null,null,null,null,null,null,null,null,null,null,null,null,null,null,null,21,"*21*",null,"СПЕЦКАБЛАЙН-МР50","178",null,1,0,null,null,null,null,"","СПЕЦКАБЛАЙН-ГЕФЕСТ-МР15-444мВыберите кабель для ОКЛ на одной из  вкладок кабели",null,null,""]
[null,null,null,null,null,null,null,null,null,null,null,null,null,null,null,null,null,null,null,null,null,null,null,null,null,22,"*22*",null,"СПЕЦКАБЛАЙН-МРП15","181",null,1,0,null,null,null,null,"","СПЕЦКАБЛАЙН-ГЕФЕСТ-МР15-444мВыберите кабель для ОКЛ на одной из  вкладок кабели",null,null,""]
[null,null,null,null,null,null,null,null,null,null,null,null,null,null,null,null,null,null,null,null,null,null,null,null,null,23,"",null,"","",null,0,0,null,null,null,null,"","СПЕЦКАБЛАЙН-ГЕФЕСТ-МР15-444мВыберите кабель для ОКЛ на одной из  вкладок кабели",null,null,""]
[null,null,null,null,null,null,null,null,null,null,null,null,null,null,null,null,null,null,null,null,null,null,null,null,null,24,"",null,"","",null,0,0,null,null,null,null,"","СПЕЦКАБЛАЙН-ГЕФЕСТ-МР15-444мВыберите кабель для ОКЛ на одной из  вкладок кабели",null,null,""]
[null,null,null,null,null,null,null,null,null,null,null,null,null,null,null,null,null,null,null,null,null,null,null,null,null,25,"",null,"","",null,0,0,null,null,null,null,"","СПЕЦКАБЛАЙН-ГЕФЕСТ-МР15-444мВыберите кабель для ОКЛ на одной из  вкладок кабели",null,null,""]
[null,null,null,null,null,null,null,null,null,null,null,null,null,null,null,null,null,null,null,null,null,null,null,null,null,26,"",null,"","",null,0,0,null,null,null,null,"","СПЕЦКАБЛАЙН-ГЕФЕСТ-МР15-444мВыберите кабель для ОКЛ на одной из  вкладок кабели",null,null,""]
[null,null,null,null,null,null,null,null,null,null,null,null,null,null,null,null,null,null,null,null,null,null,null,null,null,27,"",null,"","",null,0,0,null,null,null,null,"","СПЕЦКАБЛАЙН-ГЕФЕСТ-МР15-444мВыберите кабель для ОКЛ на одной из  вкладок кабели",null,null,""]
[null,null,null,null,null,null,null,null,null,null,null,null,null,null,null,null,null,null,null,null,null,null,null,null,null,28,"",null,"","",null,0,0,null,null,null,null,"","СПЕЦКАБЛАЙН-ГЕФЕСТ-МР15-444мВыберите кабель для ОКЛ на одной из  вкладок кабели",null,null,""]
[null,null,null,null,null,null,null,null,null,null,null,null,null,null,null,null,null,null,null,null,null,null,null,null,null,29,"",null,"","",null,0,0,null,null,null,null,"","СПЕЦКАБЛАЙН-ГЕФЕСТ-МР15-444мВыберите кабель для ОКЛ на одной из  вкладок кабели",null,null,""]
[null,null,null,null,null,null,null,null,null,null,null,null,null,null,null,null,null,null,null,null,null,null,null,null,null,30,"",null,"","",null,0,0,null,null,null,null,"","СПЕЦКАБЛАЙН-ГЕФЕСТ-МР15-444мВыберите кабель для ОКЛ на одной из  вкладок кабели",null,null,""]
[null,null,null,null,null,null,null,null,null,null,null,null,null,null,null,null,null,null,null,null,null,null,null,null,null,31,"",null,"","",null,0,0,null,null,null,null,"","СПЕЦКАБЛАЙН-ГЕФЕСТ-МР15-444мВыберите кабель для ОКЛ на одной из  вкладок кабели",null,null,""]
[null,null,null,null,null,null,null,null,null,null,null,null,null,null,null,null,null,null,null,null,null,null,null,null,null,32,"",null,"","",null,0,0,null,null,null,null,"","СПЕЦКАБЛАЙН-ГЕФЕСТ-МР15-444мВыберите кабель для ОКЛ на одной из  вкладок кабели",null,null,""]
[null,null,null,null,null,null,null,null,null,null,null,null,null,null,null,null,null,null,null,null,null,null,null,null,null,33,"",null,"","",null,0,0,null,null,null,null,"","СПЕЦКАБЛАЙН-ГЕФЕСТ-МР15-444мВыберите кабель для ОКЛ на одной из  вкладок кабели",null,null,""]
[null,null,null,null,null,null,null,null,null,null,null,null,null,null,null,null,null,null,null,null,null,null,null,null,null,34,"",null,"","",null,0,0,null,null,null,null,"","СПЕЦКАБЛАЙН-ГЕФЕСТ-МР15-444мВыберите кабель для ОКЛ на одной из  вкладок кабели",null,null,""]
[null,null,null,null,null,null,null,null,null,null,null,null,null,null,null,null,null,null,null,null,null,null,null,null,null,35,"",null,"","",null,0,0,null,null,null,null,"","СПЕЦКАБЛАЙН-ГЕФЕСТ-МР15-444мВыберите кабель для ОКЛ на одной из  вкладок кабели",null,null,""]
[null,null,null,null,null,null,null,null,null,null,null,null,null,null,null,null,null,null,null,null,null,null,null,null,null,36,"",null,"","",null,0,0,null,null,null,null,"","СПЕЦКАБЛАЙН-ГЕФЕСТ-МР15-444мВыберите кабель для ОКЛ на одной из  вкладок кабели",null,null,""]
[null,null,null,null,null,null,null,null,null,null,null,null,null,null,null,null,null,null,null,null,null,null,null,null,null,37,"",null,"","",null,0,0,null,null,null,null,"","СПЕЦКАБЛАЙН-ГЕФЕСТ-МР15-444мВыберите кабель для ОКЛ на одной из  вкладок кабели",null,null,""]
[null,null,null,null,null,null,null,null,null,null,null,null,null,null,null,null,null,null,null,null,null,null,null,null,null,38,"",null,"","",null,0,0,null,null,null,null,"","СПЕЦКАБЛАЙН-ГЕФЕСТ-МР15-444мВыберите кабель для ОКЛ на одной из  вкладок кабели",null,null,""]
[null,null,null,null,null,null,null,null,null,null,null,null,null,null,null,null,null,null,null,null,null,null,null,null,null,39,"",null,"","",null,0,0,null,null,null,null,"","СПЕЦКАБЛАЙН-ГЕФЕСТ-МР15-444мВыберите кабель для ОКЛ на одной из  вкладок кабели",null,null,""]
[null,null,null,null,null,null,null,null,null,null,null,null,null,null,null,null,null,null,null,null,null,null,null,null,null,40,"",null,"","",null,0,0,null,null,null,null,"","СПЕЦКАБЛАЙН-ГЕФЕСТ-МР15-444мВыберите кабель для ОКЛ на одной из  вкладок кабели",null,null,""]
[null,null,null,null,null,null,null,null,null,null,null,null,null,null,null,null,null,null,null,null,null,null,null,null,null,41,"",null,"","",null,0,0,null,null,null,null,"","СПЕЦКАБЛАЙН-ГЕФЕСТ-МР15-444мВыберите кабель для ОКЛ на одной из  вкладок кабели",null,null,""]
[null,null,null,null,null,null,null,null,null,null,null,null,null,null,null,null,null,null,null,null,null,null,null,null,null,42,"",null,"","",null,0,0,null,null,null,null,"","СПЕЦКАБЛАЙН-ГЕФЕСТ-МР15-444мВыберите кабель для ОКЛ на одной из  вкладок кабели",null,null,""]
[null,null,null,null,null,null,null,null,null,null,null,null,null,null,null,null,null,null,null,null,null,null,null,null,null,43,"",null,"","",null,0,0,null,null,null,null,"","СПЕЦКАБЛАЙН-ГЕФЕСТ-МР15-444мВыберите кабель для ОКЛ на одной из  вкладок кабели",null,null,""]
[null,null,null,null,null,null,null,null,null,null,null,null,null,null,null,null,null,null,null,null,null,null,null,null,null,44,"",null,"","",null,0,0,null,null,null,null,"","СПЕЦКАБЛАЙН-ГЕФЕСТ-МР15-444мВыберите кабель для ОКЛ на одной из  вкладок кабели",null,null,""]
[null,null,null,null,null,null,null,null,null,null,null,null,null,null,null,null,null,null,null,null,null,null,null,null,null,45,"",null,"","",null,0,0,null,null,null,null,"","СПЕЦКАБЛАЙН-ГЕФЕСТ-МР15-444мВыберите кабель для ОКЛ на одной из  вкладок кабели",null,null,""]
[null,null,null,null,null,null,null,null,null,null,null,null,null,null,null,null,null,null,null,null,null,null,null,null,null,46,"",null,"","",null,0,0,null,null,null,null,"","СПЕЦКАБЛАЙН-ГЕФЕСТ-МР15-444мВыберите кабель для ОКЛ на одной из  вкладок кабели",null,null,""]
[null,null,null,null,null,null,null,null,null,null,null,null,null,null,null,null,null,null,null,null,null,null,null,null,null,47,"",null,"","",null,0,0,null,null,null,null,"","СПЕЦКАБЛАЙН-ГЕФЕСТ-МР15-444мВыберите кабель для ОКЛ на одной из  вкладок кабели",null,null,""]
[null,null,null,null,null,null,null,null,null,null,null,null,null,null,null,null,null,null,null,null,null,null,null,null,null,48,"",null,"","",null,0,0,null,null,null,null,"","СПЕЦКАБЛАЙН-ГЕФЕСТ-МР15-444мВыберите кабель для ОКЛ на одной из  вкладок кабели",null,null,""]
[null,null,null,null,null,null,null,null,null,null,null,null,null,null,null,null,null,null,null,null,null,null,null,null,null,49,"",null,"","",null,0,0,null,null,null,null,"","СПЕЦКАБЛАЙН-ГЕФЕСТ-МР15-444мВыберите кабель для ОКЛ на одной из  вкладок кабели",null,null,""]
[null,null,null,null,null,null,null,null,null,null,null,null,null,null,null,null,null,null,null,null,null,null,null,null,null,50,"",null,"","",null,0,0,null,null,null,null,"","СПЕЦКАБЛАЙН-ГЕФЕСТ-МР15-444мВыберите кабель для ОКЛ на одной из  вкладок кабели",null,null,""]
[null,null,null,null,null,null,null,null,null,null,null,null,null,null,null,null,null,null,null,null,null,null,null,null,null,51,"",null,"","",null,0,0,null,null,null,null,"","СПЕЦКАБЛАЙН-ГЕФЕСТ-МР15-444мВыберите кабель для ОКЛ на одной из  вкладок кабели",null,null,""]
[null,null,null,null,null,null,null,null,null,null,null,null,null,null,null,null,null,null,null,null,null,null,null,null,null,52,"",null,"","",null,0,0,null,null,null,null,"","СПЕЦКАБЛАЙН-ГЕФЕСТ-МР15-444мВыберите кабель для ОКЛ на одной из  вкладок кабели",null,null,""]
[null,null,null,null,null,null,null,null,null,null,null,null,null,null,null,null,null,null,null,null,null,null,null,null,null,53,"",null,"","",null,0,0,null,null,null,null,"","СПЕЦКАБЛАЙН-ГЕФЕСТ-МР15-444мВыберите кабель для ОКЛ на одной из  вкладок кабели",null,null,""]
[null,null,null,null,null,null,null,null,null,null,null,null,null,null,null,null,null,null,null,null,null,null,null,null,null,54,"",null,"","",null,0,0,null,null,null,null,"","СПЕЦКАБЛАЙН-ГЕФЕСТ-МР15-444мВыберите кабель для ОКЛ на одной из  вкладок кабели",null,null,""]
[null,null,null,null,null,null,null,null,null,null,null,null,null,null,null,null,null,null,null,null,null,null,null,null,null,55,"",null,"","",null,0,0,null,null,null,null,"","СПЕЦКАБЛАЙН-ГЕФЕСТ-МР15-444мВыберите кабель для ОКЛ на одной из  вкладок кабели",null,null,""]
[null,null,null,null,null,null,null,null,null,null,null,null,null,null,null,null,null,null,null,null,null,null,null,null,null,56,"",null,"","",null,0,0,null,null,null,null,"","СПЕЦКАБЛАЙН-ГЕФЕСТ-МР15-444мВыберите кабель для ОКЛ на одной из  вкладок кабели",null,null,""]
[null,null,null,null,null,null,null,null,null,null,null,null,null,null,null,null,null,null,null,null,null,null,null,null,null,57,"",null,"","",null,0,0,null,null,null,null,"","СПЕЦКАБЛАЙН-ГЕФЕСТ-МР15-444мВыберите кабель для ОКЛ на одной из  вкладок кабели",null,null,""]
[null,null,null,null,null,null,null,null,null,null,null,null,null,null,null,null,null,null,null,null,null,null,null,null,null,58,"",null,"","",null,0,0,null,null,null,null,"","СПЕЦКАБЛАЙН-ГЕФЕСТ-МР15-444мВыберите кабель для ОКЛ на одной из  вкладок кабели",null,null,""]
[null,null,null,null,null,null,null,null,null,null,null,null,null,null,null,null,null,null,null,null,null,null,null,null,null,59,"",null,"","",null,0,0,null,null,null,null,"","СПЕЦКАБЛАЙН-ГЕФЕСТ-МР15-444мВыберите кабель для ОКЛ на одной из  вкладок кабели",null,null,""]
[null,null,null,null,null,null,null,null,null,null,null,null,null,null,null,null,null,null,null,null,null,null,null,null,null,60,"",null,"","",null,0,0,null,null,null,null,"","СПЕЦКАБЛАЙН-ГЕФЕСТ-МР15-444мВыберите кабель для ОКЛ на одной из  вкладок кабели",null,null,""]
[null,null,null,null,null,null,null,null,null,null,null,null,null,null,null,null,null,null,null,null,null,null,null,null,null,61,"",null,"","",null,0,0,null,null,null,null,"","СПЕЦКАБЛАЙН-ГЕФЕСТ-МР15-444мВыберите кабель для ОКЛ на одной из  вкладок кабели",null,null,""]
[null,null,null,null,null,null,null,null,null,null,null,null,null,null,null,null,null,null,null,null,null,null,null,null,null,62,"",null,"",null,null,0,0,null,null,null,null,"","СПЕЦКАБЛАЙН-ГЕФЕСТ-МР15-444мВыберите кабель для ОКЛ на одной из  вкладок кабели",null,null,""]
[null,null,null,null,null,null,null,null,null,null,null,null,null,null,null,null,null,null,null,null,null,null,null,null,null,63,"",null,"",null,null,0,0,null,null,null,null,"","СПЕЦКАБЛАЙН-ГЕФЕСТ-МР15-444мВыберите кабель для ОКЛ на одной из  вкладок кабели",null,null,""]
[null,null,null,null,null,null,null,null,null,null,null,null,null,null,null,null,null,null,null,null,null,null,null,null,null,64,"",null,"",null,null,0,0,null,null,null,null,"","СПЕЦКАБЛАЙН-ГЕФЕСТ-МР15-444мВыберите кабель для ОКЛ на одной из  вкладок кабели",null,null,""]
[null,null,null,null,null,null,null,null,null,null,null,null,null,null,null,null,null,null,null,null,null,null,null,null,null,65,"",null,"",null,null,0,0,null,null,null,null,"","СПЕЦКАБЛАЙН-ГЕФЕСТ-МР15-444мВыберите кабель для ОКЛ на одной из  вкладок кабели",null,null,""]
[null,null,null,null,null,null,null,null,null,null,null,null,null,null,null,null,null,null,null,null,null,null,null,null,null,66,{"$f":"IF(Z86<AA$2+1,CONCATENATE(\"*\",Z86, \"*\"),\"\")","v":""},null,"",null,null,{"$f":"IF(AC86=\"\", 0, 1)","v":0},{"$f":"AE86*AF86","v":0},null,null,null,null,{"$f":"IF(AE86=0,\"\",CONCATENATE(AC86,\"-\",AE86,\"м\"))","v":""},{"$f":"CONCATENATE(AM85,AL86)","v":"СПЕЦКАБЛАЙН-ГЕФЕСТ-МР15-444мВыберите кабель для ОКЛ на одной из  вкладок кабели"},null,null,""]
[null,null,null,null,null,null,null,null,null,null,null,null,null,null,null,null,null,null,null,null,null,null,null,null,null,67,"",null,"",null,null,0,0,null,null,null,null,"","СПЕЦКАБЛАЙН-ГЕФЕСТ-МР15-444мВыберите кабель для ОКЛ на одной из  вкладок кабели",null,null,""]
[null,null,null,null,null,null,null,null,null,null,null,null,null,null,null,null,null,null,null,null,null,null,null,null,null,68,"",null,"",null,null,0,0,null,null,null,null,"","СПЕЦКАБЛАЙН-ГЕФЕСТ-МР15-444мВыберите кабель для ОКЛ на одной из  вкладок кабели",null,null,""]
[null,null,null,null,null,null,null,null,null,null,null,null,null,null,null,null,null,null,null,null,null,null,null,null,null,69,"",null,"",null,null,0,0,null,null,null,null,"","СПЕЦКАБЛАЙН-ГЕФЕСТ-МР15-444мВыберите кабель для ОКЛ на одной из  вкладок кабели",null,null,""]
[null,null,null,null,null,null,null,null,null,null,null,null,null,null,null,null,null,null,null,null,null,null,null,null,null,70,"",null,"",null,null,0,0,null,null,null,null,"","СПЕЦКАБЛАЙН-ГЕФЕСТ-МР15-444мВыберите кабель для ОКЛ на одной из  вкладок кабели",null,null,""]
[null,null,null,null,null,null,null,null,null,null,null,null,null,null,null,null,null,null,null,null,null,null,null,null,null,71,"",null,"",null,null,0,0,null,null,null,null,"","СПЕЦКАБЛАЙН-ГЕФЕСТ-МР15-444мВыберите кабель для ОКЛ на одной из  вкладок кабели",null,null,""]
[null,null,null,null,null,null,null,null,null,null,null,null,null,null,null,null,null,null,null,null,null,null,null,null,null,72,"",null,"",null,null,0,0,null,null,null,null,"","СПЕЦКАБЛАЙН-ГЕФЕСТ-МР15-444мВыберите кабель для ОКЛ на одной из  вкладок кабели",null,null,""]
[null,null,null,null,null,null,null,null,null,null,null,null,null,null,null,null,null,null,null,null,null,null,null,null,null,73,"",null,"",null,null,0,0,null,null,null,null,"","СПЕЦКАБЛАЙН-ГЕФЕСТ-МР15-444мВыберите кабель для ОКЛ на одной из  вкладок кабели",null,null,""]
[null,null,null,null,null,null,null,null,null,null,null,null,null,null,null,null,null,null,null,null,null,null,null,null,null,74,"",null,"",null,null,0,0,null,null,null,null,"","СПЕЦКАБЛАЙН-ГЕФЕСТ-МР15-444мВыберите кабель для ОКЛ на одной из  вкладок кабели",null,null,{"$f":"IF(AE94=\"\", \"\", VALUE(AD94))","v":""}]
[null,null,null,null,null,null,null,null,null,null,null,null,null,null,null,null,null,null,null,null,null,null,null,null,null,75,"",null,{"$f":"IF(Z95<AA$2+1, MID(AC$2,FIND(AA95,AC$2)+4, FIND(\"#\",AC$2, FIND(AA95,AC$2)) -FIND(AA95,AC$2)-4), \"\")","v":""},null,null,0,0,null,null,null,null,"","СПЕЦКАБЛАЙН-ГЕФЕСТ-МР15-444мВыберите кабель для ОКЛ на одной из  вкладок кабели",null,null,""]
[null,null,null,null,null,null,null,null,null,null,null,null,null,null,null,null,null,null,null,null,null,null,null,null,null,76,"",null,"",null,null,0,0,null,null,null,null,"","СПЕЦКАБЛАЙН-ГЕФЕСТ-МР15-444мВыберите кабель для ОКЛ на одной из  вкладок кабели",null,null,""]
[null,null,null,null,null,null,null,null,null,null,null,null,null,null,null,null,null,null,null,null,null,null,null,null,null,77,"",null,"",null,null,0,0,null,null,null,null,"","СПЕЦКАБЛАЙН-ГЕФЕСТ-МР15-444мВыберите кабель для ОКЛ на одной из  вкладок кабели",null,null,""]
[null,null,null,null,null,null,null,null,null,null,null,null,null,null,null,null,null,null,null,null,null,null,null,null,null,78,"",null,"",null,null,0,0,null,null,null,null,"","СПЕЦКАБЛАЙН-ГЕФЕСТ-МР15-444мВыберите кабель для ОКЛ на одной из  вкладок кабели",null,null,""]
[null,null,null,null,null,null,null,null,null,null,null,null,null,null,null,null,null,null,null,null,null,null,null,null,null,79,"",null,"",null,null,0,0,null,null,null,null,"","СПЕЦКАБЛАЙН-ГЕФЕСТ-МР15-444мВыберите кабель для ОКЛ на одной из  вкладок кабели",null,null,""]
[null,null,null,null,null,null,null,null,null,null,null,null,null,null,null,null,null,null,null,null,null,null,null,null,null,80,"",null,"",null,null,0,0,null,null,null,null,"","СПЕЦКАБЛАЙН-ГЕФЕСТ-МР15-444мВыберите кабель для ОКЛ на одной из  вкладок кабели",null,null,""]
[null,null,null,null,null,null,null,null,null,null,null,null,null,null,null,null,null,null,null,null,null,null,null,null,null,81,"",null,"",null,null,0,0,null,null,null,null,"","СПЕЦКАБЛАЙН-ГЕФЕСТ-МР15-444мВыберите кабель для ОКЛ на одной из  вкладок кабели",null,null,""]
[null,null,null,null,null,null,null,null,null,null,null,null,null,null,null,null,null,null,null,null,null,null,null,null,null,82,"",null,"",null,null,0,0,null,null,null,null,"","СПЕЦКАБЛАЙН-ГЕФЕСТ-МР15-444мВыберите кабель для ОКЛ на одной из  вкладок кабели",null,null,""]
[null,null,null,null,null,null,null,null,null,null,null,null,null,null,null,null,null,null,null,null,null,null,null,null,null,83,"",null,"",null,null,0,0,null,null,null,null,"","СПЕЦКАБЛАЙН-ГЕФЕСТ-МР15-444мВыберите кабель для ОКЛ на одной из  вкладок кабели",null,null,""]
[null,null,null,null,null,null,null,null,null,null,null,null,null,null,null,null,null,null,null,null,null,null,null,null,null,84,"",null,"",null,null,0,0,null,null,null,null,"","СПЕЦКАБЛАЙН-ГЕФЕСТ-МР15-444мВыберите кабель для ОКЛ на одной из  вкладок кабели",null,null,""]
[null,null,null,null,null,null,null,null,null,null,null,null,null,null,null,null,null,null,null,null,null,null,null,null,null,85,"",null,"",null,null,0,0,null,null,null,null,"","СПЕЦКАБЛАЙН-ГЕФЕСТ-МР15-444мВыберите кабель для ОКЛ на одной из  вкладок кабели",null,null,""]
[null,null,null,null,null,null,null,null,null,null,null,null,null,null,null,null,null,null,null,null,null,null,null,null,null,86,"",null,"",null,null,0,0,null,null,null,null,"","СПЕЦКАБЛАЙН-ГЕФЕСТ-МР15-444мВыберите кабель для ОКЛ на одной из  вкладок кабели",null,null,""]
[null,null,null,null,null,null,null,null,null,null,null,null,null,null,null,null,null,null,null,null,null,null,null,null,null,87,"",null,"",null,null,0,0,null,null,null,null,"","СПЕЦКАБЛАЙН-ГЕФЕСТ-МР15-444мВыберите кабель для ОКЛ на одной из  вкладок кабели",null,null,""]
[null,null,null,null,null,null,null,null,null,null,null,null,null,null,null,null,null,null,null,null,null,null,null,null,null,88,"",null,"",null,null,0,0,null,null,null,null,"","СПЕЦКАБЛАЙН-ГЕФЕСТ-МР15-444мВыберите кабель для ОКЛ на одной из  вкладок кабели",null,null,""]
[null,null,null,null,null,null,null,null,null,null,null,null,null,null,null,null,null,null,null,null,null,null,null,null,null,89,"",null,"",null,null,0,0,null,null,null,null,null,{"$f":"CONCATENATE(AM104,AL109)","v":"СПЕЦКАБЛАЙН-ГЕФЕСТ-МР15-444мВыберите кабель для ОКЛ на одной из  вкладок кабели"},null,null,""]
[null,null,null,null,null,null,null,null,null,null,null,null,null,null,null,null,null,null,null,null,null,null,null,null,null,90,"",null,"",null,null,0,0,null,null,null,null,null,"СПЕЦКАБЛАЙН-ГЕФЕСТ-МР15-444мВыберите кабель для ОКЛ на одной из  вкладок кабели",null,null,""]
[null,null,null,null,null,null,null,null,null,null,null,null,null,null,null,null,null,null,null,null,null,null,null,null,null,null,null,null,null,null,null,null,null,null,null,null,null,null,null,null,null,""]
[null,null,null,null,null,null,null,null,null,null,null,null,null,null,null,null,null,null,null,null,null,null,null,null,null,null,null,null,null,null,null,null,null,null,null,null,null,null,null,null,null,""]
[null,null,null,null,null,null,null,null,null,null,null,null,null,null,null,null,null,null,null,null,null,null,null,null,null,null,null,null,null,null,null,null,null,null,null,null,null,null,null,null,null,""]
[null,null,null,null,null,null,null,null,null,null,null,null,null,null,null,null,null,null,null,null,null,null,null,null,null,null,null,null,null,null,null,null,null,null,null,null,null,null,null,null,null,""]
[null,null,null,null,null,null,null,null,null,null,null,null,null,null,null,null,null,null,null,null,null,null,null,null,null,null,null,null,null,null,null,null,null,null,null,null,null,null,null,null,null,""]
[null,null,null,null,null,null,null,null,null,null,null,null,null,null,null,null,null,null,null,null,null,null,null,null,null,null,null,null,null,null,null,null,null,null,null,null,null,null,null,null,null,""]
[null,"Тип несущего элемента",null,null,"Разновидность несущего элемента",null,null,null,null,null,null,null,null,null,null,null,null,null,null,null,null,null,null,null,null,null,null,null,null,null,null,null,null,null,null,null,null,null,null,null,null,""]
[null,null,null,null,null,null,null,null,null,null,null,null,null,null,null,null,null,null,null,null,null,null,null,null,null,null,null,null,null,null,null,null,null,null,null,null,null,null,null,null,null,""]
[null,{"$f":"E119","v":"Гладкая пластиковая труба"},7,{"$f":"VLOOKUP(C119,F119:G130,2)","v":17},"Гладкая пластиковая труба",1,11,{"$f":"'OKL (3)'!AS9","v":18}]
[null,{"$f":"E120","v":"Гофрированная труба"},null,null,"Гофрированная труба",2,12,{"$f":"'OKL (3)'!AS10","v":25}]
[null,"Металличсекий кабельканал",null,null,"Металличсекий кабельканал",3,13,{"$f":"'OKL (3)'!AS11","v":1}]
[null,{"$f":"E122","v":"Металлорукав"},null,null,"Металлорукав",4,14,{"$f":"'OKL (3)'!AS12","v":22}]
[null,"Металлорукав в оболочке",null,null,"Металлорукав в оболочке",5,15,{"$f":"'OKL (3)'!AS13","v":8}]
[null,"Открытая прокладка",null,null,"Открытая прокладка",6,16,{"$f":"'OKL (3)'!AS14","v":3}]
[null,"Пластиковый кабельканал",null,null,"Пластиковый кабельканал",7,17,{"$f":"'OKL (3)'!AS15","v":39}]
[null,"Сетка Манье на крючках",null,null,"Сетка Манье на крючках",8,18,{"$f":"'OKL (3)'!AS16","v":3}]
[null,"Тросс с сеткой Манье",null,null,"Тросс с сеткой Манье",9,19,{"$f":"'OKL (3)'!AS17","v":5}]
[null,"Металлический чулок",null,null,"Металлический чулок",10,20,{"$f":"'OKL (3)'!AS18","v":1}]
[null,"Стальная труба",null,null,"Стальная труба",11,21,{"$f":"'OKL (3)'!AS19","v":1}]
[null,"Лоток металлический",null,null,"Лоток металлический",12,22,{"$f":"'OKL (3)'!AS20","v":2}]
[]
[]
[null,"Поверхность крепления",null,null,null,{"$f":"MAX(H135:H140)","v":3},null,0]
[]
[1,{"$f":"IF(A135>0, E135,\"\")","v":"Любая"},2,1,"Любая",11,{"$f":"'OKL (3)'!AT9","v":0},{"$f":"IF(G135=0, 0, MAX(H$133:H134 )+1)","v":0},{"$f":"IF(H135=0,\"\",CONCATENATE(\"*\",H135,\"*\"))","v":""},"Любая",{"$f":"IF(H135=0,\"\", CONCATENATE(I135, J135, \"#\"))","v":""},{"$f":"CONCATENATE(L134,K135)","v":""},1]
[{"$f":"H136","v":1},{"$f":"IF(A136>0, E136,\"\")","v":"Бетон"},null,2,"Бетон",12,{"$f":"'OKL (3)'!AT10","v":22},{"$f":"IF(G136=0, 0, MAX(H$133:H135 )+1)","v":1},"*1*","Бетон",{"$f":"IF(H136=0,\"\", CONCATENATE(I136, J136, \"#\"))","v":"*1*Бетон#"},{"$f":"CONCATENATE(L135,K136)","v":"*1*Бетон#"},2,{"$f":"IF(M136-1<F$133+1,CONCATENATE(\"*\",M136-1, \"*\"),\"\")","v":"*1*"},{"$f":"IF(M136-1<F$133+1,MID(L$139,FIND(N136,L$139)+3,FIND(\"#\",L$139,FIND(N136,L$139))-FIND(N136,L$139)-3),\"\")","v":"Бетон"}]
[{"$f":"H137","v":2},{"$f":"IF(A137>0, E137,\"\")","v":"Гипоскартон"},null,3,"Гипоскартон",13,{"$f":"'OKL (3)'!AT11","v":7},{"$f":"IF(G137=0, 0, MAX(H$133:H136 )+1)","v":2},"*2*","Гипоскартон","*2*Гипоскартон#","*1*Бетон#*2*Гипоскартон#",3,{"$f":"IF(M137-1<F$133+1,CONCATENATE(\"*\",M137-1, \"*\"),\"\")","v":"*2*"},{"$f":"IF(M137-1<F$133+1,MID(L$139,FIND(N137,L$139)+3,FIND(\"#\",L$139,FIND(N137,L$139))-FIND(N137,L$139)-3),\"\")","v":"Гипоскартон"}]
[3,{"$f":"IF(A138>0, E138,\"\")","v":"Сендвичпаннель"},null,4,"Сендвичпаннель",14,{"$f":"'OKL (3)'!AT12","v":7},{"$f":"IF(G138=0, 0, MAX(H$133:H137 )+1)","v":3},"*3*","Сендвичпаннель","*3*Сендвичпаннель#","*1*Бетон#*2*Гипоскартон#*3*Сендвичпаннель#",4,{"$f":"IF(M138-1<F$133+1,CONCATENATE(\"*\",M138-1, \"*\"),\"\")","v":"*3*"},{"$f":"IF(M138-1<F$133+1,MID(L$139,FIND(N138,L$139)+3,FIND(\"#\",L$139,FIND(N138,L$139))-FIND(N138,L$139)-3),\"\")","v":"Сендвичпаннель"}]
[0,{"$f":"IF(A139>0, E139,\"\")","v":""},null,5,"Арматура",15,{"$f":"'OKL (3)'!AT13","v":0},{"$f":"IF(G139=0, 0, MAX(H$133:H138 )+1)","v":0},"","Арматура","","*1*Бетон#*2*Гипоскартон#*3*Сендвичпаннель#",5,{"$f":"IF(M139-1<F$133+1,CONCATENATE(\"*\",M139-1, \"*\"),\"\")","v":""},{"$f":"IF(M139-1<F$133+1,MID(L$139,FIND(N139,L$139)+3,FIND(\"#\",L$139,FIND(N139,L$139))-FIND(N139,L$139)-3),\"\")","v":""}]
[]
[]
[null,"Вид крепежа",null,null,null,{"$f":"MAX(H144:H149)","v":1},null,0]
[]
[1,{"$f":"IF(A144>0, E144,\"\")","v":"Любой"},1,1,"Любой",11,{"$f":"'OKL (3)'!AU9","v":0},{"$f":"IF(G144=0, 0, MAX(H$142:H143 )+1)","v":0},{"$f":"IF(H144=0,\"\",CONCATENATE(\"*\",H144,\"*\"))","v":""},"Любой",null,null,1]
[{"$f":"H145","v":1},"Скоба",null,2,"Скоба",12,{"$f":"'OKL (3)'!AU10","v":22},{"$f":"IF(G145=0, 0, MAX(H$142:H144 )+1)","v":1},"*1*","Скоба",{"$f":"IF(H145=0,\"\", CONCATENATE(I145, J145, \"#\"))","v":"*1*Скоба#"},{"$f":"CONCATENATE(L144,K145)","v":"*1*Скоба#"},2,{"$f":"IF(M145-1<F$142+1,CONCATENATE(\"*\",M145-1, \"*\"),\"\")","v":"*1*"},{"$f":"IF(M145-1<F$142+1,MID(L$149,FIND(N145,L$149)+3,FIND(\"#\",L$149,FIND(N145,L$149))-FIND(N145,L$149)-3),\"\")","v":"Скоба"}]
[{"$f":"H146","v":0},"",null,3,"Дюбель-хомут",13,{"$f":"'OKL (3)'!AU11","v":0},{"$f":"IF(G146=0, 0, MAX(H$142:H145 )+1)","v":0},"","Дюбель-хомут",{"$f":"IF(H146=0,\"\", CONCATENATE(I146, J146, \"#\"))","v":""},{"$f":"CONCATENATE(L145,K146)","v":"*1*Скоба#"},3,{"$f":"IF(M146-1<F$142+1,CONCATENATE(\"*\",M146-1, \"*\"),\"\")","v":""},{"$f":"IF(M146-1<F$142+1,MID(L$149,FIND(N146,L$149)+3,FIND(\"#\",L$149,FIND(N146,L$149))-FIND(N146,L$149)-3),\"\")","v":""}]
[0,"",null,4,"Хомут",14,{"$f":"'OKL (3)'!AU12","v":0},{"$f":"IF(G147=0, 0, MAX(H$142:H146 )+1)","v":0},"","Хомут","","*1*Скоба#",4,{"$f":"IF(M147-1<F$142+1,CONCATENATE(\"*\",M147-1, \"*\"),\"\")","v":""},{"$f":"IF(M147-1<F$142+1,MID(L$149,FIND(N147,L$149)+3,FIND(\"#\",L$149,FIND(N147,L$149))-FIND(N147,L$149)-3),\"\")","v":""}]
[0,"",null,5,"Проволока",15,{"$f":"'OKL (3)'!AU13","v":0},{"$f":"IF(G148=0, 0, MAX(H$142:H147 )+1)","v":0},"","Проволока","","*1*Скоба#",5,{"$f":"IF(M148-1<F$142+1,CONCATENATE(\"*\",M148-1, \"*\"),\"\")","v":""},{"$f":"IF(M148-1<F$142+1,MID(L$149,FIND(N148,L$149)+3,FIND(\"#\",L$149,FIND(N148,L$149))-FIND(N148,L$149)-3),\"\")","v":""}]
[0,"",null,6,"Крючок",16,{"$f":"'OKL (3)'!AU14","v":0},{"$f":"IF(G149=0, 0, MAX(H$142:H148 )+1)","v":0},"","Крючок","","*1*Скоба#",6,{"$f":"IF(M149-1<F$142+1,CONCATENATE(\"*\",M149-1, \"*\"),\"\")","v":""},{"$f":"IF(M149-1<F$142+1,MID(L$149,FIND(N149,L$149)+3,FIND(\"#\",L$149,FIND(N149,L$149))-FIND(N149,L$149)-3),\"\")","v":""}]
[]
[]
[]
[null,"материал"]
[]
[null,"ПВХ"]
[null,"Полиэлефин"]
[null,"Металл"]
[]
[]
[]
[]
[]
[]
[]
[]
[]
[]
[]
[]
[]
[]
[]
[]
[]
[]
[]
[]
[]
[]
[]
[]
[]
[]
[]
[]
[]
[]
[]
[]
[]
[]
[]
[]
[]
[]
[]
[]
[]
[]
[]
[]
[]
[]
[]
[]
[]
[]
[]
[]
[]
[]
[]
[]
[]
[]
[]
[]
[]
[]
[]
[]
[]
[]
[]
[]
[]
[]
[null,null,null,null,null,null,null,null,null,null,null,null,null,null,null,null,null,null,null,null,null,null,null,null,null,208,{"$f":"IF(Z228<AA$2+1,CONCATENATE(\"*\",Z228, \"*\"),\"\")","v":""},null,{"$f":"IF(Z228<AA$2+1, MID(AC$2,FIND(AA228,AC$2)+3, FIND(\"#\",AC$2, FIND(AA228,AC$2)) -FIND(AA228,AC$2)-3), \"\")","v":""}]
[null,null,null,null,null,null,null,null,null,null,null,null,null,null,null,null,null,null,null,null,null,null,null,null,null,209,"",null,""]
[null,null,null,null,null,null,null,null,null,null,null,null,null,null,null,null,null,null,null,null,null,null,null,null,null,210,"",null,""]
[null,null,null,null,null,null,null,null,null,null,null,null,null,null,null,null,null,null,null,null,null,null,null,null,null,211,"",null,""]
[null,null,null,null,null,null,null,null,null,null,null,null,null,null,null,null,null,null,null,null,null,null,null,null,null,212,"",null,""]
[null,null,null,null,null,null,null,null,null,null,null,null,null,null,null,null,null,null,null,null,null,null,null,null,null,213,"",null,""]
[null,null,null,null,null,null,null,null,null,null,null,null,null,null,null,null,null,null,null,null,null,null,null,null,null,214,"",null,""]
[null,null,null,null,null,null,null,null,null,null,null,null,null,null,null,null,null,null,null,null,null,null,null,null,null,215,"",null,""]
[null,null,null,null,null,null,null,null,null,null,null,null,null,null,null,null,null,null,null,null,null,null,null,null,null,216,"",null,""]
[null,null,null,null,null,null,null,null,null,null,null,null,null,null,null,null,null,null,null,null,null,null,null,null,null,217,"",null,""]

{"sheet":"Лист2 (2)","index":5,"n_rows":42,"n_cols":21,"rows_kept":42,"cut":false,"hidden":true,"merged":[]}
[]
[null,"Заказ"]
[]
[null,"Выбор по марке ОКЛ",null,"Выбор по конструктиву"]
[]
[null,null,null,"Тип подвеса"]
[null,null,null,"Поверхность монтажа"]
[null,null,null,"Размер"]
[null,null,null,"Длина"]
[]
[]
[null,null,null,null,null,null,null,null,null,null,null,null,null,null,null,null,null,null,null,null,{"$f":"IF(J17=0,\"\", CONCATENATE(I17, G17, \"#\"))","v":"*1*прооы#"}]
[null,null,null,null,null,null,null,{"$f":"MAX(H17:H42)","v":3},null,null,null,{"$f":"L42","v":"*1*прооы#*2*56465#*3*рп324рп423#"}]
[null,null,null,null,null,null,null,null,null,null,null,null,null,null,0]
[null,null,null,null,null,null,null,0]
[null,null,null,null,null,null,null,null,null,null,null,null,null,null,1,{"$f":"IF(O16<H$13+1,CONCATENATE(\"*\",O16, \"*\"),\"\")","v":"*1*"},{"$f":"IF(O16<H$13+1, MID(L$13,FIND(P16,L$13)+3, FIND(\"#\",L$13, FIND(P16,L$13)) -FIND(P16,L$13)-3), \"\")","v":"прооы"}]
[null,null,null,null,null,1,"прооы",{"$f":"IF(J17=0, 0, MAX(H$15:H16 )+1)","v":1},{"$f":"IF(H17=0,\"\",CONCATENATE(\"*\",H17,\"*\"))","v":"*1*"},100,{"$f":"IF(J17=0,\"\", CONCATENATE(I17, G17, \"#\"))","v":"*1*прооы#"},{"$f":"CONCATENATE(L16,K17)","v":"*1*прооы#"},null,null,2,{"$f":"IF(O17<H$13+1,CONCATENATE(\"*\",O17, \"*\"),\"\")","v":"*2*"},{"$f":"IF(O17<H$13+1, MID(L$13,FIND(P17,L$13)+3, FIND(\"#\",L$13, FIND(P17,L$13)) -FIND(P17,L$13)-3), \"\")","v":"56465"}]
[null,null,null,null,null,2,"БББББ",{"$f":"IF(J18=0, 0, MAX(H$15:H17 )+1)","v":0},"",null,{"$f":"IF(J18=0,\"\", CONCATENATE(I18, G18, \"#\"))","v":""},{"$f":"CONCATENATE(L17,K18)","v":"*1*прооы#"},null,null,3,"*3*","рп324рп423"]
[null,null,null,null,null,3,"ВВВВВ",{"$f":"IF(J19=0, 0, MAX(H$15:H18 )+1)","v":0},"",null,"","*1*прооы#",null,null,4,"",""]
[null,null,null,null,null,4,"ГГГГГГ",{"$f":"IF(J20=0, 0, MAX(H$15:H19 )+1)","v":0},"",null,"","*1*прооы#",null,null,5,"",""]
[null,null,null,null,null,5,56465,{"$f":"IF(J21=0, 0, MAX(H$15:H20 )+1)","v":2},{"$f":"IF(H21=0,\"\",CONCATENATE(\"*\",H21,\"*\"))","v":"*2*"},10,"*2*56465#","*1*прооы#*2*56465#",null,null,6,"",""]
[null,null,null,null,null,6,"ЕЕЕЕЕ",{"$f":"IF(J22=0, 0, MAX(H$15:H21 )+1)","v":0},"",null,"","*1*прооы#*2*56465#",null,null,7,"",""]
[null,null,null,null,null,7,"ЖЖЖЖ",{"$f":"IF(J23=0, 0, MAX(H$15:H22 )+1)","v":0},"",null,"","*1*прооы#*2*56465#",null,null,8,"",""]
[null,null,null,null,null,8,"ЗЗЗЗЗ",{"$f":"IF(J24=0, 0, MAX(H$15:H23 )+1)","v":0},"",null,"","*1*прооы#*2*56465#",null,null,9,"",""]
[null,null,null,null,null,9,"рп324рп423",{"$f":"IF(J25=0, 0, MAX(H$15:H24 )+1)","v":3},"*3*",20,"*3*рп324рп423#","*1*прооы#*2*56465#*3*рп324рп423#",null,null,10,"",""]
[null,null,null,null,null,10,"БББББ",{"$f":"IF(J26=0, 0, MAX(H$15:H25 )+1)","v":0},"",null,"","*1*прооы#*2*56465#*3*рп324рп423#",null,null,11,"",""]
[null,null,null,null,null,11,"ВВВВВ",{"$f":"IF(J27=0, 0, MAX(H$15:H26 )+1)","v":0},"",null,"","*1*прооы#*2*56465#*3*рп324рп423#",null,null,12,"",""]
[null,null,null,null,null,12,"ГГГГГГ",{"$f":"IF(J28=0, 0, MAX(H$15:H27 )+1)","v":0},"",null,"","*1*прооы#*2*56465#*3*рп324рп423#",null,null,13,"",""]
[null,null,null,null,null,13,"ДДДДД",{"$f":"IF(J29=0, 0, MAX(H$15:H28 )+1)","v":0},"",null,"","*1*прооы#*2*56465#*3*рп324рп423#",null,null,14,"",""]
[null,null,null,null,null,14,"ЕЕЕЕЕ",{"$f":"IF(J30=0, 0, MAX(H$15:H29 )+1)","v":0},"",null,"","*1*прооы#*2*56465#*3*рп324рп423#",null,null,15,"",""]
[null,null,null,null,null,15,"ЖЖЖЖ",{"$f":"IF(J31=0, 0, MAX(H$15:H30 )+1)","v":0},"",null,"","*1*прооы#*2*56465#*3*рп324рп423#",null,null,16,"",""]
[null,null,null,null,null,16,"ЗЗЗЗЗ",{"$f":"IF(J32=0, 0, MAX(H$15:H31 )+1)","v":0},"",null,"","*1*прооы#*2*56465#*3*рп324рп423#",null,null,17,"",{"$f":"IF(O32<H$13+1, MID(L$13,FIND(P32,L$13)+3, FIND(\"#\",L$13, FIND(P32,L$13)) -FIND(P32,L$13)-3), \"\")","v":""}]
[null,null,null,null,null,17,"ААААА",{"$f":"IF(J33=0, 0, MAX(H$15:H32 )+1)","v":0},"",null,"","*1*прооы#*2*56465#*3*рп324рп423#",null,null,18,"",""]
[null,null,null,null,null,18,"БББББ",{"$f":"IF(J34=0, 0, MAX(H$15:H33 )+1)","v":0},"",null,"","*1*прооы#*2*56465#*3*рп324рп423#",null,null,19,"",""]
[null,null,null,null,null,19,"ВВВВВ",{"$f":"IF(J35=0, 0, MAX(H$15:H34 )+1)","v":0},"",null,{"$f":"IF(J35=0,\"\", G35)","v":""},"*1*прооы#*2*56465#*3*рп324рп423#",null,null,20,"",""]
[null,null,null,null,null,20,"ГГГГГГ",{"$f":"IF(J36=0, 0, MAX(H$15:H35 )+1)","v":0},"",null,"","*1*прооы#*2*56465#*3*рп324рп423#",null,null,21,"",""]
[null,null,null,null,null,21,"ДДДДД",{"$f":"IF(J37=0, 0, MAX(H$15:H36 )+1)","v":0},"",null,"","*1*прооы#*2*56465#*3*рп324рп423#",null,null,22,"",""]
[null,null,null,null,null,22,"ЕЕЕЕЕ",{"$f":"IF(J38=0, 0, MAX(H$15:H37 )+1)","v":0},"",null,"","*1*прооы#*2*56465#*3*рп324рп423#",null,null,23,"",""]
[null,null,null,null,null,23,"ЖЖЖЖ",{"$f":"IF(J39=0, 0, MAX(H$15:H38 )+1)","v":0},"",null,"","*1*прооы#*2*56465#*3*рп324рп423#",null,null,24,"",""]
[null,null,null,null,null,24,"ЗЗЗЗЗ",{"$f":"IF(J40=0, 0, MAX(H$15:H39 )+1)","v":0},"",null,"","*1*прооы#*2*56465#*3*рп324рп423#",null,null,25,"",""]
[null,null,null,null,null,25,null,{"$f":"IF(J41=0, 0, MAX(H$15:H40 )+1)","v":0},"",null,null,"*1*прооы#*2*56465#*3*рп324рп423#",null,null,26,{"$f":"IF(O41<H$13+1,O41,\"\")","v":""},""]
[null,null,null,null,null,null,null,{"$f":"IF(J42=0, 0, MAX(H$15:H41 )+1)","v":0},"",null,null,"*1*прооы#*2*56465#*3*рп324рп423#",null,null,27,{"$f":"IF(O42<H$13+1,O42,\"\")","v":""},""]

{"sheet":"Лист3","index":6,"n_rows":152,"n_cols":45,"rows_kept":152,"cut":false,"hidden":true,"merged":[]}
[]
[null,null,null,null,null,null,null,null,null,null,null,null,null,null,null,null,null,null,null,null,null,null,null,null,null,null,null,"поверхность",null,null,null,null,null,null,null,null,null,null,"крепеж"]
[null,null,null,null,null,null,null,null,"ПОВЕРХНОСТЬ",null,null,"КРЕПЕЖ",null,null,null,null,"КРЕПЕЖ",null,null,null,null,null,null,null,"Итоговая",null,null,null,null,null,null,null,null,null,null,"Итоговая"]
[null,null,null,null,null,null,null,{"$f":"Q24","v":"*1%НЕ ИМЕЕТ ЗНАЧЕНИЯ&1#*2%Бетон&2#*3%Гипоскартон&3#*4%Сендвичпаннель&4#"},null," ",{"$f":"Q20","v":"*1%НЕ ИМЕЕТ ЗНАЧЕНИЯ&1#*2%Скоба&2#"},null," ",null,null,null,null,{"$f":"K7","v":1},{"$f":"K8","v":2},{"$f":"K9","v":""},{"$f":"K10","v":""},null,null,null,null,null,null,null,{"$f":"R4","v":1},1,1,1,1,1,null,null,null,null,null,{"$f":"AC4","v":1},{"$f":"AD4","v":1},{"$f":"AE4","v":1},{"$f":"AF4","v":1},{"$f":"AG4","v":1},{"$f":"AH4","v":1}]
[null,null,null,null,null,null,null,null,null,null,null,null,null,null,null,null,null,{"$f":"IF(ISERR(FIND(\"&\",R6)), 0, MID(R6,FIND(\"&\",R6)+1, 10))","v":"1"},{"$f":"IF(ISERR(FIND(\"&\",S6)), 0, MID(S6,FIND(\"&\",S6)+1, 10))","v":"2"},0,0,0,0,null,null,null,null,null,"1",{"$f":"S5","v":"2"},{"$f":"T5","v":0},{"$f":"U5","v":0},{"$f":"V5","v":0},{"$f":"W5","v":0},null,null,null,null,null,"1","2",0,0,0,0]
[null,null,null,null,null,null,null,null,null,null,null,null,null,null,null,null,null,{"$f":"L7","v":"НЕ ИМЕЕТ ЗНАЧЕНИЯ&1"},{"$f":"L8","v":"Скоба&2"},{"$f":"L9","v":""},{"$f":"L10","v":""},{"$f":"L11","v":""},{"$f":"L12","v":""},null,null,null,null,null,"НЕ ИМЕЕТ ЗНАЧЕНИЯ&1","Скоба&2","","","","",null,null,null,null,null,"НЕ ИМЕЕТ ЗНАЧЕНИЯ&1","Скоба&2","","","",""]
[null,null,null,{"$f":"CONCATENATE(\"*\",E7,\"%\")","v":"*1%"},1,"Гладкая пластиковая труба",11,{"$f":"IF(ISERR(FIND($D7,H$4)), \"\", $E7)","v":1},{"$f":"IF(ISERR(FIND($D7,H$4)), \"\", MID(H$4, FIND($D7,H$4)+LEN($D7), FIND(\"#\",H$4, FIND($D7,H$4))-FIND($D7,H$4)-LEN($D7)))","v":"НЕ ИМЕЕТ ЗНАЧЕНИЯ&1"},null,{"$f":"IF(ISERR(FIND($D7,K$4)), \"\", $E7)","v":1},{"$f":"IF(ISERR(FIND($D7,K$4)), \"\", MID(K$4, FIND($D7,K$4)+LEN($D7), FIND(\"#\",K$4, FIND($D7,K$4))-FIND($D7,K$4)-LEN($D7)))","v":"НЕ ИМЕЕТ ЗНАЧЕНИЯ&1"},null,null,{"$f":"H7","v":1},{"$f":"IF(ISERR(FIND(\"&\", Q7)), 0, MID(Q7,FIND(\"&\",Q7)+1, 10))","v":"1"},{"$f":"I7","v":"НЕ ИМЕЕТ ЗНАЧЕНИЯ&1"},{"$f":"OFFSET($I$23,$P7,R$5)","v":1},{"$f":"OFFSET($I$23,$P7,S$5)","v":1},0,0,0,0,null,null,{"$f":"O7","v":1},{"$f":"P7","v":"1"},"НЕ ИМЕЕТ ЗНАЧЕНИЯ&1",{"$f":"IF(ISERR(FIND(\"1\", R7)), \"\", CONCATENATE(\"*\",AC$4,\"%\",AC$6,\"#\"))","v":"*1%НЕ ИМЕЕТ ЗНАЧЕНИЯ&1#"},{"$f":"IF(ISERR(FIND(\"1\", S7)), \"\", CONCATENATE(\"*\",AD$4,\"%\",AD$6,\"#\"))","v":"*1%Скоба&2#"},"","","","",{"$f":"CONCATENATE(AC7,AD7,AE7,AF7,AG7,AH7)","v":"*1%НЕ ИМЕЕТ ЗНАЧЕНИЯ&1#*1%Скоба&2#"},null,1,{"$f":"AA7","v":"1"},{"$f":"AB7","v":"НЕ ИМЕЕТ ЗНАЧЕНИЯ&1"},{"$f":"IF(ISERR(FIND(\"1\", R7)), \"\", CONCATENATE(\"*\",$AK7,\"%\",$AM7,\"#\"))","v":"*1%НЕ ИМЕЕТ ЗНАЧЕНИЯ&1#"},{"$f":"IF(ISERR(FIND(\"1\", S7)), \"\", CONCATENATE(\"*\",$AK7,\"%\",$AM7,\"#\"))","v":"*1%НЕ ИМЕЕТ ЗНАЧЕНИЯ&1#"},"","","",""]
[null,null,null,{"$f":"CONCATENATE(\"*\",E8,\"%\")","v":"*2%"},2,"Гофрированная труба",12,{"$f":"IF(ISERR(FIND($D8,H$4)), \"\", $E8)","v":2},{"$f":"IF(ISERR(FIND($D8,H$4)), \"\", MID(H$4, FIND($D8,H$4)+LEN($D8), FIND(\"#\",H$4, FIND($D8,H$4))-FIND($D8,H$4)-LEN($D8)))","v":"Бетон&2"},null,{"$f":"IF(ISERR(FIND($D8,K$4)), \"\", $E8)","v":2},{"$f":"IF(ISERR(FIND($D8,K$4)), \"\", MID(K$4, FIND($D8,K$4)+LEN($D8), FIND(\"#\",K$4, FIND($D8,K$4))-FIND($D8,K$4)-LEN($D8)))","v":"Скоба&2"},null,null,{"$f":"H8","v":2},{"$f":"IF(ISERR(FIND(\"&\", Q8)), 0, MID(Q8,FIND(\"&\",Q8)+1, 10))","v":"2"},{"$f":"I8","v":"Бетон&2"},{"$f":"OFFSET($I$23,$P8,R$5)","v":1},1,0,0,0,0,null,null,{"$f":"O8","v":2},{"$f":"P8","v":"2"},{"$f":"Q8","v":"Бетон&2"},{"$f":"IF(ISERR(FIND(\"1\", R8)), \"\", CONCATENATE(\"*\",AC$4,\"%\",AC$6,\"#\"))","v":"*1%НЕ ИМЕЕТ ЗНАЧЕНИЯ&1#"},{"$f":"IF(ISERR(FIND(\"1\", S8)), \"\", CONCATENATE(\"*\",AD$4,\"%\",AD$6,\"#\"))","v":"*1%Скоба&2#"},{"$f":"IF(ISERR(FIND(\"1\", T8)), \"\", CONCATENATE(\"*\",AE$4,\"%\",AE$6,\"#\"))","v":""},{"$f":"IF(ISERR(FIND(\"1\", U8)), \"\", CONCATENATE(\"*\",AF$4,\"%\",AF$6,\"#\"))","v":""},{"$f":"IF(ISERR(FIND(\"1\", V8)), \"\", CONCATENATE(\"*\",AG$4,\"%\",AG$6,\"#\"))","v":""},{"$f":"IF(ISERR(FIND(\"1\", W8)), \"\", CONCATENATE(\"*\",AH$4,\"%\",AH$6,\"#\"))","v":""},{"$f":"CONCATENATE(AC8,AD8,AE8,AF8,AG8,AH8)","v":"*1%НЕ ИМЕЕТ ЗНАЧЕНИЯ&1#*1%Скоба&2#"},null,1,"2","Бетон&2",{"$f":"IF(ISERR(FIND(\"1\", R8)), \"\", CONCATENATE(\"*\",$AK8,\"%\",$AM8,\"#\"))","v":"*1%Бетон&2#"},"*1%Бетон&2#","","","",""]
[null,null,null,"*3%",3,"Металличсекий кабельканал",13,3,"Гипоскартон&3",null,"","",null,null,{"$f":"H9","v":3},"3","Гипоскартон&3",1,1,0,0,0,0,null,null,3,"3","Гипоскартон&3","*1%НЕ ИМЕЕТ ЗНАЧЕНИЯ&1#","*1%Скоба&2#","","","","","*1%НЕ ИМЕЕТ ЗНАЧЕНИЯ&1#*1%Скоба&2#",null,1,"3","Гипоскартон&3","*1%Гипоскартон&3#","*1%Гипоскартон&3#","","","",""]
[null,null,null,"*4%",4,"Металлорукав",14,4,"Сендвичпаннель&4",null,"","",null,null,{"$f":"H10","v":4},"4","Сендвичпаннель&4",1,1,0,0,0,0,null,null,4,"4","Сендвичпаннель&4","*1%НЕ ИМЕЕТ ЗНАЧЕНИЯ&1#","*1%Скоба&2#","","","","","*1%НЕ ИМЕЕТ ЗНАЧЕНИЯ&1#*1%Скоба&2#",null,1,"4","Сендвичпаннель&4","*1%Сендвичпаннель&4#","*1%Сендвичпаннель&4#","","","",""]
[null,null,null,"*5%",5,"Металлорукав в оболочке",15,"","",null,"","",null,null,{"$f":"H11","v":""},0,"",0,0,0,0,0,0,null,null,"",0,"","","","","","","","",null,1,0,"","","","","","",""]
[null,null,null,"*6%",6,"Открытая прокладка",16,"","",null,"","",null,null,null,{"$f":"H12","v":""},"",null,null,null,null,null,null,null,null,null,null,null,null,null,null,null,null,null,null,null,null,null,null,{"$f":"CONCATENATE(AN7,AN8,AN9,AN10,AN11)","v":"*1%НЕ ИМЕЕТ ЗНАЧЕНИЯ&1#*1%Бетон&2#*1%Гипоскартон&3#*1%Сендвичпаннель&4#"},{"$f":"CONCATENATE(AO7,AO8,AO9,AO10,AO11)","v":"*1%НЕ ИМЕЕТ ЗНАЧЕНИЯ&1#*1%Бетон&2#*1%Гипоскартон&3#*1%Сендвичпаннель&4#"},"","","",""]
[null,null,null,"*7%",7,"Пластиковый кабельканал",17,"","",null,"","",null,null,null,null,""]
[null,null,null,"*8%",8,"Сетка Манье на крючках",18,"","",null,"",""]
[null,null,null,"*9%",9,"Тросс с сеткой Манье",19,"","",null,"","",null,null,null,null,null,null,null,null,null,null,null,null,null,null,null,null,null,null,null,null,null,null,null,null,null,null,null,null,null,null,{"$f":"COUNTIF(AQ7:AQ11,со(\"&\",AQ7:AQ11))","v":0}]
[null,null,null,"*10%",10,"Металлический чулок",20,"","",null,"","",null,null,"ТИП ЛИНИИ","ПОВТЬ","КРЕПЕЖ"]
[null,null,null,"*11%",11,"Стальная труба",21,"","",null,"","",null,null,{"$f":"'Заказ 2'!M39","v":4},{"$f":"'Заказ 2'!F13","v":"2"},{"$f":"'Заказ 2'!F24","v":"1"}]
[null,null,null,"*12%",12,"Лоток металлический",22,"","",null,"",""]
[null,null,null,null,null,null,null,null,null,{"$f":"CONCATENATE(J20,K19)","v":"*1%НЕ ИМЕЕТ ЗНАЧЕНИЯ&1#*2%Скоба&2#"},"*2%Скоба&2#","","","",{"$f":"CONCATENATE(O20,P19)","v":""},null,"Крепеж"]
[null,null,null,null,null,null,null,null,null,{"$f":"IF(ISERR(FIND(\"1\",J24)), \"\", CONCATENATE(\"*\",J21,\"%\",J22,\"#\"))","v":"*1%НЕ ИМЕЕТ ЗНАЧЕНИЯ&1#"},{"$f":"IF(ISERR(FIND(\"1\",K24)), \"\", CONCATENATE(\"*\",K21,\"%\",K22,\"#\"))","v":"*2%Скоба&2#"},"",{"$f":"IF(ISERR(FIND(\"1\",M24)), \"\", CONCATENATE(\"*\",M21,\"%\",M22,\"#\"))","v":""},{"$f":"IF(ISERR(FIND(\"1\",N24)), \"\", CONCATENATE(\"*\",N21,\"%\",N22,\"#\"))","v":""},{"$f":"IF(ISERR(FIND(\"1\",O24)), \"\", CONCATENATE(\"*\",O21,\"%\",O22,\"#\"))","v":""},null,{"$f":"J19","v":"*1%НЕ ИМЕЕТ ЗНАЧЕНИЯ&1#*2%Скоба&2#"},null,null,null,null,null,null,null,null,null,null,"Общая формула:"]
[null,null,null,null,{"$f":"OFFSET(E35, ($O$17-1)*10,0)","v":4},{"$f":"OFFSET(F35, ($O$17-1)*10,0)","v":"Металлорукав"},null,null,null,{"$f":"IF(ISERR(FIND(\"1\",J24)), \"\", MAX($H21:I21)+1)","v":1},{"$f":"IF(ISERR(FIND(\"1\",K24)), \"\", MAX($H21:J21)+1)","v":2},{"$f":"IF(ISERR(FIND(\"1\",L24)), \"\", MAX($H21:K21)+1)","v":""},{"$f":"IF(ISERR(FIND(\"1\",M24)), \"\", MAX($H21:L21)+1)","v":""},{"$f":"IF(ISERR(FIND(\"1\",N24)), \"\", MAX($H21:M21)+1)","v":""},{"$f":"IF(ISERR(FIND(\"1\",O24)), \"\", MAX($H21:N21)+1)","v":""},null,null,null,null,null,null,null,null,null,null,null,null,{"$f":"CONCATENATE(OFFSET(AM12,0,1),\"№**№\",OFFSET(AI6,P17,0))","v":"*1%НЕ ИМЕЕТ ЗНАЧЕНИЯ&1#*1%Бетон&2#*1%Гипоскартон&3#*1%Сендвичпаннель&4#№**№*1%НЕ ИМЕЕТ ЗНАЧЕНИЯ&1#*1%Скоба&2#"}]
[null,null,null,null,null,null,null,null,null,{"$f":"S37","v":"НЕ ИМЕЕТ ЗНАЧЕНИЯ&1"},{"$f":"T37","v":"Скоба&2"},"Дюбель-хомут&3","Хомут&4","Проволока&5","Крючок&6"]
[null,null,null,null,null,null,null,null,null,null,null,null,null,null,null,null,"Поверхности",null,null,null,null,null,null,null,null,null,"итого "]
[null,null,null,null,null,{"$f":"IF(ISERR(FIND(\"1\",J24)), \"\", MAX(F$22:F23)+1)","v":1},{"$f":"IF(ISERR(FIND(\"1\",J24)), \"\", CONCATENATE(\"*\",F24,\"%\",H24,\"#\"))","v":"*1%НЕ ИМЕЕТ ЗНАЧЕНИЯ&1#"},{"$f":"U40","v":"НЕ ИМЕЕТ ЗНАЧЕНИЯ&1"},null,{"$f":"OFFSET(J38, ($O$17-1)*10,0)","v":1},1,0,0,0,0,null,{"$f":"CONCATENATE(G24,Q25)","v":"*1%НЕ ИМЕЕТ ЗНАЧЕНИЯ&1#*2%Бетон&2#*3%Гипоскартон&3#*4%Сендвичпаннель&4#"}]
[null,null,null,null,null,{"$f":"IF(ISERR(FIND(\"1\",J25)), \"\", MAX(F$22:F24)+1)","v":2},{"$f":"IF(ISERR(FIND(\"1\",J25)), \"\", CONCATENATE(\"*\",F25,\"%\",H25,\"#\"))","v":"*2%Бетон&2#"},{"$f":"U41","v":"Бетон&2"},null,1,1,0,0,0,0,null,"*2%Бетон&2#*3%Гипоскартон&3#*4%Сендвичпаннель&4#",null,null,null,null,null,null,null,null,"П-ть",null,{"$f":"OFFSET(AM12,0,1)","v":"*1%НЕ ИМЕЕТ ЗНАЧЕНИЯ&1#*1%Бетон&2#*1%Гипоскартон&3#*1%Сендвичпаннель&4#"}]
[null,null,null,null,null,{"$f":"IF(ISERR(FIND(\"1\",J26)), \"\", MAX(F$22:F25)+1)","v":3},"*3%Гипоскартон&3#",{"$f":"U42","v":"Гипоскартон&3"},null,1,1,0,0,0,0,null,"*3%Гипоскартон&3#*4%Сендвичпаннель&4#",null,null,null,null,null,null,null,null,"К-ж",null,{"$f":"OFFSET(AI6,P17,0)","v":"*1%НЕ ИМЕЕТ ЗНАЧЕНИЯ&1#*1%Скоба&2#"}]
[null,null,null,null,null,{"$f":"IF(ISERR(FIND(\"1\",J27)), \"\", MAX(F$22:F26)+1)","v":4},"*4%Сендвичпаннель&4#",{"$f":"U43","v":"Сендвичпаннель&4"},null,1,1,0,0,0,0,null,"*4%Сендвичпаннель&4#"]
[null,null,null,null,null,{"$f":"IF(ISERR(FIND(\"1\",J28)), \"\", MAX(F$22:F27)+1)","v":""},"",{"$f":"U44","v":"Арматура&5"},null,0,0,0,0,0,0,null,{"$f":"CONCATENATE(G28,Q29)","v":""},null,null,null,null,null,null,null,null,null,null,null,null,"Пть",null,null,null,null,null,null,null,null,"Крепеж"]
[null,null,null,null,null,null,null,null,null,null,null,null,null,null,null,null,null,null,null,null,null,null,null,null,null,null,null,null,null,null,null,{"$f":"AB25","v":"*1%НЕ ИМЕЕТ ЗНАЧЕНИЯ&1#*1%Бетон&2#*1%Гипоскартон&3#*1%Сендвичпаннель&4#"},null,null,null," ",null," ",null,null,{"$f":"AB26","v":"*1%НЕ ИМЕЕТ ЗНАЧЕНИЯ&1#*1%Скоба&2#"}]
[null,null,null,null,null,null,null,null,null,null,null,null,null,null,null,null,null,null,null,null,null,null,null,null,null,"*1%",1,{"$f":"IF(ISERR(FIND(\"*1%\",AF29)), \"\",AA30)","v":1},{"$f":"IF(ISERR(FIND($Z30,AF29)), \"\", MID(AF29, 4, FIND(\"#\",AF29)-4))","v":"НЕ ИМЕЕТ ЗНАЧЕНИЯ&1"},{"$f":"IF(ISERR(FIND(\"&\",AC30)), \"\", MID(AC30, 1, FIND(\"&\",AC30)-1))","v":"НЕ ИМЕЕТ ЗНАЧЕНИЯ"},{"$f":"IF(ISERR(FIND(\"&\",AC30)), 0, MID(AC30, FIND(\"&\",AC30)+1,2))","v":"1"},{"$f":"IF(ISERR(FIND(\"#\",AF29)), \"\", MID(AF29,FIND(\"#\",AF29)+1, 1000))","v":"*1%Бетон&2#*1%Гипоскартон&3#*1%Сендвичпаннель&4#"},null,null,null,null,{"$f":"IF(ISERR(FIND(\"*1%\",AO29)), \"\",AA30)","v":1},{"$f":"IF(ISERR(FIND($Z30,AO29)), \"\", MID(AO29, 4, FIND(\"#\",AO29)-4))","v":"НЕ ИМЕЕТ ЗНАЧЕНИЯ&1"},{"$f":"IF(ISERR(FIND(\"&\",AL30)), \"\", MID(AL30, 1, FIND(\"&\",AL30)-1))","v":"НЕ ИМЕЕТ ЗНАЧЕНИЯ"},{"$f":"IF(ISERR(FIND(\"&\",AL30)), 0, MID(AL30, FIND(\"&\",AL30)+1,2))","v":"1"},{"$f":"IF(ISERR(FIND(\"#\",AO29)), \"\", MID(AO29,FIND(\"#\",AO29)+1, 1000))","v":"*1%Скоба&2#"}]
[null,null,null,null,null,null,null,null,null,null,null,null,null,null,null,null,null,null,null,null,null,null,null,null,null,"*1%",2,2,"Бетон&2",{"$f":"IF(ISERR(FIND(\"&\",AC31)), \"\", MID(AC31, 1, FIND(\"&\",AC31)-1))","v":"Бетон"},"2",{"$f":"IF(ISERR(FIND(\"#\",AF30)), \"\", MID(AF30,FIND(\"#\",AF30)+1, 1000))","v":"*1%Гипоскартон&3#*1%Сендвичпаннель&4#"},null,null,null,null,2,"Скоба&2",{"$f":"IF(ISERR(FIND(\"&\",AL31)), \"\", MID(AL31, 1, FIND(\"&\",AL31)-1))","v":"Скоба"},{"$f":"IF(ISERR(FIND(\"&\",AL31)), 0, MID(AL31, FIND(\"&\",AL31)+1,2))","v":"2"},{"$f":"IF(ISERR(FIND(\"#\",AO30)), \"\", MID(AO30,FIND(\"#\",AO30)+1, 1000))","v":""}]
[null,null,null,null,null,null,null,null,null,null,null,null,null,null,null,null,null,null,null,null,null,null,null,null,null,"*1%",3,3,"Гипоскартон&3","Гипоскартон","3","*1%Сендвичпаннель&4#",null,null,null,null,"","","",0,""]
[null,null,null,null,null,null,null,null,null,null,null,null,null,null,null,null,null,null,null,null,null,null,null,null,null,"*1%",4,4,"Сендвичпаннель&4","Сендвичпаннель","4","",null,null,null,null,"","","",0,""]
[null,null,null,null,null,null,null,null,null,null,null,null,null,null,null,null,null,null,null,null,null,null,null,null,null,"*1%",5,"","","",0,"",{"$f":"IF(ISERR(FIND(\"*1%\",AO33)), \"\",AA34)","v":""},{"$f":"IF(ISERR(FIND($Z34,AO33)), \"\", MID(AO33, 4, FIND(\"#\",AO33)-4))","v":""},{"$f":"IF(ISERR(FIND(\"#\",AO33)), \"\", MID(AO33,FIND(\"#\",AO33)+1, 1000))","v":""},null,"","","",0,""]
[null,null,null,null,1,"Гладкая пластиковая труба",null,null,null,null,null,null,null,null,null,null,null,null,"&1","&2","&3","&4","&5","&6",null,"*1%",6,"","","",{"$f":"IF(ISERR(FIND(\"&\",AC35)), 0, MID(AC35, FIND(\"&\",AC35)+1,2))","v":0},"",{"$f":"IF(ISERR(FIND(\"*1%\",AI34)), \"\",AA35)","v":""},{"$f":"IF(ISERR(FIND($Z35,AI34)), \"\", MID(AI34, 4, FIND(\"#\",AI34)-4))","v":""},{"$f":"IF(ISERR(FIND(\"#\",AI34)), \"\", MID(AI34,FIND(\"#\",AI34)+1, 1000))","v":""},null,"","","",0,""]
[null,null,null,null,null,null,null,null,null,"Любой","Скоба","дх","Хомут","Проволока","Крючок",null,null,null,"НЕ ИМЕЕТ ЗНАЧЕНИЯ","Скоба","Дюбель-хомут","Хомут","Проволока","Крючок",null,"*1%",7,null,{"$f":"IF(ISERR(FIND(\"*1%\",AF35)), \"\",AA36)","v":""},{"$f":"IF(ISERR(FIND($Z36,AF35)), \"\", MID(AF35, 4, FIND(\"#\",AF35)-4))","v":""},{"$f":"IF(ISERR(FIND(\"&\",AC36)), 0, MID(AC36, FIND(\"&\",AC36)+1,2))","v":0},"",{"$f":"IF(ISERR(FIND(\"*1%\",AI35)), \"\",AD36)","v":""},"","",null,"","","",{"$f":"IF(ISERR(FIND(\"&\",AL36)), \"\", MID(AL36, FIND(\"&\",AL36)+1,2))","v":""},""]
[null,null,null,null,null,null,null,null,null,1,2,3,4,5,6,null,null,null,{"$f":"CONCATENATE(S36,S35)","v":"НЕ ИМЕЕТ ЗНАЧЕНИЯ&1"},{"$f":"CONCATENATE(T36,T35)","v":"Скоба&2"},"Дюбель-хомут&3","Хомут&4","Проволока&5","Крючок&6",null,"*1%",8,null,"","",null,"",null,null,null,null,null,{"$f":"IF(ISERR(FIND(\"*1%\",AO36)), \"\",AA37)","v":""},{"$f":"IF(ISERR(FIND($Z37,AO36)), \"\", MID(AO36, 4, FIND(\"#\",AO36)-4))","v":""},"",""]
[null,null,null,null,null,null,null,"Любая",1,1,1,null,1,1,null,null,null,null,null,null,null,null,null,null,null,"*1%",9,null,null,null,null,null,null,null,null,null,null,null,null,""]
[null,null,null,null,null,null,null,"Бетон",2,1,1,null,null,null,null,null,null,null,null,null,null,null,null,null,null,{"$f":"CONCATENATE(\"*\",AA39,\"%\")","v":"*10%"},10]
[null,null,null,null,null,null,null,"Гипоскартон",3,1,1,null,null,null,null,null,null,null,"НЕ ИМЕЕТ ЗНАЧЕНИЯ","&1",{"$f":"CONCATENATE(S40,T40)","v":"НЕ ИМЕЕТ ЗНАЧЕНИЯ&1"},null,null,null,null,"*11%",11]
[null,null,null,null,null,null,null,"Сендвичпаннель",4,1,1,null,null,null,null,null,null,null,"Бетон","&2",{"$f":"CONCATENATE(S41,T41)","v":"Бетон&2"},null,null,null,null,{"$f":"CONCATENATE(\"*\",AA41,\"%\")","v":"*12%"},12]
[null,null,null,null,null,null,null,"Арматура",5,1,null,null,1,1,null,null,null,null,"Гипоскартон","&3","Гипоскартон&3"]
[null,null,null,null,null,null,null,null,null,null,null,null,null,null,null,null,null,null,"Сендвичпаннель","&4","Сендвичпаннель&4"]
[null,null,null,null,null,null,null,null,null,null,null,null,null,null,null,null,null,null,"Арматура","&5","Арматура&5"]
[null,null,null,null,2,"Гофрированная труба"]
[null,null,null,null,null,null,null,null,null,"Любой","Скоба","дх","Хомут","Проволока","Крючок"]
[null,null,null,null,null,null,null,null,null,1,2,3,4,5,6]
[null,null,null,null,null,null,null,"Любая",1,1,1,null,1,1]
[null,null,null,null,null,null,null,"Бетон",2,1,1]
[null,null,null,null,null,null,null,"Гипоскартон",3,1,1]
[null,null,null,null,null,null,null,"Сендвичпаннель",4,1,1]
[null,null,null,null,null,null,null,"Арматура",5,1,null,null,1,1]
[]
[]
[null,null,null,null,3,"Металличсекий кабельканал"]
[null,null,null,null,null,null,null,null,null,"Любой","Скоба","дх","Хомут","Проволока","Крючок"]
[null,null,null,null,null,null,null,null,null,1,2,3,4,5,6]
[null,null,null,null,null,null,null,"Любая",1,1,null,1]
[null,null,null,null,null,null,null,"Бетон",2,1,null,1]
[null,null,null,null,null,null,null,"Гипоскартон",3]
[null,null,null,null,null,null,null,"Сендвичпаннель",4]
[null,null,null,null,null,null,null,"Арматура",5]
[]
[]
[null,null,null,null,4,"Металлорукав"]
[null,null,null,null,null,null,null,null,null,"Любой","Скоба","дх","Хомут","Проволока","Крючок"]
[null,null,null,null,null,null,null,null,null,1,2,3,4,5,6]
[null,null,null,null,null,null,null,"Любая",1,1,1]
[null,null,null,null,null,null,null,"Бетон",2,1,1]
[null,null,null,null,null,null,null,"Гипоскартон",3,1,1]
[null,null,null,null,null,null,null,"Сендвичпаннель",4,1,1]
[null,null,null,null,null,null,null,"Арматура",5]
[]
[]
[null,null,null,null,5,"Металлорукав в оболочке"]
[null,null,null,null,null,null,null,null,null,"Любой","Скоба","дх","Хомут","Проволока","Крючок"]
[null,null,null,null,null,null,null,null,null,1,2,3,4,5,6]
[null,null,null,null,null,null,null,"Любая",1,1,1]
[null,null,null,null,null,null,null,"Бетон",2,1,1]
[null,null,null,null,null,null,null,"Гипоскартон",3]
[null,null,null,null,null,null,null,"Сендвичпаннель",4]
[null,null,null,null,null,null,null,"Арматура",5]
[]
[]
[null,null,null,null,6,"Открытая прокладка"]
[null,null,null,null,null,null,null,null,null,"Любой","Скоба","дх","Хомут","Проволока","Крючок"]
[null,null,null,null,null,null,null,null,null,1,2,3,4,5,6]
[null,null,null,null,null,null,null,"Любая",1,1,1,1]
[null,null,null,null,null,null,null,"Бетон",2,1,1,1]
[null,null,null,null,null,null,null,"Гипоскартон",3,1,null,1]
[null,null,null,null,null,null,null,"Сендвичпаннель",4,1,null,1]
[null,null,null,null,null,null,null,"Арматура",5]
[]
[]
[null,null,null,null,7,"Пластиковый кабельканал"]
[null,null,null,null,null,null,null,null,null,"Любой","Скоба","дх","Хомут","Проволока","Крючок"]
[null,null,null,null,null,null,null,null,null,1,2,3,4,5,6]
[null,null,null,null,null,null,null,"Любая",1,1,null,1,null,null,1]
[null,null,null,null,null,null,null,"Бетон",2,1,null,1,null,null,1]
[null,null,null,null,null,null,null,"Гипоскартон",3,1,null,1]
[null,null,null,null,null,null,null,"Сендвичпаннель",4]
[null,null,null,null,null,null,null,"Арматура",5]
[]
[]
[null,null,null,null,8,"Сетка Манье на крючках"]
[null,null,null,null,null,null,null,null,null,"Любой","Скоба","дх","Хомут","Проволока","Крючок"]
[null,null,null,null,null,null,null,null,null,1,2,3,4,5,6]
[null,null,null,null,null,null,null,"Любая",1,1,null,null,null,null,1]
[null,null,null,null,null,null,null,"Бетон",2,1,null,null,null,null,1]
[null,null,null,null,null,null,null,"Гипоскартон",3]
[null,null,null,null,null,null,null,"Сендвичпаннель",4]
[null,null,null,null,null,null,null,"Арматура",5]
[]
[]
[null,null,null,null,9,"Тросс с сеткой Манье"]
[null,null,null,null,null,null,null,null,null,"Любой","Скоба","дх","Хомут","Проволока","Крючок"]
[null,null,null,null,null,null,null,null,null,1,2,3,4,5,6]
[null,null,null,null,null,null,null,"Любая",1,1,null,null,null,null,1]
[null,null,null,null,null,null,null,"Бетон",2,1,null,null,null,null,1]
[null,null,null,null,null,null,null,"Гипоскартон",3]
[null,null,null,null,null,null,null,"Сендвичпаннель",4]
[null,null,null,null,null,null,null,"Арматура",5]
[]
[]
[null,null,null,null,10,"Металлический чулок"]
[null,null,null,null,null,null,null,null,null,"Любой","Скоба","дх","Хомут","Проволока","Крючок"]
[null,null,null,null,null,null,null,null,null,1,2,3,4,5,6]
[null,null,null,null,null,null,null,"Любая",1,1,null,null,null,null,1]
[null,null,null,null,null,null,null,"Бетон",2,1,null,null,null,null,1]
[null,null,null,null,null,null,null,"Гипоскартон",3]
[null,null,null,null,null,null,null,"Сендвичпаннель",4]
[null,null,null,null,null,null,null,"Арматура",5]
[]
[]
[null,null,null,null,11,"Стальная труба"]
[null,null,null,null,null,null,null,null,null,"Любой","Скоба","дх","Хомут","Проволока","Крючок"]
[null,null,null,null,null,null,null,null,null,1,2,3,4,5,6]
[null,null,null,null,null,null,null,"Любая",1,1]
[null,null,null,null,null,null,null,"Бетон",2,1]
[null,null,null,null,null,null,null,"Гипоскартон",3]
[null,null,null,null,null,null,null,"Сендвичпаннель",4]
[null,null,null,null,null,null,null,"Арматура",5]
[]
[]
[null,null,null,null,12,"Лоток металлический"]
[null,null,null,null,null,null,null,null,null,"Любой","Скоба","дх","Хомут","Проволока","Крючок"]
[null,null,null,null,null,null,null,null,null,1,2,3,4,5,6]
[null,null,null,null,null,null,null,"Любая",1,1]
[null,null,null,null,null,null,null,"Бетон",2,1]
[null,null,null,null,null,null,null,"Гипоскартон",3]
[null,null,null,null,null,null,null,"Сендвичпаннель",4]
[null,null,null,null,null,null,null,"Арматура",5]

{"sheet":"Выбор ОКЛ","index":7,"n_rows":237,"n_cols":17,"rows_kept":237,"cut":false,"hidden":false,"merged":[[24,2,25,6],[24,8,25,8],[27,2,34,6],[17,4,18,8]]}
[]
[{"$f":"'OKL (3)'!AF4","v":22},null,{"$f":"'OKL (3)'!AI4","v":"*1*СПЕЦКАБЛАЙН-ГЕФЕСТ-МР15#2$*2*СПЕЦКАБЛАЙН-ГЕФЕСТ-МР18#3$*3*СПЕЦКАБЛАЙН-ГЕФЕСТ-МР20#4$*4*СПЕЦКАБЛАЙН-ГЕФЕСТ-МР22#5$*5*СПЕЦКАБЛАЙН-ГЕФЕСТ-МР25#6$*6*СПЕЦКАБЛАЙН-ГЕФЕСТ-МР32#7$*7*СПЕЦКАБЛАЙН-КиТ-МР15#145$*8*СПЕЦКАБЛАЙН-КиТ-МР18#146$*9*СПЕЦКАБЛАЙН-КиТ-МР20#147$*10*СПЕЦКАБЛАЙН-КиТ-МР20(с протяжкой)#148$*11*СПЕЦКАБЛАЙН-КиТ-МР22#149$*12*СПЕЦКАБЛАЙН-КиТ-МР25#150$*13*СПЕЦКАБЛАЙН-КиТ-МР32#151$*14*СПЕЦКАБЛАЙН-КиТ-МР38#152$*15*СПЕЦКАБЛАЙН-КиТ-МР50#153$*16*СПЕЦКАБЛАЙН-МР15#163$*17*СПЕЦКАБЛАЙН-МР20#166$*18*СПЕЦКАБЛАЙН-МР26#169$*19*СПЕЦКАБЛАЙН-МР35#172$*20*СПЕЦКАБЛАЙН-МР40#175$*21*СПЕЦКАБЛАЙН-МР50#178$*22*СПЕЦКАБЛАЙН-МРП15#181$"}]
[null,null,null,null,null,null,null,null,null,null,{"$f":"MAX(O21:O227)","v":0},null,"ТУ","ТИП","Поверхность монтажа","Материалл","Крепеж"]
[]
[]
[]
[]
[]
[]
[]
[]
[]
[]
[]
[]
[]
[]
[null,null,null,null,{"$f":"IF(I25>0, \"\", \"ДЛИНА НЕ УКАЗАНА!!!\")","v":""}]
[]
[]
[null,null,null,null,null,null,null,null,null,null,null,{"$f":"CONCATENATE(L20,K21)","v":""},null,null,{"$f":"IF(E21=0, \"\", VALUE(D21))","v":""}]
[null,null,null,null,null,null,null,null,null,null,null,{"$f":"CONCATENATE(L21,K22)","v":""},null,null,""]
[null,null,null,null,null,null,null,null,null,null,null,"",null,null,""]
[null,null,null,null,null,null,null,null,null,null,null,"",null,null,""]
[null,null,{"$f":"IF(ОКЛ!AJ15>ОКЛ!AA2, \" ВЫБЕРИТЕ КОРРЕКТНЫЕ ПАРАМЕТРЫ ОКЛ!\", CONCATENATE(ОКЛ!AL10, \"-\",I25, \" м\"))","v":"СПЕЦКАБЛАЙН-КиТ-МР20-200 м"},null,null,null,null,null,200,null,null,"",null,null,""]
[null,null,null,null,null,null,null,null,null,null,null,"",null,null,""]
[null,null,null,null,null,null,null,null,null,null,null,"",null,null,""]
[null,null,{"$f":"'OKL (3)'!E2","v":"Огнестойкая Кабельная Линия\nв виде металлорукава, размером 20 мм,\nс креплением к бетону\nс помощью металлических скоб"},null,null,null,null,null,null,null,null,"",null,null,""]
[null,null,null,null,null,null,null,null,null,null,null,"",null,null,{"$f":"IF(E29=\"\", \"\", VALUE(D29))","v":""}]
[null,null,null,null,null,null,null,null,null,null,null,"",null,null,""]
[null,null,null,null,null,null,null,null,null,null,{"$f":"IF(E31=0,\"\",CONCATENATE(C31,\"-\",E31,\"м\"))","v":""},"",null,null,""]
[null,null,null,null,null,null,null,null,null,null,"","",null,null,""]
[null,null,null,null,null,null,null,null,null,null,"","",null,null,""]
[null,null,null,null,null,null,null,null,null,null,"","",null,null,""]
[null,null,null,null,null,null,null,null,null,null,"","",null,null,""]
[null,null,null,null,null,null,null,null,null,null,"","",null,null,""]
[null,null,null,null,null,null,null,null,null,null,"","",null,null,""]
[null,null,null,null,null,null,null,null,null,null,"","",null,null,""]
[null,null,null,null,null,null,null,null,null,null,"","",null,null,""]
[null,null,null,null,null,null,null,null,null,null,"","",null,null,""]
[null,null,null,null,null,null,null,null,null,null,"","",null,null,""]
[null,null,null,null,null,null,null,null,null,null,"","",null,null,""]
[null,null,null,null,null,null,null,null,null,null,"","",null,null,""]
[null,null,null,null,null,null,null,null,null,null,"","",null,null,""]
[null,null,null,null,null,null,null,null,null,null,"","",null,null,""]
[null,null,null,null,null,null,null,null,null,null,"","",null,null,""]
[null,null,null,null,null,null,null,null,null,null,"","",null,null,""]
[null,null,null,null,null,null,null,null,null,null,"","",null,null,""]
[null,null,null,null,null,null,null,null,null,null,"","",null,null,""]
[null,null,null,null,null,null,null,null,null,null,"","",null,null,""]
[null,null,null,null,null,null,null,null,null,null,"","",null,null,""]
[null,null,null,null,null,null,null,null,null,null,"","",null,null,""]
[null,null,null,null,null,null,null,null,null,null,"","",null,null,""]
[null,null,null,null,null,null,null,null,null,null,"","",null,null,""]
[null,null,null,null,null,null,null,null,null,null,"","",null,null,""]
[null,null,null,null,null,null,null,null,null,null,"","",null,null,""]
[null,null,null,null,null,null,null,null,null,null,"","",null,null,""]
[null,null,null,null,null,null,null,null,null,null,"","",null,null,""]
[null,null,null,null,null,null,null,null,null,null,"","",null,null,""]
[null,null,null,null,null,null,null,null,null,null,"","",null,null,""]
[null,null,null,null,null,null,null,null,null,null,"","",null,null,{"$f":"IF(E61=\"\", \"\", VALUE(D61))","v":""}]
[null,null,null,null,null,null,null,null,null,null,"","",null,null,""]
[null,null,null,null,null,null,null,null,null,null,{"$f":"IF(E63=0,\"\",CONCATENATE(C63,\"-\",E63,\"м\"))","v":""},"",null,null,""]
[null,null,null,null,null,null,null,null,null,null,"","",null,null,""]
[null,null,null,null,null,null,null,null,null,null,"","",null,null,""]
[null,null,null,null,null,null,null,null,null,null,"","",null,null,""]
[null,null,null,null,null,null,null,null,null,null,"","",null,null,""]
[null,null,null,null,null,null,null,null,null,null,"","",null,null,""]
[null,null,null,null,null,null,null,null,null,null,"","",null,null,""]
[null,null,null,null,null,null,null,null,null,null,"","",null,null,""]
[null,null,null,null,null,null,null,null,null,null,"","",null,null,""]
[null,null,null,null,null,null,null,null,null,null,"","",null,null,""]
[null,null,null,null,null,null,null,null,null,null,"","",null,null,""]
[null,null,null,null,null,null,null,null,null,null,"","",null,null,""]
[null,null,null,null,null,null,null,null,null,null,"","",null,null,""]
[null,null,null,null,null,null,null,null,null,null,"","",null,null,""]
[null,null,null,null,null,null,null,null,null,null,"","",null,null,""]
[null,null,null,null,null,null,null,null,null,null,"","",null,null,""]
[null,null,null,null,null,null,null,null,null,null,"","",null,null,""]
[null,null,null,null,null,null,null,null,null,null,"","",null,null,""]
[null,null,null,null,null,null,null,null,null,null,"","",null,null,""]
[null,null,null,null,null,null,null,null,null,null,"","",null,null,""]
[null,null,null,null,null,null,null,null,null,null,"","",null,null,""]
[null,null,null,null,null,null,null,null,null,null,"","",null,null,""]
[null,null,null,null,null,null,null,null,null,null,"","",null,null,""]
[null,null,null,null,null,null,null,null,null,null,"",{"$f":"CONCATENATE(L85,K86)","v":""},null,null,""]
[null,null,null,null,null,null,null,null,null,null,"","",null,null,""]
[null,null,null,null,null,null,null,null,null,null,"","",null,null,""]
[null,null,null,null,null,null,null,null,null,null,"","",null,null,""]
[null,null,null,null,null,null,null,null,null,null,"","",null,null,""]
[null,null,null,null,null,null,null,null,null,null,"","",null,null,""]
[null,null,null,null,null,null,null,null,null,null,"","",null,null,""]
[null,null,null,null,null,null,null,null,null,null,"","",null,null,{"$f":"IF(E93=\"\", \"\", VALUE(D93))","v":""}]
[null,null,null,null,null,null,null,null,null,null,"","",null,null,""]
[null,null,null,null,null,null,null,null,null,null,{"$f":"IF(E95=0,\"\",CONCATENATE(C95,\"-\",E95,\"м\"))","v":""},"",null,null,""]
[null,null,null,null,null,null,null,null,null,null,"","",null,null,""]
[null,null,null,null,null,null,null,null,null,null,"","",null,null,""]
[null,null,null,null,null,null,null,null,null,null,"","",null,null,""]
[null,null,null,null,null,null,null,null,null,null,"","",null,null,""]
[null,null,null,null,null,null,null,null,null,null,"","",null,null,""]
[null,null,null,null,null,null,null,null,null,null,"","",null,null,""]
[null,null,null,null,null,null,null,null,null,null,"","",null,null,""]
[null,null,null,null,null,null,null,null,null,null,"","",null,null,""]
[null,null,null,null,null,null,null,null,null,null,"","",null,null,""]
[null,null,null,null,null,null,null,null,null,null,"","",null,null,""]
[null,null,null,null,null,null,null,null,null,null,"","",null,null,""]
[null,null,null,null,null,null,null,null,null,null,"","",null,null,""]
[null,null,null,null,null,null,null,null,null,null,"","",null,null,""]
[null,null,null,null,null,null,null,null,null,null,null,{"$f":"CONCATENATE(L104,K109)","v":""},null,null,""]
[null,null,null,null,null,null,null,null,null,null,null,"",null,null,""]
[null,null,null,null,null,null,null,null,null,null,null,null,null,null,""]
[null,null,null,null,null,null,null,null,null,null,null,null,null,null,""]
[null,null,null,null,null,null,null,null,null,null,null,null,null,null,""]
[null,null,null,null,null,null,null,null,null,null,null,null,null,null,""]
[null,null,null,null,null,null,null,null,null,null,null,null,null,null,""]
[null,null,null,null,null,null,null,null,null,null,null,null,null,null,""]
[null,null,null,null,null,null,null,null,null,null,null,null,null,null,""]
[null,null,null,null,null,null,null,null,null,null,null,null,null,null,""]
[]
[]
[]
[]
[]
[]
[]
[]
[]
[]
[]
[]
[]
[]
[]
[]
[]
[]
[]
[]
[]
[]
[]
[]
[]
[]
[]
[]
[]
[]
[]
[]
[]
[]
[]
[]
[]
[]
[]
[]
[]
[]
[]
[]
[]
[]
[]
[]
[]
[]
[]
[]
[]
[]
[]
[]
[]
[]
[]
[]
[]
[]
[]
[]
[]
[]
[]
[]
[]
[]
[]
[]
[]
[]
[]
[]
[]
[]
[]
[]
[]
[]
[]
[]
[]
[]
[]
[]
[]
[]
[]
[]
[]
[]
[]
[]
[]
[]
[]
[]
[]
[]
[]
[]
[]
[]
[]
[]
[]
[{"$f":"IF(#REF!<A$2+1,CONCATENATE(\"*\",#REF!, \"*\"),\"\")","v":{"$error":"#REF!"}}]
[{"$f":"IF(#REF!<A$2+1,CONCATENATE(\"*\",#REF!, \"*\"),\"\")","v":{"$error":"#REF!"}}]
[{"$f":"IF(#REF!<A$2+1,CONCATENATE(\"*\",#REF!, \"*\"),\"\")","v":{"$error":"#REF!"}}]
[{"$f":"IF(#REF!<A$2+1,CONCATENATE(\"*\",#REF!, \"*\"),\"\")","v":{"$error":"#REF!"}}]
[{"$f":"IF(#REF!<A$2+1,CONCATENATE(\"*\",#REF!, \"*\"),\"\")","v":{"$error":"#REF!"}}]
[{"$f":"IF(#REF!<A$2+1,CONCATENATE(\"*\",#REF!, \"*\"),\"\")","v":{"$error":"#REF!"}}]
[{"$f":"IF(#REF!<A$2+1,CONCATENATE(\"*\",#REF!, \"*\"),\"\")","v":{"$error":"#REF!"}}]
[{"$f":"IF(#REF!<A$2+1,CONCATENATE(\"*\",#REF!, \"*\"),\"\")","v":{"$error":"#REF!"}}]
[{"$f":"IF(#REF!<A$2+1,CONCATENATE(\"*\",#REF!, \"*\"),\"\")","v":{"$error":"#REF!"}}]
[{"$f":"IF(#REF!<A$2+1,CONCATENATE(\"*\",#REF!, \"*\"),\"\")","v":{"$error":"#REF!"}}]

{"sheet":"Заказ 2","index":8,"n_rows":119,"n_cols":15,"rows_kept":119,"cut":false,"hidden":true,"merged":[]}
[]
[]
[]
[]
[]
[]
[]
[]
[]
[]
[null,null,null,"Поверхность"]
[]
[null,null,null,{"$f":"Лист3!AD30","v":"НЕ ИМЕЕТ ЗНАЧЕНИЯ"},{"$f":"Лист3!AE30","v":"1"},{"$f":"OFFSET(E12,G13,0)","v":"2"},2,null,1,"Любая",11]
[null,null,null,{"$f":"Лист3!AD31","v":"Бетон"},{"$f":"Лист3!AE31","v":"2"},null,null,null,2,"Бетон",12]
[null,null,null,{"$f":"Лист3!AD32","v":"Гипоскартон"},{"$f":"Лист3!AE32","v":"3"},null,null,null,3,"Гипоскартон",13]
[null,null,null,{"$f":"Лист3!AD33","v":"Сендвичпаннель"},{"$f":"Лист3!AE33","v":"4"},null,null,null,4,"Сендвичпаннель",14]
[null,null,null,{"$f":"Лист3!AD34","v":""},{"$f":"Лист3!AE34","v":0},null,null,null,5,"Арматура",15]
[]
[]
[]
[]
[null,null,null,"Несущий"]
[]
[null,null,null,{"$f":"Лист3!AM30","v":"НЕ ИМЕЕТ ЗНАЧЕНИЯ"},{"$f":"Лист3!AN30","v":"1"},{"$f":"OFFSET(E23,G24,0)","v":"1"},1,null,1,"Любой",11]
[null,null,null,{"$f":"Лист3!AM31","v":"Скоба"},{"$f":"Лист3!AN31","v":"2"},null,null,null,2,"Скоба",12]
[null,null,null,{"$f":"Лист3!AM32","v":""},{"$f":"Лист3!AN32","v":0},null,null,null,3,"Дюбель-хомут",13]
[null,null,null,{"$f":"Лист3!AM33","v":""},{"$f":"Лист3!AN33","v":0},null,null,null,4,"Хомут",14]
[null,null,null,{"$f":"Лист3!AM34","v":""},{"$f":"Лист3!AN34","v":0},null,null,null,5,"Проволока",15]
[null,null,null,{"$f":"Лист3!AM35","v":""},{"$f":"Лист3!AN35","v":0},null,null,null,6,"Крючок",16]
[]
[]
[]
[]
[]
[]
[]
[]
[null,null,null,null,null,null,null,null,null,null,null,null,null,null,"ТИП ЛИНИИ"]
[null,null,{"$f":"J39","v":"Гладкая пластиковая труба"},null,null,null,null,{"$f":"CONCATENATE(\"*\",I39,\"№\")","v":"*1№"},1,"Гладкая пластиковая труба",11,null,4,null,{"$f":"OFFSET(K38,M39,0)","v":14}]
[null,null,{"$f":"J40","v":"Гофрированная труба"},null,null,null,null,{"$f":"CONCATENATE(\"*\",I40,\"№\")","v":"*2№"},2,"Гофрированная труба",12]
[null,null,"Металличсекий кабель-канал",null,null,null,null,"*3№",3,"Металличсекий кабель-канал",13]
[null,null,"Металлорукав",null,null,null,null,"*4№",4,"Металлорукав",14]
[null,null,"Металлорукав в оболочке",null,null,null,null,"*5№",5,"Металлорукав в оболочке",15]
[null,null,"Открытая прокладка",null,null,null,null,"*6№",6,"Открытая прокладка",16]
[null,null,"Пластиковый кабель-канал",null,null,null,null,"*7№",7,"Пластиковый кабель-канал",17]
[null,null,"Сетка Манье на крючках",null,null,null,null,"*8№",8,"Сетка Манье на крючках",18]
[null,null,"Трос с сеткой Манье",null,null,null,null,"*9№",9,"Трос с сеткой Манье",19]
[null,null,"Металлический чулок",null,null,null,null,"*10№",10,"Металлический чулок",20]
[null,null,"Стальная труба",null,null,null,null,"*11№",11,"Стальная труба",21]
[null,null,"Лоток металлический",null,null,null,null,"*12№",12,"Лоток металлический",22]
[]
[]
[]
[]
[]
[]
[]
[]
[]
[]
[]
[]
[]
[]
[]
[]
[]
[]
[]
[]
[]
[]
[]
[]
[]
[]
[]
[]
[]
[]
[]
[]
[]
[]
[]
[]
[]
[]
[]
[]
[]
[]
[]
[]
[]
[]
[]
[]
[]
[]
[]
[]
[]
[]
[]
[]
[]
[]
[]
[]
[]
[]
[]
[]
[]
[]
[]
[]
[null,null,1]

{"sheet":"Несущий элемент","index":9,"n_rows":237,"n_cols":42,"rows_kept":237,"cut":false,"hidden":true,"merged":[]}
[]
[null,null,null,null,null,null,null,null,null,null,null,null,null,null,null,null,null,null,null,null,null,null,null,null,{"$f":"'OKL (3)'!AF4","v":22},null,{"$f":"'OKL (3)'!AI4","v":"*1*СПЕЦКАБЛАЙН-ГЕФЕСТ-МР15#2$*2*СПЕЦКАБЛАЙН-ГЕФЕСТ-МР18#3$*3*СПЕЦКАБЛАЙН-ГЕФЕСТ-МР20#4$*4*СПЕЦКАБЛАЙН-ГЕФЕСТ-МР22#5$*5*СПЕЦКАБЛАЙН-ГЕФЕСТ-МР25#6$*6*СПЕЦКАБЛАЙН-ГЕФЕСТ-МР32#7$*7*СПЕЦКАБЛАЙН-КиТ-МР15#145$*8*СПЕЦКАБЛАЙН-КиТ-МР18#146$*9*СПЕЦКАБЛАЙН-КиТ-МР20#147$*10*СПЕЦКАБЛАЙН-КиТ-МР20(с протяжкой)#148$*11*СПЕЦКАБЛАЙН-КиТ-МР22#149$*12*СПЕЦКАБЛАЙН-КиТ-МР25#150$*13*СПЕЦКАБЛАЙН-КиТ-МР32#151$*14*СПЕЦКАБЛАЙН-КиТ-МР38#152$*15*СПЕЦКАБЛАЙН-КиТ-МР50#153$*16*СПЕЦКАБЛАЙН-МР15#163$*17*СПЕЦКАБЛАЙН-МР20#166$*18*СПЕЦКАБЛАЙН-МР26#169$*19*СПЕЦКАБЛАЙН-МР35#172$*20*СПЕЦКАБЛАЙН-МР40#175$*21*СПЕЦКАБЛАЙН-МР50#178$*22*СПЕЦКАБЛАЙН-МРП15#181$"}]
[null,null,null,null,null,null,null,null,null,null,null,null,null,null,null,null,null,null,null,null,null,null,null,null,null,null,null,null,null,null,null,null,null,null,null,{"$f":"MAX(AN21:AN227)","v":2},null,"ТУ","ТИП","Поверхность монтажа","Материалл","Крепеж"]
[null,null,null,null,null,null,null,null,null,null,null,null,null,null,null,null,null,null,null,null,null,null,null,null,null,null,"Выбор кабеленесущего элемента",null,null,null,null,null,null,null,null,null,null,{"$f":"OFFSET('OKL (3)'!M10,'Несущий элемент'!AJ3,0)","v":"-ТУ 16.К99-083-2015"},{"$f":"OFFSET('OKL (3)'!P10,$AJ3,0)","v":"металлорукав"},{"$f":"OFFSET('OKL (3)'!T10,$AJ3,0)","v":"бетон"},{"$f":"OFFSET('OKL (3)'!R10,$AJ3,0)","v":"Металл"},{"$f":"OFFSET('OKL (3)'!V10,$AJ3,0)","v":"Скоба"}]
[]
[null,null,null,null,null,null,null,null,null,null,null,null,null,null,null,null,null,null,null,null,null,null,null,null,null,null,null,null,null,null,null,null,null,null,null,"удалить со страницы"]
[null,null,null,null,null,null,null,null,null,null,null,null,null,null,null,null,null,null,null,null,null,null,null,null,null,null,null,null,null,null,null,null,null,null,null,{"$f":"IF(COUNT(AC21:AC110)>1, \"ОШИБКА! Выберите один тип линии!!! \", IF(SUM(AE21:AE110) < 1, \"ОШИБКА! ВВЕДИТЕ метраж напротив ОКЛ!!!\", AK110))","v":"СПЕЦКАБЛАЙН-ГЕФЕСТ-МР15-444мВыберите кабель для ОКЛ на одной из  вкладок кабели"}]
[]
[]
[null,"Тип несущего элемента",null,null,"Разновидность несущего элемента"]
[null,null,null,null,null,null,null,null,null,null,null,null,null,null,null,null,null,null,null,null,null,null,null,null,null,null,null,null,"выбор материала конструкции "]
[null,{"$f":"E12","v":"Гладкая пластиковая труба"},10,{"$f":"VLOOKUP(C12,F12:G23,2)","v":20},"Гладкая пластиковая труба",1,11,{"$f":"'OKL (3)'!AS9","v":18}]
[null,{"$f":"E13","v":"Гофрированная труба"},null,null,"Гофрированная труба",2,12,{"$f":"'OKL (3)'!AS10","v":25}]
[null,"Металличсекий кабельканал",null,null,"Металличсекий кабельканал",3,13,{"$f":"'OKL (3)'!AS11","v":1}]
[null,"Металлорукав",null,null,"Металлорукав",4,14,{"$f":"'OKL (3)'!AS12","v":22},null,null,null,null,null,null,null,null,null,null,null,null,null,null,null,null,null,null,null,null,null,null,null,null,null,null,null,null,null,null,null,"Спецификация"]
[null,"Металлорукав в оболочке",null,null,"Металлорукав в оболочке",5,15,{"$f":"'OKL (3)'!AS13","v":8}]
[null,"Открытая прокладка",null,null,"Открытая прокладка",6,16,{"$f":"'OKL (3)'!AS14","v":3}]
[null,"Пластиковый кабельканал",null,null,"Пластиковый кабельканал",7,17,{"$f":"'OKL (3)'!AS15","v":39}]
[null,"Сетка Манье на крючках",null,null,"Сетка Манье на крючках",8,18,{"$f":"'OKL (3)'!AS16","v":3},null,null,null,null,null,null,null,null,null,null,null,null,null,null,null,null,null,null,null,null,"Введите длину ОКЛ. Возможен выбор только одной ОКЛ.  "]
[null,"Тросс с сеткой Манье",null,null,"Тросс с сеткой Манье",9,19,{"$f":"'OKL (3)'!AS17","v":5},null,null,null,null,null,null,null,null,null,null,null,null,null,null,null,null,null,null,null,null,null,null,null,null,null,null,null,"Выбранный тип ОКЛ и ее длина"]
[null,"Металлический чулок",null,null,"Металлический чулок",10,20,{"$f":"'OKL (3)'!AS18","v":1},null,null,null,null,null,null,null,null,null,null,null,null,null,null,null,1,{"$f":"IF(X21<Y$2+1,CONCATENATE(\"*\",X21, \"*\"),\"\")","v":"*1*"},null,{"$f":"IF(X21<Y$2+1, MID(AA$2,FIND(Y21,AA$2)+3, FIND(\"#\",AA$2, FIND(Y21,AA$2)) -FIND(Y21,AA$2)-3), \"\")","v":"СПЕЦКАБЛАЙН-ГЕФЕСТ-МР15"},{"$f":"IF(X21<Y$2+1, MID(AA$2,FIND(\"#\",AA$2,FIND(Y21,AA$2))+1, FIND(\"$\",AA$2, FIND(Y21,AA$2)) -FIND(\"#\",AA$2,FIND(Y21,AA$2))-1), \"\")","v":"2"},444,{"$f":"IF(AA21=\"\", 0, 1)","v":1},{"$f":"AC21*AD21","v":444},null,null,null,null,{"$f":"IF(AC21=0,\"\",CONCATENATE(AA21,\"-\",AC21,\"м\"))","v":"СПЕЦКАБЛАЙН-ГЕФЕСТ-МР15-444м"},{"$f":"CONCATENATE(AK20,AJ21)","v":"СПЕЦКАБЛАЙН-ГЕФЕСТ-МР15-444м"},null,null,{"$f":"IF(AC21=0, \"\", VALUE(AB21))","v":2}]
[null,"Стальная труба",null,null,"Стальная труба",11,21,{"$f":"'OKL (3)'!AS19","v":1},null,null,null,null,null,null,null,null,null,null,null,null,null,null,null,2,{"$f":"IF(X22<Y$2+1,CONCATENATE(\"*\",X22, \"*\"),\"\")","v":"*2*"},null,{"$f":"IF(X22<Y$2+1, MID(AA$2,FIND(Y22,AA$2)+3, FIND(\"#\",AA$2, FIND(Y22,AA$2)) -FIND(Y22,AA$2)-3), \"\")","v":"СПЕЦКАБЛАЙН-ГЕФЕСТ-МР18"},{"$f":"IF(X22<Y$2+1, MID(AA$2,FIND(\"#\",AA$2,FIND(Y22,AA$2))+1, FIND(\"$\",AA$2, FIND(Y22,AA$2)) -FIND(\"#\",AA$2,FIND(Y22,AA$2))-1), \"\")","v":"3"},null,{"$f":"IF(AA22=\"\", 0, 1)","v":1},{"$f":"AC22*AD22","v":0},null,null,null,null,"",{"$f":"CONCATENATE(AK21,AJ22)","v":"СПЕЦКАБЛАЙН-ГЕФЕСТ-МР15-444м"},null,null,""]
[null,"Лоток металлический",null,null,"Лоток металлический",12,22,{"$f":"'OKL (3)'!AS20","v":2},null,null,null,null,null,null,null,null,null,null,null,null,null,null,null,3,"*3*",null,"СПЕЦКАБЛАЙН-ГЕФЕСТ-МР20","4",null,1,0,null,null,null,null,"","СПЕЦКАБЛАЙН-ГЕФЕСТ-МР15-444м",null,null,""]
[null,null,null,null,null,null,null,null,null,null,null,null,null,null,null,null,null,null,null,null,null,null,null,4,"*4*",null,"СПЕЦКАБЛАЙН-ГЕФЕСТ-МР22","5",null,1,0,null,null,null,null,"","СПЕЦКАБЛАЙН-ГЕФЕСТ-МР15-444м",null,null,""]
[null,null,null,null,null,null,null,null,null,null,null,null,null,null,null,null,null,null,null,null,null,null,null,5,"*5*",null,"СПЕЦКАБЛАЙН-ГЕФЕСТ-МР25","6",null,1,0,null,null,null,null,"","СПЕЦКАБЛАЙН-ГЕФЕСТ-МР15-444м",null,null,""]
[null,"Поверхность крепления",null,null,null,{"$f":"MAX(H28:H33)","v":3},null,0,null,null,null,null,null,null,null,null,null,null,null,null,null,null,null,6,"*6*",null,"СПЕЦКАБЛАЙН-ГЕФЕСТ-МР32","7",null,1,0,null,null,null,null,"","СПЕЦКАБЛАЙН-ГЕФЕСТ-МР15-444м",null,null,""]
[null,null,null,null,null,null,null,null,null,null,null,null,null,null,null,null,null,null,null,null,null,null,null,7,"*7*",null,"СПЕЦКАБЛАЙН-КиТ-МР15","145",null,1,0,null,null,null,null,"","СПЕЦКАБЛАЙН-ГЕФЕСТ-МР15-444м",null,null,""]
[1,{"$f":"IF(A28>0, E28,\"\")","v":"Любая"},3,1,"Любая",11,{"$f":"'OKL (3)'!AT9","v":0},{"$f":"IF(G28=0, 0, MAX(H$26:H27 )+1)","v":0},{"$f":"IF(H28=0,\"\",CONCATENATE(\"*\",H28,\"*\"))","v":""},null,null,null,null,{"$f":"CONCATENATE(\"*\",O28,\"№\")","v":"*1№"},1,"Любая",11,null,null,null,null,null,null,8,"*8*",null,"СПЕЦКАБЛАЙН-КиТ-МР18","146",null,1,0,null,null,null,null,"Выберите кабель для ОКЛ на одной из  вкладок кабели","СПЕЦКАБЛАЙН-ГЕФЕСТ-МР15-444мВыберите кабель для ОКЛ на одной из  вкладок кабели",null,null,""]
[{"$f":"H29","v":1},{"$f":"IF(A29>0, E29,\"\")","v":"Бетон"},null,2,"Бетон",12,{"$f":"'OKL (3)'!AT10","v":22},{"$f":"IF(G29=0, 0, MAX(H$26:H28 )+1)","v":1},"*1*",null,null,null,null,"*2№",2,"Бетон",12,null,null,null,null,null,null,9,"*9*",null,"СПЕЦКАБЛАЙН-КиТ-МР20","147",null,1,0,null,null,null,null,"","СПЕЦКАБЛАЙН-ГЕФЕСТ-МР15-444мВыберите кабель для ОКЛ на одной из  вкладок кабели",null,null,{"$f":"IF(AC29=\"\", \"\", VALUE(AB29))","v":""}]
[{"$f":"H30","v":2},{"$f":"IF(A30>0, E30,\"\")","v":"Гипоскартон"},null,3,"Гипоскартон",13,{"$f":"'OKL (3)'!AT11","v":7},{"$f":"IF(G30=0, 0, MAX(H$26:H29 )+1)","v":2},"*2*",null,null,null,null,"*3№",3,"Гипоскартон",13,null,null,null,null,null,null,10,"*10*",null,{"$f":"IF(X30<Y$2+1, MID(AA$2,FIND(Y30,AA$2)+4, FIND(\"#\",AA$2, FIND(Y30,AA$2)) -FIND(Y30,AA$2)-4), \"\")","v":"СПЕЦКАБЛАЙН-КиТ-МР20(с протяжкой)"},"148",null,1,0,null,null,null,null,"","СПЕЦКАБЛАЙН-ГЕФЕСТ-МР15-444мВыберите кабель для ОКЛ на одной из  вкладок кабели",null,null,{"$f":"IF(AC30=\"\", \"\", VALUE(AB30))","v":""}]
[3,{"$f":"IF(A31>0, E31,\"\")","v":"Сендвичпаннель"},null,4,"Сендвичпаннель",14,{"$f":"'OKL (3)'!AT12","v":7},{"$f":"IF(G31=0, 0, MAX(H$26:H30 )+1)","v":3},"*3*",null,null,null,null,"*4№",4,"Сендвичпаннель",14,null,null,null,null,null,null,11,"*11*",null,{"$f":"IF(X31<Y$2+1, MID(AA$2,FIND(Y31,AA$2)+4, FIND(\"#\",AA$2, FIND(Y31,AA$2)) -FIND(Y31,AA$2)-4), \"\")","v":"СПЕЦКАБЛАЙН-КиТ-МР22"},"149",null,1,0,null,null,null,null,"","СПЕЦКАБЛАЙН-ГЕФЕСТ-МР15-444мВыберите кабель для ОКЛ на одной из  вкладок кабели",null,null,""]
[0,{"$f":"IF(A32>0, E32,\"\")","v":""},null,5,"Арматура",15,{"$f":"'OKL (3)'!AT13","v":0},{"$f":"IF(G32=0, 0, MAX(H$26:H31 )+1)","v":0},"",null,null,null,null,"*5№",5,"Арматура",15,null,null,null,null,null,null,12,"*12*",null,"СПЕЦКАБЛАЙН-КиТ-МР25","150",null,1,0,null,null,null,null,"","СПЕЦКАБЛАЙН-ГЕФЕСТ-МР15-444мВыберите кабель для ОКЛ на одной из  вкладок кабели",null,null,""]
[null,null,null,null,null,null,null,null,null,null,null,null,null,null,null,null,null,null,null,null,null,null,null,13,"*13*",null,"СПЕЦКАБЛАЙН-КиТ-МР32","151",null,1,0,null,null,null,null,"","СПЕЦКАБЛАЙН-ГЕФЕСТ-МР15-444мВыберите кабель для ОКЛ на одной из  вкладок кабели",null,null,""]
[null,null,null,null,null,null,null,null,null,null,null,null,null,null,null,null,null,null,null,null,null,null,null,14,"*14*",null,"СПЕЦКАБЛАЙН-КиТ-МР38","152",null,1,0,null,null,null,null,"","СПЕЦКАБЛАЙН-ГЕФЕСТ-МР15-444мВыберите кабель для ОКЛ на одной из  вкладок кабели",null,null,""]
[null,"Вид крепежа",null,null,null,{"$f":"MAX(H37:H42)","v":1},null,0,null,null,null,null,null,null,null,null,null,null,null,null,null,null,null,15,"*15*",null,"СПЕЦКАБЛАЙН-КиТ-МР50","153",null,1,0,null,null,null,null,"","СПЕЦКАБЛАЙН-ГЕФЕСТ-МР15-444мВыберите кабель для ОКЛ на одной из  вкладок кабели",null,null,""]
[null,null,null,null,null,null,null,null,null,null,null,null,null,null,null,null,null,null,null,null,null,null,null,16,"*16*",null,"СПЕЦКАБЛАЙН-МР15","163",null,1,0,null,null,null,null,"","СПЕЦКАБЛАЙН-ГЕФЕСТ-МР15-444мВыберите кабель для ОКЛ на одной из  вкладок кабели",null,null,""]
[1,{"$f":"IF(A37>0, E37,\"\")","v":"Любой"},2,1,"Любой",11,{"$f":"'OKL (3)'!AU9","v":0},{"$f":"IF(G37=0, 0, MAX(H$35:H36 )+1)","v":0},{"$f":"IF(H37=0,\"\",CONCATENATE(\"*\",H37,\"*\"))","v":""},null,null,null,null,{"$f":"CONCATENATE(\"*\",O37,\"№\")","v":"*1№"},1,"Любой",11,null,null,null,null,null,null,17,"*17*",null,"СПЕЦКАБЛАЙН-МР20","166",null,1,0,null,null,null,null,"","СПЕЦКАБЛАЙН-ГЕФЕСТ-МР15-444мВыберите кабель для ОКЛ на одной из  вкладок кабели",null,null,""]
[{"$f":"H38","v":1},"Скоба",null,2,"Скоба",12,{"$f":"'OKL (3)'!AU10","v":22},{"$f":"IF(G38=0, 0, MAX(H$35:H37 )+1)","v":1},"*1*",null,null,null,null,{"$f":"CONCATENATE(\"*\",O38,\"№\")","v":"*2№"},2,"Скоба",12,null,null,null,null,null,null,18,"*18*",null,"СПЕЦКАБЛАЙН-МР26","169",null,1,0,null,null,null,null,{"$f":"IF(AC38=0,\"\",CONCATENATE(AA38,\"-\",AC38,\"м\"))","v":""},"СПЕЦКАБЛАЙН-ГЕФЕСТ-МР15-444мВыберите кабель для ОКЛ на одной из  вкладок кабели",null,null,""]
[{"$f":"H39","v":0},"",null,3,"Дюбель-хомут",13,{"$f":"'OKL (3)'!AU11","v":0},{"$f":"IF(G39=0, 0, MAX(H$35:H38 )+1)","v":0},"",null,null,null,null,"*3№",3,"Дюбель-хомут",13,null,null,null,null,null,null,19,"*19*",null,"СПЕЦКАБЛАЙН-МР35","172",null,1,0,null,null,null,null,"","СПЕЦКАБЛАЙН-ГЕФЕСТ-МР15-444мВыберите кабель для ОКЛ на одной из  вкладок кабели",null,null,""]
[0,"",null,4,"Хомут",14,{"$f":"'OKL (3)'!AU12","v":0},{"$f":"IF(G40=0, 0, MAX(H$35:H39 )+1)","v":0},"",null,null,null,null,"*4№",4,"Хомут",14,null,null,null,null,null,null,20,"*20*",null,"СПЕЦКАБЛАЙН-МР40","175",null,1,0,null,null,null,null,"","СПЕЦКАБЛАЙН-ГЕФЕСТ-МР15-444мВыберите кабель для ОКЛ на одной из  вкладок кабели",null,null,""]
[0,"",null,5,"Проволока",15,{"$f":"'OKL (3)'!AU13","v":0},{"$f":"IF(G41=0, 0, MAX(H$35:H40 )+1)","v":0},"",null,null,null,null,"*5№",5,"Проволока",15,null,null,null,null,null,null,21,"*21*",null,"СПЕЦКАБЛАЙН-МР50","178",null,1,0,null,null,null,null,"","СПЕЦКАБЛАЙН-ГЕФЕСТ-МР15-444мВыберите кабель для ОКЛ на одной из  вкладок кабели",null,null,""]
[0,"",null,6,"Крючок",16,{"$f":"'OKL (3)'!AU14","v":0},{"$f":"IF(G42=0, 0, MAX(H$35:H41 )+1)","v":0},"",null,null,null,null,"*6№",6,"Крючок",16,null,null,null,null,null,null,22,"*22*",null,"СПЕЦКАБЛАЙН-МРП15","181",null,1,0,null,null,null,null,"","СПЕЦКАБЛАЙН-ГЕФЕСТ-МР15-444мВыберите кабель для ОКЛ на одной из  вкладок кабели",null,null,""]
[null,null,null,null,null,null,null,null,null,null,null,null,null,null,null,null,null,null,null,null,null,null,null,23,"",null,"","",null,0,0,null,null,null,null,"","СПЕЦКАБЛАЙН-ГЕФЕСТ-МР15-444мВыберите кабель для ОКЛ на одной из  вкладок кабели",null,null,""]
[null,null,null,null,null,null,null,null,null,null,null,null,null,null,null,null,null,null,null,null,null,null,null,24,"",null,"","",null,0,0,null,null,null,null,"","СПЕЦКАБЛАЙН-ГЕФЕСТ-МР15-444мВыберите кабель для ОКЛ на одной из  вкладок кабели",null,null,""]
[null,null,null,null,null,null,null,null,null,null,null,null,null,null,null,null,null,null,null,null,null,null,null,25,"",null,"","",null,0,0,null,null,null,null,"","СПЕЦКАБЛАЙН-ГЕФЕСТ-МР15-444мВыберите кабель для ОКЛ на одной из  вкладок кабели",null,null,""]
[null,"материал",null,null,null,null,null,null,null,null,null,null,null,null,null,null,null,null,null,null,null,null,null,26,"",null,"","",null,0,0,null,null,null,null,"","СПЕЦКАБЛАЙН-ГЕФЕСТ-МР15-444мВыберите кабель для ОКЛ на одной из  вкладок кабели",null,null,""]
[null,null,null,null,null,null,null,null,null,null,null,null,null,null,null,null,null,null,null,null,null,null,null,27,"",null,"","",null,0,0,null,null,null,null,"","СПЕЦКАБЛАЙН-ГЕФЕСТ-МР15-444мВыберите кабель для ОКЛ на одной из  вкладок кабели",null,null,""]
[null,"ПВХ",null,null,null,null,null,null,null,null,null,null,null,null,null,null,null,null,null,null,null,null,null,28,"",null,"","",null,0,0,null,null,null,null,"","СПЕЦКАБЛАЙН-ГЕФЕСТ-МР15-444мВыберите кабель для ОКЛ на одной из  вкладок кабели",null,null,""]
[null,"Полиэлефин",null,null,null,null,null,null,null,null,null,null,null,null,null,null,null,null,null,null,null,null,null,29,"",null,"","",null,0,0,null,null,null,null,"","СПЕЦКАБЛАЙН-ГЕФЕСТ-МР15-444мВыберите кабель для ОКЛ на одной из  вкладок кабели",null,null,""]
[null,"Металл",null,null,null,null,null,null,null,null,null,null,null,null,null,null,null,null,null,null,null,null,null,30,"",null,"","",null,0,0,null,null,null,null,"","СПЕЦКАБЛАЙН-ГЕФЕСТ-МР15-444мВыберите кабель для ОКЛ на одной из  вкладок кабели",null,null,""]
[null,null,null,null,null,null,null,null,null,null,null,null,null,null,null,null,null,null,null,null,null,null,null,31,"",null,"","",null,0,0,null,null,null,null,"","СПЕЦКАБЛАЙН-ГЕФЕСТ-МР15-444мВыберите кабель для ОКЛ на одной из  вкладок кабели",null,null,""]
[null,null,null,null,null,null,null,null,null,null,null,null,null,null,null,null,null,null,null,null,null,null,null,32,"",null,"","",null,0,0,null,null,null,null,"","СПЕЦКАБЛАЙН-ГЕФЕСТ-МР15-444мВыберите кабель для ОКЛ на одной из  вкладок кабели",null,null,""]
[null,null,null,null,null,null,null,null,null,null,null,null,null,null,null,null,null,null,null,null,null,null,null,33,"",null,"","",null,0,0,null,null,null,null,"","СПЕЦКАБЛАЙН-ГЕФЕСТ-МР15-444мВыберите кабель для ОКЛ на одной из  вкладок кабели",null,null,""]
[null,null,null,null,null,null,null,null,null,null,null,null,null,null,null,null,null,null,null,null,null,null,null,34,"",null,"","",null,0,0,null,null,null,null,"","СПЕЦКАБЛАЙН-ГЕФЕСТ-МР15-444мВыберите кабель для ОКЛ на одной из  вкладок кабели",null,null,""]
[null,null,null,null,null,null,null,null,null,null,null,null,null,null,null,null,null,null,null,null,null,null,null,35,"",null,"","",null,0,0,null,null,null,null,"","СПЕЦКАБЛАЙН-ГЕФЕСТ-МР15-444мВыберите кабель для ОКЛ на одной из  вкладок кабели",null,null,""]
[null,null,null,null,null,null,null,null,null,null,null,null,null,null,null,null,null,null,null,null,null,null,null,36,"",null,"","",null,0,0,null,null,null,null,"","СПЕЦКАБЛАЙН-ГЕФЕСТ-МР15-444мВыберите кабель для ОКЛ на одной из  вкладок кабели",null,null,""]
[null,null,null,null,null,null,null,null,null,null,null,null,null,null,null,null,null,null,null,null,null,null,null,37,"",null,"","",null,0,0,null,null,null,null,"","СПЕЦКАБЛАЙН-ГЕФЕСТ-МР15-444мВыберите кабель для ОКЛ на одной из  вкладок кабели",null,null,""]
[null,null,null,null,null,null,null,null,null,null,null,null,null,null,null,null,null,null,null,null,null,null,null,38,"",null,"","",null,0,0,null,null,null,null,"","СПЕЦКАБЛАЙН-ГЕФЕСТ-МР15-444мВыберите кабель для ОКЛ на одной из  вкладок кабели",null,null,""]
[null,null,null,null,null,null,null,null,null,null,null,null,null,null,null,null,null,null,null,null,null,null,null,39,"",null,"","",null,0,0,null,null,null,null,"","СПЕЦКАБЛАЙН-ГЕФЕСТ-МР15-444мВыберите кабель для ОКЛ на одной из  вкладок кабели",null,null,""]
[null,null,null,null,null,null,null,null,null,null,null,null,null,null,null,null,null,null,null,null,null,null,null,40,"",null,"","",null,0,0,null,null,null,null,"","СПЕЦКАБЛАЙН-ГЕФЕСТ-МР15-444мВыберите кабель для ОКЛ на одной из  вкладок кабели",null,null,""]
[null,null,null,null,null,null,null,null,null,null,null,null,null,null,null,null,null,null,null,null,null,null,null,41,"",null,"","",null,0,0,null,null,null,null,"","СПЕЦКАБЛАЙН-ГЕФЕСТ-МР15-444мВыберите кабель для ОКЛ на одной из  вкладок кабели",null,null,""]
[null,null,null,null,null,null,null,null,null,null,null,null,null,null,null,null,null,null,null,null,null,null,null,42,"",null,"","",null,0,0,null,null,null,null,"","СПЕЦКАБЛАЙН-ГЕФЕСТ-МР15-444мВыберите кабель для ОКЛ на одной из  вкладок кабели",null,null,""]
[null,null,null,null,null,null,null,null,null,null,null,null,null,null,null,null,null,null,null,null,null,null,null,43,"",null,"","",null,0,0,null,null,null,null,"","СПЕЦКАБЛАЙН-ГЕФЕСТ-МР15-444мВыберите кабель для ОКЛ на одной из  вкладок кабели",null,null,""]
[null,null,null,null,null,null,null,null,null,null,null,null,null,null,null,null,null,null,null,null,null,null,null,44,"",null,"","",null,0,0,null,null,null,null,"","СПЕЦКАБЛАЙН-ГЕФЕСТ-МР15-444мВыберите кабель для ОКЛ на одной из  вкладок кабели",null,null,""]
[null,null,null,null,null,null,null,null,null,null,null,null,null,null,null,null,null,null,null,null,null,null,null,45,"",null,"","",null,0,0,null,null,null,null,"","СПЕЦКАБЛАЙН-ГЕФЕСТ-МР15-444мВыберите кабель для ОКЛ на одной из  вкладок кабели",null,null,""]
[null,null,null,null,null,null,null,null,null,null,null,null,null,null,null,null,null,null,null,null,null,null,null,46,"",null,"","",null,0,0,null,null,null,null,"","СПЕЦКАБЛАЙН-ГЕФЕСТ-МР15-444мВыберите кабель для ОКЛ на одной из  вкладок кабели",null,null,""]
[null,null,null,null,null,null,null,null,null,null,null,null,null,null,null,null,null,null,null,null,null,null,null,47,"",null,"","",null,0,0,null,null,null,null,"","СПЕЦКАБЛАЙН-ГЕФЕСТ-МР15-444мВыберите кабель для ОКЛ на одной из  вкладок кабели",null,null,""]
[null,null,null,null,null,null,null,null,null,null,null,null,null,null,null,null,null,null,null,null,null,null,null,48,"",null,"","",null,0,0,null,null,null,null,"","СПЕЦКАБЛАЙН-ГЕФЕСТ-МР15-444мВыберите кабель для ОКЛ на одной из  вкладок кабели",null,null,""]
[null,null,null,null,null,null,null,null,null,null,null,null,null,null,null,null,null,null,null,null,null,null,null,49,"",null,"","",null,0,0,null,null,null,null,"","СПЕЦКАБЛАЙН-ГЕФЕСТ-МР15-444мВыберите кабель для ОКЛ на одной из  вкладок кабели",null,null,""]
[null,null,null,null,null,null,null,null,null,null,null,null,null,null,null,null,null,null,null,null,null,null,null,50,"",null,"","",null,0,0,null,null,null,null,"","СПЕЦКАБЛАЙН-ГЕФЕСТ-МР15-444мВыберите кабель для ОКЛ на одной из  вкладок кабели",null,null,""]
[null,null,null,null,null,null,null,null,null,null,null,null,null,null,null,null,null,null,null,null,null,null,null,51,"",null,"","",null,0,0,null,null,null,null,"","СПЕЦКАБЛАЙН-ГЕФЕСТ-МР15-444мВыберите кабель для ОКЛ на одной из  вкладок кабели",null,null,""]
[null,null,null,null,null,null,null,null,null,null,null,null,null,null,null,null,null,null,null,null,null,null,null,52,"",null,"","",null,0,0,null,null,null,null,"","СПЕЦКАБЛАЙН-ГЕФЕСТ-МР15-444мВыберите кабель для ОКЛ на одной из  вкладок кабели",null,null,""]
[null,null,null,null,null,null,null,null,null,null,null,null,null,null,null,null,null,null,null,null,null,null,null,53,"",null,"","",null,0,0,null,null,null,null,"","СПЕЦКАБЛАЙН-ГЕФЕСТ-МР15-444мВыберите кабель для ОКЛ на одной из  вкладок кабели",null,null,""]
[null,null,null,null,null,null,null,null,null,null,null,null,null,null,null,null,null,null,null,null,null,null,null,54,"",null,"","",null,0,0,null,null,null,null,"","СПЕЦКАБЛАЙН-ГЕФЕСТ-МР15-444мВыберите кабель для ОКЛ на одной из  вкладок кабели",null,null,""]
[null,null,null,null,null,null,null,null,null,null,null,null,null,null,null,null,null,null,null,null,null,null,null,55,"",null,"","",null,0,0,null,null,null,null,"","СПЕЦКАБЛАЙН-ГЕФЕСТ-МР15-444мВыберите кабель для ОКЛ на одной из  вкладок кабели",null,null,""]
[null,null,null,null,null,null,null,null,null,null,null,null,null,null,null,null,null,null,null,null,null,null,null,56,"",null,"","",null,0,0,null,null,null,null,"","СПЕЦКАБЛАЙН-ГЕФЕСТ-МР15-444мВыберите кабель для ОКЛ на одной из  вкладок кабели",null,null,""]
[null,null,null,null,null,null,null,null,null,null,null,null,null,null,null,null,null,null,null,null,null,null,null,57,"",null,"","",null,0,0,null,null,null,null,"","СПЕЦКАБЛАЙН-ГЕФЕСТ-МР15-444мВыберите кабель для ОКЛ на одной из  вкладок кабели",null,null,""]
[null,null,null,null,null,null,null,null,null,null,null,null,null,null,null,null,null,null,null,null,null,null,null,58,"",null,"","",null,0,0,null,null,null,null,"","СПЕЦКАБЛАЙН-ГЕФЕСТ-МР15-444мВыберите кабель для ОКЛ на одной из  вкладок кабели",null,null,""]
[null,null,null,null,null,null,null,null,null,null,null,null,null,null,null,null,null,null,null,null,null,null,null,59,"",null,"","",null,0,0,null,null,null,null,"","СПЕЦКАБЛАЙН-ГЕФЕСТ-МР15-444мВыберите кабель для ОКЛ на одной из  вкладок кабели",null,null,""]
[null,null,null,null,null,null,null,null,null,null,null,null,null,null,null,null,null,null,null,null,null,null,null,60,"",null,"","",null,0,0,null,null,null,null,"","СПЕЦКАБЛАЙН-ГЕФЕСТ-МР15-444мВыберите кабель для ОКЛ на одной из  вкладок кабели",null,null,""]
[null,null,null,null,null,null,null,null,null,null,null,null,null,null,null,null,null,null,null,null,null,null,null,61,"",null,"","",null,0,0,null,null,null,null,"","СПЕЦКАБЛАЙН-ГЕФЕСТ-МР15-444мВыберите кабель для ОКЛ на одной из  вкладок кабели",null,null,""]
[null,null,null,null,null,null,null,null,null,null,null,null,null,null,null,null,null,null,null,null,null,null,null,62,"",null,"",null,null,0,0,null,null,null,null,"","СПЕЦКАБЛАЙН-ГЕФЕСТ-МР15-444мВыберите кабель для ОКЛ на одной из  вкладок кабели",null,null,""]
[null,null,null,null,null,null,null,null,null,null,null,null,null,null,null,null,null,null,null,null,null,null,null,63,"",null,"",null,null,0,0,null,null,null,null,"","СПЕЦКАБЛАЙН-ГЕФЕСТ-МР15-444мВыберите кабель для ОКЛ на одной из  вкладок кабели",null,null,""]
[null,null,null,null,null,null,null,null,null,null,null,null,null,null,null,null,null,null,null,null,null,null,null,64,"",null,"",null,null,0,0,null,null,null,null,"","СПЕЦКАБЛАЙН-ГЕФЕСТ-МР15-444мВыберите кабель для ОКЛ на одной из  вкладок кабели",null,null,""]
[null,null,null,null,null,null,null,null,null,null,null,null,null,null,null,null,null,null,null,null,null,null,null,65,"",null,"",null,null,0,0,null,null,null,null,{"$f":"IF(AC85=0,\"\",CONCATENATE(AA85,\"-\",AC85,\"м\"))","v":""},"СПЕЦКАБЛАЙН-ГЕФЕСТ-МР15-444мВыберите кабель для ОКЛ на одной из  вкладок кабели",null,null,""]
[null,null,null,null,null,null,null,null,null,null,null,null,null,null,null,null,null,null,null,null,null,null,null,66,{"$f":"IF(X86<Y$2+1,CONCATENATE(\"*\",X86, \"*\"),\"\")","v":""},null,"",null,null,{"$f":"IF(AA86=\"\", 0, 1)","v":0},{"$f":"AC86*AD86","v":0},null,null,null,null,"",{"$f":"CONCATENATE(AK85,AJ86)","v":"СПЕЦКАБЛАЙН-ГЕФЕСТ-МР15-444мВыберите кабель для ОКЛ на одной из  вкладок кабели"},null,null,""]
[null,null,null,null,null,null,null,null,null,null,null,null,null,null,null,null,null,null,null,null,null,null,null,67,"",null,"",null,null,0,0,null,null,null,null,"","СПЕЦКАБЛАЙН-ГЕФЕСТ-МР15-444мВыберите кабель для ОКЛ на одной из  вкладок кабели",null,null,""]
[null,null,null,null,null,null,null,null,null,null,null,null,null,null,null,null,null,null,null,null,null,null,null,68,"",null,"",null,null,0,0,null,null,null,null,"","СПЕЦКАБЛАЙН-ГЕФЕСТ-МР15-444мВыберите кабель для ОКЛ на одной из  вкладок кабели",null,null,""]
[null,null,null,null,null,null,null,null,null,null,null,null,null,null,null,null,null,null,null,null,null,null,null,69,"",null,"",null,null,0,0,null,null,null,null,"","СПЕЦКАБЛАЙН-ГЕФЕСТ-МР15-444мВыберите кабель для ОКЛ на одной из  вкладок кабели",null,null,""]
[null,null,null,null,null,null,null,null,null,null,null,null,null,null,null,null,null,null,null,null,null,null,null,70,"",null,"",null,null,0,0,null,null,null,null,"","СПЕЦКАБЛАЙН-ГЕФЕСТ-МР15-444мВыберите кабель для ОКЛ на одной из  вкладок кабели",null,null,""]
[null,null,null,null,null,null,null,null,null,null,null,null,null,null,null,null,null,null,null,null,null,null,null,71,"",null,"",null,null,0,0,null,null,null,null,"","СПЕЦКАБЛАЙН-ГЕФЕСТ-МР15-444мВыберите кабель для ОКЛ на одной из  вкладок кабели",null,null,""]
[null,null,null,null,null,null,null,null,null,null,null,null,null,null,null,null,null,null,null,null,null,null,null,72,"",null,"",null,null,0,0,null,null,null,null,"","СПЕЦКАБЛАЙН-ГЕФЕСТ-МР15-444мВыберите кабель для ОКЛ на одной из  вкладок кабели",null,null,""]
[null,null,null,null,null,null,null,null,null,null,null,null,null,null,null,null,null,null,null,null,null,null,null,73,"",null,"",null,null,0,0,null,null,null,null,"","СПЕЦКАБЛАЙН-ГЕФЕСТ-МР15-444мВыберите кабель для ОКЛ на одной из  вкладок кабели",null,null,""]
[null,null,null,null,null,null,null,null,null,null,null,null,null,null,null,null,null,null,null,null,null,null,null,74,"",null,"",null,null,0,0,null,null,null,null,"","СПЕЦКАБЛАЙН-ГЕФЕСТ-МР15-444мВыберите кабель для ОКЛ на одной из  вкладок кабели",null,null,{"$f":"IF(AC94=\"\", \"\", VALUE(AB94))","v":""}]
[null,null,null,null,null,null,null,null,null,null,null,null,null,null,null,null,null,null,null,null,null,null,null,75,"",null,{"$f":"IF(X95<Y$2+1, MID(AA$2,FIND(Y95,AA$2)+4, FIND(\"#\",AA$2, FIND(Y95,AA$2)) -FIND(Y95,AA$2)-4), \"\")","v":""},null,null,0,0,null,null,null,null,"","СПЕЦКАБЛАЙН-ГЕФЕСТ-МР15-444мВыберите кабель для ОКЛ на одной из  вкладок кабели",null,null,""]
[null,null,null,null,null,null,null,null,null,null,null,null,null,null,null,null,null,null,null,null,null,null,null,76,"",null,"",null,null,0,0,null,null,null,null,"","СПЕЦКАБЛАЙН-ГЕФЕСТ-МР15-444мВыберите кабель для ОКЛ на одной из  вкладок кабели",null,null,""]
[null,null,null,null,null,null,null,null,null,null,null,null,null,null,null,null,null,null,null,null,null,null,null,77,"",null,"",null,null,0,0,null,null,null,null,"","СПЕЦКАБЛАЙН-ГЕФЕСТ-МР15-444мВыберите кабель для ОКЛ на одной из  вкладок кабели",null,null,""]
[null,null,null,null,null,null,null,null,null,null,null,null,null,null,null,null,null,null,null,null,null,null,null,78,"",null,"",null,null,0,0,null,null,null,null,"","СПЕЦКАБЛАЙН-ГЕФЕСТ-МР15-444мВыберите кабель для ОКЛ на одной из  вкладок кабели",null,null,""]
[null,null,null,null,null,null,null,null,null,null,null,null,null,null,null,null,null,null,null,null,null,null,null,79,"",null,"",null,null,0,0,null,null,null,null,"","СПЕЦКАБЛАЙН-ГЕФЕСТ-МР15-444мВыберите кабель для ОКЛ на одной из  вкладок кабели",null,null,""]
[null,null,null,null,null,null,null,null,null,null,null,null,null,null,null,null,null,null,null,null,null,null,null,80,"",null,"",null,null,0,0,null,null,null,null,"","СПЕЦКАБЛАЙН-ГЕФЕСТ-МР15-444мВыберите кабель для ОКЛ на одной из  вкладок кабели",null,null,""]
[null,null,null,null,null,null,null,null,null,null,null,null,null,null,null,null,null,null,null,null,null,null,null,81,"",null,"",null,null,0,0,null,null,null,null,"","СПЕЦКАБЛАЙН-ГЕФЕСТ-МР15-444мВыберите кабель для ОКЛ на одной из  вкладок кабели",null,null,""]
[null,null,null,null,null,null,null,null,null,null,null,null,null,null,null,null,null,null,null,null,null,null,null,82,"",null,"",null,null,0,0,null,null,null,null,"","СПЕЦКАБЛАЙН-ГЕФЕСТ-МР15-444мВыберите кабель для ОКЛ на одной из  вкладок кабели",null,null,""]
[null,null,null,null,null,null,null,null,null,null,null,null,null,null,null,null,null,null,null,null,null,null,null,83,"",null,"",null,null,0,0,null,null,null,null,"","СПЕЦКАБЛАЙН-ГЕФЕСТ-МР15-444мВыберите кабель для ОКЛ на одной из  вкладок кабели",null,null,""]
[null,null,null,null,null,null,null,null,null,null,null,null,null,null,null,null,null,null,null,null,null,null,null,84,"",null,"",null,null,0,0,null,null,null,null,"","СПЕЦКАБЛАЙН-ГЕФЕСТ-МР15-444мВыберите кабель для ОКЛ на одной из  вкладок кабели",null,null,""]
[null,null,null,null,null,null,null,null,null,null,null,null,null,null,null,null,null,null,null,null,null,null,null,85,"",null,"",null,null,0,0,null,null,null,null,"","СПЕЦКАБЛАЙН-ГЕФЕСТ-МР15-444мВыберите кабель для ОКЛ на одной из  вкладок кабели",null,null,""]
[null,null,null,null,null,null,null,null,null,null,null,null,null,null,null,null,null,null,null,null,null,null,null,86,"",null,"",null,null,0,0,null,null,null,null,"","СПЕЦКАБЛАЙН-ГЕФЕСТ-МР15-444мВыберите кабель для ОКЛ на одной из  вкладок кабели",null,null,""]
[null,null,null,null,null,null,null,null,null,null,null,null,null,null,null,null,null,null,null,null,null,null,null,87,"",null,"",null,null,0,0,null,null,null,null,"","СПЕЦКАБЛАЙН-ГЕФЕСТ-МР15-444мВыберите кабель для ОКЛ на одной из  вкладок кабели",null,null,""]
[null,null,null,null,null,null,null,null,null,null,null,null,null,null,null,null,null,null,null,null,null,null,null,88,"",null,"",null,null,0,0,null,null,null,null,"","СПЕЦКАБЛАЙН-ГЕФЕСТ-МР15-444мВыберите кабель для ОКЛ на одной из  вкладок кабели",null,null,""]
[null,null,null,null,null,null,null,null,null,null,null,null,null,null,null,null,null,null,null,null,null,null,null,89,"",null,"",null,null,0,0,null,null,null,null,null,{"$f":"CONCATENATE(AK104,AJ109)","v":"СПЕЦКАБЛАЙН-ГЕФЕСТ-МР15-444мВыберите кабель для ОКЛ на одной из  вкладок кабели"},null,null,""]
[null,null,null,null,null,null,null,null,null,null,null,null,null,null,null,null,null,null,null,null,null,null,null,90,"",null,"",null,null,0,0,null,null,null,null,null,"СПЕЦКАБЛАЙН-ГЕФЕСТ-МР15-444мВыберите кабель для ОКЛ на одной из  вкладок кабели",null,null,""]
[null,null,null,null,null,null,null,null,null,null,null,null,null,null,null,null,null,null,null,null,null,null,null,null,null,null,null,null,null,null,null,null,null,null,null,null,null,null,null,""]
[null,null,null,null,null,null,null,null,null,null,null,null,null,null,null,null,null,null,null,null,null,null,null,null,null,null,null,null,null,null,null,null,null,null,null,null,null,null,null,""]
[null,null,null,null,null,null,null,null,null,null,null,null,null,null,null,null,null,null,null,null,null,null,null,null,null,null,null,null,null,null,null,null,null,null,null,null,null,null,null,""]
[null,null,null,null,null,null,null,null,null,null,null,null,null,null,null,null,null,null,null,null,null,null,null,null,null,null,null,null,null,null,null,null,null,null,null,null,null,null,null,""]
[null,null,null,null,null,null,null,null,null,null,null,null,null,null,null,null,null,null,null,null,null,null,null,null,null,null,null,null,null,null,null,null,null,null,null,null,null,null,null,""]
[null,null,null,null,null,null,null,null,null,null,null,null,null,null,null,null,null,null,null,null,null,null,null,null,null,null,null,null,null,null,null,null,null,null,null,null,null,null,null,""]
[null,null,null,null,null,null,null,null,null,null,null,null,null,null,null,null,null,null,null,null,null,null,null,null,null,null,null,null,null,null,null,null,null,null,null,null,null,null,null,""]
[null,null,null,null,null,null,null,null,null,null,null,null,null,null,null,null,null,null,null,null,null,null,null,null,null,null,null,null,null,null,null,null,null,null,null,null,null,null,null,""]
[]
[]
[]
[]
[]
[]
[]
[]
[]
[]
[]
[]
[]
[]
[]
[]
[null,null,null,null,null,null,null,null,null,"Любая",null,null,null,null,null,null,null,null,null,1]
[null,null,null,null,null,null,null,null,null,"Бетон",null,null,null,null,null,null,null,null,null,2,{"$f":"IF(T136-1<F$26+1,CONCATENATE(\"*\",T136-1, \"*\"),\"\")","v":"*1*"}]
[null,null,null,null,null,null,null,null,null,"Гипоскартон",null,null,null,null,null,null,null,null,null,3,{"$f":"IF(T137-1<F$26+1,CONCATENATE(\"*\",T137-1, \"*\"),\"\")","v":"*2*"}]
[null,null,null,null,null,null,null,null,null,"Сендвичпаннель",null,null,null,null,null,null,null,null,null,4,{"$f":"IF(T138-1<F$26+1,CONCATENATE(\"*\",T138-1, \"*\"),\"\")","v":"*3*"}]
[null,null,null,null,null,null,null,null,null,"Арматура",null,null,null,null,null,null,null,null,null,5,{"$f":"IF(T139-1<F$26+1,CONCATENATE(\"*\",T139-1, \"*\"),\"\")","v":""}]
[]
[]
[]
[]
[null,null,null,null,null,null,null,null,null,"Любой",null,null,null,null,null,null,null,null,null,1]
[null,null,null,null,null,null,null,null,null,"Скоба",null,null,null,null,null,null,null,null,null,2,{"$f":"IF(T145-1<F$35+1,CONCATENATE(\"*\",T145-1, \"*\"),\"\")","v":"*1*"}]
[null,null,null,null,null,null,null,null,null,"Дюбель-хомут",null,null,null,null,null,null,null,null,null,3,{"$f":"IF(T146-1<F$35+1,CONCATENATE(\"*\",T146-1, \"*\"),\"\")","v":""}]
[null,null,null,null,null,null,null,null,null,"Хомут",null,null,null,null,null,null,null,null,null,4,{"$f":"IF(T147-1<F$35+1,CONCATENATE(\"*\",T147-1, \"*\"),\"\")","v":""}]
[null,null,null,null,null,null,null,null,null,"Проволока",null,null,null,null,null,null,null,null,null,5,{"$f":"IF(T148-1<F$35+1,CONCATENATE(\"*\",T148-1, \"*\"),\"\")","v":""}]
[null,null,null,null,null,null,null,null,null,"Крючок",null,null,null,null,null,null,null,null,null,6,{"$f":"IF(T149-1<F$35+1,CONCATENATE(\"*\",T149-1, \"*\"),\"\")","v":""}]
[]
[]
[]
[]
[]
[]
[]
[]
[]
[]
[]
[]
[]
[]
[]
[]
[]
[]
[]
[]
[]
[]
[]
[]
[]
[]
[]
[]
[]
[]
[]
[]
[]
[]
[]
[]
[]
[]
[]
[]
[]
[]
[]
[]
[]
[]
[]
[]
[]
[]
[]
[]
[]
[]
[]
[]
[]
[]
[]
[]
[]
[]
[]
[]
[]
[]
[]
[]
[]
[]
[]
[]
[]
[]
[]
[]
[]
[]
[null,null,null,null,null,null,null,null,null,null,null,null,null,null,null,null,null,null,null,null,null,null,null,208,{"$f":"IF(X228<Y$2+1,CONCATENATE(\"*\",X228, \"*\"),\"\")","v":""},null,{"$f":"IF(X228<Y$2+1, MID(AA$2,FIND(Y228,AA$2)+3, FIND(\"#\",AA$2, FIND(Y228,AA$2)) -FIND(Y228,AA$2)-3), \"\")","v":""}]
[null,null,null,null,null,null,null,null,null,null,null,null,null,null,null,null,null,null,null,null,null,null,null,209,"",null,""]
[null,null,null,null,null,null,null,null,null,null,null,null,null,null,null,null,null,null,null,null,null,null,null,210,"",null,""]
[null,null,null,null,null,null,null,null,null,null,null,null,null,null,null,null,null,null,null,null,null,null,null,211,"",null,""]
[null,null,null,null,null,null,null,null,null,null,null,null,null,null,null,null,null,null,null,null,null,null,null,212,"",null,""]
[null,null,null,null,null,null,null,null,null,null,null,null,null,null,null,null,null,null,null,null,null,null,null,213,"",null,""]
[null,null,null,null,null,null,null,null,null,null,null,null,null,null,null,null,null,null,null,null,null,null,null,214,"",null,""]
[null,null,null,null,null,null,null,null,null,null,null,null,null,null,null,null,null,null,null,null,null,null,null,215,"",null,""]
[null,null,null,null,null,null,null,null,null,null,null,null,null,null,null,null,null,null,null,null,null,null,null,216,"",null,""]
[null,null,null,null,null,null,null,null,null,null,null,null,null,null,null,null,null,null,null,null,null,null,null,217,"",null,""]

{"sheet":"КПС","index":10,"n_rows":990,"n_cols":20,"rows_kept":990,"cut":false,"hidden":false,"merged":[[2,10,3,21]]}
[null,null,null,null,null,null,null,null,null,null,null,null,{"$f":"IF(SUM($K$10:$K$524)=0, 0, 1)","v":1},null,1,null,null,{"$f":"COUNT(K10:K427)","v":1}]
[null,null,null,null,null,null,null,null,null,null,"Кабели в составе ОКЛ"]
[null,null,null,null,null,null,null,null,null,null,{"$f":"CONCATENATE(M990)","v":"КПСнг(А)-FRHF 1х2х0,5-100м"}]
[]
[null,null,null,null,null,null,null,null,null,null,"Общая длина",null,null,null,null,{"$f":"SUM(K10:K427)","v":100},null,null,null,"м"]
[]
["Артикул",null,"Наименование",null,null,null,"HF/LS","Кол-во \nпар","Парность","Сечение","Длина"]
[]
[]
["17861",null,"КПСнг(А)-FRHF 10х2х0,2",{"$f":"MID(C10, FIND(\" \",C10) +1, 100)","v":"10х2х0,2"},{"$f":"MID($D10,IF(ISERR(FIND(\"х\",$D10)), FIND(\"x\",$D10)+1, FIND(\"х\",$D10))+1, 100)","v":"2х0,2"},{"$f":"MID($E10,IF(ISERR(FIND(\"х\",$E10)), FIND(\"x\",$E10)+1, FIND(\"х\",$E10))+1,10)","v":"0,2"},{"$f":"MID(C10,FIND(\"FR\",C10)+2, 2)","v":"HF"},{"$f":"MID($D10,1, IF(ISERR(FIND(\"х\",$D10)), FIND(\"x\",$D10)-1, FIND(\"х\",$D10))-1)","v":"10"},{"$f":"MID($E10,1, IF(ISERR(FIND(\"х\",$E10)), FIND(\"x\",$E10)-1, FIND(\"х\",$E10))-1)","v":"2"},{"$f":"F10","v":"0,2"},null,{"$f":"IF(K10=0, \"\",CONCATENATE(N10, C10, \"-\",K10,\"м\"))","v":""},{"$f":"CONCATENATE(M9,L10)","v":""},{"$f":"IF(SUM(K$8:K9)=0, \"\", \" + \")","v":""}]
["2192",null,"КПСнг(А)-FRHF 1х2х0,2",{"$f":"MID(C11, FIND(\" \",C11) +1, 100)","v":"1х2х0,2"},"2х0,2",{"$f":"MID($E11,IF(ISERR(FIND(\"х\",$E11)), FIND(\"x\",$E11)+1, FIND(\"х\",$E11))+1,10)","v":"0,2"},"HF","1",{"$f":"MID($E11,1, IF(ISERR(FIND(\"х\",$E11)), FIND(\"x\",$E11)-1, FIND(\"х\",$E11))-1)","v":"2"},{"$f":"F11","v":"0,2"},null,"",{"$f":"CONCATENATE(M10,L11)","v":""},{"$f":"IF(SUM(K$8:K10)=0, \"\", \" + \")","v":""}]
["2193",null,"КПСнг(А)-FRHF 2х2х0,2",{"$f":"MID(C12, FIND(\" \",C12) +1, 100)","v":"2х2х0,2"},"2х0,2",{"$f":"MID($E12,IF(ISERR(FIND(\"х\",$E12)), FIND(\"x\",$E12)+1, FIND(\"х\",$E12))+1,10)","v":"0,2"},"HF","2",{"$f":"MID($E12,1, IF(ISERR(FIND(\"х\",$E12)), FIND(\"x\",$E12)-1, FIND(\"х\",$E12))-1)","v":"2"},{"$f":"F12","v":"0,2"},null,"","",{"$f":"IF(SUM(K$8:K11)=0, \"\", \" + \")","v":""}]
["5108",null,"КПСнг(А)-FRHF 3х0,2",{"$f":"MID(C13, FIND(\" \",C13 ), 100)","v":" 3х0,2"},"0,2",null,"HF"," 3",null,{"$f":"E13","v":"0,2"},null,"","",{"$f":"IF(SUM(K$8:K12)=0, \"\", \" + \")","v":""}]
["17430",null,"КПСнг(А)-FRHF 3х2х0,2",{"$f":"MID(C14, FIND(\" \",C14) +1, 100)","v":"3х2х0,2"},"2х0,2",{"$f":"MID($E14,IF(ISERR(FIND(\"х\",$E14)), FIND(\"x\",$E14)+1, FIND(\"х\",$E14))+1,10)","v":"0,2"},"HF","3",{"$f":"MID($E14,1, IF(ISERR(FIND(\"х\",$E14)), FIND(\"x\",$E14)-1, FIND(\"х\",$E14))-1)","v":"2"},{"$f":"F14","v":"0,2"},null,"","",{"$f":"IF(SUM(K$8:K13)=0, \"\", \" + \")","v":""}]
["5010",null,"КПСнг(А)-FRHF 4х2х0,2","4х2х0,2","2х0,2","0,2","HF","4","2","0,2",null,"","",{"$f":"IF(SUM(K$8:K14)=0, \"\", \" + \")","v":""}]
["2901",null,"КПСнг(А)-FRHF 5х2х0,2","5х2х0,2","2х0,2","0,2","HF","5","2","0,2",null,"","",{"$f":"IF(SUM(K$8:K15)=0, \"\", \" + \")","v":""}]
["18430",null,"КПСнг(А)-FRLS 10х2х0,2","10х2х0,2","2х0,2","0,2","LS","10","2","0,2",null,"","",{"$f":"IF(SUM(K$8:K16)=0, \"\", \" + \")","v":""}]
["18621",null,"КПСнг(А)-FRLS 12х2х0,2","12х2х0,2","2х0,2","0,2","LS","12","2","0,2",null,"","",{"$f":"IF(SUM(K$8:K17)=0, \"\", \" + \")","v":""}]
["2190",null,"КПСнг(А)-FRLS 1х2х0,2","1х2х0,2","2х0,2","0,2","LS","1","2","0,2",null,"","",{"$f":"IF(SUM(K$8:K18)=0, \"\", \" + \")","v":""}]
["2191",null,"КПСнг(А)-FRLS 2х2х0,2","2х2х0,2","2х0,2","0,2","LS","2","2","0,2",null,"","",{"$f":"IF(SUM(K$8:K19)=0, \"\", \" + \")","v":""}]
["4152",null,"КПСнг(А)-FRLS 3х0,2",{"$f":"MID(C21, FIND(\" \",C21 ), 100)","v":" 3х0,2"},"0,2",null,"LS"," 3",null,{"$f":"E21","v":"0,2"},null,"","",{"$f":"IF(SUM(K$8:K20)=0, \"\", \" + \")","v":""}]
["6165",null,"КПСнг(А)-FRLS 3х2х0,2",{"$f":"MID(C22, FIND(\" \",C22) +1, 100)","v":"3х2х0,2"},"2х0,2",{"$f":"MID($E22,IF(ISERR(FIND(\"х\",$E22)), FIND(\"x\",$E22)+1, FIND(\"х\",$E22))+1,10)","v":"0,2"},"LS","3",{"$f":"MID($E22,1, IF(ISERR(FIND(\"х\",$E22)), FIND(\"x\",$E22)-1, FIND(\"х\",$E22))-1)","v":"2"},{"$f":"F22","v":"0,2"},null,"","",{"$f":"IF(SUM(K$8:K21)=0, \"\", \" + \")","v":""}]
["5107",null,"КПСнг(А)-FRLS 4х2х0,2","4х2х0,2","2х0,2","0,2","LS","4","2","0,2",null,"","",{"$f":"IF(SUM(K$8:K22)=0, \"\", \" + \")","v":""}]
["3888",null,"КПСнг(А)-FRLS 5х2х0,2","5х2х0,2","2х0,2","0,2","LS","5","2","0,2",null,"","",{"$f":"IF(SUM(K$8:K23)=0, \"\", \" + \")","v":""}]
["6379",null,"КПСнг(А)-FRLS 8х2х0,2","8х2х0,2","2х0,2","0,2","LS","8","2","0,2",null,"","",{"$f":"IF(SUM(K$8:K24)=0, \"\", \" + \")","v":""}]
["2913",null,"КПССнг(А)-FRHF 1х2х0,2","1х2х0,2","2х0,2","0,2","HF","1","2","0,2",null,"","",{"$f":"IF(SUM(K$8:K25)=0, \"\", \" + \")","v":""}]
["2911",null,"КПССнг(А)-FRHF 2х2х0,2","2х2х0,2","2х0,2","0,2","HF","2","2","0,2",null,"","",{"$f":"IF(SUM(K$8:K26)=0, \"\", \" + \")","v":""}]
["2910",null,"КПССнг(А)-FRLS 1х2х0,2","1х2х0,2","2х0,2","0,2","LS","1","2","0,2",null,"","",{"$f":"IF(SUM(K$8:K27)=0, \"\", \" + \")","v":""}]
["2912",null,"КПССнг(А)-FRLS 2х2х0,2","2х2х0,2","2х0,2","0,2","LS","2","2","0,2",null,"","",{"$f":"IF(SUM(K$8:K28)=0, \"\", \" + \")","v":""}]
["1777",null,"КПСЭнг(А)-FRHF 1х2х0,2","1х2х0,2","2х0,2","0,2","HF","1","2","0,2",null,"","",{"$f":"IF(SUM(K$8:K29)=0, \"\", \" + \")","v":""}]
["1776",null,"КПСЭнг(А)-FRHF 2х2х0,2","2х2х0,2","2х0,2","0,2","HF","2","2","0,2",null,"","",{"$f":"IF(SUM(K$8:K30)=0, \"\", \" + \")","v":""}]
["18853",null,"КПСЭнг(А)-FRHF 40х2х0,2","40х2х0,2","2х0,2","0,2","HF","40","2","0,2",null,"","",{"$f":"IF(SUM(K$8:K31)=0, \"\", \" + \")","v":""}]
["2680",null,"КПСЭнг(А)-FRLS 10х2х0,2","10х2х0,2","2х0,2","0,2","LS","10","2","0,2",null,"","",{"$f":"IF(SUM(K$8:K32)=0, \"\", \" + \")","v":""}]
["1774",null,"КПСЭнг(А)-FRLS 1х2х0,2","1х2х0,2","2х0,2","0,2","LS","1","2","0,2",null,"","",{"$f":"IF(SUM(K$8:K33)=0, \"\", \" + \")","v":""}]
["1775",null,"КПСЭнг(А)-FRLS 2х2х0,2","2х2х0,2","2х0,2","0,2","LS","2","2","0,2",null,"","",{"$f":"IF(SUM(K$8:K34)=0, \"\", \" + \")","v":""}]
["2825",null,"КПСЭнг(А)-FRLS 3х2х0,2","3х2х0,2","2х0,2","0,2","LS","3","2","0,2",null,"","",{"$f":"IF(SUM(K$8:K35)=0, \"\", \" + \")","v":""}]
["18659",null,"КПСЭнг(А)-FRLS 4х0,2",{"$f":"MID(C37, FIND(\" \",C37 ), 100)","v":" 4х0,2"},"0,2",null,"LS"," 4",null,{"$f":"E37","v":"0,2"},null,"","",{"$f":"IF(SUM(K$8:K36)=0, \"\", \" + \")","v":""}]
["2038",null,"КПСЭнг(А)-FRLS 4х2х0,2",{"$f":"MID(C38, FIND(\" \",C38) +1, 100)","v":"4х2х0,2"},"2х0,2",{"$f":"MID($E38,IF(ISERR(FIND(\"х\",$E38)), FIND(\"x\",$E38)+1, FIND(\"х\",$E38))+1,10)","v":"0,2"},"LS","4",{"$f":"MID($E38,1, IF(ISERR(FIND(\"х\",$E38)), FIND(\"x\",$E38)-1, FIND(\"х\",$E38))-1)","v":"2"},{"$f":"F38","v":"0,2"},null,"","",{"$f":"IF(SUM(K$8:K37)=0, \"\", \" + \")","v":""}]
["5516",null,"КПСЭнг(А)-FRLS 5х2х0,2","5х2х0,2","2х0,2","0,2","LS","5","2","0,2",null,"","",{"$f":"IF(SUM(K$8:K38)=0, \"\", \" + \")","v":""}]
["2194",null,"КПСЭнг(А)-FRLS 6х2х0,2","6х2х0,2","2х0,2","0,2","LS","6","2","0,2",null,"","",{"$f":"IF(SUM(K$8:K39)=0, \"\", \" + \")","v":""}]
["2195",null,"КПСЭнг(А)-FRLS 8х2х0,2","8х2х0,2","2х0,2","0,2","LS","8","2","0,2",null,"","",{"$f":"IF(SUM(K$8:K40)=0, \"\", \" + \")","v":""}]
["2907",null,"КПСЭСнг(А)-FRHF 1х2х0,2","1х2х0,2","2х0,2","0,2","HF","1","2","0,2",null,"","",{"$f":"IF(SUM(K$8:K41)=0, \"\", \" + \")","v":""}]
["2908",null,"КПСЭСнг(А)-FRHF 2х2х0,2","2х2х0,2","2х0,2","0,2","HF","2","2","0,2",null,"","",{"$f":"IF(SUM(K$8:K42)=0, \"\", \" + \")","v":""}]
["2885",null,"КПСЭСнг(А)-FRLS 1х2х0,2","1х2х0,2","2х0,2","0,2","LS","1","2","0,2",null,"","",{"$f":"IF(SUM(K$8:K43)=0, \"\", \" + \")","v":""}]
["2906",null,"КПСЭСнг(А)-FRLS 2х2х0,2","2х2х0,2","2х0,2","0,2","LS","2","2","0,2",null,"","",{"$f":"IF(SUM(K$8:K44)=0, \"\", \" + \")","v":""}]
["19519",null,"КПСнг(А)-FRHF 4х0,2 ",{"$f":"MID(C46, FIND(\" \",C46 ), 100)","v":" 4х0,2 "},"0,2 ",null,"HF"," 4",null,{"$f":"E46","v":"0,2 "},null,"","",{"$f":"IF(SUM(K$8:K45)=0, \"\", \" + \")","v":""}]
["20419",null,"КПСЭнг(А)-FRHF 10х2х0,2 ",{"$f":"MID(C47, FIND(\" \",C47) +1, 100)","v":"10х2х0,2 "},"2х0,2 ",{"$f":"MID($E47,IF(ISERR(FIND(\"х\",$E47)), FIND(\"x\",$E47)+1, FIND(\"х\",$E47))+1,10)","v":"0,2 "},"HF","10",{"$f":"MID($E47,1, IF(ISERR(FIND(\"х\",$E47)), FIND(\"x\",$E47)-1, FIND(\"х\",$E47))-1)","v":"2"},{"$f":"F47","v":"0,2 "},null,"","",{"$f":"IF(SUM(K$8:K46)=0, \"\", \" + \")","v":""}]
["22155",null,"КПСЭнг(А)-FRHF 20х2х0,2 ","20х2х0,2 ","2х0,2 ","0,2 ","HF","20","2","0,2 ",null,"","",{"$f":"IF(SUM(K$8:K47)=0, \"\", \" + \")","v":""}]
["19877",null,"КПСЭСнг(А)-FRHF 10х2х0,2 ","10х2х0,2 ","2х0,2 ","0,2 ","HF","10","2","0,2 ",null,"","",{"$f":"IF(SUM(K$8:K48)=0, \"\", \" + \")","v":""}]
["2290",null,"КПСнг(А)-FRHF 1х2х0,35","1х2х0,35","2х0,35","0,35","HF","1","2","0,35",null,"","",{"$f":"IF(SUM(K$8:K49)=0, \"\", \" + \")","v":""}]
["2296",null,"КПСнг(А)-FRHF 2х2х0,35","2х2х0,35","2х0,35","0,35","HF","2","2","0,35",null,"","",{"$f":"IF(SUM(K$8:K50)=0, \"\", \" + \")","v":""}]
["16590",null,"КПСнг(А)-FRHF 5х2х0,35","5х2х0,35","2х0,35","0,35","HF","5","2","0,35",null,"","",{"$f":"IF(SUM(K$8:K51)=0, \"\", \" + \")","v":""}]
["2281",null,"КПСнг(А)-FRLS 1х2х0,35","1х2х0,35","2х0,35","0,35","LS","1","2","0,35",null,"","",{"$f":"IF(SUM(K$8:K52)=0, \"\", \" + \")","v":""}]
["2284",null,"КПСнг(А)-FRLS 2х2х0,35","2х2х0,35","2х0,35","0,35","LS","2","2","0,35",null,"","",{"$f":"IF(SUM(K$8:K53)=0, \"\", \" + \")","v":""}]
["4652",null,"КПСнг(А)-FRLS 3х0,35",{"$f":"MID(C55, FIND(\" \",C55 ), 100)","v":" 3х0,35"},"0,35",null,"LS"," 3",null,{"$f":"E55","v":"0,35"},null,"","",{"$f":"IF(SUM(K$8:K54)=0, \"\", \" + \")","v":""}]
["3046",null,"КПСнг(А)-FRLS 4х0,35",{"$f":"MID(C56, FIND(\" \",C56 ), 100)","v":" 4х0,35"},"0,35",null,"LS"," 4",null,{"$f":"E56","v":"0,35"},null,"","",{"$f":"IF(SUM(K$8:K55)=0, \"\", \" + \")","v":""}]
["2798",null,"КПССнг(А)-FRHF 1х2х0,35",{"$f":"MID(C57, FIND(\" \",C57) +1, 100)","v":"1х2х0,35"},"2х0,35",{"$f":"MID($E57,IF(ISERR(FIND(\"х\",$E57)), FIND(\"x\",$E57)+1, FIND(\"х\",$E57))+1,10)","v":"0,35"},"HF","1",{"$f":"MID($E57,1, IF(ISERR(FIND(\"х\",$E57)), FIND(\"x\",$E57)-1, FIND(\"х\",$E57))-1)","v":"2"},{"$f":"F57","v":"0,35"},null,"","",{"$f":"IF(SUM(K$8:K56)=0, \"\", \" + \")","v":""}]
["2804",null,"КПССнг(А)-FRHF 2х2х0,35","2х2х0,35","2х0,35","0,35","HF","2","2","0,35",null,"","",{"$f":"IF(SUM(K$8:K57)=0, \"\", \" + \")","v":""}]
["2787",null,"КПССнг(А)-FRLS 1х2х0,35","1х2х0,35","2х0,35","0,35","LS","1","2","0,35",null,"","",{"$f":"IF(SUM(K$8:K58)=0, \"\", \" + \")","v":""}]
["2792",null,"КПССнг(А)-FRLS 2х2х0,35","2х2х0,35","2х0,35","0,35","LS","2","2","0,35",null,"","",{"$f":"IF(SUM(K$8:K59)=0, \"\", \" + \")","v":""}]
["1631",null,"КПСЭнг(А)-FRHF 1х2х0,35","1х2х0,35","2х0,35","0,35","HF","1","2","0,35",null,"","",{"$f":"IF(SUM(K$8:K60)=0, \"\", \" + \")","v":""}]
["1635",null,"КПСЭнг(А)-FRHF 2х2х0,35","2х2х0,35","2х0,35","0,35","HF","2","2","0,35",null,"","",{"$f":"IF(SUM(K$8:K61)=0, \"\", \" + \")","v":""}]
["4454",null,"КПСЭнг(А)-FRHF 3х0,35",{"$f":"MID(C63, FIND(\" \",C63 ), 100)","v":" 3х0,35"},"0,35",null,"HF"," 3",null,{"$f":"E63","v":"0,35"},null,"","",{"$f":"IF(SUM(K$8:K62)=0, \"\", \" + \")","v":""}]
["4489",null,"КПСЭнг(А)-FRHF 3х2х0,35",{"$f":"MID(C64, FIND(\" \",C64) +1, 100)","v":"3х2х0,35"},"2х0,35",{"$f":"MID($E64,IF(ISERR(FIND(\"х\",$E64)), FIND(\"x\",$E64)+1, FIND(\"х\",$E64))+1,10)","v":"0,35"},"HF","3",{"$f":"MID($E64,1, IF(ISERR(FIND(\"х\",$E64)), FIND(\"x\",$E64)-1, FIND(\"х\",$E64))-1)","v":"2"},{"$f":"F64","v":"0,35"},null,"","",{"$f":"IF(SUM(K$8:K63)=0, \"\", \" + \")","v":""}]
["4490",null,"КПСЭнг(А)-FRHF 5х2х0,35",{"$f":"MID(C65, FIND(\" \",C65) +1, 100)","v":"5х2х0,35"},"2х0,35",{"$f":"MID($E65,IF(ISERR(FIND(\"х\",$E65)), FIND(\"x\",$E65)+1, FIND(\"х\",$E65))+1,10)","v":"0,35"},"HF","5",{"$f":"MID($E65,1, IF(ISERR(FIND(\"х\",$E65)), FIND(\"x\",$E65)-1, FIND(\"х\",$E65))-1)","v":"2"},{"$f":"F65","v":"0,35"},null,"","",{"$f":"IF(SUM(K$8:K64)=0, \"\", \" + \")","v":""}]
["3136",null,"КПСЭнг(А)-FRHF 8х2х0,35",{"$f":"MID(C66, FIND(\" \",C66) +1, 100)","v":"8х2х0,35"},"2х0,35",{"$f":"MID($E66,IF(ISERR(FIND(\"х\",$E66)), FIND(\"x\",$E66)+1, FIND(\"х\",$E66))+1,10)","v":"0,35"},"HF","8",{"$f":"MID($E66,1, IF(ISERR(FIND(\"х\",$E66)), FIND(\"x\",$E66)-1, FIND(\"х\",$E66))-1)","v":"2"},{"$f":"F66","v":"0,35"},null,"","",{"$f":"IF(SUM(K$8:K65)=0, \"\", \" + \")","v":""}]
["1632",null,"КПСЭнг(А)-FRLS 1х2х0,35",{"$f":"MID(C67, FIND(\" \",C67) +1, 100)","v":"1х2х0,35"},"2х0,35",{"$f":"MID($E67,IF(ISERR(FIND(\"х\",$E67)), FIND(\"x\",$E67)+1, FIND(\"х\",$E67))+1,10)","v":"0,35"},"LS","1",{"$f":"MID($E67,1, IF(ISERR(FIND(\"х\",$E67)), FIND(\"x\",$E67)-1, FIND(\"х\",$E67))-1)","v":"2"},{"$f":"F67","v":"0,35"},null,"","",{"$f":"IF(SUM(K$8:K66)=0, \"\", \" + \")","v":""}]
["1636",null,"КПСЭнг(А)-FRLS 2х2х0,35",{"$f":"MID(C68, FIND(\" \",C68) +1, 100)","v":"2х2х0,35"},"2х0,35",{"$f":"MID($E68,IF(ISERR(FIND(\"х\",$E68)), FIND(\"x\",$E68)+1, FIND(\"х\",$E68))+1,10)","v":"0,35"},"LS","2",{"$f":"MID($E68,1, IF(ISERR(FIND(\"х\",$E68)), FIND(\"x\",$E68)-1, FIND(\"х\",$E68))-1)","v":"2"},{"$f":"F68","v":"0,35"},null,"","",{"$f":"IF(SUM(K$8:K67)=0, \"\", \" + \")","v":""}]
["4816",null,"КПСЭнг(А)-FRLS 3х0,35",{"$f":"MID(C69, FIND(\" \",C69 ), 100)","v":" 3х0,35"},"0,35",null,"LS"," 3",null,{"$f":"E69","v":"0,35"},null,"","",{"$f":"IF(SUM(K$8:K68)=0, \"\", \" + \")","v":""}]
["16341",null,"КПСЭнг(А)-FRLS 3х2х0,35",{"$f":"MID(C70, FIND(\" \",C70) +1, 100)","v":"3х2х0,35"},"2х0,35",{"$f":"MID($E70,IF(ISERR(FIND(\"х\",$E70)), FIND(\"x\",$E70)+1, FIND(\"х\",$E70))+1,10)","v":"0,35"},"LS","3",{"$f":"MID($E70,1, IF(ISERR(FIND(\"х\",$E70)), FIND(\"x\",$E70)-1, FIND(\"х\",$E70))-1)","v":"2"},{"$f":"F70","v":"0,35"},null,"","",{"$f":"IF(SUM(K$8:K69)=0, \"\", \" + \")","v":""}]
["4817",null,"КПСЭнг(А)-FRLS 4х0,35",{"$f":"MID(C71, FIND(\" \",C71 ), 100)","v":" 4х0,35"},"0,35",null,"LS"," 4",null,{"$f":"E71","v":"0,35"},null,"","",{"$f":"IF(SUM(K$8:K70)=0, \"\", \" + \")","v":""}]
["2156",null,"КПСЭнг(А)-FRLS 4х2х0,35",{"$f":"MID(C72, FIND(\" \",C72) +1, 100)","v":"4х2х0,35"},"2х0,35",{"$f":"MID($E72,IF(ISERR(FIND(\"х\",$E72)), FIND(\"x\",$E72)+1, FIND(\"х\",$E72))+1,10)","v":"0,35"},"LS","4",{"$f":"MID($E72,1, IF(ISERR(FIND(\"х\",$E72)), FIND(\"x\",$E72)-1, FIND(\"х\",$E72))-1)","v":"2"},{"$f":"F72","v":"0,35"},null,"","",{"$f":"IF(SUM(K$8:K71)=0, \"\", \" + \")","v":""}]
["17632",null,"КПСЭнг(А)-FRLS 6х2х0,35","6х2х0,35","2х0,35","0,35","LS","6","2","0,35",null,"","",{"$f":"IF(SUM(K$8:K72)=0, \"\", \" + \")","v":""}]
["18270",null,"КПСЭнг(А)-FRLS 8х2х0,35","8х2х0,35",{"$f":"MID($D74,IF(ISERR(FIND(\"х\",$D74)), FIND(\"x\",$D74)+1, FIND(\"х\",$D74))+1, 100)","v":"2х0,35"},"0,35",{"$f":"MID(C74,FIND(\"FR\",C74)+2, 2)","v":"LS"},{"$f":"MID($D74,1, IF(ISERR(FIND(\"х\",$D74)), FIND(\"x\",$D74)-1, FIND(\"х\",$D74))-1)","v":"8"},"2","0,35",null,{"$f":"IF(K74=0, \"\",CONCATENATE(N74, C74, \"-\",K74,\"м\"))","v":""},{"$f":"CONCATENATE(M73,L74)","v":""},{"$f":"IF(SUM(K$8:K73)=0, \"\", \" + \")","v":""}]
["1633",null,"КПСЭСнг(А)-FRHF 1х2х0,35","1х2х0,35","2х0,35","0,35","HF","1","2","0,35",null,"","",{"$f":"IF(SUM(K$8:K74)=0, \"\", \" + \")","v":""}]
["1637",null,"КПСЭСнг(А)-FRHF 2х2х0,35","2х2х0,35","2х0,35","0,35","HF","2","2","0,35",null,"","",{"$f":"IF(SUM(K$8:K75)=0, \"\", \" + \")","v":""}]
["1634",null,"КПСЭСнг(А)-FRLS 1х2х0,35","1х2х0,35","2х0,35","0,35","LS","1","2","0,35",null,"","",{"$f":"IF(SUM(K$8:K76)=0, \"\", \" + \")","v":""}]
["1638",null,"КПСЭСнг(А)-FRLS 2х2х0,35","2х2х0,35","2х0,35","0,35","LS","2","2","0,35",null,"","",{"$f":"IF(SUM(K$8:K77)=0, \"\", \" + \")","v":""}]
["19962",null,"КПСнг(А)-FRLS 10х2х0,35 ","10х2х0,35 ","2х0,35 ","0,35 ","LS","10","2","0,35 ",null,"","",{"$f":"IF(SUM(K$8:K78)=0, \"\", \" + \")","v":""}]
["2851",null,"КПСнг(А)-FRHF 10х2х0,5","10х2х0,5","2х0,5","0,5","HF","10","2","0,5",null,"","",{"$f":"IF(SUM(K$8:K79)=0, \"\", \" + \")","v":""}]
["17938",null,"КПСнг(А)-FRHF 12х2х0,5","12х2х0,5","2х0,5","0,5","HF","12","2","0,5",null,"","",{"$f":"IF(SUM(K$8:K80)=0, \"\", \" + \")","v":""}]
["17937",null,"КПСнг(А)-FRHF 16х2х0,5","16х2х0,5","2х0,5","0,5","HF","16","2","0,5",null,"","",{"$f":"IF(SUM(K$8:K81)=0, \"\", \" + \")","v":""}]
["2291",null,"КПСнг(А)-FRHF 1х2х0,5","1х2х0,5","2х0,5","0,5","HF","1","2","0,5",100,"КПСнг(А)-FRHF 1х2х0,5-100м","КПСнг(А)-FRHF 1х2х0,5-100м",{"$f":"IF(SUM(K$8:K82)=0, \"\", \" + \")","v":""}]
["4448",null,"КПСнг(А)-FRHF 20х2х0,5","20х2х0,5","2х0,5","0,5","HF","20","2","0,5",null,"","КПСнг(А)-FRHF 1х2х0,5-100м",{"$f":"IF(SUM(K$8:K83)=0, \"\", \" + \")","v":" + "}]
["2297",null,"КПСнг(А)-FRHF 2х2х0,5","2х2х0,5","2х0,5","0,5","HF","2","2","0,5",null,"","КПСнг(А)-FRHF 1х2х0,5-100м",{"$f":"IF(SUM(K$8:K84)=0, \"\", \" + \")","v":" + "}]
["4442",null,"КПСнг(А)-FRHF 3х0,5",{"$f":"MID(C86, FIND(\" \",C86 ), 100)","v":" 3х0,5"},"0,5",null,"HF"," 3",null,{"$f":"E86","v":"0,5"},null,"","КПСнг(А)-FRHF 1х2х0,5-100м",{"$f":"IF(SUM(K$8:K85)=0, \"\", \" + \")","v":" + "}]
["2997",null,"КПСнг(А)-FRHF 4х0,5",{"$f":"MID(C87, FIND(\" \",C87 ), 100)","v":" 4х0,5"},"0,5",null,"HF"," 4",null,{"$f":"E87","v":"0,5"},null,"","КПСнг(А)-FRHF 1х2х0,5-100м",{"$f":"IF(SUM(K$8:K86)=0, \"\", \" + \")","v":" + "}]
["4494",null,"КПСнг(А)-FRHF 4х2х0,5",{"$f":"MID(C88, FIND(\" \",C88) +1, 100)","v":"4х2х0,5"},"2х0,5",{"$f":"MID($E88,IF(ISERR(FIND(\"х\",$E88)), FIND(\"x\",$E88)+1, FIND(\"х\",$E88))+1,10)","v":"0,5"},"HF","4",{"$f":"MID($E88,1, IF(ISERR(FIND(\"х\",$E88)), FIND(\"x\",$E88)-1, FIND(\"х\",$E88))-1)","v":"2"},{"$f":"F88","v":"0,5"},null,"","КПСнг(А)-FRHF 1х2х0,5-100м",{"$f":"IF(SUM(K$8:K87)=0, \"\", \" + \")","v":" + "}]
["2918",null,"КПСнг(А)-FRHF 5х2х0,5","5х2х0,5","2х0,5","0,5","HF","5","2","0,5",null,"","КПСнг(А)-FRHF 1х2х0,5-100м",{"$f":"IF(SUM(K$8:K88)=0, \"\", \" + \")","v":" + "}]
["2849",null,"КПСнг(А)-FRHF 6х2х0,5","6х2х0,5","2х0,5","0,5","HF","6","2","0,5",null,"","КПСнг(А)-FRHF 1х2х0,5-100м",{"$f":"IF(SUM(K$8:K89)=0, \"\", \" + \")","v":" + "}]
["2850",null,"КПСнг(А)-FRHF 8х2х0,5","8х2х0,5","2х0,5","0,5","HF","8","2","0,5",null,"","КПСнг(А)-FRHF 1х2х0,5-100м",{"$f":"IF(SUM(K$8:K90)=0, \"\", \" + \")","v":" + "}]
["2844",null,"КПСнг(А)-FRLS 10х2х0,5","10х2х0,5","2х0,5","0,5","LS","10","2","0,5",null,"","КПСнг(А)-FRHF 1х2х0,5-100м",{"$f":"IF(SUM(K$8:K91)=0, \"\", \" + \")","v":" + "}]
["12966",null,"КПСнг(А)-FRLS 12х2х0,5","12х2х0,5","2х0,5","0,5","LS","12","2","0,5",null,"","КПСнг(А)-FRHF 1х2х0,5-100м",{"$f":"IF(SUM(K$8:K92)=0, \"\", \" + \")","v":" + "}]
["2162",null,"КПСнг(А)-FRLS 1х2х0,5","1х2х0,5","2х0,5","0,5","LS","1","2","0,5",null,"","КПСнг(А)-FRHF 1х2х0,5-100м",{"$f":"IF(SUM(K$8:K93)=0, \"\", \" + \")","v":" + "}]
["5402",null,"КПСнг(А)-FRLS 20х2х0,5","20х2х0,5","2х0,5","0,5","LS","20","2","0,5",null,"","КПСнг(А)-FRHF 1х2х0,5-100м",{"$f":"IF(SUM(K$8:K94)=0, \"\", \" + \")","v":" + "}]
["2285",null,"КПСнг(А)-FRLS 2х2х0,5","2х2х0,5","2х0,5","0,5","LS","2","2","0,5",null,"","КПСнг(А)-FRHF 1х2х0,5-100м",{"$f":"IF(SUM(K$8:K95)=0, \"\", \" + \")","v":" + "}]
["3345",null,"КПСнг(А)-FRLS 3х0,5",{"$f":"MID(C97, FIND(\" \",C97 ), 100)","v":" 3х0,5"},"0,5",null,"LS"," 3",null,{"$f":"E97","v":"0,5"},null,"","КПСнг(А)-FRHF 1х2х0,5-100м",{"$f":"IF(SUM(K$8:K96)=0, \"\", \" + \")","v":" + "}]
["3452",null,"КПСнг(А)-FRLS 3х2х0,5",{"$f":"MID(C98, FIND(\" \",C98) +1, 100)","v":"3х2х0,5"},"2х0,5",{"$f":"MID($E98,IF(ISERR(FIND(\"х\",$E98)), FIND(\"x\",$E98)+1, FIND(\"х\",$E98))+1,10)","v":"0,5"},"LS","3",{"$f":"MID($E98,1, IF(ISERR(FIND(\"х\",$E98)), FIND(\"x\",$E98)-1, FIND(\"х\",$E98))-1)","v":"2"},{"$f":"F98","v":"0,5"},null,"","КПСнг(А)-FRHF 1х2х0,5-100м",{"$f":"IF(SUM(K$8:K97)=0, \"\", \" + \")","v":" + "}]
["2779",null,"КПСнг(А)-FRLS 4х0,5",{"$f":"MID(C99, FIND(\" \",C99 ), 100)","v":" 4х0,5"},"0,5",null,"LS"," 4",null,{"$f":"E99","v":"0,5"},null,"","КПСнг(А)-FRHF 1х2х0,5-100м",{"$f":"IF(SUM(K$8:K98)=0, \"\", \" + \")","v":" + "}]
["2757",null,"КПСнг(А)-FRLS 4х2х0,5",{"$f":"MID(C100, FIND(\" \",C100) +1, 100)","v":"4х2х0,5"},"2х0,5",{"$f":"MID($E100,IF(ISERR(FIND(\"х\",$E100)), FIND(\"x\",$E100)+1, FIND(\"х\",$E100))+1,10)","v":"0,5"},"LS","4",{"$f":"MID($E100,1, IF(ISERR(FIND(\"х\",$E100)), FIND(\"x\",$E100)-1, FIND(\"х\",$E100))-1)","v":"2"},{"$f":"F100","v":"0,5"},null,"","КПСнг(А)-FRHF 1х2х0,5-100м",{"$f":"IF(SUM(K$8:K99)=0, \"\", \" + \")","v":" + "}]
["4627",null,"КПСнг(А)-FRLS 5х2х0,5","5х2х0,5","2х0,5","0,5","LS","5","2","0,5",null,"","КПСнг(А)-FRHF 1х2х0,5-100м",{"$f":"IF(SUM(K$8:K100)=0, \"\", \" + \")","v":" + "}]
["3142",null,"КПСнг(А)-FRLS 6х2х0,5","6х2х0,5","2х0,5","0,5","LS","6","2","0,5",null,"","КПСнг(А)-FRHF 1х2х0,5-100м",{"$f":"IF(SUM(K$8:K101)=0, \"\", \" + \")","v":" + "}]
["5509",null,"КПСнг(А)-FRLS 7х2х0,5","7х2х0,5","2х0,5","0,5","LS","7","2","0,5",null,"","КПСнг(А)-FRHF 1х2х0,5-100м",{"$f":"IF(SUM(K$8:K102)=0, \"\", \" + \")","v":" + "}]
["2724",null,"КПСнг(А)-FRLS 8х2х0,5","8х2х0,5","2х0,5","0,5","LS","8","2","0,5",null,"","КПСнг(А)-FRHF 1х2х0,5-100м",{"$f":"IF(SUM(K$8:K103)=0, \"\", \" + \")","v":" + "}]
["16756",null,"КПСнг(А)-FRLS 9х2х0,5","9х2х0,5","2х0,5","0,5","LS","9","2","0,5",null,"","КПСнг(А)-FRHF 1х2х0,5-100м",{"$f":"IF(SUM(K$8:K104)=0, \"\", \" + \")","v":" + "}]
["2797",null,"КПССнг(А)-FRHF 1х2х0,5","1х2х0,5","2х0,5","0,5","HF","1","2","0,5",null,"","КПСнг(А)-FRHF 1х2х0,5-100м",{"$f":"IF(SUM(K$8:K105)=0, \"\", \" + \")","v":" + "}]
["2803",null,"КПССнг(А)-FRHF 2х2х0,5","2х2х0,5","2х0,5","0,5","HF","2","2","0,5",null,"","КПСнг(А)-FRHF 1х2х0,5-100м",{"$f":"IF(SUM(K$8:K106)=0, \"\", \" + \")","v":" + "}]
["4439",null,"КПССнг(А)-FRHF 3х0,5",{"$f":"MID(C108, FIND(\" \",C108 ), 100)","v":" 3х0,5"},"0,5",null,"HF"," 3",null,{"$f":"E108","v":"0,5"},null,"","КПСнг(А)-FRHF 1х2х0,5-100м",{"$f":"IF(SUM(K$8:K107)=0, \"\", \" + \")","v":" + "}]
["18014",null,"КПССнг(А)-FRHF 3х2х0,5",{"$f":"MID(C109, FIND(\" \",C109) +1, 100)","v":"3х2х0,5"},"2х0,5",{"$f":"MID($E109,IF(ISERR(FIND(\"х\",$E109)), FIND(\"x\",$E109)+1, FIND(\"х\",$E109))+1,10)","v":"0,5"},"HF","3",{"$f":"MID($E109,1, IF(ISERR(FIND(\"х\",$E109)), FIND(\"x\",$E109)-1, FIND(\"х\",$E109))-1)","v":"2"},{"$f":"F109","v":"0,5"},null,"","КПСнг(А)-FRHF 1х2х0,5-100м",{"$f":"IF(SUM(K$8:K108)=0, \"\", \" + \")","v":" + "}]
["16769",null,"КПССнг(А)-FRHF 4х0,5",{"$f":"MID(C110, FIND(\" \",C110 ), 100)","v":" 4х0,5"},"0,5",null,"HF"," 4",null,{"$f":"E110","v":"0,5"},null,"","КПСнг(А)-FRHF 1х2х0,5-100м",{"$f":"IF(SUM(K$8:K109)=0, \"\", \" + \")","v":" + "}]
["3177",null,"КПССнг(А)-FRLS 10х2х0,5",{"$f":"MID(C111, FIND(\" \",C111) +1, 100)","v":"10х2х0,5"},"2х0,5",{"$f":"MID($E111,IF(ISERR(FIND(\"х\",$E111)), FIND(\"x\",$E111)+1, FIND(\"х\",$E111))+1,10)","v":"0,5"},"LS","10",{"$f":"MID($E111,1, IF(ISERR(FIND(\"х\",$E111)), FIND(\"x\",$E111)-1, FIND(\"х\",$E111))-1)","v":"2"},{"$f":"F111","v":"0,5"},null,"","КПСнг(А)-FRHF 1х2х0,5-100м",{"$f":"IF(SUM(K$8:K110)=0, \"\", \" + \")","v":" + "}]
["2784",null,"КПССнг(А)-FRLS 1х2х0,5",{"$f":"MID(C112, FIND(\" \",C112) +1, 100)","v":"1х2х0,5"},"2х0,5",{"$f":"MID($E112,IF(ISERR(FIND(\"х\",$E112)), FIND(\"x\",$E112)+1, FIND(\"х\",$E112))+1,10)","v":"0,5"},"LS","1",{"$f":"MID($E112,1, IF(ISERR(FIND(\"х\",$E112)), FIND(\"x\",$E112)-1, FIND(\"х\",$E112))-1)","v":"2"},{"$f":"F112","v":"0,5"},null,"","КПСнг(А)-FRHF 1х2х0,5-100м",{"$f":"IF(SUM(K$8:K111)=0, \"\", \" + \")","v":" + "}]
["2785",null,"КПССнг(А)-FRLS 2х2х0,5",{"$f":"MID(C113, FIND(\" \",C113) +1, 100)","v":"2х2х0,5"},"2х0,5",{"$f":"MID($E113,IF(ISERR(FIND(\"х\",$E113)), FIND(\"x\",$E113)+1, FIND(\"х\",$E113))+1,10)","v":"0,5"},"LS","2",{"$f":"MID($E113,1, IF(ISERR(FIND(\"х\",$E113)), FIND(\"x\",$E113)-1, FIND(\"х\",$E113))-1)","v":"2"},{"$f":"F113","v":"0,5"},null,"","КПСнг(А)-FRHF 1х2х0,5-100м",{"$f":"IF(SUM(K$8:K112)=0, \"\", \" + \")","v":" + "}]
["18641",null,"КПССнг(А)-FRLS 3х0,5",{"$f":"MID(C114, FIND(\" \",C114 ), 100)","v":" 3х0,5"},"0,5",null,"LS"," 3",null,{"$f":"E114","v":"0,5"},null,"","КПСнг(А)-FRHF 1х2х0,5-100м",{"$f":"IF(SUM(K$8:K113)=0, \"\", \" + \")","v":" + "}]
["5138",null,"КПССнг(А)-FRLS 4х0,5",{"$f":"MID(C115, FIND(\" \",C115 ), 100)","v":" 4х0,5"},"0,5",null,"LS"," 4",null,{"$f":"E115","v":"0,5"},null,"","КПСнг(А)-FRHF 1х2х0,5-100м",{"$f":"IF(SUM(K$8:K114)=0, \"\", \" + \")","v":" + "}]
["2814",null,"КПССнг(А)-FRLS 4х2х0,5",{"$f":"MID(C116, FIND(\" \",C116) +1, 100)","v":"4х2х0,5"},"2х0,5",{"$f":"MID($E116,IF(ISERR(FIND(\"х\",$E116)), FIND(\"x\",$E116)+1, FIND(\"х\",$E116))+1,10)","v":"0,5"},"LS","4",{"$f":"MID($E116,1, IF(ISERR(FIND(\"х\",$E116)), FIND(\"x\",$E116)-1, FIND(\"х\",$E116))-1)","v":"2"},{"$f":"F116","v":"0,5"},null,"","КПСнг(А)-FRHF 1х2х0,5-100м",{"$f":"IF(SUM(K$8:K115)=0, \"\", \" + \")","v":" + "}]
["18639",null,"КПССнг(А)-FRLS 5х2х0,5","5х2х0,5","2х0,5","0,5","LS","5","2","0,5",null,"","КПСнг(А)-FRHF 1х2х0,5-100м",{"$f":"IF(SUM(K$8:K116)=0, \"\", \" + \")","v":" + "}]
["2819",null,"КПСЭнг(А)-FRHF 10х2х0,5","10х2х0,5","2х0,5","0,5","HF","10","2","0,5",null,"","КПСнг(А)-FRHF 1х2х0,5-100м",{"$f":"IF(SUM(K$8:K117)=0, \"\", \" + \")","v":" + "}]
["4544",null,"КПСЭнг(А)-FRHF 12х2х0,5","12х2х0,5","2х0,5","0,5","HF","12","2","0,5",null,"","КПСнг(А)-FRHF 1х2х0,5-100м",{"$f":"IF(SUM(K$8:K118)=0, \"\", \" + \")","v":" + "}]
["1286",null,"КПСЭнг(А)-FRHF 16х2х0,5","16х2х0,5","2х0,5","0,5","HF","16","2","0,5",null,"","КПСнг(А)-FRHF 1х2х0,5-100м",{"$f":"IF(SUM(K$8:K119)=0, \"\", \" + \")","v":" + "}]
["943",null,"КПСЭнг(А)-FRHF 1х2х0,5","1х2х0,5","2х0,5","0,5","HF","1","2","0,5",null,"","КПСнг(А)-FRHF 1х2х0,5-100м",{"$f":"IF(SUM(K$8:K120)=0, \"\", \" + \")","v":" + "}]
["4438",null,"КПСЭнг(А)-FRHF 20х2х0,5","20х2х0,5","2х0,5","0,5","HF","20","2","0,5",null,"","КПСнг(А)-FRHF 1х2х0,5-100м",{"$f":"IF(SUM(K$8:K121)=0, \"\", \" + \")","v":" + "}]
["944",null,"КПСЭнг(А)-FRHF 2х2х0,5","2х2х0,5","2х0,5","0,5","HF","2","2","0,5",null,"","КПСнг(А)-FRHF 1х2х0,5-100м",{"$f":"IF(SUM(K$8:K122)=0, \"\", \" + \")","v":" + "}]
["17936",null,"КПСЭнг(А)-FRHF 32х2х0,5","32х2х0,5","2х0,5","0,5","HF","32","2","0,5",null,"","КПСнг(А)-FRHF 1х2х0,5-100м",{"$f":"IF(SUM(K$8:K123)=0, \"\", \" + \")","v":" + "}]
["2743",null,"КПСЭнг(А)-FRHF 3х0,5",{"$f":"MID(C125, FIND(\" \",C125 ), 100)","v":" 3х0,5"},"0,5",null,"HF"," 3",null,{"$f":"E125","v":"0,5"},null,"","КПСнг(А)-FRHF 1х2х0,5-100м",{"$f":"IF(SUM(K$8:K124)=0, \"\", \" + \")","v":" + "}]
["2992",null,"КПСЭнг(А)-FRHF 3х2х0,5",{"$f":"MID(C126, FIND(\" \",C126) +1, 100)","v":"3х2х0,5"},"2х0,5",{"$f":"MID($E126,IF(ISERR(FIND(\"х\",$E126)), FIND(\"x\",$E126)+1, FIND(\"х\",$E126))+1,10)","v":"0,5"},"HF","3",{"$f":"MID($E126,1, IF(ISERR(FIND(\"х\",$E126)), FIND(\"x\",$E126)-1, FIND(\"х\",$E126))-1)","v":"2"},{"$f":"F126","v":"0,5"},null,"","КПСнг(А)-FRHF 1х2х0,5-100м",{"$f":"IF(SUM(K$8:K125)=0, \"\", \" + \")","v":" + "}]
["5033",null,"КПСЭнг(А)-FRHF 40х2х0,5",{"$f":"MID(C127, FIND(\" \",C127) +1, 100)","v":"40х2х0,5"},"2х0,5",{"$f":"MID($E127,IF(ISERR(FIND(\"х\",$E127)), FIND(\"x\",$E127)+1, FIND(\"х\",$E127))+1,10)","v":"0,5"},"HF","40",{"$f":"MID($E127,1, IF(ISERR(FIND(\"х\",$E127)), FIND(\"x\",$E127)-1, FIND(\"х\",$E127))-1)","v":"2"},{"$f":"F127","v":"0,5"},null,"","КПСнг(А)-FRHF 1х2х0,5-100м",{"$f":"IF(SUM(K$8:K126)=0, \"\", \" + \")","v":" + "}]
["2976",null,"КПСЭнг(А)-FRHF 4х0,5",{"$f":"MID(C128, FIND(\" \",C128 ), 100)","v":" 4х0,5"},"0,5",null,"HF"," 4",null,{"$f":"E128","v":"0,5"},null,"","КПСнг(А)-FRHF 1х2х0,5-100м",{"$f":"IF(SUM(K$8:K127)=0, \"\", \" + \")","v":" + "}]
["2728",null,"КПСЭнг(А)-FRHF 4х2х0,5",{"$f":"MID(C129, FIND(\" \",C129) +1, 100)","v":"4х2х0,5"},"2х0,5",{"$f":"MID($E129,IF(ISERR(FIND(\"х\",$E129)), FIND(\"x\",$E129)+1, FIND(\"х\",$E129))+1,10)","v":"0,5"},"HF","4",{"$f":"MID($E129,1, IF(ISERR(FIND(\"х\",$E129)), FIND(\"x\",$E129)-1, FIND(\"х\",$E129))-1)","v":"2"},{"$f":"F129","v":"0,5"},null,"","КПСнг(А)-FRHF 1х2х0,5-100м",{"$f":"IF(SUM(K$8:K128)=0, \"\", \" + \")","v":" + "}]
["2993",null,"КПСЭнг(А)-FRHF 5х2х0,5","5х2х0,5","2х0,5","0,5","HF","5","2","0,5",null,"","КПСнг(А)-FRHF 1х2х0,5-100м",{"$f":"IF(SUM(K$8:K129)=0, \"\", \" + \")","v":" + "}]
["2985",null,"КПСЭнг(А)-FRHF 6х2х0,5","6х2х0,5","2х0,5","0,5","HF","6","2","0,5",null,"","КПСнг(А)-FRHF 1х2х0,5-100м",{"$f":"IF(SUM(K$8:K130)=0, \"\", \" + \")","v":" + "}]
["3027",null,"КПСЭнг(А)-FRHF 7х2х0,5","7х2х0,5","2х0,5","0,5","HF","7","2","0,5",null,"","КПСнг(А)-FRHF 1х2х0,5-100м",{"$f":"IF(SUM(K$8:K131)=0, \"\", \" + \")","v":" + "}]
["3363",null,"КПСЭнг(А)-FRHF 8х2х0,5","8х2х0,5","2х0,5","0,5","HF","8","2","0,5",null,"","КПСнг(А)-FRHF 1х2х0,5-100м",{"$f":"IF(SUM(K$8:K132)=0, \"\", \" + \")","v":" + "}]
["1261",null,"КПСЭнг(А)-FRLS 10х2х0,5","10х2х0,5","2х0,5","0,5","LS","10","2","0,5",null,"","КПСнг(А)-FRHF 1х2х0,5-100м",{"$f":"IF(SUM(K$8:K133)=0, \"\", \" + \")","v":" + "}]
["2827",null,"КПСЭнг(А)-FRLS 12х2х0,5","12х2х0,5","2х0,5","0,5","LS","12","2","0,5",null,"","КПСнг(А)-FRHF 1х2х0,5-100м",{"$f":"IF(SUM(K$8:K134)=0, \"\", \" + \")","v":" + "}]
["1262",null,"КПСЭнг(А)-FRLS 16х2х0,5","16х2х0,5","2х0,5","0,5","LS","16","2","0,5",null,"","КПСнг(А)-FRHF 1х2х0,5-100м",{"$f":"IF(SUM(K$8:K135)=0, \"\", \" + \")","v":" + "}]
["953",null,"КПСЭнг(А)-FRLS 1х2х0,5","1х2х0,5","2х0,5","0,5","LS","1","2","0,5",null,"","КПСнг(А)-FRHF 1х2х0,5-100м",{"$f":"IF(SUM(K$8:K136)=0, \"\", \" + \")","v":" + "}]
["2769",null,"КПСЭнг(А)-FRLS 20х2х0,5","20х2х0,5",{"$f":"MID($D138,IF(ISERR(FIND(\"х\",$D138)), FIND(\"x\",$D138)+1, FIND(\"х\",$D138))+1, 100)","v":"2х0,5"},"0,5",{"$f":"MID(C138,FIND(\"FR\",C138)+2, 2)","v":"LS"},{"$f":"MID($D138,1, IF(ISERR(FIND(\"х\",$D138)), FIND(\"x\",$D138)-1, FIND(\"х\",$D138))-1)","v":"20"},"2","0,5",null,{"$f":"IF(K138=0, \"\",CONCATENATE(N138, C138, \"-\",K138,\"м\"))","v":""},{"$f":"CONCATENATE(M137,L138)","v":"КПСнг(А)-FRHF 1х2х0,5-100м"},{"$f":"IF(SUM(K$8:K137)=0, \"\", \" + \")","v":" + "}]
["3169",null,"КПСЭнг(А)-FRLS 24х2х0,5","24х2х0,5","2х0,5","0,5","LS","24","2","0,5",null,"","КПСнг(А)-FRHF 1х2х0,5-100м",{"$f":"IF(SUM(K$8:K138)=0, \"\", \" + \")","v":" + "}]
["954",null,"КПСЭнг(А)-FRLS 2х2х0,5","2х2х0,5","2х0,5","0,5","LS","2","2","0,5",null,"","КПСнг(А)-FRHF 1х2х0,5-100м",{"$f":"IF(SUM(K$8:K139)=0, \"\", \" + \")","v":" + "}]
["18958",null,"КПСЭнг(А)-FRLS 32х2х0,5","32х2х0,5","2х0,5","0,5","LS","32","2","0,5",null,"","КПСнг(А)-FRHF 1х2х0,5-100м",{"$f":"IF(SUM(K$8:K140)=0, \"\", \" + \")","v":" + "}]
["2948",null,"КПСЭнг(А)-FRLS 3х0,5",{"$f":"MID(C142, FIND(\" \",C142 ), 100)","v":" 3х0,5"},"0,5",null,"LS"," 3",null,{"$f":"E142","v":"0,5"},null,"","КПСнг(А)-FRHF 1х2х0,5-100м",{"$f":"IF(SUM(K$8:K141)=0, \"\", \" + \")","v":" + "}]
["1628",null,"КПСЭнг(А)-FRLS 3х2х0,5",{"$f":"MID(C143, FIND(\" \",C143) +1, 100)","v":"3х2х0,5"},"2х0,5",{"$f":"MID($E143,IF(ISERR(FIND(\"х\",$E143)), FIND(\"x\",$E143)+1, FIND(\"х\",$E143))+1,10)","v":"0,5"},"LS","3",{"$f":"MID($E143,1, IF(ISERR(FIND(\"х\",$E143)), FIND(\"x\",$E143)-1, FIND(\"х\",$E143))-1)","v":"2"},{"$f":"F143","v":"0,5"},null,"","КПСнг(А)-FRHF 1х2х0,5-100м",{"$f":"IF(SUM(K$8:K142)=0, \"\", \" + \")","v":" + "}]
["2920",null,"КПСЭнг(А)-FRLS 4х0,5",{"$f":"MID(C144, FIND(\" \",C144 ), 100)","v":" 4х0,5"},"0,5",null,"LS"," 4",null,{"$f":"E144","v":"0,5"},null,"","КПСнг(А)-FRHF 1х2х0,5-100м",{"$f":"IF(SUM(K$8:K143)=0, \"\", \" + \")","v":" + "}]
["1524",null,"КПСЭнг(А)-FRLS 4х2х0,5",{"$f":"MID(C145, FIND(\" \",C145) +1, 100)","v":"4х2х0,5"},"2х0,5",{"$f":"MID($E145,IF(ISERR(FIND(\"х\",$E145)), FIND(\"x\",$E145)+1, FIND(\"х\",$E145))+1,10)","v":"0,5"},"LS","4",{"$f":"MID($E145,1, IF(ISERR(FIND(\"х\",$E145)), FIND(\"x\",$E145)-1, FIND(\"х\",$E145))-1)","v":"2"},{"$f":"F145","v":"0,5"},null,"","КПСнг(А)-FRHF 1х2х0,5-100м",{"$f":"IF(SUM(K$8:K144)=0, \"\", \" + \")","v":" + "}]
["1607",null,"КПСЭнг(А)-FRLS 5х2х0,5","5х2х0,5","2х0,5","0,5","LS","5","2","0,5",null,"","КПСнг(А)-FRHF 1х2х0,5-100м",{"$f":"IF(SUM(K$8:K145)=0, \"\", \" + \")","v":" + "}]
["1629",null,"КПСЭнг(А)-FRLS 6х2х0,5","6х2х0,5","2х0,5","0,5","LS","6","2","0,5",null,"","КПСнг(А)-FRHF 1х2х0,5-100м",{"$f":"IF(SUM(K$8:K146)=0, \"\", \" + \")","v":" + "}]
["1850",null,"КПСЭнг(А)-FRLS 7х2х0,5","7х2х0,5","2х0,5","0,5","LS","7","2","0,5",null,"","КПСнг(А)-FRHF 1х2х0,5-100м",{"$f":"IF(SUM(K$8:K147)=0, \"\", \" + \")","v":" + "}]
["2813",null,"КПСЭнг(А)-FRLS 8х2х0,5","8х2х0,5","2х0,5","0,5","LS","8","2","0,5",null,"","КПСнг(А)-FRHF 1х2х0,5-100м",{"$f":"IF(SUM(K$8:K148)=0, \"\", \" + \")","v":" + "}]
["16764",null,"КПСЭнг(А)-FRLS 9х2х0,5","9х2х0,5","2х0,5","0,5","LS","9","2","0,5",null,"","КПСнг(А)-FRHF 1х2х0,5-100м",{"$f":"IF(SUM(K$8:K149)=0, \"\", \" + \")","v":" + "}]
["19015",null,"КПСЭСнг(А)-FRHF 12х2х0,5","12х2х0,5","2х0,5","0,5","HF","12","2","0,5",null,"","КПСнг(А)-FRHF 1х2х0,5-100м",{"$f":"IF(SUM(K$8:K150)=0, \"\", \" + \")","v":" + "}]
["963",null,"КПСЭСнг(А)-FRHF 1х2х0,5","1х2х0,5","2х0,5","0,5","HF","1","2","0,5",null,"","КПСнг(А)-FRHF 1х2х0,5-100м",{"$f":"IF(SUM(K$8:K151)=0, \"\", \" + \")","v":" + "}]
["19014",null,"КПСЭСнг(А)-FRHF 20х2х0,5","20х2х0,5","2х0,5","0,5","HF","20","2","0,5",null,"","КПСнг(А)-FRHF 1х2х0,5-100м",{"$f":"IF(SUM(K$8:K152)=0, \"\", \" + \")","v":" + "}]
["964",null,"КПСЭСнг(А)-FRHF 2х2х0,5","2х2х0,5","2х0,5","0,5","HF","2","2","0,5",null,"","КПСнг(А)-FRHF 1х2х0,5-100м",{"$f":"IF(SUM(K$8:K153)=0, \"\", \" + \")","v":" + "}]
["3014",null,"КПСЭСнг(А)-FRHF 3х2х0,5","3х2х0,5","2х0,5","0,5","HF","3","2","0,5",null,"","КПСнг(А)-FRHF 1х2х0,5-100м",{"$f":"IF(SUM(K$8:K154)=0, \"\", \" + \")","v":" + "}]
["3054",null,"КПСЭСнг(А)-FRHF 4х0,5",{"$f":"MID(C156, FIND(\" \",C156 ), 100)","v":" 4х0,5"},"0,5",null,"HF"," 4",null,{"$f":"E156","v":"0,5"},null,"","КПСнг(А)-FRHF 1х2х0,5-100м",{"$f":"IF(SUM(K$8:K155)=0, \"\", \" + \")","v":" + "}]
["2812",null,"КПСЭСнг(А)-FRHF 4х2х0,5",{"$f":"MID(C157, FIND(\" \",C157) +1, 100)","v":"4х2х0,5"},"2х0,5",{"$f":"MID($E157,IF(ISERR(FIND(\"х\",$E157)), FIND(\"x\",$E157)+1, FIND(\"х\",$E157))+1,10)","v":"0,5"},"HF","4",{"$f":"MID($E157,1, IF(ISERR(FIND(\"х\",$E157)), FIND(\"x\",$E157)-1, FIND(\"х\",$E157))-1)","v":"2"},{"$f":"F157","v":"0,5"},null,"","КПСнг(А)-FRHF 1х2х0,5-100м",{"$f":"IF(SUM(K$8:K156)=0, \"\", \" + \")","v":" + "}]
["19016",null,"КПСЭСнг(А)-FRHF 8х2х0,5","8х2х0,5","2х0,5","0,5","HF","8","2","0,5",null,"","КПСнг(А)-FRHF 1х2х0,5-100м",{"$f":"IF(SUM(K$8:K157)=0, \"\", \" + \")","v":" + "}]
["1646",null,"КПСЭСнг(А)-FRLS 10х2х0,5","10х2х0,5","2х0,5","0,5","LS","10","2","0,5",null,"","КПСнг(А)-FRHF 1х2х0,5-100м",{"$f":"IF(SUM(K$8:K158)=0, \"\", \" + \")","v":" + "}]
["973",null,"КПСЭСнг(А)-FRLS 1х2х0,5","1х2х0,5","2х0,5","0,5","LS","1","2","0,5",null,"","КПСнг(А)-FRHF 1х2х0,5-100м",{"$f":"IF(SUM(K$8:K159)=0, \"\", \" + \")","v":" + "}]
["974",null,"КПСЭСнг(А)-FRLS 2х2х0,5","2х2х0,5","2х0,5","0,5","LS","2","2","0,5",null,"","КПСнг(А)-FRHF 1х2х0,5-100м",{"$f":"IF(SUM(K$8:K160)=0, \"\", \" + \")","v":" + "}]
["4974",null,"КПСЭСнг(А)-FRLS 3х2х0,5","3х2х0,5","2х0,5","0,5","LS","3","2","0,5",null,"","КПСнг(А)-FRHF 1х2х0,5-100м",{"$f":"IF(SUM(K$8:K161)=0, \"\", \" + \")","v":" + "}]
["2823",null,"КПСЭСнг(А)-FRLS 4х0,5",{"$f":"MID(C163, FIND(\" \",C163 ), 100)","v":" 4х0,5"},"0,5",null,"LS"," 4",null,{"$f":"E163","v":"0,5"},null,"","КПСнг(А)-FRHF 1х2х0,5-100м",{"$f":"IF(SUM(K$8:K162)=0, \"\", \" + \")","v":" + "}]
["1213",null,"КПСЭСнг(А)-FRLS 4х2х0,5",{"$f":"MID(C164, FIND(\" \",C164) +1, 100)","v":"4х2х0,5"},"2х0,5",{"$f":"MID($E164,IF(ISERR(FIND(\"х\",$E164)), FIND(\"x\",$E164)+1, FIND(\"х\",$E164))+1,10)","v":"0,5"},"LS","4",{"$f":"MID($E164,1, IF(ISERR(FIND(\"х\",$E164)), FIND(\"x\",$E164)-1, FIND(\"х\",$E164))-1)","v":"2"},{"$f":"F164","v":"0,5"},null,"","КПСнг(А)-FRHF 1х2х0,5-100м",{"$f":"IF(SUM(K$8:K163)=0, \"\", \" + \")","v":" + "}]
["1616",null,"КПСЭСнг(А)-FRLS 5х2х0,5","5х2х0,5","2х0,5","0,5","LS","5","2","0,5",null,"","КПСнг(А)-FRHF 1х2х0,5-100м",{"$f":"IF(SUM(K$8:K164)=0, \"\", \" + \")","v":" + "}]
["16489",null,"КПСЭСнг(А)-FRLS 6х2х0,5","6х2х0,5","2х0,5","0,5","LS","6","2","0,5",null,"","КПСнг(А)-FRHF 1х2х0,5-100м",{"$f":"IF(SUM(K$8:K165)=0, \"\", \" + \")","v":" + "}]
["5088",null,"КПСЭСнг(А)-FRLS 8х2х0,5","8х2х0,5","2х0,5","0,5","LS","8","2","0,5",null,"","КПСнг(А)-FRHF 1х2х0,5-100м",{"$f":"IF(SUM(K$8:K166)=0, \"\", \" + \")","v":" + "}]
["19631",null,"КПССнг(А)-FRHF 4х2х0,5 ","4х2х0,5 ","2х0,5 ","0,5 ","HF","4","2","0,5 ",null,"","КПСнг(А)-FRHF 1х2х0,5-100м",{"$f":"IF(SUM(K$8:K167)=0, \"\", \" + \")","v":" + "}]
["16212",null,"КПСнг(А)-FRHF 10х2х0,75","10х2х0,75","2х0,75","0,75","HF","10","2","0,75",null,"","КПСнг(А)-FRHF 1х2х0,5-100м",{"$f":"IF(SUM(K$8:K168)=0, \"\", \" + \")","v":" + "}]
["2292",null,"КПСнг(А)-FRHF 1х2х0,75","1х2х0,75","2х0,75","0,75","HF","1","2","0,75",null,"","КПСнг(А)-FRHF 1х2х0,5-100м",{"$f":"IF(SUM(K$8:K169)=0, \"\", \" + \")","v":" + "}]
["2298",null,"КПСнг(А)-FRHF 2х2х0,75","2х2х0,75","2х0,75","0,75","HF","2","2","0,75",null,"","КПСнг(А)-FRHF 1х2х0,5-100м",{"$f":"IF(SUM(K$8:K170)=0, \"\", \" + \")","v":" + "}]
["3508",null,"КПСнг(А)-FRHF 3х0,75",{"$f":"MID(C172, FIND(\" \",C172 ), 100)","v":" 3х0,75"},"0,75",null,"HF"," 3",null,{"$f":"E172","v":"0,75"},null,"","КПСнг(А)-FRHF 1х2х0,5-100м",{"$f":"IF(SUM(K$8:K171)=0, \"\", \" + \")","v":" + "}]
["6381",null,"КПСнг(А)-FRHF 3х2х0,75",{"$f":"MID(C173, FIND(\" \",C173) +1, 100)","v":"3х2х0,75"},"2х0,75",{"$f":"MID($E173,IF(ISERR(FIND(\"х\",$E173)), FIND(\"x\",$E173)+1, FIND(\"х\",$E173))+1,10)","v":"0,75"},"HF","3",{"$f":"MID($E173,1, IF(ISERR(FIND(\"х\",$E173)), FIND(\"x\",$E173)-1, FIND(\"х\",$E173))-1)","v":"2"},{"$f":"F173","v":"0,75"},null,"","КПСнг(А)-FRHF 1х2х0,5-100м",{"$f":"IF(SUM(K$8:K172)=0, \"\", \" + \")","v":" + "}]
["4476",null,"КПСнг(А)-FRHF 4х0,75",{"$f":"MID(C174, FIND(\" \",C174 ), 100)","v":" 4х0,75"},"0,75",null,"HF"," 4",null,{"$f":"E174","v":"0,75"},null,"","КПСнг(А)-FRHF 1х2х0,5-100м",{"$f":"IF(SUM(K$8:K173)=0, \"\", \" + \")","v":" + "}]
["4482",null,"КПСнг(А)-FRHF 4х2х0,75",{"$f":"MID(C175, FIND(\" \",C175) +1, 100)","v":"4х2х0,75"},"2х0,75",{"$f":"MID($E175,IF(ISERR(FIND(\"х\",$E175)), FIND(\"x\",$E175)+1, FIND(\"х\",$E175))+1,10)","v":"0,75"},"HF","4",{"$f":"MID($E175,1, IF(ISERR(FIND(\"х\",$E175)), FIND(\"x\",$E175)-1, FIND(\"х\",$E175))-1)","v":"2"},{"$f":"F175","v":"0,75"},null,"","КПСнг(А)-FRHF 1х2х0,5-100м",{"$f":"IF(SUM(K$8:K174)=0, \"\", \" + \")","v":" + "}]
["16705",null,"КПСнг(А)-FRHF 5х2х0,75","5х2х0,75","2х0,75","0,75","HF","5","2","0,75",null,"","КПСнг(А)-FRHF 1х2х0,5-100м",{"$f":"IF(SUM(K$8:K175)=0, \"\", \" + \")","v":" + "}]
["16412",null,"КПСнг(А)-FRHF 6х2х0,75","6х2х0,75","2х0,75","0,75","HF","6","2","0,75",null,"","КПСнг(А)-FRHF 1х2х0,5-100м",{"$f":"IF(SUM(K$8:K176)=0, \"\", \" + \")","v":" + "}]
["18406",null,"КПСнг(А)-FRHF 8х2х0,75","8х2х0,75","2х0,75","0,75","HF","8","2","0,75",null,"","КПСнг(А)-FRHF 1х2х0,5-100м",{"$f":"IF(SUM(K$8:K177)=0, \"\", \" + \")","v":" + "}]
["3160",null,"КПСнг(А)-FRLS 10х2х0,75","10х2х0,75","2х0,75","0,75","LS","10","2","0,75",null,"","КПСнг(А)-FRHF 1х2х0,5-100м",{"$f":"IF(SUM(K$8:K178)=0, \"\", \" + \")","v":" + "}]
["2279",null,"КПСнг(А)-FRLS 1х2х0,75","1х2х0,75","2х0,75","0,75","LS","1","2","0,75",null,"","КПСнг(А)-FRHF 1х2х0,5-100м",{"$f":"IF(SUM(K$8:K179)=0, \"\", \" + \")","v":" + "}]
["2286",null,"КПСнг(А)-FRLS 2х2х0,75","2х2х0,75","2х0,75","0,75","LS","2","2","0,75",null,"","КПСнг(А)-FRHF 1х2х0,5-100м",{"$f":"IF(SUM(K$8:K180)=0, \"\", \" + \")","v":" + "}]
["3076",null,"КПСнг(А)-FRLS 3х0,75",{"$f":"MID(C182, FIND(\" \",C182 ), 100)","v":" 3х0,75"},"0,75",null,"LS"," 3",null,{"$f":"E182","v":"0,75"},null,"","КПСнг(А)-FRHF 1х2х0,5-100м",{"$f":"IF(SUM(K$8:K181)=0, \"\", \" + \")","v":" + "}]
["4984",null,"КПСнг(А)-FRLS 3х2х0,75",{"$f":"MID(C183, FIND(\" \",C183) +1, 100)","v":"3х2х0,75"},"2х0,75",{"$f":"MID($E183,IF(ISERR(FIND(\"х\",$E183)), FIND(\"x\",$E183)+1, FIND(\"х\",$E183))+1,10)","v":"0,75"},"LS","3",{"$f":"MID($E183,1, IF(ISERR(FIND(\"х\",$E183)), FIND(\"x\",$E183)-1, FIND(\"х\",$E183))-1)","v":"2"},{"$f":"F183","v":"0,75"},null,"","КПСнг(А)-FRHF 1х2х0,5-100м",{"$f":"IF(SUM(K$8:K182)=0, \"\", \" + \")","v":" + "}]
["16832",null,"КПСнг(А)-FRLS 40х2х0,75",{"$f":"MID(C184, FIND(\" \",C184) +1, 100)","v":"40х2х0,75"},"2х0,75",{"$f":"MID($E184,IF(ISERR(FIND(\"х\",$E184)), FIND(\"x\",$E184)+1, FIND(\"х\",$E184))+1,10)","v":"0,75"},"LS","40",{"$f":"MID($E184,1, IF(ISERR(FIND(\"х\",$E184)), FIND(\"x\",$E184)-1, FIND(\"х\",$E184))-1)","v":"2"},{"$f":"F184","v":"0,75"},null,"","КПСнг(А)-FRHF 1х2х0,5-100м",{"$f":"IF(SUM(K$8:K183)=0, \"\", \" + \")","v":" + "}]
["3138",null,"КПСнг(А)-FRLS 4х0,75",{"$f":"MID(C185, FIND(\" \",C185 ), 100)","v":" 4х0,75"},"0,75",null,"LS"," 4",null,{"$f":"E185","v":"0,75"},null,"","КПСнг(А)-FRHF 1х2х0,5-100м",{"$f":"IF(SUM(K$8:K184)=0, \"\", \" + \")","v":" + "}]
["3021",null,"КПСнг(А)-FRLS 4х2х0,75",{"$f":"MID(C186, FIND(\" \",C186) +1, 100)","v":"4х2х0,75"},"2х0,75",{"$f":"MID($E186,IF(ISERR(FIND(\"х\",$E186)), FIND(\"x\",$E186)+1, FIND(\"х\",$E186))+1,10)","v":"0,75"},"LS","4",{"$f":"MID($E186,1, IF(ISERR(FIND(\"х\",$E186)), FIND(\"x\",$E186)-1, FIND(\"х\",$E186))-1)","v":"2"},{"$f":"F186","v":"0,75"},null,"","КПСнг(А)-FRHF 1х2х0,5-100м",{"$f":"IF(SUM(K$8:K185)=0, \"\", \" + \")","v":" + "}]
["4824",null,"КПСнг(А)-FRLS 5х2х0,75","5х2х0,75","2х0,75","0,75","LS","5","2","0,75",null,"","КПСнг(А)-FRHF 1х2х0,5-100м",{"$f":"IF(SUM(K$8:K186)=0, \"\", \" + \")","v":" + "}]
["4468",null,"КПСнг(А)-FRLS 6х2х0,75","6х2х0,75","2х0,75","0,75","LS","6","2","0,75",null,"","КПСнг(А)-FRHF 1х2х0,5-100м",{"$f":"IF(SUM(K$8:K187)=0, \"\", \" + \")","v":" + "}]
["3161",null,"КПСнг(А)-FRLS 8х2х0,75","8х2х0,75","2х0,75","0,75","LS","8","2","0,75",null,"","КПСнг(А)-FRHF 1х2х0,5-100м",{"$f":"IF(SUM(K$8:K188)=0, \"\", \" + \")","v":" + "}]
["2799",null,"КПССнг(А)-FRHF 1х2х0,75","1х2х0,75","2х0,75","0,75","HF","1","2","0,75",null,"","КПСнг(А)-FRHF 1х2х0,5-100м",{"$f":"IF(SUM(K$8:K189)=0, \"\", \" + \")","v":" + "}]
["2805",null,"КПССнг(А)-FRHF 2х2х0,75","2х2х0,75","2х0,75","0,75","HF","2","2","0,75",null,"","КПСнг(А)-FRHF 1х2х0,5-100м",{"$f":"IF(SUM(K$8:K190)=0, \"\", \" + \")","v":" + "}]
["4812",null,"КПССнг(А)-FRHF 3х0,75",{"$f":"MID(C192, FIND(\" \",C192 ), 100)","v":" 3х0,75"},"0,75",null,"HF"," 3",null,{"$f":"E192","v":"0,75"},null,"","КПСнг(А)-FRHF 1х2х0,5-100м",{"$f":"IF(SUM(K$8:K191)=0, \"\", \" + \")","v":" + "}]
["17677",null,"КПССнг(А)-FRHF 4х2х0,75",{"$f":"MID(C193, FIND(\" \",C193) +1, 100)","v":"4х2х0,75"},"2х0,75",{"$f":"MID($E193,IF(ISERR(FIND(\"х\",$E193)), FIND(\"x\",$E193)+1, FIND(\"х\",$E193))+1,10)","v":"0,75"},"HF","4",{"$f":"MID($E193,1, IF(ISERR(FIND(\"х\",$E193)), FIND(\"x\",$E193)-1, FIND(\"х\",$E193))-1)","v":"2"},{"$f":"F193","v":"0,75"},null,"","КПСнг(А)-FRHF 1х2х0,5-100м",{"$f":"IF(SUM(K$8:K192)=0, \"\", \" + \")","v":" + "}]
["2788",null,"КПССнг(А)-FRLS 1х2х0,75",{"$f":"MID(C194, FIND(\" \",C194) +1, 100)","v":"1х2х0,75"},"2х0,75",{"$f":"MID($E194,IF(ISERR(FIND(\"х\",$E194)), FIND(\"x\",$E194)+1, FIND(\"х\",$E194))+1,10)","v":"0,75"},"LS","1",{"$f":"MID($E194,1, IF(ISERR(FIND(\"х\",$E194)), FIND(\"x\",$E194)-1, FIND(\"х\",$E194))-1)","v":"2"},{"$f":"F194","v":"0,75"},null,"","КПСнг(А)-FRHF 1х2х0,5-100м",{"$f":"IF(SUM(K$8:K193)=0, \"\", \" + \")","v":" + "}]
["2793",null,"КПССнг(А)-FRLS 2х2х0,75",{"$f":"MID(C195, FIND(\" \",C195) +1, 100)","v":"2х2х0,75"},"2х0,75",{"$f":"MID($E195,IF(ISERR(FIND(\"х\",$E195)), FIND(\"x\",$E195)+1, FIND(\"х\",$E195))+1,10)","v":"0,75"},"LS","2",{"$f":"MID($E195,1, IF(ISERR(FIND(\"х\",$E195)), FIND(\"x\",$E195)-1, FIND(\"х\",$E195))-1)","v":"2"},{"$f":"F195","v":"0,75"},null,"","КПСнг(А)-FRHF 1х2х0,5-100м",{"$f":"IF(SUM(K$8:K194)=0, \"\", \" + \")","v":" + "}]
["16708",null,"КПССнг(А)-FRLS 3х0,75",{"$f":"MID(C196, FIND(\" \",C196 ), 100)","v":" 3х0,75"},"0,75",null,"LS"," 3",null,{"$f":"E196","v":"0,75"},null,"","КПСнг(А)-FRHF 1х2х0,5-100м",{"$f":"IF(SUM(K$8:K195)=0, \"\", \" + \")","v":" + "}]
["5288",null,"КПССнг(А)-FRLS 4х0,75",{"$f":"MID(C197, FIND(\" \",C197 ), 100)","v":" 4х0,75"},"0,75",null,"LS"," 4",null,{"$f":"E197","v":"0,75"},null,"","КПСнг(А)-FRHF 1х2х0,5-100м",{"$f":"IF(SUM(K$8:K196)=0, \"\", \" + \")","v":" + "}]
["2909",null,"КПСЭнг(А)-FRHF 10х2х0,75",{"$f":"MID(C198, FIND(\" \",C198) +1, 100)","v":"10х2х0,75"},"2х0,75",{"$f":"MID($E198,IF(ISERR(FIND(\"х\",$E198)), FIND(\"x\",$E198)+1, FIND(\"х\",$E198))+1,10)","v":"0,75"},"HF","10",{"$f":"MID($E198,1, IF(ISERR(FIND(\"х\",$E198)), FIND(\"x\",$E198)-1, FIND(\"х\",$E198))-1)","v":"2"},{"$f":"F198","v":"0,75"},null,"","КПСнг(А)-FRHF 1х2х0,5-100м",{"$f":"IF(SUM(K$8:K197)=0, \"\", \" + \")","v":" + "}]
["945",null,"КПСЭнг(А)-FRHF 1х2х0,75",{"$f":"MID(C199, FIND(\" \",C199) +1, 100)","v":"1х2х0,75"},"2х0,75",{"$f":"MID($E199,IF(ISERR(FIND(\"х\",$E199)), FIND(\"x\",$E199)+1, FIND(\"х\",$E199))+1,10)","v":"0,75"},"HF","1",{"$f":"MID($E199,1, IF(ISERR(FIND(\"х\",$E199)), FIND(\"x\",$E199)-1, FIND(\"х\",$E199))-1)","v":"2"},{"$f":"F199","v":"0,75"},null,"","КПСнг(А)-FRHF 1х2х0,5-100м",{"$f":"IF(SUM(K$8:K198)=0, \"\", \" + \")","v":" + "}]
["5801",null,"КПСЭнг(А)-FRHF 20х2х0,75",{"$f":"MID(C200, FIND(\" \",C200) +1, 100)","v":"20х2х0,75"},"2х0,75",{"$f":"MID($E200,IF(ISERR(FIND(\"х\",$E200)), FIND(\"x\",$E200)+1, FIND(\"х\",$E200))+1,10)","v":"0,75"},"HF","20",{"$f":"MID($E200,1, IF(ISERR(FIND(\"х\",$E200)), FIND(\"x\",$E200)-1, FIND(\"х\",$E200))-1)","v":"2"},{"$f":"F200","v":"0,75"},null,"","КПСнг(А)-FRHF 1х2х0,5-100м",{"$f":"IF(SUM(K$8:K199)=0, \"\", \" + \")","v":" + "}]
["946",null,"КПСЭнг(А)-FRHF 2х2х0,75",{"$f":"MID(C201, FIND(\" \",C201) +1, 100)","v":"2х2х0,75"},"2х0,75",{"$f":"MID($E201,IF(ISERR(FIND(\"х\",$E201)), FIND(\"x\",$E201)+1, FIND(\"х\",$E201))+1,10)","v":"0,75"},"HF","2",{"$f":"MID($E201,1, IF(ISERR(FIND(\"х\",$E201)), FIND(\"x\",$E201)-1, FIND(\"х\",$E201))-1)","v":"2"},{"$f":"F201","v":"0,75"},null,"","КПСнг(А)-FRHF 1х2х0,5-100м",{"$f":"IF(SUM(K$8:K200)=0, \"\", \" + \")","v":" + "}]
["2981",null,"КПСЭнг(А)-FRHF 3х0,75",{"$f":"MID(C202, FIND(\" \",C202 ), 100)","v":" 3х0,75"},{"$f":"MID($D202,IF(ISERR(FIND(\"х\",$D202)), FIND(\"x\",$D202)+1, FIND(\"х\",$D202))+1, 100)","v":"0,75"},null,{"$f":"MID(C202,FIND(\"FR\",C202)+2, 2)","v":"HF"},{"$f":"MID($D202,1, IF(ISERR(FIND(\"х\",$D202)), FIND(\"x\",$D202)-1, FIND(\"х\",$D202))-1)","v":" 3"},null,{"$f":"E202","v":"0,75"},null,{"$f":"IF(K202=0, \"\",CONCATENATE(N202, C202, \"-\",K202,\"м\"))","v":""},{"$f":"CONCATENATE(M201,L202)","v":"КПСнг(А)-FRHF 1х2х0,5-100м"},{"$f":"IF(SUM(K$8:K201)=0, \"\", \" + \")","v":" + "}]
["5489",null,"КПСЭнг(А)-FRHF 3х2х0,75",{"$f":"MID(C203, FIND(\" \",C203) +1, 100)","v":"3х2х0,75"},"2х0,75",{"$f":"MID($E203,IF(ISERR(FIND(\"х\",$E203)), FIND(\"x\",$E203)+1, FIND(\"х\",$E203))+1,10)","v":"0,75"},"HF","3",{"$f":"MID($E203,1, IF(ISERR(FIND(\"х\",$E203)), FIND(\"x\",$E203)-1, FIND(\"х\",$E203))-1)","v":"2"},{"$f":"F203","v":"0,75"},null,"","КПСнг(А)-FRHF 1х2х0,5-100м",{"$f":"IF(SUM(K$8:K202)=0, \"\", \" + \")","v":" + "}]
["2982",null,"КПСЭнг(А)-FRHF 4х0,75",{"$f":"MID(C204, FIND(\" \",C204 ), 100)","v":" 4х0,75"},"0,75",null,"HF"," 4",null,{"$f":"E204","v":"0,75"},null,"","КПСнг(А)-FRHF 1х2х0,5-100м",{"$f":"IF(SUM(K$8:K203)=0, \"\", \" + \")","v":" + "}]
["2782",null,"КПСЭнг(А)-FRHF 4х2х0,75",{"$f":"MID(C205, FIND(\" \",C205) +1, 100)","v":"4х2х0,75"},"2х0,75",{"$f":"MID($E205,IF(ISERR(FIND(\"х\",$E205)), FIND(\"x\",$E205)+1, FIND(\"х\",$E205))+1,10)","v":"0,75"},"HF","4",{"$f":"MID($E205,1, IF(ISERR(FIND(\"х\",$E205)), FIND(\"x\",$E205)-1, FIND(\"х\",$E205))-1)","v":"2"},{"$f":"F205","v":"0,75"},null,"","КПСнг(А)-FRHF 1х2х0,5-100м",{"$f":"IF(SUM(K$8:K204)=0, \"\", \" + \")","v":" + "}]
["2868",null,"КПСЭнг(А)-FRHF 5х2х0,75","5х2х0,75","2х0,75","0,75","HF","5","2","0,75",null,"","КПСнг(А)-FRHF 1х2х0,5-100м",{"$f":"IF(SUM(K$8:K205)=0, \"\", \" + \")","v":" + "}]
["5096",null,"КПСЭнг(А)-FRHF 6х2х0,75","6х2х0,75","2х0,75","0,75","HF","6","2","0,75",null,"","КПСнг(А)-FRHF 1х2х0,5-100м",{"$f":"IF(SUM(K$8:K206)=0, \"\", \" + \")","v":" + "}]
["3343",null,"КПСЭнг(А)-FRHF 7х2х0,75","7х2х0,75","2х0,75","0,75","HF","7","2","0,75",null,"","КПСнг(А)-FRHF 1х2х0,5-100м",{"$f":"IF(SUM(K$8:K207)=0, \"\", \" + \")","v":" + "}]
["2689",null,"КПСЭнг(А)-FRHF 8х2х0,75","8х2х0,75","2х0,75","0,75","HF","8","2","0,75",null,"","КПСнг(А)-FRHF 1х2х0,5-100м",{"$f":"IF(SUM(K$8:K208)=0, \"\", \" + \")","v":" + "}]
["2846",null,"КПСЭнг(А)-FRLS 10х2х0,75","10х2х0,75","2х0,75","0,75","LS","10","2","0,75",null,"","КПСнг(А)-FRHF 1х2х0,5-100м",{"$f":"IF(SUM(K$8:K209)=0, \"\", \" + \")","v":" + "}]
["16173",null,"КПСЭнг(А)-FRLS 12х2х0,75","12х2х0,75","2х0,75","0,75","LS","12","2","0,75",null,"","КПСнг(А)-FRHF 1х2х0,5-100м",{"$f":"IF(SUM(K$8:K210)=0, \"\", \" + \")","v":" + "}]
["4840",null,"КПСЭнг(А)-FRLS 16х2х0,75","16х2х0,75","2х0,75","0,75","LS","16","2","0,75",null,"","КПСнг(А)-FRHF 1х2х0,5-100м",{"$f":"IF(SUM(K$8:K211)=0, \"\", \" + \")","v":" + "}]
["955",null,"КПСЭнг(А)-FRLS 1х2х0,75","1х2х0,75","2х0,75","0,75","LS","1","2","0,75",null,"","КПСнг(А)-FRHF 1х2х0,5-100м",{"$f":"IF(SUM(K$8:K212)=0, \"\", \" + \")","v":" + "}]
["17636",null,"КПСЭнг(А)-FRLS 20х2х0,75","20х2х0,75","2х0,75","0,75","LS","20","2","0,75",null,"","КПСнг(А)-FRHF 1х2х0,5-100м",{"$f":"IF(SUM(K$8:K213)=0, \"\", \" + \")","v":" + "}]
["5874",null,"КПСЭнг(А)-FRLS 24х2х0,75","24х2х0,75","2х0,75","0,75","LS","24","2","0,75",null,"","КПСнг(А)-FRHF 1х2х0,5-100м",{"$f":"IF(SUM(K$8:K214)=0, \"\", \" + \")","v":" + "}]
["956",null,"КПСЭнг(А)-FRLS 2х2х0,75","2х2х0,75","2х0,75","0,75","LS","2","2","0,75",null,"","КПСнг(А)-FRHF 1х2х0,5-100м",{"$f":"IF(SUM(K$8:K215)=0, \"\", \" + \")","v":" + "}]
["2042",null,"КПСЭнг(А)-FRLS 3х0,75",{"$f":"MID(C217, FIND(\" \",C217 ), 100)","v":" 3х0,75"},"0,75",null,"LS"," 3",null,{"$f":"E217","v":"0,75"},null,"","КПСнг(А)-FRHF 1х2х0,5-100м",{"$f":"IF(SUM(K$8:K216)=0, \"\", \" + \")","v":" + "}]
["3009",null,"КПСЭнг(А)-FRLS 3х2х0,75",{"$f":"MID(C218, FIND(\" \",C218) +1, 100)","v":"3х2х0,75"},"2х0,75",{"$f":"MID($E218,IF(ISERR(FIND(\"х\",$E218)), FIND(\"x\",$E218)+1, FIND(\"х\",$E218))+1,10)","v":"0,75"},"LS","3",{"$f":"MID($E218,1, IF(ISERR(FIND(\"х\",$E218)), FIND(\"x\",$E218)-1, FIND(\"х\",$E218))-1)","v":"2"},{"$f":"F218","v":"0,75"},null,"","КПСнг(А)-FRHF 1х2х0,5-100м",{"$f":"IF(SUM(K$8:K217)=0, \"\", \" + \")","v":" + "}]
["2843",null,"КПСЭнг(А)-FRLS 4х0,75",{"$f":"MID(C219, FIND(\" \",C219 ), 100)","v":" 4х0,75"},"0,75",null,"LS"," 4",null,{"$f":"E219","v":"0,75"},null,"","КПСнг(А)-FRHF 1х2х0,5-100м",{"$f":"IF(SUM(K$8:K218)=0, \"\", \" + \")","v":" + "}]
["1525",null,"КПСЭнг(А)-FRLS 4х2х0,75",{"$f":"MID(C220, FIND(\" \",C220) +1, 100)","v":"4х2х0,75"},"2х0,75",{"$f":"MID($E220,IF(ISERR(FIND(\"х\",$E220)), FIND(\"x\",$E220)+1, FIND(\"х\",$E220))+1,10)","v":"0,75"},"LS","4",{"$f":"MID($E220,1, IF(ISERR(FIND(\"х\",$E220)), FIND(\"x\",$E220)-1, FIND(\"х\",$E220))-1)","v":"2"},{"$f":"F220","v":"0,75"},null,"","КПСнг(А)-FRHF 1х2х0,5-100м",{"$f":"IF(SUM(K$8:K219)=0, \"\", \" + \")","v":" + "}]
["2729",null,"КПСЭнг(А)-FRLS 5х2х0,75","5х2х0,75","2х0,75","0,75","LS","5","2","0,75",null,"","КПСнг(А)-FRHF 1х2х0,5-100м",{"$f":"IF(SUM(K$8:K220)=0, \"\", \" + \")","v":" + "}]
["3077",null,"КПСЭнг(А)-FRLS 6х2х0,75","6х2х0,75","2х0,75","0,75","LS","6","2","0,75",null,"","КПСнг(А)-FRHF 1х2х0,5-100м",{"$f":"IF(SUM(K$8:K221)=0, \"\", \" + \")","v":" + "}]
["3078",null,"КПСЭнг(А)-FRLS 8х2х0,75","8х2х0,75","2х0,75","0,75","LS","8","2","0,75",null,"","КПСнг(А)-FRHF 1х2х0,5-100м",{"$f":"IF(SUM(K$8:K222)=0, \"\", \" + \")","v":" + "}]
["3069",null,"КПСЭСнг(А)-FRHF 10х2х0,75","10х2х0,75","2х0,75","0,75","HF","10","2","0,75",null,"","КПСнг(А)-FRHF 1х2х0,5-100м",{"$f":"IF(SUM(K$8:K223)=0, \"\", \" + \")","v":" + "}]
["965",null,"КПСЭСнг(А)-FRHF 1х2х0,75","1х2х0,75","2х0,75","0,75","HF","1","2","0,75",null,"","КПСнг(А)-FRHF 1х2х0,5-100м",{"$f":"IF(SUM(K$8:K224)=0, \"\", \" + \")","v":" + "}]
["966",null,"КПСЭСнг(А)-FRHF 2х2х0,75","2х2х0,75","2х0,75","0,75","HF","2","2","0,75",null,"","КПСнг(А)-FRHF 1х2х0,5-100м",{"$f":"IF(SUM(K$8:K225)=0, \"\", \" + \")","v":" + "}]
["3091",null,"КПСЭСнг(А)-FRHF 3х0,75",{"$f":"MID(C227, FIND(\" \",C227 ), 100)","v":" 3х0,75"},"0,75",null,"HF"," 3",null,{"$f":"E227","v":"0,75"},null,"","КПСнг(А)-FRHF 1х2х0,5-100м",{"$f":"IF(SUM(K$8:K226)=0, \"\", \" + \")","v":" + "}]
["16487",null,"КПСЭСнг(А)-FRHF 3х2х0,75",{"$f":"MID(C228, FIND(\" \",C228) +1, 100)","v":"3х2х0,75"},"2х0,75",{"$f":"MID($E228,IF(ISERR(FIND(\"х\",$E228)), FIND(\"x\",$E228)+1, FIND(\"х\",$E228))+1,10)","v":"0,75"},"HF","3",{"$f":"MID($E228,1, IF(ISERR(FIND(\"х\",$E228)), FIND(\"x\",$E228)-1, FIND(\"х\",$E228))-1)","v":"2"},{"$f":"F228","v":"0,75"},null,"","КПСнг(А)-FRHF 1х2х0,5-100м",{"$f":"IF(SUM(K$8:K227)=0, \"\", \" + \")","v":" + "}]
["3055",null,"КПСЭСнг(А)-FRHF 4х0,75",{"$f":"MID(C229, FIND(\" \",C229 ), 100)","v":" 4х0,75"},"0,75",null,"HF"," 4",null,{"$f":"E229","v":"0,75"},null,"","КПСнг(А)-FRHF 1х2х0,5-100м",{"$f":"IF(SUM(K$8:K228)=0, \"\", \" + \")","v":" + "}]
["1699",null,"КПСЭСнг(А)-FRHF 4х2х0,75",{"$f":"MID(C230, FIND(\" \",C230) +1, 100)","v":"4х2х0,75"},"2х0,75",{"$f":"MID($E230,IF(ISERR(FIND(\"х\",$E230)), FIND(\"x\",$E230)+1, FIND(\"х\",$E230))+1,10)","v":"0,75"},"HF","4",{"$f":"MID($E230,1, IF(ISERR(FIND(\"х\",$E230)), FIND(\"x\",$E230)-1, FIND(\"х\",$E230))-1)","v":"2"},{"$f":"F230","v":"0,75"},null,"","КПСнг(А)-FRHF 1х2х0,5-100м",{"$f":"IF(SUM(K$8:K229)=0, \"\", \" + \")","v":" + "}]
["4654",null,"КПСЭСнг(А)-FRHF 5х2х0,75","5х2х0,75","2х0,75","0,75","HF","5","2","0,75",null,"","КПСнг(А)-FRHF 1х2х0,5-100м",{"$f":"IF(SUM(K$8:K230)=0, \"\", \" + \")","v":" + "}]
["2752",null,"КПСЭСнг(А)-FRLS 10х2х0,75","10х2х0,75","2х0,75","0,75","LS","10","2","0,75",null,"","КПСнг(А)-FRHF 1х2х0,5-100м",{"$f":"IF(SUM(K$8:K231)=0, \"\", \" + \")","v":" + "}]
["3118",null,"КПСЭСнг(А)-FRLS 12х2х0,75","12х2х0,75","2х0,75","0,75","LS","12","2","0,75",null,"","КПСнг(А)-FRHF 1х2х0,5-100м",{"$f":"IF(SUM(K$8:K232)=0, \"\", \" + \")","v":" + "}]
["975",null,"КПСЭСнг(А)-FRLS 1х2х0,75","1х2х0,75","2х0,75","0,75","LS","1","2","0,75",null,"","КПСнг(А)-FRHF 1х2х0,5-100м",{"$f":"IF(SUM(K$8:K233)=0, \"\", \" + \")","v":" + "}]
["976",null,"КПСЭСнг(А)-FRLS 2х2х0,75","2х2х0,75","2х0,75","0,75","LS","2","2","0,75",null,"","КПСнг(А)-FRHF 1х2х0,5-100м",{"$f":"IF(SUM(K$8:K234)=0, \"\", \" + \")","v":" + "}]
["2870",null,"КПСЭСнг(А)-FRLS 3х0,75",{"$f":"MID(C236, FIND(\" \",C236 ), 100)","v":" 3х0,75"},"0,75",null,"LS"," 3",null,{"$f":"E236","v":"0,75"},null,"","КПСнг(А)-FRHF 1х2х0,5-100м",{"$f":"IF(SUM(K$8:K235)=0, \"\", \" + \")","v":" + "}]
["4483",null,"КПСЭСнг(А)-FRLS 3х2х0,75",{"$f":"MID(C237, FIND(\" \",C237) +1, 100)","v":"3х2х0,75"},"2х0,75",{"$f":"MID($E237,IF(ISERR(FIND(\"х\",$E237)), FIND(\"x\",$E237)+1, FIND(\"х\",$E237))+1,10)","v":"0,75"},"LS","3",{"$f":"MID($E237,1, IF(ISERR(FIND(\"х\",$E237)), FIND(\"x\",$E237)-1, FIND(\"х\",$E237))-1)","v":"2"},{"$f":"F237","v":"0,75"},null,"","КПСнг(А)-FRHF 1х2х0,5-100м",{"$f":"IF(SUM(K$8:K236)=0, \"\", \" + \")","v":" + "}]
["2905",null,"КПСЭСнг(А)-FRLS 4х0,75",{"$f":"MID(C238, FIND(\" \",C238 ), 100)","v":" 4х0,75"},"0,75",null,"LS"," 4",null,{"$f":"E238","v":"0,75"},null,"","КПСнг(А)-FRHF 1х2х0,5-100м",{"$f":"IF(SUM(K$8:K237)=0, \"\", \" + \")","v":" + "}]
["2896",null,"КПСЭСнг(А)-FRLS 4х2х0,75",{"$f":"MID(C239, FIND(\" \",C239) +1, 100)","v":"4х2х0,75"},"2х0,75",{"$f":"MID($E239,IF(ISERR(FIND(\"х\",$E239)), FIND(\"x\",$E239)+1, FIND(\"х\",$E239))+1,10)","v":"0,75"},"LS","4",{"$f":"MID($E239,1, IF(ISERR(FIND(\"х\",$E239)), FIND(\"x\",$E239)-1, FIND(\"х\",$E239))-1)","v":"2"},{"$f":"F239","v":"0,75"},null,"","КПСнг(А)-FRHF 1х2х0,5-100м",{"$f":"IF(SUM(K$8:K238)=0, \"\", \" + \")","v":" + "}]
["5136",null,"КПСЭСнг(А)-FRLS 7х2х0,75","7х2х0,75","2х0,75","0,75","LS","7","2","0,75",null,"","КПСнг(А)-FRHF 1х2х0,5-100м",{"$f":"IF(SUM(K$8:K239)=0, \"\", \" + \")","v":" + "}]
["3117",null,"КПСЭСнг(А)-FRLS 8х2х0,75","8х2х0,75","2х0,75","0,75","LS","8","2","0,75",null,"","КПСнг(А)-FRHF 1х2х0,5-100м",{"$f":"IF(SUM(K$8:K240)=0, \"\", \" + \")","v":" + "}]
["20393",null,"КПСнг(А)-FRHF 12х2х0,75 ","12х2х0,75 ","2х0,75 ","0,75 ","HF","12","2","0,75 ",null,"","КПСнг(А)-FRHF 1х2х0,5-100м",{"$f":"IF(SUM(K$8:K241)=0, \"\", \" + \")","v":" + "}]
["20392",null,"КПСнг(А)-FRHF 7х2х0,75 ","7х2х0,75 ","2х0,75 ","0,75 ","HF","7","2","0,75 ",null,"","КПСнг(А)-FRHF 1х2х0,5-100м",{"$f":"IF(SUM(K$8:K242)=0, \"\", \" + \")","v":" + "}]
["20026",null,"КПССнг(А)-FRLS 3х2х0,75 ","3х2х0,75 ","2х0,75 ","0,75 ","LS","3","2","0,75 ",null,"","КПСнг(А)-FRHF 1х2х0,5-100м",{"$f":"IF(SUM(K$8:K243)=0, \"\", \" + \")","v":" + "}]
["19046",null,"КПСЭнг(А)-FRLS 40х2х0,75 ","40х2х0,75 ","2х0,75 ","0,75 ","LS","40","2","0,75 ",null,"","КПСнг(А)-FRHF 1х2х0,5-100м",{"$f":"IF(SUM(K$8:K244)=0, \"\", \" + \")","v":" + "}]
["2293",null,"КПСнг(А)-FRHF 1х2х1,0","1х2х1,0","2х1,0","1,0","HF","1","2","1,0",null,"","КПСнг(А)-FRHF 1х2х0,5-100м",{"$f":"IF(SUM(K$8:K245)=0, \"\", \" + \")","v":" + "}]
["2299",null,"КПСнг(А)-FRHF 2х2х1,0","2х2х1,0","2х1,0","1,0","HF","2","2","1,0",null,"","КПСнг(А)-FRHF 1х2х0,5-100м",{"$f":"IF(SUM(K$8:K246)=0, \"\", \" + \")","v":" + "}]
["4443",null,"КПСнг(А)-FRHF 3х1,0",{"$f":"MID(C248, FIND(\" \",C248 ), 100)","v":" 3х1,0"},"1,0",null,"HF"," 3",null,{"$f":"E248","v":"1,0"},null,"","КПСнг(А)-FRHF 1х2х0,5-100м",{"$f":"IF(SUM(K$8:K247)=0, \"\", \" + \")","v":" + "}]
["2999",null,"КПСнг(А)-FRHF 3х2х1,0",{"$f":"MID(C249, FIND(\" \",C249) +1, 100)","v":"3х2х1,0"},"2х1,0",{"$f":"MID($E249,IF(ISERR(FIND(\"х\",$E249)), FIND(\"x\",$E249)+1, FIND(\"х\",$E249))+1,10)","v":"1,0"},"HF","3",{"$f":"MID($E249,1, IF(ISERR(FIND(\"х\",$E249)), FIND(\"x\",$E249)-1, FIND(\"х\",$E249))-1)","v":"2"},{"$f":"F249","v":"1,0"},null,"","КПСнг(А)-FRHF 1х2х0,5-100м",{"$f":"IF(SUM(K$8:K248)=0, \"\", \" + \")","v":" + "}]
["5142",null,"КПСнг(А)-FRHF 4х1,0",{"$f":"MID(C250, FIND(\" \",C250 ), 100)","v":" 4х1,0"},"1,0",null,"HF"," 4",null,{"$f":"E250","v":"1,0"},null,"","КПСнг(А)-FRHF 1х2х0,5-100м",{"$f":"IF(SUM(K$8:K249)=0, \"\", \" + \")","v":" + "}]
["4542",null,"КПСнг(А)-FRHF 4х2х1,0",{"$f":"MID(C251, FIND(\" \",C251) +1, 100)","v":"4х2х1,0"},"2х1,0",{"$f":"MID($E251,IF(ISERR(FIND(\"х\",$E251)), FIND(\"x\",$E251)+1, FIND(\"х\",$E251))+1,10)","v":"1,0"},"HF","4",{"$f":"MID($E251,1, IF(ISERR(FIND(\"х\",$E251)), FIND(\"x\",$E251)-1, FIND(\"х\",$E251))-1)","v":"2"},{"$f":"F251","v":"1,0"},null,"","КПСнг(А)-FRHF 1х2х0,5-100м",{"$f":"IF(SUM(K$8:K250)=0, \"\", \" + \")","v":" + "}]
["3000",null,"КПСнг(А)-FRHF 5х2х1,0","5х2х1,0","2х1,0","1,0","HF","5","2","1,0",null,"","КПСнг(А)-FRHF 1х2х0,5-100м",{"$f":"IF(SUM(K$8:K251)=0, \"\", \" + \")","v":" + "}]
["3001",null,"КПСнг(А)-FRHF 7х2х1,0","7х2х1,0","2х1,0","1,0","HF","7","2","1,0",null,"","КПСнг(А)-FRHF 1х2х0,5-100м",{"$f":"IF(SUM(K$8:K252)=0, \"\", \" + \")","v":" + "}]
["4826",null,"КПСнг(А)-FRLS 10х2х1,0","10х2х1,0","2х1,0","1,0","LS","10","2","1,0",null,"","КПСнг(А)-FRHF 1х2х0,5-100м",{"$f":"IF(SUM(K$8:K253)=0, \"\", \" + \")","v":" + "}]
["2280",null,"КПСнг(А)-FRLS 1х2х1,0","1х2х1,0","2х1,0","1,0","LS","1","2","1,0",null,"","КПСнг(А)-FRHF 1х2х0,5-100м",{"$f":"IF(SUM(K$8:K254)=0, \"\", \" + \")","v":" + "}]
["2287",null,"КПСнг(А)-FRLS 2х2х1,0","2х2х1,0","2х1,0","1,0","LS","2","2","1,0",null,"","КПСнг(А)-FRHF 1х2х0,5-100м",{"$f":"IF(SUM(K$8:K255)=0, \"\", \" + \")","v":" + "}]
["2861",null,"КПСнг(А)-FRLS 3х1,0",{"$f":"MID(C257, FIND(\" \",C257 ), 100)","v":" 3х1,0"},"1,0",null,"LS"," 3",null,{"$f":"E257","v":"1,0"},null,"","КПСнг(А)-FRHF 1х2х0,5-100м",{"$f":"IF(SUM(K$8:K256)=0, \"\", \" + \")","v":" + "}]
["4323",null,"КПСнг(А)-FRLS 3х2х1,0",{"$f":"MID(C258, FIND(\" \",C258) +1, 100)","v":"3х2х1,0"},"2х1,0",{"$f":"MID($E258,IF(ISERR(FIND(\"х\",$E258)), FIND(\"x\",$E258)+1, FIND(\"х\",$E258))+1,10)","v":"1,0"},"LS","3",{"$f":"MID($E258,1, IF(ISERR(FIND(\"х\",$E258)), FIND(\"x\",$E258)-1, FIND(\"х\",$E258))-1)","v":"2"},{"$f":"F258","v":"1,0"},null,"","КПСнг(А)-FRHF 1х2х0,5-100м",{"$f":"IF(SUM(K$8:K257)=0, \"\", \" + \")","v":" + "}]
["3357",null,"КПСнг(А)-FRLS 4х1,0",{"$f":"MID(C259, FIND(\" \",C259 ), 100)","v":" 4х1,0"},"1,0",null,"LS"," 4",null,{"$f":"E259","v":"1,0"},null,"","КПСнг(А)-FRHF 1х2х0,5-100м",{"$f":"IF(SUM(K$8:K258)=0, \"\", \" + \")","v":" + "}]
["2930",null,"КПСнг(А)-FRLS 4х2х1,0",{"$f":"MID(C260, FIND(\" \",C260) +1, 100)","v":"4х2х1,0"},"2х1,0",{"$f":"MID($E260,IF(ISERR(FIND(\"х\",$E260)), FIND(\"x\",$E260)+1, FIND(\"х\",$E260))+1,10)","v":"1,0"},"LS","4",{"$f":"MID($E260,1, IF(ISERR(FIND(\"х\",$E260)), FIND(\"x\",$E260)-1, FIND(\"х\",$E260))-1)","v":"2"},{"$f":"F260","v":"1,0"},null,"","КПСнг(А)-FRHF 1х2х0,5-100м",{"$f":"IF(SUM(K$8:K259)=0, \"\", \" + \")","v":" + "}]
["4825",null,"КПСнг(А)-FRLS 5х2х1,0","5х2х1,0","2х1,0","1,0","LS","5","2","1,0",null,"","КПСнг(А)-FRHF 1х2х0,5-100м",{"$f":"IF(SUM(K$8:K260)=0, \"\", \" + \")","v":" + "}]
["16174",null,"КПСнг(А)-FRLS 6х2х1,0","6х2х1,0","2х1,0","1,0","LS","6","2","1,0",null,"","КПСнг(А)-FRHF 1х2х0,5-100м",{"$f":"IF(SUM(K$8:K261)=0, \"\", \" + \")","v":" + "}]
["4543",null,"КПСнг(А)-FRLS 7х2х1,0","7х2х1,0","2х1,0","1,0","LS","7","2","1,0",null,"","КПСнг(А)-FRHF 1х2х0,5-100м",{"$f":"IF(SUM(K$8:K262)=0, \"\", \" + \")","v":" + "}]
["3162",null,"КПСнг(А)-FRLS 8х2х1,0","8х2х1,0","2х1,0","1,0","LS","8","2","1,0",null,"","КПСнг(А)-FRHF 1х2х0,5-100м",{"$f":"IF(SUM(K$8:K263)=0, \"\", \" + \")","v":" + "}]
["2800",null,"КПССнг(А)-FRHF 1х2х1,0","1х2х1,0","2х1,0","1,0","HF","1","2","1,0",null,"","КПСнг(А)-FRHF 1х2х0,5-100м",{"$f":"IF(SUM(K$8:K264)=0, \"\", \" + \")","v":" + "}]
["2806",null,"КПССнг(А)-FRHF 2х2х1,0","2х2х1,0",{"$f":"MID($D266,IF(ISERR(FIND(\"х\",$D266)), FIND(\"x\",$D266)+1, FIND(\"х\",$D266))+1, 100)","v":"2х1,0"},"1,0",{"$f":"MID(C266,FIND(\"FR\",C266)+2, 2)","v":"HF"},{"$f":"MID($D266,1, IF(ISERR(FIND(\"х\",$D266)), FIND(\"x\",$D266)-1, FIND(\"х\",$D266))-1)","v":"2"},"2","1,0",null,{"$f":"IF(K266=0, \"\",CONCATENATE(N266, C266, \"-\",K266,\"м\"))","v":""},{"$f":"CONCATENATE(M265,L266)","v":"КПСнг(А)-FRHF 1х2х0,5-100м"},{"$f":"IF(SUM(K$8:K265)=0, \"\", \" + \")","v":" + "}]
["4440",null,"КПССнг(А)-FRHF 3х1,0",{"$f":"MID(C267, FIND(\" \",C267 ), 100)","v":" 3х1,0"},"1,0",null,"HF"," 3",null,{"$f":"E267","v":"1,0"},null,"","КПСнг(А)-FRHF 1х2х0,5-100м",{"$f":"IF(SUM(K$8:K266)=0, \"\", \" + \")","v":" + "}]
["17519",null,"КПССнг(А)-FRHF 4х1,0",{"$f":"MID(C268, FIND(\" \",C268 ), 100)","v":" 4х1,0"},"1,0",null,"HF"," 4",null,{"$f":"E268","v":"1,0"},null,"","КПСнг(А)-FRHF 1х2х0,5-100м",{"$f":"IF(SUM(K$8:K267)=0, \"\", \" + \")","v":" + "}]
["2789",null,"КПССнг(А)-FRLS 1х2х1,0",{"$f":"MID(C269, FIND(\" \",C269) +1, 100)","v":"1х2х1,0"},"2х1,0",{"$f":"MID($E269,IF(ISERR(FIND(\"х\",$E269)), FIND(\"x\",$E269)+1, FIND(\"х\",$E269))+1,10)","v":"1,0"},"LS","1",{"$f":"MID($E269,1, IF(ISERR(FIND(\"х\",$E269)), FIND(\"x\",$E269)-1, FIND(\"х\",$E269))-1)","v":"2"},{"$f":"F269","v":"1,0"},null,"","КПСнг(А)-FRHF 1х2х0,5-100м",{"$f":"IF(SUM(K$8:K268)=0, \"\", \" + \")","v":" + "}]
["2794",null,"КПССнг(А)-FRLS 2х2х1,0",{"$f":"MID(C270, FIND(\" \",C270) +1, 100)","v":"2х2х1,0"},"2х1,0",{"$f":"MID($E270,IF(ISERR(FIND(\"х\",$E270)), FIND(\"x\",$E270)+1, FIND(\"х\",$E270))+1,10)","v":"1,0"},"LS","2",{"$f":"MID($E270,1, IF(ISERR(FIND(\"х\",$E270)), FIND(\"x\",$E270)-1, FIND(\"х\",$E270))-1)","v":"2"},{"$f":"F270","v":"1,0"},null,"","КПСнг(А)-FRHF 1х2х0,5-100м",{"$f":"IF(SUM(K$8:K269)=0, \"\", \" + \")","v":" + "}]
["18640",null,"КПССнг(А)-FRLS 3х1,0",{"$f":"MID(C271, FIND(\" \",C271 ), 100)","v":" 3х1,0"},"1,0",null,"LS"," 3",null,{"$f":"E271","v":"1,0"},null,"","КПСнг(А)-FRHF 1х2х0,5-100м",{"$f":"IF(SUM(K$8:K270)=0, \"\", \" + \")","v":" + "}]
["4431",null,"КПССнг(А)-FRLS 4х1,0",{"$f":"MID(C272, FIND(\" \",C272 ), 100)","v":" 4х1,0"},"1,0",null,"LS"," 4",null,{"$f":"E272","v":"1,0"},null,"","КПСнг(А)-FRHF 1х2х0,5-100м",{"$f":"IF(SUM(K$8:K271)=0, \"\", \" + \")","v":" + "}]
["3051",null,"КПСЭнг(А)-FRHF 10х2х1,0",{"$f":"MID(C273, FIND(\" \",C273) +1, 100)","v":"10х2х1,0"},"2х1,0",{"$f":"MID($E273,IF(ISERR(FIND(\"х\",$E273)), FIND(\"x\",$E273)+1, FIND(\"х\",$E273))+1,10)","v":"1,0"},"HF","10",{"$f":"MID($E273,1, IF(ISERR(FIND(\"х\",$E273)), FIND(\"x\",$E273)-1, FIND(\"х\",$E273))-1)","v":"2"},{"$f":"F273","v":"1,0"},null,"","КПСнг(А)-FRHF 1х2х0,5-100м",{"$f":"IF(SUM(K$8:K272)=0, \"\", \" + \")","v":" + "}]
["5971",null,"КПСЭнг(А)-FRHF 12х2х1,0",{"$f":"MID(C274, FIND(\" \",C274) +1, 100)","v":"12х2х1,0"},"2х1,0",{"$f":"MID($E274,IF(ISERR(FIND(\"х\",$E274)), FIND(\"x\",$E274)+1, FIND(\"х\",$E274))+1,10)","v":"1,0"},"HF","12",{"$f":"MID($E274,1, IF(ISERR(FIND(\"х\",$E274)), FIND(\"x\",$E274)-1, FIND(\"х\",$E274))-1)","v":"2"},{"$f":"F274","v":"1,0"},null,"","КПСнг(А)-FRHF 1х2х0,5-100м",{"$f":"IF(SUM(K$8:K273)=0, \"\", \" + \")","v":" + "}]
["947",null,"КПСЭнг(А)-FRHF 1х2х1,0",{"$f":"MID(C275, FIND(\" \",C275) +1, 100)","v":"1х2х1,0"},"2х1,0",{"$f":"MID($E275,IF(ISERR(FIND(\"х\",$E275)), FIND(\"x\",$E275)+1, FIND(\"х\",$E275))+1,10)","v":"1,0"},"HF","1",{"$f":"MID($E275,1, IF(ISERR(FIND(\"х\",$E275)), FIND(\"x\",$E275)-1, FIND(\"х\",$E275))-1)","v":"2"},{"$f":"F275","v":"1,0"},null,"","КПСнг(А)-FRHF 1х2х0,5-100м",{"$f":"IF(SUM(K$8:K274)=0, \"\", \" + \")","v":" + "}]
["948",null,"КПСЭнг(А)-FRHF 2х2х1,0",{"$f":"MID(C276, FIND(\" \",C276) +1, 100)","v":"2х2х1,0"},"2х1,0",{"$f":"MID($E276,IF(ISERR(FIND(\"х\",$E276)), FIND(\"x\",$E276)+1, FIND(\"х\",$E276))+1,10)","v":"1,0"},"HF","2",{"$f":"MID($E276,1, IF(ISERR(FIND(\"х\",$E276)), FIND(\"x\",$E276)-1, FIND(\"х\",$E276))-1)","v":"2"},{"$f":"F276","v":"1,0"},null,"","КПСнг(А)-FRHF 1х2х0,5-100м",{"$f":"IF(SUM(K$8:K275)=0, \"\", \" + \")","v":" + "}]
["2977",null,"КПСЭнг(А)-FRHF 3х1,0",{"$f":"MID(C277, FIND(\" \",C277 ), 100)","v":" 3х1,0"},"1,0",null,"HF"," 3",null,{"$f":"E277","v":"1,0"},null,"","КПСнг(А)-FRHF 1х2х0,5-100м",{"$f":"IF(SUM(K$8:K276)=0, \"\", \" + \")","v":" + "}]
["1047",null,"КПСЭнг(А)-FRHF 3х2х1,0",{"$f":"MID(C278, FIND(\" \",C278) +1, 100)","v":"3х2х1,0"},"2х1,0",{"$f":"MID($E278,IF(ISERR(FIND(\"х\",$E278)), FIND(\"x\",$E278)+1, FIND(\"х\",$E278))+1,10)","v":"1,0"},"HF","3",{"$f":"MID($E278,1, IF(ISERR(FIND(\"х\",$E278)), FIND(\"x\",$E278)-1, FIND(\"х\",$E278))-1)","v":"2"},{"$f":"F278","v":"1,0"},null,"","КПСнг(А)-FRHF 1х2х0,5-100м",{"$f":"IF(SUM(K$8:K277)=0, \"\", \" + \")","v":" + "}]
["3048",null,"КПСЭнг(А)-FRHF 4х1,0",{"$f":"MID(C279, FIND(\" \",C279 ), 100)","v":" 4х1,0"},"1,0",null,"HF"," 4",null,{"$f":"E279","v":"1,0"},null,"","КПСнг(А)-FRHF 1х2х0,5-100м",{"$f":"IF(SUM(K$8:K278)=0, \"\", \" + \")","v":" + "}]
["2588",null,"КПСЭнг(А)-FRHF 4х2х1,0",{"$f":"MID(C280, FIND(\" \",C280) +1, 100)","v":"4х2х1,0"},"2х1,0",{"$f":"MID($E280,IF(ISERR(FIND(\"х\",$E280)), FIND(\"x\",$E280)+1, FIND(\"х\",$E280))+1,10)","v":"1,0"},"HF","4",{"$f":"MID($E280,1, IF(ISERR(FIND(\"х\",$E280)), FIND(\"x\",$E280)-1, FIND(\"х\",$E280))-1)","v":"2"},{"$f":"F280","v":"1,0"},null,"","КПСнг(А)-FRHF 1х2х0,5-100м",{"$f":"IF(SUM(K$8:K279)=0, \"\", \" + \")","v":" + "}]
["1601",null,"КПСЭнг(А)-FRHF 5х2х1,0","5х2х1,0","2х1,0","1,0","HF","5","2","1,0",null,"","КПСнг(А)-FRHF 1х2х0,5-100м",{"$f":"IF(SUM(K$8:K280)=0, \"\", \" + \")","v":" + "}]
["3050",null,"КПСЭнг(А)-FRHF 6х2х1,0","6х2х1,0","2х1,0","1,0","HF","6","2","1,0",null,"","КПСнг(А)-FRHF 1х2х0,5-100м",{"$f":"IF(SUM(K$8:K281)=0, \"\", \" + \")","v":" + "}]
["2884",null,"КПСЭнг(А)-FRHF 7х2х1,0","7х2х1,0","2х1,0","1,0","HF","7","2","1,0",null,"","КПСнг(А)-FRHF 1х2х0,5-100м",{"$f":"IF(SUM(K$8:K282)=0, \"\", \" + \")","v":" + "}]
["2727",null,"КПСЭнг(А)-FRHF 8х2х1,0","8х2х1,0","2х1,0","1,0","HF","8","2","1,0",null,"","КПСнг(А)-FRHF 1х2х0,5-100м",{"$f":"IF(SUM(K$8:K283)=0, \"\", \" + \")","v":" + "}]
["5970",null,"КПСЭнг(А)-FRHF 9х2х1,0","9х2х1,0","2х1,0","1,0","HF","9","2","1,0",null,"","КПСнг(А)-FRHF 1х2х0,5-100м",{"$f":"IF(SUM(K$8:K284)=0, \"\", \" + \")","v":" + "}]
["2710",null,"КПСЭнг(А)-FRLS 10х2х1,0","10х2х1,0","2х1,0","1,0","LS","10","2","1,0",null,"","КПСнг(А)-FRHF 1х2х0,5-100м",{"$f":"IF(SUM(K$8:K285)=0, \"\", \" + \")","v":" + "}]
["4639",null,"КПСЭнг(А)-FRLS 12х2х1,0","12х2х1,0","2х1,0","1,0","LS","12","2","1,0",null,"","КПСнг(А)-FRHF 1х2х0,5-100м",{"$f":"IF(SUM(K$8:K286)=0, \"\", \" + \")","v":" + "}]
["4506",null,"КПСЭнг(А)-FRLS 16х2х1,0","16х2х1,0","2х1,0","1,0","LS","16","2","1,0",null,"","КПСнг(А)-FRHF 1х2х0,5-100м",{"$f":"IF(SUM(K$8:K287)=0, \"\", \" + \")","v":" + "}]
["957",null,"КПСЭнг(А)-FRLS 1х2х1,0","1х2х1,0","2х1,0","1,0","LS","1","2","1,0",null,"","КПСнг(А)-FRHF 1х2х0,5-100м",{"$f":"IF(SUM(K$8:K288)=0, \"\", \" + \")","v":" + "}]
["5545",null,"КПСЭнг(А)-FRLS 24х2х1,0","24х2х1,0","2х1,0","1,0","LS","24","2","1,0",null,"","КПСнг(А)-FRHF 1х2х0,5-100м",{"$f":"IF(SUM(K$8:K289)=0, \"\", \" + \")","v":" + "}]
["958",null,"КПСЭнг(А)-FRLS 2х2х1,0","2х2х1,0","2х1,0","1,0","LS","2","2","1,0",null,"","КПСнг(А)-FRHF 1х2х0,5-100м",{"$f":"IF(SUM(K$8:K290)=0, \"\", \" + \")","v":" + "}]
["2932",null,"КПСЭнг(А)-FRLS 3х1,0",{"$f":"MID(C292, FIND(\" \",C292 ), 100)","v":" 3х1,0"},"1,0",null,"LS"," 3",null,{"$f":"E292","v":"1,0"},null,"","КПСнг(А)-FRHF 1х2х0,5-100м",{"$f":"IF(SUM(K$8:K291)=0, \"\", \" + \")","v":" + "}]
["2516",null,"КПСЭнг(А)-FRLS 3х2х1,0",{"$f":"MID(C293, FIND(\" \",C293) +1, 100)","v":"3х2х1,0"},"2х1,0",{"$f":"MID($E293,IF(ISERR(FIND(\"х\",$E293)), FIND(\"x\",$E293)+1, FIND(\"х\",$E293))+1,10)","v":"1,0"},"LS","3",{"$f":"MID($E293,1, IF(ISERR(FIND(\"х\",$E293)), FIND(\"x\",$E293)-1, FIND(\"х\",$E293))-1)","v":"2"},{"$f":"F293","v":"1,0"},null,"","КПСнг(А)-FRHF 1х2х0,5-100м",{"$f":"IF(SUM(K$8:K292)=0, \"\", \" + \")","v":" + "}]
["3074",null,"КПСЭнг(А)-FRLS 4х1,0",{"$f":"MID(C294, FIND(\" \",C294 ), 100)","v":" 4х1,0"},"1,0",null,"LS"," 4",null,{"$f":"E294","v":"1,0"},null,"","КПСнг(А)-FRHF 1х2х0,5-100м",{"$f":"IF(SUM(K$8:K293)=0, \"\", \" + \")","v":" + "}]
["2157",null,"КПСЭнг(А)-FRLS 4х2х1,0",{"$f":"MID(C295, FIND(\" \",C295) +1, 100)","v":"4х2х1,0"},"2х1,0",{"$f":"MID($E295,IF(ISERR(FIND(\"х\",$E295)), FIND(\"x\",$E295)+1, FIND(\"х\",$E295))+1,10)","v":"1,0"},"LS","4",{"$f":"MID($E295,1, IF(ISERR(FIND(\"х\",$E295)), FIND(\"x\",$E295)-1, FIND(\"х\",$E295))-1)","v":"2"},{"$f":"F295","v":"1,0"},null,"","КПСнг(А)-FRHF 1х2х0,5-100м",{"$f":"IF(SUM(K$8:K294)=0, \"\", \" + \")","v":" + "}]
["2732",null,"КПСЭнг(А)-FRLS 5х2х1,0","5х2х1,0","2х1,0","1,0","LS","5","2","1,0",null,"","КПСнг(А)-FRHF 1х2х0,5-100м",{"$f":"IF(SUM(K$8:K295)=0, \"\", \" + \")","v":" + "}]
["2034",null,"КПСЭнг(А)-FRLS 6х2х1,0","6х2х1,0","2х1,0","1,0","LS","6","2","1,0",null,"","КПСнг(А)-FRHF 1х2х0,5-100м",{"$f":"IF(SUM(K$8:K296)=0, \"\", \" + \")","v":" + "}]
["2733",null,"КПСЭнг(А)-FRLS 7х2х1,0","7х2х1,0","2х1,0","1,0","LS","7","2","1,0",null,"","КПСнг(А)-FRHF 1х2х0,5-100м",{"$f":"IF(SUM(K$8:K297)=0, \"\", \" + \")","v":" + "}]
["2933",null,"КПСЭнг(А)-FRLS 8х2х1,0","8х2х1,0","2х1,0","1,0","LS","8","2","1,0",null,"","КПСнг(А)-FRHF 1х2х0,5-100м",{"$f":"IF(SUM(K$8:K298)=0, \"\", \" + \")","v":" + "}]
["17857",null,"КПСЭСнг(А)-FRHF 10х2х1,0","10х2х1,0","2х1,0","1,0","HF","10","2","1,0",null,"","КПСнг(А)-FRHF 1х2х0,5-100м",{"$f":"IF(SUM(K$8:K299)=0, \"\", \" + \")","v":" + "}]
["5731",null,"КПСЭСнг(А)-FRHF 12х2х1,0","12х2х1,0","2х1,0","1,0","HF","12","2","1,0",null,"","КПСнг(А)-FRHF 1х2х0,5-100м",{"$f":"IF(SUM(K$8:K300)=0, \"\", \" + \")","v":" + "}]
["967",null,"КПСЭСнг(А)-FRHF 1х2х1,0","1х2х1,0","2х1,0","1,0","HF","1","2","1,0",null,"","КПСнг(А)-FRHF 1х2х0,5-100м",{"$f":"IF(SUM(K$8:K301)=0, \"\", \" + \")","v":" + "}]
["968",null,"КПСЭСнг(А)-FRHF 2х2х1,0","2х2х1,0","2х1,0","1,0","HF","2","2","1,0",null,"","КПСнг(А)-FRHF 1х2х0,5-100м",{"$f":"IF(SUM(K$8:K302)=0, \"\", \" + \")","v":" + "}]
["4638",null,"КПСЭСнг(А)-FRHF 3х1,0",{"$f":"MID(C304, FIND(\" \",C304 ), 100)","v":" 3х1,0"},"1,0",null,"HF"," 3",null,{"$f":"E304","v":"1,0"},null,"","КПСнг(А)-FRHF 1х2х0,5-100м",{"$f":"IF(SUM(K$8:K303)=0, \"\", \" + \")","v":" + "}]
["2841",null,"КПСЭСнг(А)-FRHF 3х2х1,0",{"$f":"MID(C305, FIND(\" \",C305) +1, 100)","v":"3х2х1,0"},"2х1,0",{"$f":"MID($E305,IF(ISERR(FIND(\"х\",$E305)), FIND(\"x\",$E305)+1, FIND(\"х\",$E305))+1,10)","v":"1,0"},"HF","3",{"$f":"MID($E305,1, IF(ISERR(FIND(\"х\",$E305)), FIND(\"x\",$E305)-1, FIND(\"х\",$E305))-1)","v":"2"},{"$f":"F305","v":"1,0"},null,"","КПСнг(А)-FRHF 1х2х0,5-100м",{"$f":"IF(SUM(K$8:K304)=0, \"\", \" + \")","v":" + "}]
["2651",null,"КПСЭСнг(А)-FRHF 4х1,0",{"$f":"MID(C306, FIND(\" \",C306 ), 100)","v":" 4х1,0"},"1,0",null,"HF"," 4",null,{"$f":"E306","v":"1,0"},null,"","КПСнг(А)-FRHF 1х2х0,5-100м",{"$f":"IF(SUM(K$8:K305)=0, \"\", \" + \")","v":" + "}]
["2747",null,"КПСЭСнг(А)-FRHF 4х2х1,0",{"$f":"MID(C307, FIND(\" \",C307) +1, 100)","v":"4х2х1,0"},"2х1,0",{"$f":"MID($E307,IF(ISERR(FIND(\"х\",$E307)), FIND(\"x\",$E307)+1, FIND(\"х\",$E307))+1,10)","v":"1,0"},"HF","4",{"$f":"MID($E307,1, IF(ISERR(FIND(\"х\",$E307)), FIND(\"x\",$E307)-1, FIND(\"х\",$E307))-1)","v":"2"},{"$f":"F307","v":"1,0"},null,"","КПСнг(А)-FRHF 1х2х0,5-100м",{"$f":"IF(SUM(K$8:K306)=0, \"\", \" + \")","v":" + "}]
["2177",null,"КПСЭСнг(А)-FRHF 5х2х1,0","5х2х1,0","2х1,0","1,0","HF","5","2","1,0",null,"","КПСнг(А)-FRHF 1х2х0,5-100м",{"$f":"IF(SUM(K$8:K307)=0, \"\", \" + \")","v":" + "}]
["16400",null,"КПСЭСнг(А)-FRHF 7х2х1,0","7х2х1,0","2х1,0","1,0","HF","7","2","1,0",null,"","КПСнг(А)-FRHF 1х2х0,5-100м",{"$f":"IF(SUM(K$8:K308)=0, \"\", \" + \")","v":" + "}]
["2753",null,"КПСЭСнг(А)-FRLS 10х2х1,0","10х2х1,0","2х1,0","1,0","LS","10","2","1,0",null,"","КПСнг(А)-FRHF 1х2х0,5-100м",{"$f":"IF(SUM(K$8:K309)=0, \"\", \" + \")","v":" + "}]
["977",null,"КПСЭСнг(А)-FRLS 1х2х1,0","1х2х1,0","2х1,0","1,0","LS","1","2","1,0",null,"","КПСнг(А)-FRHF 1х2х0,5-100м",{"$f":"IF(SUM(K$8:K310)=0, \"\", \" + \")","v":" + "}]
["978",null,"КПСЭСнг(А)-FRLS 2х2х1,0","2х2х1,0","2х1,0","1,0","LS","2","2","1,0",null,"","КПСнг(А)-FRHF 1х2х0,5-100м",{"$f":"IF(SUM(K$8:K311)=0, \"\", \" + \")","v":" + "}]
["4546",null,"КПСЭСнг(А)-FRLS 3х1,0",{"$f":"MID(C313, FIND(\" \",C313 ), 100)","v":" 3х1,0"},"1,0",null,"LS"," 3",null,{"$f":"E313","v":"1,0"},null,"","КПСнг(А)-FRHF 1х2х0,5-100м",{"$f":"IF(SUM(K$8:K312)=0, \"\", \" + \")","v":" + "}]
["16370",null,"КПСЭСнг(А)-FRLS 3х2х1,0",{"$f":"MID(C314, FIND(\" \",C314) +1, 100)","v":"3х2х1,0"},"2х1,0",{"$f":"MID($E314,IF(ISERR(FIND(\"х\",$E314)), FIND(\"x\",$E314)+1, FIND(\"х\",$E314))+1,10)","v":"1,0"},"LS","3",{"$f":"MID($E314,1, IF(ISERR(FIND(\"х\",$E314)), FIND(\"x\",$E314)-1, FIND(\"х\",$E314))-1)","v":"2"},{"$f":"F314","v":"1,0"},null,"","КПСнг(А)-FRHF 1х2х0,5-100м",{"$f":"IF(SUM(K$8:K313)=0, \"\", \" + \")","v":" + "}]
["3883",null,"КПСЭСнг(А)-FRLS 4х1,0",{"$f":"MID(C315, FIND(\" \",C315 ), 100)","v":" 4х1,0"},"1,0",null,"LS"," 4",null,{"$f":"E315","v":"1,0"},null,"","КПСнг(А)-FRHF 1х2х0,5-100м",{"$f":"IF(SUM(K$8:K314)=0, \"\", \" + \")","v":" + "}]
["3470",null,"КПСЭСнг(А)-FRLS 4х2х1,0",{"$f":"MID(C316, FIND(\" \",C316) +1, 100)","v":"4х2х1,0"},"2х1,0",{"$f":"MID($E316,IF(ISERR(FIND(\"х\",$E316)), FIND(\"x\",$E316)+1, FIND(\"х\",$E316))+1,10)","v":"1,0"},"LS","4",{"$f":"MID($E316,1, IF(ISERR(FIND(\"х\",$E316)), FIND(\"x\",$E316)-1, FIND(\"х\",$E316))-1)","v":"2"},{"$f":"F316","v":"1,0"},null,"","КПСнг(А)-FRHF 1х2х0,5-100м",{"$f":"IF(SUM(K$8:K315)=0, \"\", \" + \")","v":" + "}]
["17637",null,"КПСЭСнг(А)-FRLS 5х2х1,0","5х2х1,0","2х1,0","1,0","LS","5","2","1,0",null,"","КПСнг(А)-FRHF 1х2х0,5-100м",{"$f":"IF(SUM(K$8:K316)=0, \"\", \" + \")","v":" + "}]
["21539",null,"КПСнг(А)-FRHF 10х2х1,0 ","10х2х1,0 ","2х1,0 ","1,0 ","HF","10","2","1,0 ",null,"","КПСнг(А)-FRHF 1х2х0,5-100м",{"$f":"IF(SUM(K$8:K317)=0, \"\", \" + \")","v":" + "}]
["19660",null,"КПСнг(А)-FRLS 16х2х1,0 ","16х2х1,0 ","2х1,0 ","1,0 ","LS","16","2","1,0 ",null,"","КПСнг(А)-FRHF 1х2х0,5-100м",{"$f":"IF(SUM(K$8:K318)=0, \"\", \" + \")","v":" + "}]
["19033",null,"КПССнг(А)-FRHF 4х2х1,0 ","4х2х1,0 ","2х1,0 ","1,0 ","HF","4","2","1,0 ",null,"","КПСнг(А)-FRHF 1х2х0,5-100м",{"$f":"IF(SUM(K$8:K319)=0, \"\", \" + \")","v":" + "}]
["19082",null,"КПСЭнг(А)-FRLS 20х2х1,0 ","20х2х1,0 ","2х1,0 ","1,0 ","LS","20","2","1,0 ",null,"","КПСнг(А)-FRHF 1х2х0,5-100м",{"$f":"IF(SUM(K$8:K320)=0, \"\", \" + \")","v":" + "}]
["2294",null,"КПСнг(А)-FRHF 1х2х1,5","1х2х1,5","2х1,5","1,5","HF","1","2","1,5",null,"","КПСнг(А)-FRHF 1х2х0,5-100м",{"$f":"IF(SUM(K$8:K321)=0, \"\", \" + \")","v":" + "}]
["2300",null,"КПСнг(А)-FRHF 2х2х1,5","2х2х1,5","2х1,5","1,5","HF","2","2","1,5",null,"","КПСнг(А)-FRHF 1х2х0,5-100м",{"$f":"IF(SUM(K$8:K322)=0, \"\", \" + \")","v":" + "}]
["2975",null,"КПСнг(А)-FRHF 3х1,5",{"$f":"MID(C324, FIND(\" \",C324 ), 100)","v":" 3х1,5"},"1,5",null,"HF"," 3",null,{"$f":"E324","v":"1,5"},null,"","КПСнг(А)-FRHF 1х2х0,5-100м",{"$f":"IF(SUM(K$8:K323)=0, \"\", \" + \")","v":" + "}]
["5072",null,"КПСнг(А)-FRHF 3х2х1,5",{"$f":"MID(C325, FIND(\" \",C325) +1, 100)","v":"3х2х1,5"},"2х1,5",{"$f":"MID($E325,IF(ISERR(FIND(\"х\",$E325)), FIND(\"x\",$E325)+1, FIND(\"х\",$E325))+1,10)","v":"1,5"},"HF","3",{"$f":"MID($E325,1, IF(ISERR(FIND(\"х\",$E325)), FIND(\"x\",$E325)-1, FIND(\"х\",$E325))-1)","v":"2"},{"$f":"F325","v":"1,5"},null,"","КПСнг(А)-FRHF 1х2х0,5-100м",{"$f":"IF(SUM(K$8:K324)=0, \"\", \" + \")","v":" + "}]
["4636",null,"КПСнг(А)-FRHF 4х1,5",{"$f":"MID(C326, FIND(\" \",C326 ), 100)","v":" 4х1,5"},"1,5",null,"HF"," 4",null,{"$f":"E326","v":"1,5"},null,"","КПСнг(А)-FRHF 1х2х0,5-100м",{"$f":"IF(SUM(K$8:K325)=0, \"\", \" + \")","v":" + "}]
["5989",null,"КПСнг(А)-FRHF 4х2х1,5",{"$f":"MID(C327, FIND(\" \",C327) +1, 100)","v":"4х2х1,5"},"2х1,5",{"$f":"MID($E327,IF(ISERR(FIND(\"х\",$E327)), FIND(\"x\",$E327)+1, FIND(\"х\",$E327))+1,10)","v":"1,5"},"HF","4",{"$f":"MID($E327,1, IF(ISERR(FIND(\"х\",$E327)), FIND(\"x\",$E327)-1, FIND(\"х\",$E327))-1)","v":"2"},{"$f":"F327","v":"1,5"},null,"","КПСнг(А)-FRHF 1х2х0,5-100м",{"$f":"IF(SUM(K$8:K326)=0, \"\", \" + \")","v":" + "}]
["16516",null,"КПСнг(А)-FRLS 10х2х1,5",{"$f":"MID(C328, FIND(\" \",C328) +1, 100)","v":"10х2х1,5"},"2х1,5",{"$f":"MID($E328,IF(ISERR(FIND(\"х\",$E328)), FIND(\"x\",$E328)+1, FIND(\"х\",$E328))+1,10)","v":"1,5"},"LS","10",{"$f":"MID($E328,1, IF(ISERR(FIND(\"х\",$E328)), FIND(\"x\",$E328)-1, FIND(\"х\",$E328))-1)","v":"2"},{"$f":"F328","v":"1,5"},null,"","КПСнг(А)-FRHF 1х2х0,5-100м",{"$f":"IF(SUM(K$8:K327)=0, \"\", \" + \")","v":" + "}]
["2282",null,"КПСнг(А)-FRLS 1х2х1,5",{"$f":"MID(C329, FIND(\" \",C329) +1, 100)","v":"1х2х1,5"},"2х1,5",{"$f":"MID($E329,IF(ISERR(FIND(\"х\",$E329)), FIND(\"x\",$E329)+1, FIND(\"х\",$E329))+1,10)","v":"1,5"},"LS","1",{"$f":"MID($E329,1, IF(ISERR(FIND(\"х\",$E329)), FIND(\"x\",$E329)-1, FIND(\"х\",$E329))-1)","v":"2"},{"$f":"F329","v":"1,5"},null,"","КПСнг(А)-FRHF 1х2х0,5-100м",{"$f":"IF(SUM(K$8:K328)=0, \"\", \" + \")","v":" + "}]
["2288",null,"КПСнг(А)-FRLS 2х2х1,5",{"$f":"MID(C330, FIND(\" \",C330) +1, 100)","v":"2х2х1,5"},{"$f":"MID($D330,IF(ISERR(FIND(\"х\",$D330)), FIND(\"x\",$D330)+1, FIND(\"х\",$D330))+1, 100)","v":"2х1,5"},{"$f":"MID($E330,IF(ISERR(FIND(\"х\",$E330)), FIND(\"x\",$E330)+1, FIND(\"х\",$E330))+1,10)","v":"1,5"},{"$f":"MID(C330,FIND(\"FR\",C330)+2, 2)","v":"LS"},{"$f":"MID($D330,1, IF(ISERR(FIND(\"х\",$D330)), FIND(\"x\",$D330)-1, FIND(\"х\",$D330))-1)","v":"2"},{"$f":"MID($E330,1, IF(ISERR(FIND(\"х\",$E330)), FIND(\"x\",$E330)-1, FIND(\"х\",$E330))-1)","v":"2"},{"$f":"F330","v":"1,5"},null,{"$f":"IF(K330=0, \"\",CONCATENATE(N330, C330, \"-\",K330,\"м\"))","v":""},{"$f":"CONCATENATE(M329,L330)","v":"КПСнг(А)-FRHF 1х2х0,5-100м"},{"$f":"IF(SUM(K$8:K329)=0, \"\", \" + \")","v":" + "}]
["2780",null,"КПСнг(А)-FRLS 3х1,5",{"$f":"MID(C331, FIND(\" \",C331 ), 100)","v":" 3х1,5"},"1,5",null,"LS"," 3",null,{"$f":"E331","v":"1,5"},null,"","КПСнг(А)-FRHF 1х2х0,5-100м",{"$f":"IF(SUM(K$8:K330)=0, \"\", \" + \")","v":" + "}]
["3134",null,"КПСнг(А)-FRLS 3х2х1,5",{"$f":"MID(C332, FIND(\" \",C332) +1, 100)","v":"3х2х1,5"},"2х1,5",{"$f":"MID($E332,IF(ISERR(FIND(\"х\",$E332)), FIND(\"x\",$E332)+1, FIND(\"х\",$E332))+1,10)","v":"1,5"},"LS","3",{"$f":"MID($E332,1, IF(ISERR(FIND(\"х\",$E332)), FIND(\"x\",$E332)-1, FIND(\"х\",$E332))-1)","v":"2"},{"$f":"F332","v":"1,5"},null,"","КПСнг(А)-FRHF 1х2х0,5-100м",{"$f":"IF(SUM(K$8:K331)=0, \"\", \" + \")","v":" + "}]
["16371",null,"КПСнг(А)-FRLS 4х1,5",{"$f":"MID(C333, FIND(\" \",C333 ), 100)","v":" 4х1,5"},"1,5",null,"LS"," 4",null,{"$f":"E333","v":"1,5"},null,"","КПСнг(А)-FRHF 1х2х0,5-100м",{"$f":"IF(SUM(K$8:K332)=0, \"\", \" + \")","v":" + "}]
["3164",null,"КПСнг(А)-FRLS 4х2х1,5",{"$f":"MID(C334, FIND(\" \",C334) +1, 100)","v":"4х2х1,5"},"2х1,5",{"$f":"MID($E334,IF(ISERR(FIND(\"х\",$E334)), FIND(\"x\",$E334)+1, FIND(\"х\",$E334))+1,10)","v":"1,5"},"LS","4",{"$f":"MID($E334,1, IF(ISERR(FIND(\"х\",$E334)), FIND(\"x\",$E334)-1, FIND(\"х\",$E334))-1)","v":"2"},{"$f":"F334","v":"1,5"},null,"","КПСнг(А)-FRHF 1х2х0,5-100м",{"$f":"IF(SUM(K$8:K333)=0, \"\", \" + \")","v":" + "}]
["4095",null,"КПСнг(А)-FRLS 5х2х1,5",{"$f":"MID(C335, FIND(\" \",C335) +1, 100)","v":"5х2х1,5"},"2х1,5",{"$f":"MID($E335,IF(ISERR(FIND(\"х\",$E335)), FIND(\"x\",$E335)+1, FIND(\"х\",$E335))+1,10)","v":"1,5"},"LS","5",{"$f":"MID($E335,1, IF(ISERR(FIND(\"х\",$E335)), FIND(\"x\",$E335)-1, FIND(\"х\",$E335))-1)","v":"2"},{"$f":"F335","v":"1,5"},null,"","КПСнг(А)-FRHF 1х2х0,5-100м",{"$f":"IF(SUM(K$8:K334)=0, \"\", \" + \")","v":" + "}]
["3090",null,"КПСнг(А)-FRLS 6х2х1,5",{"$f":"MID(C336, FIND(\" \",C336) +1, 100)","v":"6х2х1,5"},"2х1,5",{"$f":"MID($E336,IF(ISERR(FIND(\"х\",$E336)), FIND(\"x\",$E336)+1, FIND(\"х\",$E336))+1,10)","v":"1,5"},"LS","6",{"$f":"MID($E336,1, IF(ISERR(FIND(\"х\",$E336)), FIND(\"x\",$E336)-1, FIND(\"х\",$E336))-1)","v":"2"},{"$f":"F336","v":"1,5"},null,"","КПСнг(А)-FRHF 1х2х0,5-100м",{"$f":"IF(SUM(K$8:K335)=0, \"\", \" + \")","v":" + "}]
["2801",null,"КПССнг(А)-FRHF 1х2х1,5",{"$f":"MID(C337, FIND(\" \",C337) +1, 100)","v":"1х2х1,5"},"2х1,5",{"$f":"MID($E337,IF(ISERR(FIND(\"х\",$E337)), FIND(\"x\",$E337)+1, FIND(\"х\",$E337))+1,10)","v":"1,5"},"HF","1",{"$f":"MID($E337,1, IF(ISERR(FIND(\"х\",$E337)), FIND(\"x\",$E337)-1, FIND(\"х\",$E337))-1)","v":"2"},{"$f":"F337","v":"1,5"},null,"","КПСнг(А)-FRHF 1х2х0,5-100м",{"$f":"IF(SUM(K$8:K336)=0, \"\", \" + \")","v":" + "}]
["2807",null,"КПССнг(А)-FRHF 2х2х1,5",{"$f":"MID(C338, FIND(\" \",C338) +1, 100)","v":"2х2х1,5"},"2х1,5",{"$f":"MID($E338,IF(ISERR(FIND(\"х\",$E338)), FIND(\"x\",$E338)+1, FIND(\"х\",$E338))+1,10)","v":"1,5"},"HF","2",{"$f":"MID($E338,1, IF(ISERR(FIND(\"х\",$E338)), FIND(\"x\",$E338)-1, FIND(\"х\",$E338))-1)","v":"2"},{"$f":"F338","v":"1,5"},null,"","КПСнг(А)-FRHF 1х2х0,5-100м",{"$f":"IF(SUM(K$8:K337)=0, \"\", \" + \")","v":" + "}]
["18558",null,"КПССнг(А)-FRHF 4х1,5",{"$f":"MID(C339, FIND(\" \",C339 ), 100)","v":" 4х1,5"},"1,5",null,"HF"," 4",null,{"$f":"E339","v":"1,5"},null,"","КПСнг(А)-FRHF 1х2х0,5-100м",{"$f":"IF(SUM(K$8:K338)=0, \"\", \" + \")","v":" + "}]
["2790",null,"КПССнг(А)-FRLS 1х2х1,5",{"$f":"MID(C340, FIND(\" \",C340) +1, 100)","v":"1х2х1,5"},"2х1,5",{"$f":"MID($E340,IF(ISERR(FIND(\"х\",$E340)), FIND(\"x\",$E340)+1, FIND(\"х\",$E340))+1,10)","v":"1,5"},"LS","1",{"$f":"MID($E340,1, IF(ISERR(FIND(\"х\",$E340)), FIND(\"x\",$E340)-1, FIND(\"х\",$E340))-1)","v":"2"},{"$f":"F340","v":"1,5"},null,"","КПСнг(А)-FRHF 1х2х0,5-100м",{"$f":"IF(SUM(K$8:K339)=0, \"\", \" + \")","v":" + "}]
["2795",null,"КПССнг(А)-FRLS 2х2х1,5","2х2х1,5","2х1,5","1,5","LS","2","2","1,5",null,"","КПСнг(А)-FRHF 1х2х0,5-100м",{"$f":"IF(SUM(K$8:K340)=0, \"\", \" + \")","v":" + "}]
["3052",null,"КПСЭнг(А)-FRHF 10х2х1,5","10х2х1,5","2х1,5","1,5","HF","10","2","1,5",null,"","КПСнг(А)-FRHF 1х2х0,5-100м",{"$f":"IF(SUM(K$8:K341)=0, \"\", \" + \")","v":" + "}]
["17955",null,"КПСЭнг(А)-FRHF 16х2х1,5","16х2х1,5","2х1,5","1,5","HF","16","2","1,5",null,"","КПСнг(А)-FRHF 1х2х0,5-100м",{"$f":"IF(SUM(K$8:K342)=0, \"\", \" + \")","v":" + "}]
["949",null,"КПСЭнг(А)-FRHF 1х2х1,5","1х2х1,5","2х1,5","1,5","HF","1","2","1,5",null,"","КПСнг(А)-FRHF 1х2х0,5-100м",{"$f":"IF(SUM(K$8:K343)=0, \"\", \" + \")","v":" + "}]
["950",null,"КПСЭнг(А)-FRHF 2х2х1,5","2х2х1,5","2х1,5","1,5","HF","2","2","1,5",null,"","КПСнг(А)-FRHF 1х2х0,5-100м",{"$f":"IF(SUM(K$8:K344)=0, \"\", \" + \")","v":" + "}]
["1101",null,"КПСЭнг(А)-FRHF 3х1,5",{"$f":"MID(C346, FIND(\" \",C346 ), 100)","v":" 3х1,5"},"1,5",null,"HF"," 3",null,{"$f":"E346","v":"1,5"},null,"","КПСнг(А)-FRHF 1х2х0,5-100м",{"$f":"IF(SUM(K$8:K345)=0, \"\", \" + \")","v":" + "}]
["2540",null,"КПСЭнг(А)-FRHF 3х2х1,5",{"$f":"MID(C347, FIND(\" \",C347) +1, 100)","v":"3х2х1,5"},"2х1,5",{"$f":"MID($E347,IF(ISERR(FIND(\"х\",$E347)), FIND(\"x\",$E347)+1, FIND(\"х\",$E347))+1,10)","v":"1,5"},"HF","3",{"$f":"MID($E347,1, IF(ISERR(FIND(\"х\",$E347)), FIND(\"x\",$E347)-1, FIND(\"х\",$E347))-1)","v":"2"},{"$f":"F347","v":"1,5"},null,"","КПСнг(А)-FRHF 1х2х0,5-100м",{"$f":"IF(SUM(K$8:K346)=0, \"\", \" + \")","v":" + "}]
["2541",null,"КПСЭнг(А)-FRHF 4х1,5",{"$f":"MID(C348, FIND(\" \",C348 ), 100)","v":" 4х1,5"},"1,5",null,"HF"," 4",null,{"$f":"E348","v":"1,5"},null,"","КПСнг(А)-FRHF 1х2х0,5-100м",{"$f":"IF(SUM(K$8:K347)=0, \"\", \" + \")","v":" + "}]
["1207",null,"КПСЭнг(А)-FRHF 4х2х1,5",{"$f":"MID(C349, FIND(\" \",C349) +1, 100)","v":"4х2х1,5"},"2х1,5",{"$f":"MID($E349,IF(ISERR(FIND(\"х\",$E349)), FIND(\"x\",$E349)+1, FIND(\"х\",$E349))+1,10)","v":"1,5"},"HF","4",{"$f":"MID($E349,1, IF(ISERR(FIND(\"х\",$E349)), FIND(\"x\",$E349)-1, FIND(\"х\",$E349))-1)","v":"2"},{"$f":"F349","v":"1,5"},null,"","КПСнг(А)-FRHF 1х2х0,5-100м",{"$f":"IF(SUM(K$8:K348)=0, \"\", \" + \")","v":" + "}]
["2543",null,"КПСЭнг(А)-FRHF 5х2х1,5","5х2х1,5","2х1,5","1,5","HF","5","2","1,5",null,"","КПСнг(А)-FRHF 1х2х0,5-100м",{"$f":"IF(SUM(K$8:K349)=0, \"\", \" + \")","v":" + "}]
["2542",null,"КПСЭнг(А)-FRHF 6х2х1,5","6х2х1,5","2х1,5","1,5","HF","6","2","1,5",null,"","КПСнг(А)-FRHF 1х2х0,5-100м",{"$f":"IF(SUM(K$8:K350)=0, \"\", \" + \")","v":" + "}]
["3155",null,"КПСЭнг(А)-FRHF 7х2х1,5","7х2х1,5","2х1,5","1,5","HF","7","2","1,5",null,"","КПСнг(А)-FRHF 1х2х0,5-100м",{"$f":"IF(SUM(K$8:K351)=0, \"\", \" + \")","v":" + "}]
["5076",null,"КПСЭнг(А)-FRLS 10х2х1,5","10х2х1,5","2х1,5","1,5","LS","10","2","1,5",null,"","КПСнг(А)-FRHF 1х2х0,5-100м",{"$f":"IF(SUM(K$8:K352)=0, \"\", \" + \")","v":" + "}]
["959",null,"КПСЭнг(А)-FRLS 1х2х1,5","1х2х1,5","2х1,5","1,5","LS","1","2","1,5",null,"","КПСнг(А)-FRHF 1х2х0,5-100м",{"$f":"IF(SUM(K$8:K353)=0, \"\", \" + \")","v":" + "}]
["960",null,"КПСЭнг(А)-FRLS 2х2х1,5","2х2х1,5","2х1,5","1,5","LS","2","2","1,5",null,"","КПСнг(А)-FRHF 1х2х0,5-100м",{"$f":"IF(SUM(K$8:K354)=0, \"\", \" + \")","v":" + "}]
["1602",null,"КПСЭнг(А)-FRLS 3х1,5",{"$f":"MID(C356, FIND(\" \",C356 ), 100)","v":" 3х1,5"},"1,5",null,"LS"," 3",null,{"$f":"E356","v":"1,5"},null,"","КПСнг(А)-FRHF 1х2х0,5-100м",{"$f":"IF(SUM(K$8:K355)=0, \"\", \" + \")","v":" + "}]
["2816",null,"КПСЭнг(А)-FRLS 3х2х1,5",{"$f":"MID(C357, FIND(\" \",C357) +1, 100)","v":"3х2х1,5"},"2х1,5",{"$f":"MID($E357,IF(ISERR(FIND(\"х\",$E357)), FIND(\"x\",$E357)+1, FIND(\"х\",$E357))+1,10)","v":"1,5"},"LS","3",{"$f":"MID($E357,1, IF(ISERR(FIND(\"х\",$E357)), FIND(\"x\",$E357)-1, FIND(\"х\",$E357))-1)","v":"2"},{"$f":"F357","v":"1,5"},null,"","КПСнг(А)-FRHF 1х2х0,5-100м",{"$f":"IF(SUM(K$8:K356)=0, \"\", \" + \")","v":" + "}]
["2770",null,"КПСЭнг(А)-FRLS 4х1,5",{"$f":"MID(C358, FIND(\" \",C358 ), 100)","v":" 4х1,5"},"1,5",null,"LS"," 4",null,{"$f":"E358","v":"1,5"},null,"","КПСнг(А)-FRHF 1х2х0,5-100м",{"$f":"IF(SUM(K$8:K357)=0, \"\", \" + \")","v":" + "}]
["2158",null,"КПСЭнг(А)-FRLS 4х2х1,5",{"$f":"MID(C359, FIND(\" \",C359) +1, 100)","v":"4х2х1,5"},"2х1,5",{"$f":"MID($E359,IF(ISERR(FIND(\"х\",$E359)), FIND(\"x\",$E359)+1, FIND(\"х\",$E359))+1,10)","v":"1,5"},"LS","4",{"$f":"MID($E359,1, IF(ISERR(FIND(\"х\",$E359)), FIND(\"x\",$E359)-1, FIND(\"х\",$E359))-1)","v":"2"},{"$f":"F359","v":"1,5"},null,"","КПСнг(А)-FRHF 1х2х0,5-100м",{"$f":"IF(SUM(K$8:K358)=0, \"\", \" + \")","v":" + "}]
["2771",null,"КПСЭнг(А)-FRLS 5х2х1,5","5х2х1,5","2х1,5","1,5","LS","5","2","1,5",null,"","КПСнг(А)-FRHF 1х2х0,5-100м",{"$f":"IF(SUM(K$8:K359)=0, \"\", \" + \")","v":" + "}]
["3005",null,"КПСЭнг(А)-FRLS 6х2х1,5","6х2х1,5","2х1,5","1,5","LS","6","2","1,5",null,"","КПСнг(А)-FRHF 1х2х0,5-100м",{"$f":"IF(SUM(K$8:K360)=0, \"\", \" + \")","v":" + "}]
["5153",null,"КПСЭнг(А)-FRLS 7х2х1,5","7х2х1,5","2х1,5","1,5","LS","7","2","1,5",null,"","КПСнг(А)-FRHF 1х2х0,5-100м",{"$f":"IF(SUM(K$8:K361)=0, \"\", \" + \")","v":" + "}]
["16689",null,"КПСЭнг(А)-FRLS 8х2х1,5","8х2х1,5","2х1,5","1,5","LS","8","2","1,5",null,"","КПСнг(А)-FRHF 1х2х0,5-100м",{"$f":"IF(SUM(K$8:K362)=0, \"\", \" + \")","v":" + "}]
["969",null,"КПСЭСнг(А)-FRHF 1х2х1,5","1х2х1,5","2х1,5","1,5","HF","1","2","1,5",null,"","КПСнг(А)-FRHF 1х2х0,5-100м",{"$f":"IF(SUM(K$8:K363)=0, \"\", \" + \")","v":" + "}]
["970",null,"КПСЭСнг(А)-FRHF 2х2х1,5","2х2х1,5","2х1,5","1,5","HF","2","2","1,5",null,"","КПСнг(А)-FRHF 1х2х0,5-100м",{"$f":"IF(SUM(K$8:K364)=0, \"\", \" + \")","v":" + "}]
["1208",null,"КПСЭСнг(А)-FRHF 3х1,5",{"$f":"MID(C366, FIND(\" \",C366 ), 100)","v":" 3х1,5"},"1,5",null,"HF"," 3",null,{"$f":"E366","v":"1,5"},null,"","КПСнг(А)-FRHF 1х2х0,5-100м",{"$f":"IF(SUM(K$8:K365)=0, \"\", \" + \")","v":" + "}]
["3457",null,"КПСЭСнг(А)-FRHF 3х2х1,5",{"$f":"MID(C367, FIND(\" \",C367) +1, 100)","v":"3х2х1,5"},"2х1,5",{"$f":"MID($E367,IF(ISERR(FIND(\"х\",$E367)), FIND(\"x\",$E367)+1, FIND(\"х\",$E367))+1,10)","v":"1,5"},"HF","3",{"$f":"MID($E367,1, IF(ISERR(FIND(\"х\",$E367)), FIND(\"x\",$E367)-1, FIND(\"х\",$E367))-1)","v":"2"},{"$f":"F367","v":"1,5"},null,"","КПСнг(А)-FRHF 1х2х0,5-100м",{"$f":"IF(SUM(K$8:K366)=0, \"\", \" + \")","v":" + "}]
["2878",null,"КПСЭСнг(А)-FRHF 4х1,5",{"$f":"MID(C368, FIND(\" \",C368 ), 100)","v":" 4х1,5"},"1,5",null,"HF"," 4",null,{"$f":"E368","v":"1,5"},null,"","КПСнг(А)-FRHF 1х2х0,5-100м",{"$f":"IF(SUM(K$8:K367)=0, \"\", \" + \")","v":" + "}]
["1206",null,"КПСЭСнг(А)-FRHF 4х2х1,5",{"$f":"MID(C369, FIND(\" \",C369) +1, 100)","v":"4х2х1,5"},"2х1,5",{"$f":"MID($E369,IF(ISERR(FIND(\"х\",$E369)), FIND(\"x\",$E369)+1, FIND(\"х\",$E369))+1,10)","v":"1,5"},"HF","4",{"$f":"MID($E369,1, IF(ISERR(FIND(\"х\",$E369)), FIND(\"x\",$E369)-1, FIND(\"х\",$E369))-1)","v":"2"},{"$f":"F369","v":"1,5"},null,"","КПСнг(А)-FRHF 1х2х0,5-100м",{"$f":"IF(SUM(K$8:K368)=0, \"\", \" + \")","v":" + "}]
["2869",null,"КПСЭСнг(А)-FRHF 5х2х1,5",{"$f":"MID(C370, FIND(\" \",C370) +1, 100)","v":"5х2х1,5"},"2х1,5",{"$f":"MID($E370,IF(ISERR(FIND(\"х\",$E370)), FIND(\"x\",$E370)+1, FIND(\"х\",$E370))+1,10)","v":"1,5"},"HF","5",{"$f":"MID($E370,1, IF(ISERR(FIND(\"х\",$E370)), FIND(\"x\",$E370)-1, FIND(\"х\",$E370))-1)","v":"2"},{"$f":"F370","v":"1,5"},null,"","КПСнг(А)-FRHF 1х2х0,5-100м",{"$f":"IF(SUM(K$8:K369)=0, \"\", \" + \")","v":" + "}]
["979",null,"КПСЭСнг(А)-FRLS 1х2х1,5",{"$f":"MID(C371, FIND(\" \",C371) +1, 100)","v":"1х2х1,5"},"2х1,5",{"$f":"MID($E371,IF(ISERR(FIND(\"х\",$E371)), FIND(\"x\",$E371)+1, FIND(\"х\",$E371))+1,10)","v":"1,5"},"LS","1",{"$f":"MID($E371,1, IF(ISERR(FIND(\"х\",$E371)), FIND(\"x\",$E371)-1, FIND(\"х\",$E371))-1)","v":"2"},{"$f":"F371","v":"1,5"},null,"","КПСнг(А)-FRHF 1х2х0,5-100м",{"$f":"IF(SUM(K$8:K370)=0, \"\", \" + \")","v":" + "}]
["980",null,"КПСЭСнг(А)-FRLS 2х2х1,5",{"$f":"MID(C372, FIND(\" \",C372) +1, 100)","v":"2х2х1,5"},"2х1,5",{"$f":"MID($E372,IF(ISERR(FIND(\"х\",$E372)), FIND(\"x\",$E372)+1, FIND(\"х\",$E372))+1,10)","v":"1,5"},"LS","2",{"$f":"MID($E372,1, IF(ISERR(FIND(\"х\",$E372)), FIND(\"x\",$E372)-1, FIND(\"х\",$E372))-1)","v":"2"},{"$f":"F372","v":"1,5"},null,"","КПСнг(А)-FRHF 1х2х0,5-100м",{"$f":"IF(SUM(K$8:K371)=0, \"\", \" + \")","v":" + "}]
["2834",null,"КПСЭСнг(А)-FRLS 3х1,5",{"$f":"MID(C373, FIND(\" \",C373 ), 100)","v":" 3х1,5"},"1,5",null,"LS"," 3",null,{"$f":"E373","v":"1,5"},null,"","КПСнг(А)-FRHF 1х2х0,5-100м",{"$f":"IF(SUM(K$8:K372)=0, \"\", \" + \")","v":" + "}]
["17420",null,"КПСЭСнг(А)-FRLS 4х1,5",{"$f":"MID(C374, FIND(\" \",C374 ), 100)","v":" 4х1,5"},"1,5",null,"LS"," 4",null,{"$f":"E374","v":"1,5"},null,"","КПСнг(А)-FRHF 1х2х0,5-100м",{"$f":"IF(SUM(K$8:K373)=0, \"\", \" + \")","v":" + "}]
["16776",null,"КПСЭСнг(А)-FRLS 4х2х1,5",{"$f":"MID(C375, FIND(\" \",C375) +1, 100)","v":"4х2х1,5"},"2х1,5",{"$f":"MID($E375,IF(ISERR(FIND(\"х\",$E375)), FIND(\"x\",$E375)+1, FIND(\"х\",$E375))+1,10)","v":"1,5"},"LS","4",{"$f":"MID($E375,1, IF(ISERR(FIND(\"х\",$E375)), FIND(\"x\",$E375)-1, FIND(\"х\",$E375))-1)","v":"2"},{"$f":"F375","v":"1,5"},null,"","КПСнг(А)-FRHF 1х2х0,5-100м",{"$f":"IF(SUM(K$8:K374)=0, \"\", \" + \")","v":" + "}]
["21074",null,"КПСнг(А)-FRHF 16х2х1,5 ","16х2х1,5 ","2х1,5 ","1,5 ","HF","16","2","1,5 ",null,"","КПСнг(А)-FRHF 1х2х0,5-100м",{"$f":"IF(SUM(K$8:K375)=0, \"\", \" + \")","v":" + "}]
["20336",null,"КПСнг(А)-FRHF 5х2х1,5 ","5х2х1,5 ","2х1,5 ","1,5 ","HF","5","2","1,5 ",null,"","КПСнг(А)-FRHF 1х2х0,5-100м",{"$f":"IF(SUM(K$8:K376)=0, \"\", \" + \")","v":" + "}]
["20446",null,"КПСнг(А)-FRHF 8х2х1,5 ","8х2х1,5 ","2х1,5 ","1,5 ","HF","8","2","1,5 ",null,"","КПСнг(А)-FRHF 1х2х0,5-100м",{"$f":"IF(SUM(K$8:K377)=0, \"\", \" + \")","v":" + "}]
["22156",null,"КПСЭнг(А)-FRHF 12х2х1,5 ","12х2х1,5 ","2х1,5 ","1,5 ","HF","12","2","1,5 ",null,"","КПСнг(А)-FRHF 1х2х0,5-100м",{"$f":"IF(SUM(K$8:K378)=0, \"\", \" + \")","v":" + "}]
["20094",null,"КПСЭнг(А)-FRLS 9х2х1,5 ","9х2х1,5 ","2х1,5 ","1,5 ","LS","9","2","1,5 ",null,"","КПСнг(А)-FRHF 1х2х0,5-100м",{"$f":"IF(SUM(K$8:K379)=0, \"\", \" + \")","v":" + "}]
["20958",null,"КПСЭСнг(А)-FRLS 3х2х1,5 ","3х2х1,5 ","2х1,5 ","1,5 ","LS","3","2","1,5 ",null,"","КПСнг(А)-FRHF 1х2х0,5-100м",{"$f":"IF(SUM(K$8:K380)=0, \"\", \" + \")","v":" + "}]
["2301",null,"КПСнг(А)-FRHF 2х2х2,5","2х2х2,5","2х2,5","2,5","HF","2","2","2,5",null,"","КПСнг(А)-FRHF 1х2х0,5-100м",{"$f":"IF(SUM(K$8:K381)=0, \"\", \" + \")","v":" + "}]
["3174",null,"КПСнг(А)-FRHF 3х2,5",{"$f":"MID(C383, FIND(\" \",C383 ), 100)","v":" 3х2,5"},"2,5",null,"HF"," 3",null,{"$f":"E383","v":"2,5"},null,"","КПСнг(А)-FRHF 1х2х0,5-100м",{"$f":"IF(SUM(K$8:K382)=0, \"\", \" + \")","v":" + "}]
["17471",null,"КПСнг(А)-FRHF 3х2х2,5",{"$f":"MID(C384, FIND(\" \",C384) +1, 100)","v":"3х2х2,5"},"2х2,5",{"$f":"MID($E384,IF(ISERR(FIND(\"х\",$E384)), FIND(\"x\",$E384)+1, FIND(\"х\",$E384))+1,10)","v":"2,5"},"HF","3",{"$f":"MID($E384,1, IF(ISERR(FIND(\"х\",$E384)), FIND(\"x\",$E384)-1, FIND(\"х\",$E384))-1)","v":"2"},{"$f":"F384","v":"2,5"},null,"","КПСнг(А)-FRHF 1х2х0,5-100м",{"$f":"IF(SUM(K$8:K383)=0, \"\", \" + \")","v":" + "}]
["18646",null,"КПСнг(А)-FRHF 4х2,5",{"$f":"MID(C385, FIND(\" \",C385 ), 100)","v":" 4х2,5"},"2,5",null,"HF"," 4",null,{"$f":"E385","v":"2,5"},null,"","КПСнг(А)-FRHF 1х2х0,5-100м",{"$f":"IF(SUM(K$8:K384)=0, \"\", \" + \")","v":" + "}]
["6382",null,"КПСнг(А)-FRHF 6х2х2,5",{"$f":"MID(C386, FIND(\" \",C386) +1, 100)","v":"6х2х2,5"},"2х2,5",{"$f":"MID($E386,IF(ISERR(FIND(\"х\",$E386)), FIND(\"x\",$E386)+1, FIND(\"х\",$E386))+1,10)","v":"2,5"},"HF","6",{"$f":"MID($E386,1, IF(ISERR(FIND(\"х\",$E386)), FIND(\"x\",$E386)-1, FIND(\"х\",$E386))-1)","v":"2"},{"$f":"F386","v":"2,5"},null,"","КПСнг(А)-FRHF 1х2х0,5-100м",{"$f":"IF(SUM(K$8:K385)=0, \"\", \" + \")","v":" + "}]
["2283",null,"КПСнг(А)-FRLS 1х2х2,5",{"$f":"MID(C387, FIND(\" \",C387) +1, 100)","v":"1х2х2,5"},"2х2,5",{"$f":"MID($E387,IF(ISERR(FIND(\"х\",$E387)), FIND(\"x\",$E387)+1, FIND(\"х\",$E387))+1,10)","v":"2,5"},"LS","1",{"$f":"MID($E387,1, IF(ISERR(FIND(\"х\",$E387)), FIND(\"x\",$E387)-1, FIND(\"х\",$E387))-1)","v":"2"},{"$f":"F387","v":"2,5"},null,"","КПСнг(А)-FRHF 1х2х0,5-100м",{"$f":"IF(SUM(K$8:K386)=0, \"\", \" + \")","v":" + "}]
["2289",null,"КПСнг(А)-FRLS 2х2х2,5",{"$f":"MID(C388, FIND(\" \",C388) +1, 100)","v":"2х2х2,5"},"2х2,5",{"$f":"MID($E388,IF(ISERR(FIND(\"х\",$E388)), FIND(\"x\",$E388)+1, FIND(\"х\",$E388))+1,10)","v":"2,5"},"LS","2",{"$f":"MID($E388,1, IF(ISERR(FIND(\"х\",$E388)), FIND(\"x\",$E388)-1, FIND(\"х\",$E388))-1)","v":"2"},{"$f":"F388","v":"2,5"},null,"","КПСнг(А)-FRHF 1х2х0,5-100м",{"$f":"IF(SUM(K$8:K387)=0, \"\", \" + \")","v":" + "}]
["3022",null,"КПСнг(А)-FRLS 3х2,5",{"$f":"MID(C389, FIND(\" \",C389 ), 100)","v":" 3х2,5"},"2,5",null,"LS"," 3",null,{"$f":"E389","v":"2,5"},null,"","КПСнг(А)-FRHF 1х2х0,5-100м",{"$f":"IF(SUM(K$8:K388)=0, \"\", \" + \")","v":" + "}]
["16833",null,"КПСнг(А)-FRLS 3х2х2,5",{"$f":"MID(C390, FIND(\" \",C390) +1, 100)","v":"3х2х2,5"},"2х2,5",{"$f":"MID($E390,IF(ISERR(FIND(\"х\",$E390)), FIND(\"x\",$E390)+1, FIND(\"х\",$E390))+1,10)","v":"2,5"},"LS","3",{"$f":"MID($E390,1, IF(ISERR(FIND(\"х\",$E390)), FIND(\"x\",$E390)-1, FIND(\"х\",$E390))-1)","v":"2"},{"$f":"F390","v":"2,5"},null,"","КПСнг(А)-FRHF 1х2х0,5-100м",{"$f":"IF(SUM(K$8:K389)=0, \"\", \" + \")","v":" + "}]
["3887",null,"КПСнг(А)-FRLS 4х2,5",{"$f":"MID(C391, FIND(\" \",C391 ), 100)","v":" 4х2,5"},"2,5",null,"LS"," 4",null,{"$f":"E391","v":"2,5"},null,"","КПСнг(А)-FRHF 1х2х0,5-100м",{"$f":"IF(SUM(K$8:K390)=0, \"\", \" + \")","v":" + "}]
["3075",null,"КПСнг(А)-FRLS 4х2х2,5",{"$f":"MID(C392, FIND(\" \",C392) +1, 100)","v":"4х2х2,5"},"2х2,5",{"$f":"MID($E392,IF(ISERR(FIND(\"х\",$E392)), FIND(\"x\",$E392)+1, FIND(\"х\",$E392))+1,10)","v":"2,5"},"LS","4",{"$f":"MID($E392,1, IF(ISERR(FIND(\"х\",$E392)), FIND(\"x\",$E392)-1, FIND(\"х\",$E392))-1)","v":"2"},{"$f":"F392","v":"2,5"},null,"","КПСнг(А)-FRHF 1х2х0,5-100м",{"$f":"IF(SUM(K$8:K391)=0, \"\", \" + \")","v":" + "}]
["17706",null,"КПСнг(А)-FRLS 7х2х2,5","7х2х2,5","2х2,5","2,5","LS","7","2","2,5",null,"","КПСнг(А)-FRHF 1х2х0,5-100м",{"$f":"IF(SUM(K$8:K392)=0, \"\", \" + \")","v":" + "}]
["4444",null,"КПСнг(А)-FRLS 8х2х2,5","8х2х2,5",{"$f":"MID($D394,IF(ISERR(FIND(\"х\",$D394)), FIND(\"x\",$D394)+1, FIND(\"х\",$D394))+1, 100)","v":"2х2,5"},"2,5",{"$f":"MID(C394,FIND(\"FR\",C394)+2, 2)","v":"LS"},{"$f":"MID($D394,1, IF(ISERR(FIND(\"х\",$D394)), FIND(\"x\",$D394)-1, FIND(\"х\",$D394))-1)","v":"8"},"2","2,5",null,{"$f":"IF(K394=0, \"\",CONCATENATE(N394, C394, \"-\",K394,\"м\"))","v":""},{"$f":"CONCATENATE(M393,L394)","v":"КПСнг(А)-FRHF 1х2х0,5-100м"},{"$f":"IF(SUM(K$8:K393)=0, \"\", \" + \")","v":" + "}]
["2802",null,"КПССнг(А)-FRHF 1х2х2,5","1х2х2,5","2х2,5","2,5","HF","1","2","2,5",null,"","КПСнг(А)-FRHF 1х2х0,5-100м",{"$f":"IF(SUM(K$8:K394)=0, \"\", \" + \")","v":" + "}]
["2808",null,"КПССнг(А)-FRHF 2х2х2,5","2х2х2,5","2х2,5","2,5","HF","2","2","2,5",null,"","КПСнг(А)-FRHF 1х2х0,5-100м",{"$f":"IF(SUM(K$8:K395)=0, \"\", \" + \")","v":" + "}]
["2791",null,"КПССнг(А)-FRLS 1х2х2,5","1х2х2,5","2х2,5","2,5","LS","1","2","2,5",null,"","КПСнг(А)-FRHF 1х2х0,5-100м",{"$f":"IF(SUM(K$8:K396)=0, \"\", \" + \")","v":" + "}]
["2796",null,"КПССнг(А)-FRLS 2х2х2,5","2х2х2,5","2х2,5","2,5","LS","2","2","2,5",null,"","КПСнг(А)-FRHF 1х2х0,5-100м",{"$f":"IF(SUM(K$8:K397)=0, \"\", \" + \")","v":" + "}]
["17436",null,"КПСЭнг(А)-FRHF 12х2х2,5","12х2х2,5","2х2,5","2,5","HF","12","2","2,5",null,"","КПСнг(А)-FRHF 1х2х0,5-100м",{"$f":"IF(SUM(K$8:K398)=0, \"\", \" + \")","v":" + "}]
["951",null,"КПСЭнг(А)-FRHF 1х2х2,5","1х2х2,5","2х2,5","2,5","HF","1","2","2,5",null,"","КПСнг(А)-FRHF 1х2х0,5-100м",{"$f":"IF(SUM(K$8:K399)=0, \"\", \" + \")","v":" + "}]
["952",null,"КПСЭнг(А)-FRHF 2х2х2,5","2х2х2,5","2х2,5","2,5","HF","2","2","2,5",null,"","КПСнг(А)-FRHF 1х2х0,5-100м",{"$f":"IF(SUM(K$8:K400)=0, \"\", \" + \")","v":" + "}]
["4814",null,"КПСЭнг(А)-FRHF 3х2,5",{"$f":"MID(C402, FIND(\" \",C402 ), 100)","v":" 3х2,5"},"2,5",null,"HF"," 3",null,{"$f":"E402","v":"2,5"},null,"","КПСнг(А)-FRHF 1х2х0,5-100м",{"$f":"IF(SUM(K$8:K401)=0, \"\", \" + \")","v":" + "}]
["1167",null,"КПСЭнг(А)-FRHF 3х2х2,5",{"$f":"MID(C403, FIND(\" \",C403) +1, 100)","v":"3х2х2,5"},"2х2,5",{"$f":"MID($E403,IF(ISERR(FIND(\"х\",$E403)), FIND(\"x\",$E403)+1, FIND(\"х\",$E403))+1,10)","v":"2,5"},"HF","3",{"$f":"MID($E403,1, IF(ISERR(FIND(\"х\",$E403)), FIND(\"x\",$E403)-1, FIND(\"х\",$E403))-1)","v":"2"},{"$f":"F403","v":"2,5"},null,"","КПСнг(А)-FRHF 1х2х0,5-100м",{"$f":"IF(SUM(K$8:K402)=0, \"\", \" + \")","v":" + "}]
["3181",null,"КПСЭнг(А)-FRHF 4х2,5",{"$f":"MID(C404, FIND(\" \",C404 ), 100)","v":" 4х2,5"},"2,5",null,"HF"," 4",null,{"$f":"E404","v":"2,5"},null,"","КПСнг(А)-FRHF 1х2х0,5-100м",{"$f":"IF(SUM(K$8:K403)=0, \"\", \" + \")","v":" + "}]
["5157",null,"КПСЭнг(А)-FRHF 4х2х2,5",{"$f":"MID(C405, FIND(\" \",C405) +1, 100)","v":"4х2х2,5"},"2х2,5",{"$f":"MID($E405,IF(ISERR(FIND(\"х\",$E405)), FIND(\"x\",$E405)+1, FIND(\"х\",$E405))+1,10)","v":"2,5"},"HF","4",{"$f":"MID($E405,1, IF(ISERR(FIND(\"х\",$E405)), FIND(\"x\",$E405)-1, FIND(\"х\",$E405))-1)","v":"2"},{"$f":"F405","v":"2,5"},null,"","КПСнг(А)-FRHF 1х2х0,5-100м",{"$f":"IF(SUM(K$8:K404)=0, \"\", \" + \")","v":" + "}]
["6383",null,"КПСЭнг(А)-FRHF 6х2х2,5",{"$f":"MID(C406, FIND(\" \",C406) +1, 100)","v":"6х2х2,5"},"2х2,5",{"$f":"MID($E406,IF(ISERR(FIND(\"х\",$E406)), FIND(\"x\",$E406)+1, FIND(\"х\",$E406))+1,10)","v":"2,5"},"HF","6",{"$f":"MID($E406,1, IF(ISERR(FIND(\"х\",$E406)), FIND(\"x\",$E406)-1, FIND(\"х\",$E406))-1)","v":"2"},{"$f":"F406","v":"2,5"},null,"","КПСнг(А)-FRHF 1х2х0,5-100м",{"$f":"IF(SUM(K$8:K405)=0, \"\", \" + \")","v":" + "}]
["5155",null,"КПСЭнг(А)-FRLS 10х2х2,5",{"$f":"MID(C407, FIND(\" \",C407) +1, 100)","v":"10х2х2,5"},"2х2,5",{"$f":"MID($E407,IF(ISERR(FIND(\"х\",$E407)), FIND(\"x\",$E407)+1, FIND(\"х\",$E407))+1,10)","v":"2,5"},"LS","10",{"$f":"MID($E407,1, IF(ISERR(FIND(\"х\",$E407)), FIND(\"x\",$E407)-1, FIND(\"х\",$E407))-1)","v":"2"},{"$f":"F407","v":"2,5"},null,"","КПСнг(А)-FRHF 1х2х0,5-100м",{"$f":"IF(SUM(K$8:K406)=0, \"\", \" + \")","v":" + "}]
["961",null,"КПСЭнг(А)-FRLS 1х2х2,5",{"$f":"MID(C408, FIND(\" \",C408) +1, 100)","v":"1х2х2,5"},"2х2,5",{"$f":"MID($E408,IF(ISERR(FIND(\"х\",$E408)), FIND(\"x\",$E408)+1, FIND(\"х\",$E408))+1,10)","v":"2,5"},"LS","1",{"$f":"MID($E408,1, IF(ISERR(FIND(\"х\",$E408)), FIND(\"x\",$E408)-1, FIND(\"х\",$E408))-1)","v":"2"},{"$f":"F408","v":"2,5"},null,"","КПСнг(А)-FRHF 1х2х0,5-100м",{"$f":"IF(SUM(K$8:K407)=0, \"\", \" + \")","v":" + "}]
["962",null,"КПСЭнг(А)-FRLS 2х2х2,5",{"$f":"MID(C409, FIND(\" \",C409) +1, 100)","v":"2х2х2,5"},"2х2,5",{"$f":"MID($E409,IF(ISERR(FIND(\"х\",$E409)), FIND(\"x\",$E409)+1, FIND(\"х\",$E409))+1,10)","v":"2,5"},"LS","2",{"$f":"MID($E409,1, IF(ISERR(FIND(\"х\",$E409)), FIND(\"x\",$E409)-1, FIND(\"х\",$E409))-1)","v":"2"},{"$f":"F409","v":"2,5"},null,"","КПСнг(А)-FRHF 1х2х0,5-100м",{"$f":"IF(SUM(K$8:K408)=0, \"\", \" + \")","v":" + "}]
["2652",null,"КПСЭнг(А)-FRLS 3х2,5",{"$f":"MID(C410, FIND(\" \",C410 ), 100)","v":" 3х2,5"},"2,5",null,"LS"," 3",null,{"$f":"E410","v":"2,5"},null,"","КПСнг(А)-FRHF 1х2х0,5-100м",{"$f":"IF(SUM(K$8:K409)=0, \"\", \" + \")","v":" + "}]
["4485",null,"КПСЭнг(А)-FRLS 3х2х2,5",{"$f":"MID(C411, FIND(\" \",C411) +1, 100)","v":"3х2х2,5"},"2х2,5",{"$f":"MID($E411,IF(ISERR(FIND(\"х\",$E411)), FIND(\"x\",$E411)+1, FIND(\"х\",$E411))+1,10)","v":"2,5"},"LS","3",{"$f":"MID($E411,1, IF(ISERR(FIND(\"х\",$E411)), FIND(\"x\",$E411)-1, FIND(\"х\",$E411))-1)","v":"2"},{"$f":"F411","v":"2,5"},null,"","КПСнг(А)-FRHF 1х2х0,5-100м",{"$f":"IF(SUM(K$8:K410)=0, \"\", \" + \")","v":" + "}]
["3073",null,"КПСЭнг(А)-FRLS 4х2,5",{"$f":"MID(C412, FIND(\" \",C412 ), 100)","v":" 4х2,5"},"2,5",null,"LS"," 4",null,{"$f":"E412","v":"2,5"},null,"","КПСнг(А)-FRHF 1х2х0,5-100м",{"$f":"IF(SUM(K$8:K411)=0, \"\", \" + \")","v":" + "}]
["2159",null,"КПСЭнг(А)-FRLS 4х2х2,5",{"$f":"MID(C413, FIND(\" \",C413) +1, 100)","v":"4х2х2,5"},"2х2,5",{"$f":"MID($E413,IF(ISERR(FIND(\"х\",$E413)), FIND(\"x\",$E413)+1, FIND(\"х\",$E413))+1,10)","v":"2,5"},"LS","4",{"$f":"MID($E413,1, IF(ISERR(FIND(\"х\",$E413)), FIND(\"x\",$E413)-1, FIND(\"х\",$E413))-1)","v":"2"},{"$f":"F413","v":"2,5"},null,"","КПСнг(А)-FRHF 1х2х0,5-100м",{"$f":"IF(SUM(K$8:K412)=0, \"\", \" + \")","v":" + "}]
["3007",null,"КПСЭнг(А)-FRLS 5х2х2,5","5х2х2,5","2х2,5","2,5","LS","5","2","2,5",null,"","КПСнг(А)-FRHF 1х2х0,5-100м",{"$f":"IF(SUM(K$8:K413)=0, \"\", \" + \")","v":" + "}]
["4504",null,"КПСЭнг(А)-FRLS 7х2х2,5","7х2х2,5","2х2,5","2,5","LS","7","2","2,5",null,"","КПСнг(А)-FRHF 1х2х0,5-100м",{"$f":"IF(SUM(K$8:K414)=0, \"\", \" + \")","v":" + "}]
["18374",null,"КПСЭнг(А)-FRLS 8х2х2,5","8х2х2,5","2х2,5","2,5","LS","8","2","2,5",null,"","КПСнг(А)-FRHF 1х2х0,5-100м",{"$f":"IF(SUM(K$8:K415)=0, \"\", \" + \")","v":" + "}]
["17633",null,"КПСЭнг(А)-FRLS 9х2х2,5","9х2х2,5","2х2,5","2,5","LS","9","2","2,5",null,"","КПСнг(А)-FRHF 1х2х0,5-100м",{"$f":"IF(SUM(K$8:K416)=0, \"\", \" + \")","v":" + "}]
["971",null,"КПСЭСнг(А)-FRHF 1х2х2,5","1х2х2,5","2х2,5","2,5","HF","1","2","2,5",null,"","КПСнг(А)-FRHF 1х2х0,5-100м",{"$f":"IF(SUM(K$8:K417)=0, \"\", \" + \")","v":" + "}]
["972",null,"КПСЭСнг(А)-FRHF 2х2х2,5","2х2х2,5","2х2,5","2,5","HF","2","2","2,5",null,"","КПСнг(А)-FRHF 1х2х0,5-100м",{"$f":"IF(SUM(K$8:K418)=0, \"\", \" + \")","v":" + "}]
["5156",null,"КПСЭСнг(А)-FRHF 4х2,5",{"$f":"MID(C420, FIND(\" \",C420 ), 100)","v":" 4х2,5"},"2,5",null,"HF"," 4",null,{"$f":"E420","v":"2,5"},null,"","КПСнг(А)-FRHF 1х2х0,5-100м",{"$f":"IF(SUM(K$8:K419)=0, \"\", \" + \")","v":" + "}]
["17646",null,"КПСЭСнг(А)-FRHF 4х2х2,5",{"$f":"MID(C421, FIND(\" \",C421) +1, 100)","v":"4х2х2,5"},"2х2,5",{"$f":"MID($E421,IF(ISERR(FIND(\"х\",$E421)), FIND(\"x\",$E421)+1, FIND(\"х\",$E421))+1,10)","v":"2,5"},"HF","4",{"$f":"MID($E421,1, IF(ISERR(FIND(\"х\",$E421)), FIND(\"x\",$E421)-1, FIND(\"х\",$E421))-1)","v":"2"},{"$f":"F421","v":"2,5"},null,"","КПСнг(А)-FRHF 1х2х0,5-100м",{"$f":"IF(SUM(K$8:K420)=0, \"\", \" + \")","v":" + "}]
["4623",null,"КПСЭСнг(А)-FRHF 5х2х2,5",{"$f":"MID(C422, FIND(\" \",C422) +1, 100)","v":"5х2х2,5"},"2х2,5",{"$f":"MID($E422,IF(ISERR(FIND(\"х\",$E422)), FIND(\"x\",$E422)+1, FIND(\"х\",$E422))+1,10)","v":"2,5"},"HF","5",{"$f":"MID($E422,1, IF(ISERR(FIND(\"х\",$E422)), FIND(\"x\",$E422)-1, FIND(\"х\",$E422))-1)","v":"2"},{"$f":"F422","v":"2,5"},null,"","КПСнг(А)-FRHF 1х2х0,5-100м",{"$f":"IF(SUM(K$8:K421)=0, \"\", \" + \")","v":" + "}]
["981",null,"КПСЭСнг(А)-FRLS 1х2х2,5",{"$f":"MID(C423, FIND(\" \",C423) +1, 100)","v":"1х2х2,5"},"2х2,5",{"$f":"MID($E423,IF(ISERR(FIND(\"х\",$E423)), FIND(\"x\",$E423)+1, FIND(\"х\",$E423))+1,10)","v":"2,5"},"LS","1",{"$f":"MID($E423,1, IF(ISERR(FIND(\"х\",$E423)), FIND(\"x\",$E423)-1, FIND(\"х\",$E423))-1)","v":"2"},{"$f":"F423","v":"2,5"},null,"","КПСнг(А)-FRHF 1х2х0,5-100м",{"$f":"IF(SUM(K$8:K422)=0, \"\", \" + \")","v":" + "}]
["982",null,"КПСЭСнг(А)-FRLS 2х2х2,5",{"$f":"MID(C424, FIND(\" \",C424) +1, 100)","v":"2х2х2,5"},"2х2,5",{"$f":"MID($E424,IF(ISERR(FIND(\"х\",$E424)), FIND(\"x\",$E424)+1, FIND(\"х\",$E424))+1,10)","v":"2,5"},"LS","2",{"$f":"MID($E424,1, IF(ISERR(FIND(\"х\",$E424)), FIND(\"x\",$E424)-1, FIND(\"х\",$E424))-1)","v":"2"},{"$f":"F424","v":"2,5"},null,"","КПСнг(А)-FRHF 1х2х0,5-100м",{"$f":"IF(SUM(K$8:K423)=0, \"\", \" + \")","v":" + "}]
["16467",null,"КПСЭСнг(А)-FRLS 3х2,5",{"$f":"MID(C425, FIND(\" \",C425 ), 100)","v":" 3х2,5"},"2,5",null,"LS"," 3",null,{"$f":"E425","v":"2,5"},null,"","КПСнг(А)-FRHF 1х2х0,5-100м",{"$f":"IF(SUM(K$8:K424)=0, \"\", \" + \")","v":" + "}]
["4513",null,"КПСЭСнг(А)-FRLS 4х2,5",{"$f":"MID(C426, FIND(\" \",C426 ), 100)","v":" 4х2,5"},"2,5",null,"LS"," 4",null,{"$f":"E426","v":"2,5"},null,"","КПСнг(А)-FRHF 1х2х0,5-100м",{"$f":"IF(SUM(K$8:K425)=0, \"\", \" + \")","v":" + "}]
["19900",null,"КПССнг(А)-FRLS 4х2,5 ",{"$f":"MID(C427, FIND(\" \",C427 ), 100)","v":" 4х2,5 "},"2,5 ",null,"LS"," 4",null,{"$f":"E427","v":"2,5 "},null,"","КПСнг(А)-FRHF 1х2х0,5-100м",{"$f":"IF(SUM(K$8:K426)=0, \"\", \" + \")","v":" + "}]
[]
[null,null,null,null,null,null,null,null,null,null,null,{"$f":"IF(K429=0, \"\",CONCATENATE(N429, C429, \"-\",K429,\"м\"))","v":""},{"$f":"CONCATENATE(M427,L429)","v":"КПСнг(А)-FRHF 1х2х0,5-100м"},{"$f":"IF(SUM(K$8:K427)=0, \"\", \" + \")","v":" + "}]
[null,null,null,null,null,null,null,null,null,null,null,"",{"$f":"CONCATENATE(M429,L430)","v":"КПСнг(А)-FRHF 1х2х0,5-100м"},{"$f":"IF(SUM(K$8:K429)=0, \"\", \" + \")","v":" + "}]
[null,null,null,null,null,null,null,null,null,null,null,"","КПСнг(А)-FRHF 1х2х0,5-100м",{"$f":"IF(SUM(K$8:K430)=0, \"\", \" + \")","v":" + "}]
[null,null,null,null,null,null,null,null,null,null,null,"","КПСнг(А)-FRHF 1х2х0,5-100м",{"$f":"IF(SUM(K$8:K431)=0, \"\", \" + \")","v":" + "}]
[null,null,null,null,null,null,null,null,null,null,null,"","КПСнг(А)-FRHF 1х2х0,5-100м",{"$f":"IF(SUM(K$8:K432)=0, \"\", \" + \")","v":" + "}]
[null,null,null,null,null,null,null,null,null,null,null,"","КПСнг(А)-FRHF 1х2х0,5-100м",{"$f":"IF(SUM(K$8:K433)=0, \"\", \" + \")","v":" + "}]
[null,null,null,null,null,null,null,null,null,null,null,"","КПСнг(А)-FRHF 1х2х0,5-100м",{"$f":"IF(SUM(K$8:K434)=0, \"\", \" + \")","v":" + "}]
[null,null,null,null,null,null,null,null,null,null,null,"","КПСнг(А)-FRHF 1х2х0,5-100м",{"$f":"IF(SUM(K$8:K435)=0, \"\", \" + \")","v":" + "}]
[null,null,null,null,null,null,null,null,null,null,null,"","КПСнг(А)-FRHF 1х2х0,5-100м",{"$f":"IF(SUM(K$8:K436)=0, \"\", \" + \")","v":" + "}]
[null,null,null,null,null,null,null,null,null,null,null,"","КПСнг(А)-FRHF 1х2х0,5-100м",{"$f":"IF(SUM(K$8:K437)=0, \"\", \" + \")","v":" + "}]
[null,null,null,null,null,null,null,null,null,null,null,"","КПСнг(А)-FRHF 1х2х0,5-100м",{"$f":"IF(SUM(K$8:K438)=0, \"\", \" + \")","v":" + "}]
[null,null,null,null,null,null,null,null,null,null,null,"","КПСнг(А)-FRHF 1х2х0,5-100м",{"$f":"IF(SUM(K$8:K439)=0, \"\", \" + \")","v":" + "}]
[null,null,null,null,null,null,null,null,null,null,null,"","КПСнг(А)-FRHF 1х2х0,5-100м",{"$f":"IF(SUM(K$8:K440)=0, \"\", \" + \")","v":" + "}]
[null,null,null,null,null,null,null,null,null,null,null,"","КПСнг(А)-FRHF 1х2х0,5-100м",{"$f":"IF(SUM(K$8:K441)=0, \"\", \" + \")","v":" + "}]
[null,null,null,null,null,null,null,null,null,null,null,"","КПСнг(А)-FRHF 1х2х0,5-100м",{"$f":"IF(SUM(K$8:K442)=0, \"\", \" + \")","v":" + "}]
[null,null,null,null,null,null,null,null,null,null,null,"","КПСнг(А)-FRHF 1х2х0,5-100м",{"$f":"IF(SUM(K$8:K443)=0, \"\", \" + \")","v":" + "}]
[null,null,null,null,null,null,null,null,null,null,null,"","КПСнг(А)-FRHF 1х2х0,5-100м",{"$f":"IF(SUM(K$8:K444)=0, \"\", \" + \")","v":" + "}]
[null,null,null,null,null,null,null,null,null,null,null,"","КПСнг(А)-FRHF 1х2х0,5-100м",{"$f":"IF(SUM(K$8:K445)=0, \"\", \" + \")","v":" + "}]
[null,null,null,null,null,null,null,null,null,null,null,"","КПСнг(А)-FRHF 1х2х0,5-100м",{"$f":"IF(SUM(K$8:K446)=0, \"\", \" + \")","v":" + "}]
[null,null,null,null,null,null,null,null,null,null,null,"","КПСнг(А)-FRHF 1х2х0,5-100м",{"$f":"IF(SUM(K$8:K447)=0, \"\", \" + \")","v":" + "}]
[null,null,null,null,null,null,null,null,null,null,null,"","КПСнг(А)-FRHF 1х2х0,5-100м",{"$f":"IF(SUM(K$8:K448)=0, \"\", \" + \")","v":" + "}]
[null,null,null,null,null,null,null,null,null,null,null,"","КПСнг(А)-FRHF 1х2х0,5-100м",{"$f":"IF(SUM(K$8:K449)=0, \"\", \" + \")","v":" + "}]
[null,null,null,null,null,null,null,null,null,null,null,"","КПСнг(А)-FRHF 1х2х0,5-100м",{"$f":"IF(SUM(K$8:K450)=0, \"\", \" + \")","v":" + "}]
[null,null,null,null,null,null,null,null,null,null,null,"","КПСнг(А)-FRHF 1х2х0,5-100м",{"$f":"IF(SUM(K$8:K451)=0, \"\", \" + \")","v":" + "}]
[null,null,null,null,null,null,null,null,null,null,null,"","КПСнг(А)-FRHF 1х2х0,5-100м",{"$f":"IF(SUM(K$8:K452)=0, \"\", \" + \")","v":" + "}]
[null,null,null,null,null,null,null,null,null,null,null,"","КПСнг(А)-FRHF 1х2х0,5-100м",{"$f":"IF(SUM(K$8:K453)=0, \"\", \" + \")","v":" + "}]
[null,null,null,null,null,null,null,null,null,null,null,"","КПСнг(А)-FRHF 1х2х0,5-100м",{"$f":"IF(SUM(K$8:K454)=0, \"\", \" + \")","v":" + "}]
[null,null,null,null,null,null,null,null,null,null,null,"","КПСнг(А)-FRHF 1х2х0,5-100м",{"$f":"IF(SUM(K$8:K455)=0, \"\", \" + \")","v":" + "}]
[null,null,null,null,null,null,null,null,null,null,null,"","КПСнг(А)-FRHF 1х2х0,5-100м",{"$f":"IF(SUM(K$8:K456)=0, \"\", \" + \")","v":" + "}]
[null,null,null,null,null,null,null,null,null,null,null,"","КПСнг(А)-FRHF 1х2х0,5-100м",{"$f":"IF(SUM(K$8:K457)=0, \"\", \" + \")","v":" + "}]
[null,null,null,null,null,null,null,null,null,null,null,"","КПСнг(А)-FRHF 1х2х0,5-100м",{"$f":"IF(SUM(K$8:K458)=0, \"\", \" + \")","v":" + "}]
[null,null,null,null,null,null,null,null,null,null,null,"","КПСнг(А)-FRHF 1х2х0,5-100м",{"$f":"IF(SUM(K$8:K459)=0, \"\", \" + \")","v":" + "}]
[null,null,null,null,null,null,null,null,null,null,null,"","КПСнг(А)-FRHF 1х2х0,5-100м",{"$f":"IF(SUM(K$8:K460)=0, \"\", \" + \")","v":" + "}]
[null,null,null,null,null,null,null,null,null,null,null,"","КПСнг(А)-FRHF 1х2х0,5-100м",{"$f":"IF(SUM(K$8:K461)=0, \"\", \" + \")","v":" + "}]
[null,null,null,null,null,null,null,null,null,null,null,"","КПСнг(А)-FRHF 1х2х0,5-100м",{"$f":"IF(SUM(K$8:K462)=0, \"\", \" + \")","v":" + "}]
[null,null,null,null,null,null,null,null,null,null,null,"","КПСнг(А)-FRHF 1х2х0,5-100м",{"$f":"IF(SUM(K$8:K463)=0, \"\", \" + \")","v":" + "}]
[null,null,null,null,null,null,null,null,null,null,null,"","КПСнг(А)-FRHF 1х2х0,5-100м",{"$f":"IF(SUM(K$8:K464)=0, \"\", \" + \")","v":" + "}]
[null,null,null,null,null,null,null,null,null,null,null,"","КПСнг(А)-FRHF 1х2х0,5-100м",{"$f":"IF(SUM(K$8:K465)=0, \"\", \" + \")","v":" + "}]
[null,null,null,null,null,null,null,null,null,null,null,"","КПСнг(А)-FRHF 1х2х0,5-100м",{"$f":"IF(SUM(K$8:K466)=0, \"\", \" + \")","v":" + "}]
[null,null,null,null,null,null,null,null,null,null,null,"","КПСнг(А)-FRHF 1х2х0,5-100м",{"$f":"IF(SUM(K$8:K467)=0, \"\", \" + \")","v":" + "}]
[null,null,null,null,null,null,null,null,null,null,null,"","КПСнг(А)-FRHF 1х2х0,5-100м",{"$f":"IF(SUM(K$8:K468)=0, \"\", \" + \")","v":" + "}]
[null,null,null,null,null,null,null,null,null,null,null,"","КПСнг(А)-FRHF 1х2х0,5-100м",{"$f":"IF(SUM(K$8:K469)=0, \"\", \" + \")","v":" + "}]
[null,null,null,null,null,null,null,null,null,null,null,"","КПСнг(А)-FRHF 1х2х0,5-100м",{"$f":"IF(SUM(K$8:K470)=0, \"\", \" + \")","v":" + "}]
[null,null,null,null,null,null,null,null,null,null,null,"","КПСнг(А)-FRHF 1х2х0,5-100м",{"$f":"IF(SUM(K$8:K471)=0, \"\", \" + \")","v":" + "}]
[null,null,null,null,null,null,null,null,null,null,null,"","КПСнг(А)-FRHF 1х2х0,5-100м",{"$f":"IF(SUM(K$8:K472)=0, \"\", \" + \")","v":" + "}]
[null,null,null,null,null,null,null,null,null,null,null,"","КПСнг(А)-FRHF 1х2х0,5-100м",{"$f":"IF(SUM(K$8:K473)=0, \"\", \" + \")","v":" + "}]
[null,null,null,null,null,null,null,null,null,null,null,"","КПСнг(А)-FRHF 1х2х0,5-100м",{"$f":"IF(SUM(K$8:K474)=0, \"\", \" + \")","v":" + "}]
[null,null,null,null,null,null,null,null,null,null,null,"","КПСнг(А)-FRHF 1х2х0,5-100м",{"$f":"IF(SUM(K$8:K475)=0, \"\", \" + \")","v":" + "}]
[null,null,null,null,null,null,null,null,null,null,null,"","КПСнг(А)-FRHF 1х2х0,5-100м",{"$f":"IF(SUM(K$8:K476)=0, \"\", \" + \")","v":" + "}]
[null,null,null,null,null,null,null,null,null,null,null,"","КПСнг(А)-FRHF 1х2х0,5-100м",{"$f":"IF(SUM(K$8:K477)=0, \"\", \" + \")","v":" + "}]
[null,null,null,null,null,null,null,null,null,null,null,"","КПСнг(А)-FRHF 1х2х0,5-100м",{"$f":"IF(SUM(K$8:K478)=0, \"\", \" + \")","v":" + "}]
[null,null,null,null,null,null,null,null,null,null,null,"","КПСнг(А)-FRHF 1х2х0,5-100м",{"$f":"IF(SUM(K$8:K479)=0, \"\", \" + \")","v":" + "}]
[null,null,null,null,null,null,null,null,null,null,null,"","КПСнг(А)-FRHF 1х2х0,5-100м",{"$f":"IF(SUM(K$8:K480)=0, \"\", \" + \")","v":" + "}]
[null,null,null,null,null,null,null,null,null,null,null,"","КПСнг(А)-FRHF 1х2х0,5-100м",{"$f":"IF(SUM(K$8:K481)=0, \"\", \" + \")","v":" + "}]
[null,null,null,null,null,null,null,null,null,null,null,"","КПСнг(А)-FRHF 1х2х0,5-100м",{"$f":"IF(SUM(K$8:K482)=0, \"\", \" + \")","v":" + "}]
[null,null,null,null,null,null,null,null,null,null,null,"","КПСнг(А)-FRHF 1х2х0,5-100м",{"$f":"IF(SUM(K$8:K483)=0, \"\", \" + \")","v":" + "}]
[null,null,null,null,null,null,null,null,null,null,null,"","КПСнг(А)-FRHF 1х2х0,5-100м",{"$f":"IF(SUM(K$8:K484)=0, \"\", \" + \")","v":" + "}]
[null,null,null,null,null,null,null,null,null,null,null,"","КПСнг(А)-FRHF 1х2х0,5-100м",{"$f":"IF(SUM(K$8:K485)=0, \"\", \" + \")","v":" + "}]
[null,null,null,null,null,null,null,null,null,null,null,"","КПСнг(А)-FRHF 1х2х0,5-100м",{"$f":"IF(SUM(K$8:K486)=0, \"\", \" + \")","v":" + "}]
[null,null,null,null,null,null,null,null,null,null,null,"","КПСнг(А)-FRHF 1х2х0,5-100м",{"$f":"IF(SUM(K$8:K487)=0, \"\", \" + \")","v":" + "}]
[null,null,null,null,null,null,null,null,null,null,null,"","КПСнг(А)-FRHF 1х2х0,5-100м",{"$f":"IF(SUM(K$8:K488)=0, \"\", \" + \")","v":" + "}]
[null,null,null,null,null,null,null,null,null,null,null,"","КПСнг(А)-FRHF 1х2х0,5-100м",{"$f":"IF(SUM(K$8:K489)=0, \"\", \" + \")","v":" + "}]
[null,null,null,null,null,null,null,null,null,null,null,"","КПСнг(А)-FRHF 1х2х0,5-100м",{"$f":"IF(SUM(K$8:K490)=0, \"\", \" + \")","v":" + "}]
[null,null,null,null,null,null,null,null,null,null,null,"","КПСнг(А)-FRHF 1х2х0,5-100м",{"$f":"IF(SUM(K$8:K491)=0, \"\", \" + \")","v":" + "}]
[null,null,null,null,null,null,null,null,null,null,null,{"$f":"IF(K493=0, \"\",CONCATENATE(N493, C493, \"-\",K493,\"м\"))","v":""},"КПСнг(А)-FRHF 1х2х0,5-100м",{"$f":"IF(SUM(K$8:K492)=0, \"\", \" + \")","v":" + "}]
[null,null,null,null,null,null,null,null,null,null,null,"",{"$f":"CONCATENATE(M493,L494)","v":"КПСнг(А)-FRHF 1х2х0,5-100м"},{"$f":"IF(SUM(K$8:K493)=0, \"\", \" + \")","v":" + "}]
[null,null,null,null,null,null,null,null,null,null,null,"","КПСнг(А)-FRHF 1х2х0,5-100м",{"$f":"IF(SUM(K$8:K494)=0, \"\", \" + \")","v":" + "}]
[null,null,null,null,null,null,null,null,null,null,null,"","КПСнг(А)-FRHF 1х2х0,5-100м",{"$f":"IF(SUM(K$8:K495)=0, \"\", \" + \")","v":" + "}]
[null,null,null,null,null,null,null,null,null,null,null,"","КПСнг(А)-FRHF 1х2х0,5-100м",{"$f":"IF(SUM(K$8:K496)=0, \"\", \" + \")","v":" + "}]
[null,null,null,null,null,null,null,null,null,null,null,"","КПСнг(А)-FRHF 1х2х0,5-100м",{"$f":"IF(SUM(K$8:K497)=0, \"\", \" + \")","v":" + "}]
[null,null,null,null,null,null,null,null,null,null,null,"","КПСнг(А)-FRHF 1х2х0,5-100м",{"$f":"IF(SUM(K$8:K498)=0, \"\", \" + \")","v":" + "}]
[null,null,null,null,null,null,null,null,null,null,null,"","КПСнг(А)-FRHF 1х2х0,5-100м",{"$f":"IF(SUM(K$8:K499)=0, \"\", \" + \")","v":" + "}]
[null,null,null,null,null,null,null,null,null,null,null,"","КПСнг(А)-FRHF 1х2х0,5-100м",{"$f":"IF(SUM(K$8:K500)=0, \"\", \" + \")","v":" + "}]
[null,null,null,null,null,null,null,null,null,null,null,"","КПСнг(А)-FRHF 1х2х0,5-100м",{"$f":"IF(SUM(K$8:K501)=0, \"\", \" + \")","v":" + "}]
[null,null,null,null,null,null,null,null,null,null,null,"","КПСнг(А)-FRHF 1х2х0,5-100м",{"$f":"IF(SUM(K$8:K502)=0, \"\", \" + \")","v":" + "}]
[null,null,null,null,null,null,null,null,null,null,null,"","КПСнг(А)-FRHF 1х2х0,5-100м",{"$f":"IF(SUM(K$8:K503)=0, \"\", \" + \")","v":" + "}]
[null,null,null,null,null,null,null,null,null,null,null,"","КПСнг(А)-FRHF 1х2х0,5-100м",{"$f":"IF(SUM(K$8:K504)=0, \"\", \" + \")","v":" + "}]
[null,null,null,null,null,null,null,null,null,null,null,"","КПСнг(А)-FRHF 1х2х0,5-100м",{"$f":"IF(SUM(K$8:K505)=0, \"\", \" + \")","v":" + "}]
[null,null,null,null,null,null,null,null,null,null,null,"","КПСнг(А)-FRHF 1х2х0,5-100м",{"$f":"IF(SUM(K$8:K506)=0, \"\", \" + \")","v":" + "}]
[null,null,null,null,null,null,null,null,null,null,null,"","КПСнг(А)-FRHF 1х2х0,5-100м",{"$f":"IF(SUM(K$8:K507)=0, \"\", \" + \")","v":" + "}]
[null,null,null,null,null,null,null,null,null,null,null,"","КПСнг(А)-FRHF 1х2х0,5-100м",{"$f":"IF(SUM(K$8:K508)=0, \"\", \" + \")","v":" + "}]
[null,null,null,null,null,null,null,null,null,null,null,"","КПСнг(А)-FRHF 1х2х0,5-100м",{"$f":"IF(SUM(K$8:K509)=0, \"\", \" + \")","v":" + "}]
[null,null,null,null,null,null,null,null,null,null,null,"","КПСнг(А)-FRHF 1х2х0,5-100м",{"$f":"IF(SUM(K$8:K510)=0, \"\", \" + \")","v":" + "}]
[null,null,null,null,null,null,null,null,null,null,null,"","КПСнг(А)-FRHF 1х2х0,5-100м",{"$f":"IF(SUM(K$8:K511)=0, \"\", \" + \")","v":" + "}]
[null,null,null,null,null,null,null,null,null,null,null,"","КПСнг(А)-FRHF 1х2х0,5-100м",{"$f":"IF(SUM(K$8:K512)=0, \"\", \" + \")","v":" + "}]
[null,null,null,null,null,null,null,null,null,null,null,"","КПСнг(А)-FRHF 1х2х0,5-100м",{"$f":"IF(SUM(K$8:K513)=0, \"\", \" + \")","v":" + "}]
[null,null,null,null,null,null,null,null,null,null,null,"","КПСнг(А)-FRHF 1х2х0,5-100м",{"$f":"IF(SUM(K$8:K514)=0, \"\", \" + \")","v":" + "}]
[null,null,null,null,null,null,null,null,null,null,null,"","КПСнг(А)-FRHF 1х2х0,5-100м",{"$f":"IF(SUM(K$8:K515)=0, \"\", \" + \")","v":" + "}]
[null,null,null,null,null,null,null,null,null,null,null,"","КПСнг(А)-FRHF 1х2х0,5-100м",{"$f":"IF(SUM(K$8:K516)=0, \"\", \" + \")","v":" + "}]
[null,null,null,null,null,null,null,null,null,null,null,"","КПСнг(А)-FRHF 1х2х0,5-100м",{"$f":"IF(SUM(K$8:K517)=0, \"\", \" + \")","v":" + "}]
[null,null,null,null,null,null,null,null,null,null,null,"","КПСнг(А)-FRHF 1х2х0,5-100м",{"$f":"IF(SUM(K$8:K518)=0, \"\", \" + \")","v":" + "}]
[null,null,null,null,null,null,null,null,null,null,null,"","КПСнг(А)-FRHF 1х2х0,5-100м",{"$f":"IF(SUM(K$8:K519)=0, \"\", \" + \")","v":" + "}]
[null,null,null,null,null,null,null,null,null,null,null,"","КПСнг(А)-FRHF 1х2х0,5-100м",{"$f":"IF(SUM(K$8:K520)=0, \"\", \" + \")","v":" + "}]
[null,null,null,null,null,null,null,null,null,null,null,"","КПСнг(А)-FRHF 1х2х0,5-100м",{"$f":"IF(SUM(K$8:K521)=0, \"\", \" + \")","v":" + "}]
[null,null,null,null,null,null,null,null,null,null,null,"","КПСнг(А)-FRHF 1х2х0,5-100м",{"$f":"IF(SUM(K$8:K522)=0, \"\", \" + \")","v":" + "}]
[null,null,null,null,null,null,null,null,null,null,null,"","КПСнг(А)-FRHF 1х2х0,5-100м",{"$f":"IF(SUM(K$8:K523)=0, \"\", \" + \")","v":" + "}]
[null,null,null,null,null,null,null,null,null,null,null,"","КПСнг(А)-FRHF 1х2х0,5-100м",{"$f":"IF(SUM(K$8:K524)=0, \"\", \" + \")","v":" + "}]
[null,null,null,null,null,null,null,null,null,null,null,"","КПСнг(А)-FRHF 1х2х0,5-100м",{"$f":"IF(SUM(K$8:K525)=0, \"\", \" + \")","v":" + "}]
[null,null,null,null,null,null,null,null,null,null,null,"","КПСнг(А)-FRHF 1х2х0,5-100м",{"$f":"IF(SUM(K$8:K526)=0, \"\", \" + \")","v":" + "}]
[null,null,null,null,null,null,null,null,null,null,null,"","КПСнг(А)-FRHF 1х2х0,5-100м",{"$f":"IF(SUM(K$8:K527)=0, \"\", \" + \")","v":" + "}]
[null,null,null,null,null,null,null,null,null,null,null,"","КПСнг(А)-FRHF 1х2х0,5-100м",{"$f":"IF(SUM(K$8:K528)=0, \"\", \" + \")","v":" + "}]
[null,null,null,null,null,null,null,null,null,null,null,"","КПСнг(А)-FRHF 1х2х0,5-100м",{"$f":"IF(SUM(K$8:K529)=0, \"\", \" + \")","v":" + "}]
[null,null,null,null,null,null,null,null,null,null,null,"","КПСнг(А)-FRHF 1х2х0,5-100м",{"$f":"IF(SUM(K$8:K530)=0, \"\", \" + \")","v":" + "}]
[null,null,null,null,null,null,null,null,null,null,null,"","КПСнг(А)-FRHF 1х2х0,5-100м",{"$f":"IF(SUM(K$8:K531)=0, \"\", \" + \")","v":" + "}]
[null,null,null,null,null,null,null,null,null,null,null,"","КПСнг(А)-FRHF 1х2х0,5-100м",{"$f":"IF(SUM(K$8:K532)=0, \"\", \" + \")","v":" + "}]
[null,null,null,null,null,null,null,null,null,null,null,"","КПСнг(А)-FRHF 1х2х0,5-100м",{"$f":"IF(SUM(K$8:K533)=0, \"\", \" + \")","v":" + "}]
[null,null,null,null,null,null,null,null,null,null,null,"","КПСнг(А)-FRHF 1х2х0,5-100м",{"$f":"IF(SUM(K$8:K534)=0, \"\", \" + \")","v":" + "}]
[null,null,null,null,null,null,null,null,null,null,null,"","КПСнг(А)-FRHF 1х2х0,5-100м",{"$f":"IF(SUM(K$8:K535)=0, \"\", \" + \")","v":" + "}]
[null,null,null,null,null,null,null,null,null,null,null,"","КПСнг(А)-FRHF 1х2х0,5-100м",{"$f":"IF(SUM(K$8:K536)=0, \"\", \" + \")","v":" + "}]
[null,null,null,null,null,null,null,null,null,null,null,"","КПСнг(А)-FRHF 1х2х0,5-100м",{"$f":"IF(SUM(K$8:K537)=0, \"\", \" + \")","v":" + "}]
[null,null,null,null,null,null,null,null,null,null,null,"","КПСнг(А)-FRHF 1х2х0,5-100м",{"$f":"IF(SUM(K$8:K538)=0, \"\", \" + \")","v":" + "}]
[null,null,null,null,null,null,null,null,null,null,null,"","КПСнг(А)-FRHF 1х2х0,5-100м",{"$f":"IF(SUM(K$8:K539)=0, \"\", \" + \")","v":" + "}]
[null,null,null,null,null,null,null,null,null,null,null,"","КПСнг(А)-FRHF 1х2х0,5-100м",{"$f":"IF(SUM(K$8:K540)=0, \"\", \" + \")","v":" + "}]
[null,null,null,null,null,null,null,null,null,null,null,"","КПСнг(А)-FRHF 1х2х0,5-100м",{"$f":"IF(SUM(K$8:K541)=0, \"\", \" + \")","v":" + "}]
[null,null,null,null,null,null,null,null,null,null,null,"","КПСнг(А)-FRHF 1х2х0,5-100м",{"$f":"IF(SUM(K$8:K542)=0, \"\", \" + \")","v":" + "}]
[null,null,null,null,null,null,null,null,null,null,null,"","КПСнг(А)-FRHF 1х2х0,5-100м",{"$f":"IF(SUM(K$8:K543)=0, \"\", \" + \")","v":" + "}]
[null,null,null,null,null,null,null,null,null,null,null,"","КПСнг(А)-FRHF 1х2х0,5-100м",{"$f":"IF(SUM(K$8:K544)=0, \"\", \" + \")","v":" + "}]
[null,null,null,null,null,null,null,null,null,null,null,"","КПСнг(А)-FRHF 1х2х0,5-100м",{"$f":"IF(SUM(K$8:K545)=0, \"\", \" + \")","v":" + "}]
[null,null,null,null,null,null,null,null,null,null,null,"","КПСнг(А)-FRHF 1х2х0,5-100м",{"$f":"IF(SUM(K$8:K546)=0, \"\", \" + \")","v":" + "}]
[null,null,null,null,null,null,null,null,null,null,null,"","КПСнг(А)-FRHF 1х2х0,5-100м",{"$f":"IF(SUM(K$8:K547)=0, \"\", \" + \")","v":" + "}]
[null,null,null,null,null,null,null,null,null,null,null,"","КПСнг(А)-FRHF 1х2х0,5-100м",{"$f":"IF(SUM(K$8:K548)=0, \"\", \" + \")","v":" + "}]
[null,null,null,null,null,null,null,null,null,null,null,"","КПСнг(А)-FRHF 1х2х0,5-100м",{"$f":"IF(SUM(K$8:K549)=0, \"\", \" + \")","v":" + "}]
[null,null,null,null,null,null,null,null,null,null,null,"","КПСнг(А)-FRHF 1х2х0,5-100м",{"$f":"IF(SUM(K$8:K550)=0, \"\", \" + \")","v":" + "}]
[null,null,null,null,null,null,null,null,null,null,null,"","КПСнг(А)-FRHF 1х2х0,5-100м",{"$f":"IF(SUM(K$8:K551)=0, \"\", \" + \")","v":" + "}]
[null,null,null,null,null,null,null,null,null,null,null,"","КПСнг(А)-FRHF 1х2х0,5-100м",{"$f":"IF(SUM(K$8:K552)=0, \"\", \" + \")","v":" + "}]
[null,null,null,null,null,null,null,null,null,null,null,"","КПСнг(А)-FRHF 1х2х0,5-100м",{"$f":"IF(SUM(K$8:K553)=0, \"\", \" + \")","v":" + "}]
[null,null,null,null,null,null,null,null,null,null,null,"","КПСнг(А)-FRHF 1х2х0,5-100м",{"$f":"IF(SUM(K$8:K554)=0, \"\", \" + \")","v":" + "}]
[null,null,null,null,null,null,null,null,null,null,null,"","КПСнг(А)-FRHF 1х2х0,5-100м",{"$f":"IF(SUM(K$8:K555)=0, \"\", \" + \")","v":" + "}]
[null,null,null,null,null,null,null,null,null,null,null,{"$f":"IF(K557=0, \"\",CONCATENATE(N557, C557, \"-\",K557,\"м\"))","v":""},"КПСнг(А)-FRHF 1х2х0,5-100м",{"$f":"IF(SUM(K$8:K556)=0, \"\", \" + \")","v":" + "}]
[null,null,null,null,null,null,null,null,null,null,null,"",{"$f":"CONCATENATE(M557,L558)","v":"КПСнг(А)-FRHF 1х2х0,5-100м"},{"$f":"IF(SUM(K$8:K557)=0, \"\", \" + \")","v":" + "}]
[null,null,null,null,null,null,null,null,null,null,null,"","КПСнг(А)-FRHF 1х2х0,5-100м",{"$f":"IF(SUM(K$8:K558)=0, \"\", \" + \")","v":" + "}]
[null,null,null,null,null,null,null,null,null,null,null,"","КПСнг(А)-FRHF 1х2х0,5-100м",{"$f":"IF(SUM(K$8:K559)=0, \"\", \" + \")","v":" + "}]
[null,null,null,null,null,null,null,null,null,null,null,"","КПСнг(А)-FRHF 1х2х0,5-100м",{"$f":"IF(SUM(K$8:K560)=0, \"\", \" + \")","v":" + "}]
[null,null,null,null,null,null,null,null,null,null,null,"","КПСнг(А)-FRHF 1х2х0,5-100м",{"$f":"IF(SUM(K$8:K561)=0, \"\", \" + \")","v":" + "}]
[null,null,null,null,null,null,null,null,null,null,null,"","КПСнг(А)-FRHF 1х2х0,5-100м",{"$f":"IF(SUM(K$8:K562)=0, \"\", \" + \")","v":" + "}]
[null,null,null,null,null,null,null,null,null,null,null,"","КПСнг(А)-FRHF 1х2х0,5-100м",{"$f":"IF(SUM(K$8:K563)=0, \"\", \" + \")","v":" + "}]
[null,null,null,null,null,null,null,null,null,null,null,"","КПСнг(А)-FRHF 1х2х0,5-100м",{"$f":"IF(SUM(K$8:K564)=0, \"\", \" + \")","v":" + "}]
[null,null,null,null,null,null,null,null,null,null,null,"","КПСнг(А)-FRHF 1х2х0,5-100м",{"$f":"IF(SUM(K$8:K565)=0, \"\", \" + \")","v":" + "}]
[null,null,null,null,null,null,null,null,null,null,null,"","КПСнг(А)-FRHF 1х2х0,5-100м",{"$f":"IF(SUM(K$8:K566)=0, \"\", \" + \")","v":" + "}]
[null,null,null,null,null,null,null,null,null,null,null,"","КПСнг(А)-FRHF 1х2х0,5-100м",{"$f":"IF(SUM(K$8:K567)=0, \"\", \" + \")","v":" + "}]
[null,null,null,null,null,null,null,null,null,null,null,"","КПСнг(А)-FRHF 1х2х0,5-100м",{"$f":"IF(SUM(K$8:K568)=0, \"\", \" + \")","v":" + "}]
[null,null,null,null,null,null,null,null,null,null,null,"","КПСнг(А)-FRHF 1х2х0,5-100м",{"$f":"IF(SUM(K$8:K569)=0, \"\", \" + \")","v":" + "}]
[null,null,null,null,null,null,null,null,null,null,null,"","КПСнг(А)-FRHF 1х2х0,5-100м",{"$f":"IF(SUM(K$8:K570)=0, \"\", \" + \")","v":" + "}]
[null,null,null,null,null,null,null,null,null,null,null,"","КПСнг(А)-FRHF 1х2х0,5-100м",{"$f":"IF(SUM(K$8:K571)=0, \"\", \" + \")","v":" + "}]
[null,null,null,null,null,null,null,null,null,null,null,"","КПСнг(А)-FRHF 1х2х0,5-100м",{"$f":"IF(SUM(K$8:K572)=0, \"\", \" + \")","v":" + "}]
[null,null,null,null,null,null,null,null,null,null,null,"","КПСнг(А)-FRHF 1х2х0,5-100м",{"$f":"IF(SUM(K$8:K573)=0, \"\", \" + \")","v":" + "}]
[null,null,null,null,null,null,null,null,null,null,null,"","КПСнг(А)-FRHF 1х2х0,5-100м",{"$f":"IF(SUM(K$8:K574)=0, \"\", \" + \")","v":" + "}]
[null,null,null,null,null,null,null,null,null,null,null,"","КПСнг(А)-FRHF 1х2х0,5-100м",{"$f":"IF(SUM(K$8:K575)=0, \"\", \" + \")","v":" + "}]
[null,null,null,null,null,null,null,null,null,null,null,"","КПСнг(А)-FRHF 1х2х0,5-100м",{"$f":"IF(SUM(K$8:K576)=0, \"\", \" + \")","v":" + "}]
[null,null,null,null,null,null,null,null,null,null,null,"","КПСнг(А)-FRHF 1х2х0,5-100м",{"$f":"IF(SUM(K$8:K577)=0, \"\", \" + \")","v":" + "}]
[null,null,null,null,null,null,null,null,null,null,null,"","КПСнг(А)-FRHF 1х2х0,5-100м",{"$f":"IF(SUM(K$8:K578)=0, \"\", \" + \")","v":" + "}]
[null,null,null,null,null,null,null,null,null,null,null,"","КПСнг(А)-FRHF 1х2х0,5-100м",{"$f":"IF(SUM(K$8:K579)=0, \"\", \" + \")","v":" + "}]
[null,null,null,null,null,null,null,null,null,null,null,"","КПСнг(А)-FRHF 1х2х0,5-100м",{"$f":"IF(SUM(K$8:K580)=0, \"\", \" + \")","v":" + "}]
[null,null,null,null,null,null,null,null,null,null,null,"","КПСнг(А)-FRHF 1х2х0,5-100м",{"$f":"IF(SUM(K$8:K581)=0, \"\", \" + \")","v":" + "}]
[null,null,null,null,null,null,null,null,null,null,null,"","КПСнг(А)-FRHF 1х2х0,5-100м",{"$f":"IF(SUM(K$8:K582)=0, \"\", \" + \")","v":" + "}]
[null,null,null,null,null,null,null,null,null,null,null,"","КПСнг(А)-FRHF 1х2х0,5-100м",{"$f":"IF(SUM(K$8:K583)=0, \"\", \" + \")","v":" + "}]
[null,null,null,null,null,null,null,null,null,null,null,"","КПСнг(А)-FRHF 1х2х0,5-100м",{"$f":"IF(SUM(K$8:K584)=0, \"\", \" + \")","v":" + "}]
[null,null,null,null,null,null,null,null,null,null,null,"","КПСнг(А)-FRHF 1х2х0,5-100м",{"$f":"IF(SUM(K$8:K585)=0, \"\", \" + \")","v":" + "}]
[null,null,null,null,null,null,null,null,null,null,null,"","КПСнг(А)-FRHF 1х2х0,5-100м",{"$f":"IF(SUM(K$8:K586)=0, \"\", \" + \")","v":" + "}]
[null,null,null,null,null,null,null,null,null,null,null,"","КПСнг(А)-FRHF 1х2х0,5-100м",{"$f":"IF(SUM(K$8:K587)=0, \"\", \" + \")","v":" + "}]
[null,null,null,null,null,null,null,null,null,null,null,"","КПСнг(А)-FRHF 1х2х0,5-100м",{"$f":"IF(SUM(K$8:K588)=0, \"\", \" + \")","v":" + "}]
[null,null,null,null,null,null,null,null,null,null,null,"","КПСнг(А)-FRHF 1х2х0,5-100м",{"$f":"IF(SUM(K$8:K589)=0, \"\", \" + \")","v":" + "}]
[null,null,null,null,null,null,null,null,null,null,null,"","КПСнг(А)-FRHF 1х2х0,5-100м",{"$f":"IF(SUM(K$8:K590)=0, \"\", \" + \")","v":" + "}]
[null,null,null,null,null,null,null,null,null,null,null,"","КПСнг(А)-FRHF 1х2х0,5-100м",{"$f":"IF(SUM(K$8:K591)=0, \"\", \" + \")","v":" + "}]
[null,null,null,null,null,null,null,null,null,null,null,"","КПСнг(А)-FRHF 1х2х0,5-100м",{"$f":"IF(SUM(K$8:K592)=0, \"\", \" + \")","v":" + "}]
[null,null,null,null,null,null,null,null,null,null,null,"","КПСнг(А)-FRHF 1х2х0,5-100м",{"$f":"IF(SUM(K$8:K593)=0, \"\", \" + \")","v":" + "}]
[null,null,null,null,null,null,null,null,null,null,null,"","КПСнг(А)-FRHF 1х2х0,5-100м",{"$f":"IF(SUM(K$8:K594)=0, \"\", \" + \")","v":" + "}]
[null,null,null,null,null,null,null,null,null,null,null,"","КПСнг(А)-FRHF 1х2х0,5-100м",{"$f":"IF(SUM(K$8:K595)=0, \"\", \" + \")","v":" + "}]
[null,null,null,null,null,null,null,null,null,null,null,"","КПСнг(А)-FRHF 1х2х0,5-100м",{"$f":"IF(SUM(K$8:K596)=0, \"\", \" + \")","v":" + "}]
[null,null,null,null,null,null,null,null,null,null,null,"","КПСнг(А)-FRHF 1х2х0,5-100м",{"$f":"IF(SUM(K$8:K597)=0, \"\", \" + \")","v":" + "}]
[null,null,null,null,null,null,null,null,null,null,null,"","КПСнг(А)-FRHF 1х2х0,5-100м",{"$f":"IF(SUM(K$8:K598)=0, \"\", \" + \")","v":" + "}]
[null,null,null,null,null,null,null,null,null,null,null,"","КПСнг(А)-FRHF 1х2х0,5-100м",{"$f":"IF(SUM(K$8:K599)=0, \"\", \" + \")","v":" + "}]
[null,null,null,null,null,null,null,null,null,null,null,"","КПСнг(А)-FRHF 1х2х0,5-100м",{"$f":"IF(SUM(K$8:K600)=0, \"\", \" + \")","v":" + "}]
[null,null,null,null,null,null,null,null,null,null,null,"","КПСнг(А)-FRHF 1х2х0,5-100м",{"$f":"IF(SUM(K$8:K601)=0, \"\", \" + \")","v":" + "}]
[null,null,null,null,null,null,null,null,null,null,null,"","КПСнг(А)-FRHF 1х2х0,5-100м",{"$f":"IF(SUM(K$8:K602)=0, \"\", \" + \")","v":" + "}]
[null,null,null,null,null,null,null,null,null,null,null,"","КПСнг(А)-FRHF 1х2х0,5-100м",{"$f":"IF(SUM(K$8:K603)=0, \"\", \" + \")","v":" + "}]
[null,null,null,null,null,null,null,null,null,null,null,"","КПСнг(А)-FRHF 1х2х0,5-100м",{"$f":"IF(SUM(K$8:K604)=0, \"\", \" + \")","v":" + "}]
[null,null,null,null,null,null,null,null,null,null,null,"","КПСнг(А)-FRHF 1х2х0,5-100м",{"$f":"IF(SUM(K$8:K605)=0, \"\", \" + \")","v":" + "}]
[null,null,null,null,null,null,null,null,null,null,null,"","КПСнг(А)-FRHF 1х2х0,5-100м",{"$f":"IF(SUM(K$8:K606)=0, \"\", \" + \")","v":" + "}]
[null,null,null,null,null,null,null,null,null,null,null,"","КПСнг(А)-FRHF 1х2х0,5-100м",{"$f":"IF(SUM(K$8:K607)=0, \"\", \" + \")","v":" + "}]
[null,null,null,null,null,null,null,null,null,null,null,"","КПСнг(А)-FRHF 1х2х0,5-100м",{"$f":"IF(SUM(K$8:K608)=0, \"\", \" + \")","v":" + "}]
[null,null,null,null,null,null,null,null,null,null,null,"","КПСнг(А)-FRHF 1х2х0,5-100м",{"$f":"IF(SUM(K$8:K609)=0, \"\", \" + \")","v":" + "}]
[null,null,null,null,null,null,null,null,null,null,null,"","КПСнг(А)-FRHF 1х2х0,5-100м",{"$f":"IF(SUM(K$8:K610)=0, \"\", \" + \")","v":" + "}]
[null,null,null,null,null,null,null,null,null,null,null,"","КПСнг(А)-FRHF 1х2х0,5-100м",{"$f":"IF(SUM(K$8:K611)=0, \"\", \" + \")","v":" + "}]
[null,null,null,null,null,null,null,null,null,null,null,"","КПСнг(А)-FRHF 1х2х0,5-100м",{"$f":"IF(SUM(K$8:K612)=0, \"\", \" + \")","v":" + "}]
[null,null,null,null,null,null,null,null,null,null,null,"","КПСнг(А)-FRHF 1х2х0,5-100м",{"$f":"IF(SUM(K$8:K613)=0, \"\", \" + \")","v":" + "}]
[null,null,null,null,null,null,null,null,null,null,null,"","КПСнг(А)-FRHF 1х2х0,5-100м",{"$f":"IF(SUM(K$8:K614)=0, \"\", \" + \")","v":" + "}]
[null,null,null,null,null,null,null,null,null,null,null,"","КПСнг(А)-FRHF 1х2х0,5-100м",{"$f":"IF(SUM(K$8:K615)=0, \"\", \" + \")","v":" + "}]
[null,null,null,null,null,null,null,null,null,null,null,"","КПСнг(А)-FRHF 1х2х0,5-100м",{"$f":"IF(SUM(K$8:K616)=0, \"\", \" + \")","v":" + "}]
[null,null,null,null,null,null,null,null,null,null,null,"","КПСнг(А)-FRHF 1х2х0,5-100м",{"$f":"IF(SUM(K$8:K617)=0, \"\", \" + \")","v":" + "}]
[null,null,null,null,null,null,null,null,null,null,null,"","КПСнг(А)-FRHF 1х2х0,5-100м",{"$f":"IF(SUM(K$8:K618)=0, \"\", \" + \")","v":" + "}]
[null,null,null,null,null,null,null,null,null,null,null,"","КПСнг(А)-FRHF 1х2х0,5-100м",{"$f":"IF(SUM(K$8:K619)=0, \"\", \" + \")","v":" + "}]
[null,null,null,null,null,null,null,null,null,null,null,{"$f":"IF(K621=0, \"\",CONCATENATE(N621, C621, \"-\",K621,\"м\"))","v":""},"КПСнг(А)-FRHF 1х2х0,5-100м",{"$f":"IF(SUM(K$8:K620)=0, \"\", \" + \")","v":" + "}]
[null,null,null,null,null,null,null,null,null,null,null,"",{"$f":"CONCATENATE(M621,L622)","v":"КПСнг(А)-FRHF 1х2х0,5-100м"},{"$f":"IF(SUM(K$8:K621)=0, \"\", \" + \")","v":" + "}]
[null,null,null,null,null,null,null,null,null,null,null,"","КПСнг(А)-FRHF 1х2х0,5-100м",{"$f":"IF(SUM(K$8:K622)=0, \"\", \" + \")","v":" + "}]
[null,null,null,null,null,null,null,null,null,null,null,"","КПСнг(А)-FRHF 1х2х0,5-100м",{"$f":"IF(SUM(K$8:K623)=0, \"\", \" + \")","v":" + "}]
[null,null,null,null,null,null,null,null,null,null,null,"","КПСнг(А)-FRHF 1х2х0,5-100м",{"$f":"IF(SUM(K$8:K624)=0, \"\", \" + \")","v":" + "}]
[null,null,null,null,null,null,null,null,null,null,null,"","КПСнг(А)-FRHF 1х2х0,5-100м",{"$f":"IF(SUM(K$8:K625)=0, \"\", \" + \")","v":" + "}]
[null,null,null,null,null,null,null,null,null,null,null,"","КПСнг(А)-FRHF 1х2х0,5-100м",{"$f":"IF(SUM(K$8:K626)=0, \"\", \" + \")","v":" + "}]
[null,null,null,null,null,null,null,null,null,null,null,"","КПСнг(А)-FRHF 1х2х0,5-100м",{"$f":"IF(SUM(K$8:K627)=0, \"\", \" + \")","v":" + "}]
[null,null,null,null,null,null,null,null,null,null,null,"","КПСнг(А)-FRHF 1х2х0,5-100м",{"$f":"IF(SUM(K$8:K628)=0, \"\", \" + \")","v":" + "}]
[null,null,null,null,null,null,null,null,null,null,null,"","КПСнг(А)-FRHF 1х2х0,5-100м",{"$f":"IF(SUM(K$8:K629)=0, \"\", \" + \")","v":" + "}]
[null,null,null,null,null,null,null,null,null,null,null,"","КПСнг(А)-FRHF 1х2х0,5-100м",{"$f":"IF(SUM(K$8:K630)=0, \"\", \" + \")","v":" + "}]
[null,null,null,null,null,null,null,null,null,null,null,"","КПСнг(А)-FRHF 1х2х0,5-100м",{"$f":"IF(SUM(K$8:K631)=0, \"\", \" + \")","v":" + "}]
[null,null,null,null,null,null,null,null,null,null,null,"","КПСнг(А)-FRHF 1х2х0,5-100м",{"$f":"IF(SUM(K$8:K632)=0, \"\", \" + \")","v":" + "}]
[null,null,null,null,null,null,null,null,null,null,null,"","КПСнг(А)-FRHF 1х2х0,5-100м",{"$f":"IF(SUM(K$8:K633)=0, \"\", \" + \")","v":" + "}]
[null,null,null,null,null,null,null,null,null,null,null,"","КПСнг(А)-FRHF 1х2х0,5-100м",{"$f":"IF(SUM(K$8:K634)=0, \"\", \" + \")","v":" + "}]
[null,null,null,null,null,null,null,null,null,null,null,"","КПСнг(А)-FRHF 1х2х0,5-100м",{"$f":"IF(SUM(K$8:K635)=0, \"\", \" + \")","v":" + "}]
[null,null,null,null,null,null,null,null,null,null,null,"","КПСнг(А)-FRHF 1х2х0,5-100м",{"$f":"IF(SUM(K$8:K636)=0, \"\", \" + \")","v":" + "}]
[null,null,null,null,null,null,null,null,null,null,null,"","КПСнг(А)-FRHF 1х2х0,5-100м",{"$f":"IF(SUM(K$8:K637)=0, \"\", \" + \")","v":" + "}]
[null,null,null,null,null,null,null,null,null,null,null,"","КПСнг(А)-FRHF 1х2х0,5-100м",{"$f":"IF(SUM(K$8:K638)=0, \"\", \" + \")","v":" + "}]
[null,null,null,null,null,null,null,null,null,null,null,"","КПСнг(А)-FRHF 1х2х0,5-100м",{"$f":"IF(SUM(K$8:K639)=0, \"\", \" + \")","v":" + "}]
[null,null,null,null,null,null,null,null,null,null,null,"","КПСнг(А)-FRHF 1х2х0,5-100м",{"$f":"IF(SUM(K$8:K640)=0, \"\", \" + \")","v":" + "}]
[null,null,null,null,null,null,null,null,null,null,null,"","КПСнг(А)-FRHF 1х2х0,5-100м",{"$f":"IF(SUM(K$8:K641)=0, \"\", \" + \")","v":" + "}]
[null,null,null,null,null,null,null,null,null,null,null,"","КПСнг(А)-FRHF 1х2х0,5-100м",{"$f":"IF(SUM(K$8:K642)=0, \"\", \" + \")","v":" + "}]
[null,null,null,null,null,null,null,null,null,null,null,"","КПСнг(А)-FRHF 1х2х0,5-100м",{"$f":"IF(SUM(K$8:K643)=0, \"\", \" + \")","v":" + "}]
[null,null,null,null,null,null,null,null,null,null,null,"","КПСнг(А)-FRHF 1х2х0,5-100м",{"$f":"IF(SUM(K$8:K644)=0, \"\", \" + \")","v":" + "}]
[null,null,null,null,null,null,null,null,null,null,null,"","КПСнг(А)-FRHF 1х2х0,5-100м",{"$f":"IF(SUM(K$8:K645)=0, \"\", \" + \")","v":" + "}]
[null,null,null,null,null,null,null,null,null,null,null,"","КПСнг(А)-FRHF 1х2х0,5-100м",{"$f":"IF(SUM(K$8:K646)=0, \"\", \" + \")","v":" + "}]
[null,null,null,null,null,null,null,null,null,null,null,"","КПСнг(А)-FRHF 1х2х0,5-100м",{"$f":"IF(SUM(K$8:K647)=0, \"\", \" + \")","v":" + "}]
[null,null,null,null,null,null,null,null,null,null,null,"","КПСнг(А)-FRHF 1х2х0,5-100м",{"$f":"IF(SUM(K$8:K648)=0, \"\", \" + \")","v":" + "}]
[null,null,null,null,null,null,null,null,null,null,null,"","КПСнг(А)-FRHF 1х2х0,5-100м",{"$f":"IF(SUM(K$8:K649)=0, \"\", \" + \")","v":" + "}]
[null,null,null,null,null,null,null,null,null,null,null,"","КПСнг(А)-FRHF 1х2х0,5-100м",{"$f":"IF(SUM(K$8:K650)=0, \"\", \" + \")","v":" + "}]
[null,null,null,null,null,null,null,null,null,null,null,"","КПСнг(А)-FRHF 1х2х0,5-100м",{"$f":"IF(SUM(K$8:K651)=0, \"\", \" + \")","v":" + "}]
[null,null,null,null,null,null,null,null,null,null,null,"","КПСнг(А)-FRHF 1х2х0,5-100м",{"$f":"IF(SUM(K$8:K652)=0, \"\", \" + \")","v":" + "}]
[null,null,null,null,null,null,null,null,null,null,null,"","КПСнг(А)-FRHF 1х2х0,5-100м",{"$f":"IF(SUM(K$8:K653)=0, \"\", \" + \")","v":" + "}]
[null,null,null,null,null,null,null,null,null,null,null,"","КПСнг(А)-FRHF 1х2х0,5-100м",{"$f":"IF(SUM(K$8:K654)=0, \"\", \" + \")","v":" + "}]
[null,null,null,null,null,null,null,null,null,null,null,"","КПСнг(А)-FRHF 1х2х0,5-100м",{"$f":"IF(SUM(K$8:K655)=0, \"\", \" + \")","v":" + "}]
[null,null,null,null,null,null,null,null,null,null,null,"","КПСнг(А)-FRHF 1х2х0,5-100м",{"$f":"IF(SUM(K$8:K656)=0, \"\", \" + \")","v":" + "}]
[null,null,null,null,null,null,null,null,null,null,null,"","КПСнг(А)-FRHF 1х2х0,5-100м",{"$f":"IF(SUM(K$8:K657)=0, \"\", \" + \")","v":" + "}]
[null,null,null,null,null,null,null,null,null,null,null,"","КПСнг(А)-FRHF 1х2х0,5-100м",{"$f":"IF(SUM(K$8:K658)=0, \"\", \" + \")","v":" + "}]
[null,null,null,null,null,null,null,null,null,null,null,"","КПСнг(А)-FRHF 1х2х0,5-100м",{"$f":"IF(SUM(K$8:K659)=0, \"\", \" + \")","v":" + "}]
[null,null,null,null,null,null,null,null,null,null,null,"","КПСнг(А)-FRHF 1х2х0,5-100м",{"$f":"IF(SUM(K$8:K660)=0, \"\", \" + \")","v":" + "}]
[null,null,null,null,null,null,null,null,null,null,null,"","КПСнг(А)-FRHF 1х2х0,5-100м",{"$f":"IF(SUM(K$8:K661)=0, \"\", \" + \")","v":" + "}]
[null,null,null,null,null,null,null,null,null,null,null,"","КПСнг(А)-FRHF 1х2х0,5-100м",{"$f":"IF(SUM(K$8:K662)=0, \"\", \" + \")","v":" + "}]
[null,null,null,null,null,null,null,null,null,null,null,"","КПСнг(А)-FRHF 1х2х0,5-100м",{"$f":"IF(SUM(K$8:K663)=0, \"\", \" + \")","v":" + "}]
[null,null,null,null,null,null,null,null,null,null,null,"","КПСнг(А)-FRHF 1х2х0,5-100м",{"$f":"IF(SUM(K$8:K664)=0, \"\", \" + \")","v":" + "}]
[null,null,null,null,null,null,null,null,null,null,null,"","КПСнг(А)-FRHF 1х2х0,5-100м",{"$f":"IF(SUM(K$8:K665)=0, \"\", \" + \")","v":" + "}]
[null,null,null,null,null,null,null,null,null,null,null,"","КПСнг(А)-FRHF 1х2х0,5-100м",{"$f":"IF(SUM(K$8:K666)=0, \"\", \" + \")","v":" + "}]
[null,null,null,null,null,null,null,null,null,null,null,"","КПСнг(А)-FRHF 1х2х0,5-100м",{"$f":"IF(SUM(K$8:K667)=0, \"\", \" + \")","v":" + "}]
[null,null,null,null,null,null,null,null,null,null,null,"","КПСнг(А)-FRHF 1х2х0,5-100м",{"$f":"IF(SUM(K$8:K668)=0, \"\", \" + \")","v":" + "}]
[null,null,null,null,null,null,null,null,null,null,null,"","КПСнг(А)-FRHF 1х2х0,5-100м",{"$f":"IF(SUM(K$8:K669)=0, \"\", \" + \")","v":" + "}]
[null,null,null,null,null,null,null,null,null,null,null,"","КПСнг(А)-FRHF 1х2х0,5-100м",{"$f":"IF(SUM(K$8:K670)=0, \"\", \" + \")","v":" + "}]
[null,null,null,null,null,null,null,null,null,null,null,"","КПСнг(А)-FRHF 1х2х0,5-100м",{"$f":"IF(SUM(K$8:K671)=0, \"\", \" + \")","v":" + "}]
[null,null,null,null,null,null,null,null,null,null,null,"","КПСнг(А)-FRHF 1х2х0,5-100м",{"$f":"IF(SUM(K$8:K672)=0, \"\", \" + \")","v":" + "}]
[null,null,null,null,null,null,null,null,null,null,null,"","КПСнг(А)-FRHF 1х2х0,5-100м",{"$f":"IF(SUM(K$8:K673)=0, \"\", \" + \")","v":" + "}]
[null,null,null,null,null,null,null,null,null,null,null,"","КПСнг(А)-FRHF 1х2х0,5-100м",{"$f":"IF(SUM(K$8:K674)=0, \"\", \" + \")","v":" + "}]
[null,null,null,null,null,null,null,null,null,null,null,"","КПСнг(А)-FRHF 1х2х0,5-100м",{"$f":"IF(SUM(K$8:K675)=0, \"\", \" + \")","v":" + "}]
[null,null,null,null,null,null,null,null,null,null,null,"","КПСнг(А)-FRHF 1х2х0,5-100м",{"$f":"IF(SUM(K$8:K676)=0, \"\", \" + \")","v":" + "}]
[null,null,null,null,null,null,null,null,null,null,null,"","КПСнг(А)-FRHF 1х2х0,5-100м",{"$f":"IF(SUM(K$8:K677)=0, \"\", \" + \")","v":" + "}]
[null,null,null,null,null,null,null,null,null,null,null,"","КПСнг(А)-FRHF 1х2х0,5-100м",{"$f":"IF(SUM(K$8:K678)=0, \"\", \" + \")","v":" + "}]
[null,null,null,null,null,null,null,null,null,null,null,"","КПСнг(А)-FRHF 1х2х0,5-100м",{"$f":"IF(SUM(K$8:K679)=0, \"\", \" + \")","v":" + "}]
[null,null,null,null,null,null,null,null,null,null,null,"","КПСнг(А)-FRHF 1х2х0,5-100м",{"$f":"IF(SUM(K$8:K680)=0, \"\", \" + \")","v":" + "}]
[null,null,null,null,null,null,null,null,null,null,null,"","КПСнг(А)-FRHF 1х2х0,5-100м",{"$f":"IF(SUM(K$8:K681)=0, \"\", \" + \")","v":" + "}]
[null,null,null,null,null,null,null,null,null,null,null,"","КПСнг(А)-FRHF 1х2х0,5-100м",{"$f":"IF(SUM(K$8:K682)=0, \"\", \" + \")","v":" + "}]
[null,null,null,null,null,null,null,null,null,null,null,"","КПСнг(А)-FRHF 1х2х0,5-100м",{"$f":"IF(SUM(K$8:K683)=0, \"\", \" + \")","v":" + "}]
[null,null,null,null,null,null,null,null,null,null,null,{"$f":"IF(K685=0, \"\",CONCATENATE(N685, C685, \"-\",K685,\"м\"))","v":""},"КПСнг(А)-FRHF 1х2х0,5-100м",{"$f":"IF(SUM(K$8:K684)=0, \"\", \" + \")","v":" + "}]
[null,null,null,null,null,null,null,null,null,null,null,"",{"$f":"CONCATENATE(M685,L686)","v":"КПСнг(А)-FRHF 1х2х0,5-100м"},{"$f":"IF(SUM(K$8:K685)=0, \"\", \" + \")","v":" + "}]
[null,null,null,null,null,null,null,null,null,null,null,"","КПСнг(А)-FRHF 1х2х0,5-100м",{"$f":"IF(SUM(K$8:K686)=0, \"\", \" + \")","v":" + "}]
[null,null,null,null,null,null,null,null,null,null,null,"","КПСнг(А)-FRHF 1х2х0,5-100м",{"$f":"IF(SUM(K$8:K687)=0, \"\", \" + \")","v":" + "}]
[null,null,null,null,null,null,null,null,null,null,null,"","КПСнг(А)-FRHF 1х2х0,5-100м",{"$f":"IF(SUM(K$8:K688)=0, \"\", \" + \")","v":" + "}]
[null,null,null,null,null,null,null,null,null,null,null,"","КПСнг(А)-FRHF 1х2х0,5-100м",{"$f":"IF(SUM(K$8:K689)=0, \"\", \" + \")","v":" + "}]
[null,null,null,null,null,null,null,null,null,null,null,"","КПСнг(А)-FRHF 1х2х0,5-100м",{"$f":"IF(SUM(K$8:K690)=0, \"\", \" + \")","v":" + "}]
[null,null,null,null,null,null,null,null,null,null,null,"","КПСнг(А)-FRHF 1х2х0,5-100м",{"$f":"IF(SUM(K$8:K691)=0, \"\", \" + \")","v":" + "}]
[null,null,null,null,null,null,null,null,null,null,null,"","КПСнг(А)-FRHF 1х2х0,5-100м",{"$f":"IF(SUM(K$8:K692)=0, \"\", \" + \")","v":" + "}]
[null,null,null,null,null,null,null,null,null,null,null,"","КПСнг(А)-FRHF 1х2х0,5-100м",{"$f":"IF(SUM(K$8:K693)=0, \"\", \" + \")","v":" + "}]
[null,null,null,null,null,null,null,null,null,null,null,"","КПСнг(А)-FRHF 1х2х0,5-100м",{"$f":"IF(SUM(K$8:K694)=0, \"\", \" + \")","v":" + "}]
[null,null,null,null,null,null,null,null,null,null,null,"","КПСнг(А)-FRHF 1х2х0,5-100м",{"$f":"IF(SUM(K$8:K695)=0, \"\", \" + \")","v":" + "}]
[null,null,null,null,null,null,null,null,null,null,null,"","КПСнг(А)-FRHF 1х2х0,5-100м",{"$f":"IF(SUM(K$8:K696)=0, \"\", \" + \")","v":" + "}]
[null,null,null,null,null,null,null,null,null,null,null,"","КПСнг(А)-FRHF 1х2х0,5-100м",{"$f":"IF(SUM(K$8:K697)=0, \"\", \" + \")","v":" + "}]
[null,null,null,null,null,null,null,null,null,null,null,"","КПСнг(А)-FRHF 1х2х0,5-100м",{"$f":"IF(SUM(K$8:K698)=0, \"\", \" + \")","v":" + "}]
[null,null,null,null,null,null,null,null,null,null,null,"","КПСнг(А)-FRHF 1х2х0,5-100м",{"$f":"IF(SUM(K$8:K699)=0, \"\", \" + \")","v":" + "}]
[null,null,null,null,null,null,null,null,null,null,null,"","КПСнг(А)-FRHF 1х2х0,5-100м",{"$f":"IF(SUM(K$8:K700)=0, \"\", \" + \")","v":" + "}]
[null,null,null,null,null,null,null,null,null,null,null,"","КПСнг(А)-FRHF 1х2х0,5-100м",{"$f":"IF(SUM(K$8:K701)=0, \"\", \" + \")","v":" + "}]
[null,null,null,null,null,null,null,null,null,null,null,"","КПСнг(А)-FRHF 1х2х0,5-100м",{"$f":"IF(SUM(K$8:K702)=0, \"\", \" + \")","v":" + "}]
[null,null,null,null,null,null,null,null,null,null,null,"","КПСнг(А)-FRHF 1х2х0,5-100м",{"$f":"IF(SUM(K$8:K703)=0, \"\", \" + \")","v":" + "}]
[null,null,null,null,null,null,null,null,null,null,null,"","КПСнг(А)-FRHF 1х2х0,5-100м",{"$f":"IF(SUM(K$8:K704)=0, \"\", \" + \")","v":" + "}]
[null,null,null,null,null,null,null,null,null,null,null,"","КПСнг(А)-FRHF 1х2х0,5-100м",{"$f":"IF(SUM(K$8:K705)=0, \"\", \" + \")","v":" + "}]
[null,null,null,null,null,null,null,null,null,null,null,"","КПСнг(А)-FRHF 1х2х0,5-100м",{"$f":"IF(SUM(K$8:K706)=0, \"\", \" + \")","v":" + "}]
[null,null,null,null,null,null,null,null,null,null,null,"","КПСнг(А)-FRHF 1х2х0,5-100м",{"$f":"IF(SUM(K$8:K707)=0, \"\", \" + \")","v":" + "}]
[null,null,null,null,null,null,null,null,null,null,null,"","КПСнг(А)-FRHF 1х2х0,5-100м",{"$f":"IF(SUM(K$8:K708)=0, \"\", \" + \")","v":" + "}]
[null,null,null,null,null,null,null,null,null,null,null,"","КПСнг(А)-FRHF 1х2х0,5-100м",{"$f":"IF(SUM(K$8:K709)=0, \"\", \" + \")","v":" + "}]
[null,null,null,null,null,null,null,null,null,null,null,"","КПСнг(А)-FRHF 1х2х0,5-100м",{"$f":"IF(SUM(K$8:K710)=0, \"\", \" + \")","v":" + "}]
[null,null,null,null,null,null,null,null,null,null,null,"","КПСнг(А)-FRHF 1х2х0,5-100м",{"$f":"IF(SUM(K$8:K711)=0, \"\", \" + \")","v":" + "}]
[null,null,null,null,null,null,null,null,null,null,null,"","КПСнг(А)-FRHF 1х2х0,5-100м",{"$f":"IF(SUM(K$8:K712)=0, \"\", \" + \")","v":" + "}]
[null,null,null,null,null,null,null,null,null,null,null,"","КПСнг(А)-FRHF 1х2х0,5-100м",{"$f":"IF(SUM(K$8:K713)=0, \"\", \" + \")","v":" + "}]
[null,null,null,null,null,null,null,null,null,null,null,"","КПСнг(А)-FRHF 1х2х0,5-100м",{"$f":"IF(SUM(K$8:K714)=0, \"\", \" + \")","v":" + "}]
[null,null,null,null,null,null,null,null,null,null,null,"","КПСнг(А)-FRHF 1х2х0,5-100м",{"$f":"IF(SUM(K$8:K715)=0, \"\", \" + \")","v":" + "}]
[null,null,null,null,null,null,null,null,null,null,null,"","КПСнг(А)-FRHF 1х2х0,5-100м",{"$f":"IF(SUM(K$8:K716)=0, \"\", \" + \")","v":" + "}]
[null,null,null,null,null,null,null,null,null,null,null,"","КПСнг(А)-FRHF 1х2х0,5-100м",{"$f":"IF(SUM(K$8:K717)=0, \"\", \" + \")","v":" + "}]
[null,null,null,null,null,null,null,null,null,null,null,"","КПСнг(А)-FRHF 1х2х0,5-100м",{"$f":"IF(SUM(K$8:K718)=0, \"\", \" + \")","v":" + "}]
[null,null,null,null,null,null,null,null,null,null,null,"","КПСнг(А)-FRHF 1х2х0,5-100м",{"$f":"IF(SUM(K$8:K719)=0, \"\", \" + \")","v":" + "}]
[null,null,null,null,null,null,null,null,null,null,null,"","КПСнг(А)-FRHF 1х2х0,5-100м",{"$f":"IF(SUM(K$8:K720)=0, \"\", \" + \")","v":" + "}]
[null,null,null,null,null,null,null,null,null,null,null,"","КПСнг(А)-FRHF 1х2х0,5-100м",{"$f":"IF(SUM(K$8:K721)=0, \"\", \" + \")","v":" + "}]
[null,null,null,null,null,null,null,null,null,null,null,"","КПСнг(А)-FRHF 1х2х0,5-100м",{"$f":"IF(SUM(K$8:K722)=0, \"\", \" + \")","v":" + "}]
[null,null,null,null,null,null,null,null,null,null,null,"","КПСнг(А)-FRHF 1х2х0,5-100м",{"$f":"IF(SUM(K$8:K723)=0, \"\", \" + \")","v":" + "}]
[null,null,null,null,null,null,null,null,null,null,null,"","КПСнг(А)-FRHF 1х2х0,5-100м",{"$f":"IF(SUM(K$8:K724)=0, \"\", \" + \")","v":" + "}]
[null,null,null,null,null,null,null,null,null,null,null,"","КПСнг(А)-FRHF 1х2х0,5-100м",{"$f":"IF(SUM(K$8:K725)=0, \"\", \" + \")","v":" + "}]
[null,null,null,null,null,null,null,null,null,null,null,"","КПСнг(А)-FRHF 1х2х0,5-100м",{"$f":"IF(SUM(K$8:K726)=0, \"\", \" + \")","v":" + "}]
[null,null,null,null,null,null,null,null,null,null,null,"","КПСнг(А)-FRHF 1х2х0,5-100м",{"$f":"IF(SUM(K$8:K727)=0, \"\", \" + \")","v":" + "}]
[null,null,null,null,null,null,null,null,null,null,null,"","КПСнг(А)-FRHF 1х2х0,5-100м",{"$f":"IF(SUM(K$8:K728)=0, \"\", \" + \")","v":" + "}]
[null,null,null,null,null,null,null,null,null,null,null,"","КПСнг(А)-FRHF 1х2х0,5-100м",{"$f":"IF(SUM(K$8:K729)=0, \"\", \" + \")","v":" + "}]
[null,null,null,null,null,null,null,null,null,null,null,"","КПСнг(А)-FRHF 1х2х0,5-100м",{"$f":"IF(SUM(K$8:K730)=0, \"\", \" + \")","v":" + "}]
[null,null,null,null,null,null,null,null,null,null,null,"","КПСнг(А)-FRHF 1х2х0,5-100м",{"$f":"IF(SUM(K$8:K731)=0, \"\", \" + \")","v":" + "}]
[null,null,null,null,null,null,null,null,null,null,null,"","КПСнг(А)-FRHF 1х2х0,5-100м",{"$f":"IF(SUM(K$8:K732)=0, \"\", \" + \")","v":" + "}]
[null,null,null,null,null,null,null,null,null,null,null,"","КПСнг(А)-FRHF 1х2х0,5-100м",{"$f":"IF(SUM(K$8:K733)=0, \"\", \" + \")","v":" + "}]
[null,null,null,null,null,null,null,null,null,null,null,"","КПСнг(А)-FRHF 1х2х0,5-100м",{"$f":"IF(SUM(K$8:K734)=0, \"\", \" + \")","v":" + "}]
[null,null,null,null,null,null,null,null,null,null,null,"","КПСнг(А)-FRHF 1х2х0,5-100м",{"$f":"IF(SUM(K$8:K735)=0, \"\", \" + \")","v":" + "}]
[null,null,null,null,null,null,null,null,null,null,null,"","КПСнг(А)-FRHF 1х2х0,5-100м",{"$f":"IF(SUM(K$8:K736)=0, \"\", \" + \")","v":" + "}]
[null,null,null,null,null,null,null,null,null,null,null,"","КПСнг(А)-FRHF 1х2х0,5-100м",{"$f":"IF(SUM(K$8:K737)=0, \"\", \" + \")","v":" + "}]
[null,null,null,null,null,null,null,null,null,null,null,"","КПСнг(А)-FRHF 1х2х0,5-100м",{"$f":"IF(SUM(K$8:K738)=0, \"\", \" + \")","v":" + "}]
[null,null,null,null,null,null,null,null,null,null,null,"","КПСнг(А)-FRHF 1х2х0,5-100м",{"$f":"IF(SUM(K$8:K739)=0, \"\", \" + \")","v":" + "}]
[null,null,null,null,null,null,null,null,null,null,null,"","КПСнг(А)-FRHF 1х2х0,5-100м",{"$f":"IF(SUM(K$8:K740)=0, \"\", \" + \")","v":" + "}]
[null,null,null,null,null,null,null,null,null,null,null,"","КПСнг(А)-FRHF 1х2х0,5-100м",{"$f":"IF(SUM(K$8:K741)=0, \"\", \" + \")","v":" + "}]
[null,null,null,null,null,null,null,null,null,null,null,"","КПСнг(А)-FRHF 1х2х0,5-100м",{"$f":"IF(SUM(K$8:K742)=0, \"\", \" + \")","v":" + "}]
[null,null,null,null,null,null,null,null,null,null,null,"","КПСнг(А)-FRHF 1х2х0,5-100м",{"$f":"IF(SUM(K$8:K743)=0, \"\", \" + \")","v":" + "}]
[null,null,null,null,null,null,null,null,null,null,null,"","КПСнг(А)-FRHF 1х2х0,5-100м",{"$f":"IF(SUM(K$8:K744)=0, \"\", \" + \")","v":" + "}]
[null,null,null,null,null,null,null,null,null,null,null,"","КПСнг(А)-FRHF 1х2х0,5-100м",{"$f":"IF(SUM(K$8:K745)=0, \"\", \" + \")","v":" + "}]
[null,null,null,null,null,null,null,null,null,null,null,"","КПСнг(А)-FRHF 1х2х0,5-100м",{"$f":"IF(SUM(K$8:K746)=0, \"\", \" + \")","v":" + "}]
[null,null,null,null,null,null,null,null,null,null,null,"","КПСнг(А)-FRHF 1х2х0,5-100м",{"$f":"IF(SUM(K$8:K747)=0, \"\", \" + \")","v":" + "}]
[null,null,null,null,null,null,null,null,null,null,null,{"$f":"IF(K749=0, \"\",CONCATENATE(N749, C749, \"-\",K749,\"м\"))","v":""},"КПСнг(А)-FRHF 1х2х0,5-100м",{"$f":"IF(SUM(K$8:K748)=0, \"\", \" + \")","v":" + "}]
[null,null,null,null,null,null,null,null,null,null,null,"",{"$f":"CONCATENATE(M749,L750)","v":"КПСнг(А)-FRHF 1х2х0,5-100м"},{"$f":"IF(SUM(K$8:K749)=0, \"\", \" + \")","v":" + "}]
[null,null,null,null,null,null,null,null,null,null,null,"","КПСнг(А)-FRHF 1х2х0,5-100м",{"$f":"IF(SUM(K$8:K750)=0, \"\", \" + \")","v":" + "}]
[null,null,null,null,null,null,null,null,null,null,null,"","КПСнг(А)-FRHF 1х2х0,5-100м",{"$f":"IF(SUM(K$8:K751)=0, \"\", \" + \")","v":" + "}]
[null,null,null,null,null,null,null,null,null,null,null,"","КПСнг(А)-FRHF 1х2х0,5-100м",{"$f":"IF(SUM(K$8:K752)=0, \"\", \" + \")","v":" + "}]
[null,null,null,null,null,null,null,null,null,null,null,"","КПСнг(А)-FRHF 1х2х0,5-100м",{"$f":"IF(SUM(K$8:K753)=0, \"\", \" + \")","v":" + "}]
[null,null,null,null,null,null,null,null,null,null,null,"","КПСнг(А)-FRHF 1х2х0,5-100м",{"$f":"IF(SUM(K$8:K754)=0, \"\", \" + \")","v":" + "}]
[null,null,null,null,null,null,null,null,null,null,null,"","КПСнг(А)-FRHF 1х2х0,5-100м",{"$f":"IF(SUM(K$8:K755)=0, \"\", \" + \")","v":" + "}]
[null,null,null,null,null,null,null,null,null,null,null,"","КПСнг(А)-FRHF 1х2х0,5-100м",{"$f":"IF(SUM(K$8:K756)=0, \"\", \" + \")","v":" + "}]
[null,null,null,null,null,null,null,null,null,null,null,"","КПСнг(А)-FRHF 1х2х0,5-100м",{"$f":"IF(SUM(K$8:K757)=0, \"\", \" + \")","v":" + "}]
[null,null,null,null,null,null,null,null,null,null,null,"","КПСнг(А)-FRHF 1х2х0,5-100м",{"$f":"IF(SUM(K$8:K758)=0, \"\", \" + \")","v":" + "}]
[null,null,null,null,null,null,null,null,null,null,null,"","КПСнг(А)-FRHF 1х2х0,5-100м",{"$f":"IF(SUM(K$8:K759)=0, \"\", \" + \")","v":" + "}]
[null,null,null,null,null,null,null,null,null,null,null,"","КПСнг(А)-FRHF 1х2х0,5-100м",{"$f":"IF(SUM(K$8:K760)=0, \"\", \" + \")","v":" + "}]
[null,null,null,null,null,null,null,null,null,null,null,"","КПСнг(А)-FRHF 1х2х0,5-100м",{"$f":"IF(SUM(K$8:K761)=0, \"\", \" + \")","v":" + "}]
[null,null,null,null,null,null,null,null,null,null,null,"","КПСнг(А)-FRHF 1х2х0,5-100м",{"$f":"IF(SUM(K$8:K762)=0, \"\", \" + \")","v":" + "}]
[null,null,null,null,null,null,null,null,null,null,null,"","КПСнг(А)-FRHF 1х2х0,5-100м",{"$f":"IF(SUM(K$8:K763)=0, \"\", \" + \")","v":" + "}]
[null,null,null,null,null,null,null,null,null,null,null,"","КПСнг(А)-FRHF 1х2х0,5-100м",{"$f":"IF(SUM(K$8:K764)=0, \"\", \" + \")","v":" + "}]
[null,null,null,null,null,null,null,null,null,null,null,"","КПСнг(А)-FRHF 1х2х0,5-100м",{"$f":"IF(SUM(K$8:K765)=0, \"\", \" + \")","v":" + "}]
[null,null,null,null,null,null,null,null,null,null,null,"","КПСнг(А)-FRHF 1х2х0,5-100м",{"$f":"IF(SUM(K$8:K766)=0, \"\", \" + \")","v":" + "}]
[null,null,null,null,null,null,null,null,null,null,null,"","КПСнг(А)-FRHF 1х2х0,5-100м",{"$f":"IF(SUM(K$8:K767)=0, \"\", \" + \")","v":" + "}]
[null,null,null,null,null,null,null,null,null,null,null,"","КПСнг(А)-FRHF 1х2х0,5-100м",{"$f":"IF(SUM(K$8:K768)=0, \"\", \" + \")","v":" + "}]
[null,null,null,null,null,null,null,null,null,null,null,"","КПСнг(А)-FRHF 1х2х0,5-100м",{"$f":"IF(SUM(K$8:K769)=0, \"\", \" + \")","v":" + "}]
[null,null,null,null,null,null,null,null,null,null,null,"","КПСнг(А)-FRHF 1х2х0,5-100м",{"$f":"IF(SUM(K$8:K770)=0, \"\", \" + \")","v":" + "}]
[null,null,null,null,null,null,null,null,null,null,null,"","КПСнг(А)-FRHF 1х2х0,5-100м",{"$f":"IF(SUM(K$8:K771)=0, \"\", \" + \")","v":" + "}]
[null,null,null,null,null,null,null,null,null,null,null,"","КПСнг(А)-FRHF 1х2х0,5-100м",{"$f":"IF(SUM(K$8:K772)=0, \"\", \" + \")","v":" + "}]
[null,null,null,null,null,null,null,null,null,null,null,"","КПСнг(А)-FRHF 1х2х0,5-100м",{"$f":"IF(SUM(K$8:K773)=0, \"\", \" + \")","v":" + "}]
[null,null,null,null,null,null,null,null,null,null,null,"","КПСнг(А)-FRHF 1х2х0,5-100м",{"$f":"IF(SUM(K$8:K774)=0, \"\", \" + \")","v":" + "}]
[null,null,null,null,null,null,null,null,null,null,null,"","КПСнг(А)-FRHF 1х2х0,5-100м",{"$f":"IF(SUM(K$8:K775)=0, \"\", \" + \")","v":" + "}]
[null,null,null,null,null,null,null,null,null,null,null,"","КПСнг(А)-FRHF 1х2х0,5-100м",{"$f":"IF(SUM(K$8:K776)=0, \"\", \" + \")","v":" + "}]
[null,null,null,null,null,null,null,null,null,null,null,"","КПСнг(А)-FRHF 1х2х0,5-100м",{"$f":"IF(SUM(K$8:K777)=0, \"\", \" + \")","v":" + "}]
[null,null,null,null,null,null,null,null,null,null,null,"","КПСнг(А)-FRHF 1х2х0,5-100м",{"$f":"IF(SUM(K$8:K778)=0, \"\", \" + \")","v":" + "}]
[null,null,null,null,null,null,null,null,null,null,null,"","КПСнг(А)-FRHF 1х2х0,5-100м",{"$f":"IF(SUM(K$8:K779)=0, \"\", \" + \")","v":" + "}]
[null,null,null,null,null,null,null,null,null,null,null,"","КПСнг(А)-FRHF 1х2х0,5-100м",{"$f":"IF(SUM(K$8:K780)=0, \"\", \" + \")","v":" + "}]
[null,null,null,null,null,null,null,null,null,null,null,"","КПСнг(А)-FRHF 1х2х0,5-100м",{"$f":"IF(SUM(K$8:K781)=0, \"\", \" + \")","v":" + "}]
[null,null,null,null,null,null,null,null,null,null,null,"","КПСнг(А)-FRHF 1х2х0,5-100м",{"$f":"IF(SUM(K$8:K782)=0, \"\", \" + \")","v":" + "}]
[null,null,null,null,null,null,null,null,null,null,null,"","КПСнг(А)-FRHF 1х2х0,5-100м",{"$f":"IF(SUM(K$8:K783)=0, \"\", \" + \")","v":" + "}]
[null,null,null,null,null,null,null,null,null,null,null,"","КПСнг(А)-FRHF 1х2х0,5-100м",{"$f":"IF(SUM(K$8:K784)=0, \"\", \" + \")","v":" + "}]
[null,null,null,null,null,null,null,null,null,null,null,"","КПСнг(А)-FRHF 1х2х0,5-100м",{"$f":"IF(SUM(K$8:K785)=0, \"\", \" + \")","v":" + "}]
[null,null,null,null,null,null,null,null,null,null,null,"","КПСнг(А)-FRHF 1х2х0,5-100м",{"$f":"IF(SUM(K$8:K786)=0, \"\", \" + \")","v":" + "}]
[null,null,null,null,null,null,null,null,null,null,null,"","КПСнг(А)-FRHF 1х2х0,5-100м",{"$f":"IF(SUM(K$8:K787)=0, \"\", \" + \")","v":" + "}]
[null,null,null,null,null,null,null,null,null,null,null,"","КПСнг(А)-FRHF 1х2х0,5-100м",{"$f":"IF(SUM(K$8:K788)=0, \"\", \" + \")","v":" + "}]
[null,null,null,null,null,null,null,null,null,null,null,"","КПСнг(А)-FRHF 1х2х0,5-100м",{"$f":"IF(SUM(K$8:K789)=0, \"\", \" + \")","v":" + "}]
[null,null,null,null,null,null,null,null,null,null,null,"","КПСнг(А)-FRHF 1х2х0,5-100м",{"$f":"IF(SUM(K$8:K790)=0, \"\", \" + \")","v":" + "}]
[null,null,null,null,null,null,null,null,null,null,null,"","КПСнг(А)-FRHF 1х2х0,5-100м",{"$f":"IF(SUM(K$8:K791)=0, \"\", \" + \")","v":" + "}]
[null,null,null,null,null,null,null,null,null,null,null,"","КПСнг(А)-FRHF 1х2х0,5-100м",{"$f":"IF(SUM(K$8:K792)=0, \"\", \" + \")","v":" + "}]
[null,null,null,null,null,null,null,null,null,null,null,"","КПСнг(А)-FRHF 1х2х0,5-100м",{"$f":"IF(SUM(K$8:K793)=0, \"\", \" + \")","v":" + "}]
[null,null,null,null,null,null,null,null,null,null,null,"","КПСнг(А)-FRHF 1х2х0,5-100м",{"$f":"IF(SUM(K$8:K794)=0, \"\", \" + \")","v":" + "}]
[null,null,null,null,null,null,null,null,null,null,null,"","КПСнг(А)-FRHF 1х2х0,5-100м",{"$f":"IF(SUM(K$8:K795)=0, \"\", \" + \")","v":" + "}]
[null,null,null,null,null,null,null,null,null,null,null,"","КПСнг(А)-FRHF 1х2х0,5-100м",{"$f":"IF(SUM(K$8:K796)=0, \"\", \" + \")","v":" + "}]
[null,null,null,null,null,null,null,null,null,null,null,"","КПСнг(А)-FRHF 1х2х0,5-100м",{"$f":"IF(SUM(K$8:K797)=0, \"\", \" + \")","v":" + "}]
[null,null,null,null,null,null,null,null,null,null,null,"","КПСнг(А)-FRHF 1х2х0,5-100м",{"$f":"IF(SUM(K$8:K798)=0, \"\", \" + \")","v":" + "}]
[null,null,null,null,null,null,null,null,null,null,null,"","КПСнг(А)-FRHF 1х2х0,5-100м",{"$f":"IF(SUM(K$8:K799)=0, \"\", \" + \")","v":" + "}]
[null,null,null,null,null,null,null,null,null,null,null,"","КПСнг(А)-FRHF 1х2х0,5-100м",{"$f":"IF(SUM(K$8:K800)=0, \"\", \" + \")","v":" + "}]
[null,null,null,null,null,null,null,null,null,null,null,"","КПСнг(А)-FRHF 1х2х0,5-100м",{"$f":"IF(SUM(K$8:K801)=0, \"\", \" + \")","v":" + "}]
[null,null,null,null,null,null,null,null,null,null,null,"","КПСнг(А)-FRHF 1х2х0,5-100м",{"$f":"IF(SUM(K$8:K802)=0, \"\", \" + \")","v":" + "}]
[null,null,null,null,null,null,null,null,null,null,null,"","КПСнг(А)-FRHF 1х2х0,5-100м",{"$f":"IF(SUM(K$8:K803)=0, \"\", \" + \")","v":" + "}]
[null,null,null,null,null,null,null,null,null,null,null,"","КПСнг(А)-FRHF 1х2х0,5-100м",{"$f":"IF(SUM(K$8:K804)=0, \"\", \" + \")","v":" + "}]
[null,null,null,null,null,null,null,null,null,null,null,"","КПСнг(А)-FRHF 1х2х0,5-100м",{"$f":"IF(SUM(K$8:K805)=0, \"\", \" + \")","v":" + "}]
[null,null,null,null,null,null,null,null,null,null,null,"","КПСнг(А)-FRHF 1х2х0,5-100м",{"$f":"IF(SUM(K$8:K806)=0, \"\", \" + \")","v":" + "}]
[null,null,null,null,null,null,null,null,null,null,null,"","КПСнг(А)-FRHF 1х2х0,5-100м",{"$f":"IF(SUM(K$8:K807)=0, \"\", \" + \")","v":" + "}]
[null,null,null,null,null,null,null,null,null,null,null,"","КПСнг(А)-FRHF 1х2х0,5-100м",{"$f":"IF(SUM(K$8:K808)=0, \"\", \" + \")","v":" + "}]
[null,null,null,null,null,null,null,null,null,null,null,"","КПСнг(А)-FRHF 1х2х0,5-100м",{"$f":"IF(SUM(K$8:K809)=0, \"\", \" + \")","v":" + "}]
[null,null,null,null,null,null,null,null,null,null,null,"","КПСнг(А)-FRHF 1х2х0,5-100м",{"$f":"IF(SUM(K$8:K810)=0, \"\", \" + \")","v":" + "}]
[null,null,null,null,null,null,null,null,null,null,null,"","КПСнг(А)-FRHF 1х2х0,5-100м",{"$f":"IF(SUM(K$8:K811)=0, \"\", \" + \")","v":" + "}]
[null,null,null,null,null,null,null,null,null,null,null,{"$f":"IF(K813=0, \"\",CONCATENATE(N813, C813, \"-\",K813,\"м\"))","v":""},"КПСнг(А)-FRHF 1х2х0,5-100м",{"$f":"IF(SUM(K$8:K812)=0, \"\", \" + \")","v":" + "}]
[null,null,null,null,null,null,null,null,null,null,null,"",{"$f":"CONCATENATE(M813,L814)","v":"КПСнг(А)-FRHF 1х2х0,5-100м"},{"$f":"IF(SUM(K$8:K813)=0, \"\", \" + \")","v":" + "}]
[null,null,null,null,null,null,null,null,null,null,null,"","КПСнг(А)-FRHF 1х2х0,5-100м",{"$f":"IF(SUM(K$8:K814)=0, \"\", \" + \")","v":" + "}]
[null,null,null,null,null,null,null,null,null,null,null,"","КПСнг(А)-FRHF 1х2х0,5-100м",{"$f":"IF(SUM(K$8:K815)=0, \"\", \" + \")","v":" + "}]
[null,null,null,null,null,null,null,null,null,null,null,"","КПСнг(А)-FRHF 1х2х0,5-100м",{"$f":"IF(SUM(K$8:K816)=0, \"\", \" + \")","v":" + "}]
[null,null,null,null,null,null,null,null,null,null,null,"","КПСнг(А)-FRHF 1х2х0,5-100м",{"$f":"IF(SUM(K$8:K817)=0, \"\", \" + \")","v":" + "}]
[null,null,null,null,null,null,null,null,null,null,null,"","КПСнг(А)-FRHF 1х2х0,5-100м",{"$f":"IF(SUM(K$8:K818)=0, \"\", \" + \")","v":" + "}]
[null,null,null,null,null,null,null,null,null,null,null,"","КПСнг(А)-FRHF 1х2х0,5-100м",{"$f":"IF(SUM(K$8:K819)=0, \"\", \" + \")","v":" + "}]
[null,null,null,null,null,null,null,null,null,null,null,"","КПСнг(А)-FRHF 1х2х0,5-100м",{"$f":"IF(SUM(K$8:K820)=0, \"\", \" + \")","v":" + "}]
[null,null,null,null,null,null,null,null,null,null,null,"","КПСнг(А)-FRHF 1х2х0,5-100м",{"$f":"IF(SUM(K$8:K821)=0, \"\", \" + \")","v":" + "}]
[null,null,null,null,null,null,null,null,null,null,null,"","КПСнг(А)-FRHF 1х2х0,5-100м",{"$f":"IF(SUM(K$8:K822)=0, \"\", \" + \")","v":" + "}]
[null,null,null,null,null,null,null,null,null,null,null,"","КПСнг(А)-FRHF 1х2х0,5-100м",{"$f":"IF(SUM(K$8:K823)=0, \"\", \" + \")","v":" + "}]
[null,null,null,null,null,null,null,null,null,null,null,"","КПСнг(А)-FRHF 1х2х0,5-100м",{"$f":"IF(SUM(K$8:K824)=0, \"\", \" + \")","v":" + "}]
[null,null,null,null,null,null,null,null,null,null,null,"","КПСнг(А)-FRHF 1х2х0,5-100м",{"$f":"IF(SUM(K$8:K825)=0, \"\", \" + \")","v":" + "}]
[null,null,null,null,null,null,null,null,null,null,null,"","КПСнг(А)-FRHF 1х2х0,5-100м",{"$f":"IF(SUM(K$8:K826)=0, \"\", \" + \")","v":" + "}]
[null,null,null,null,null,null,null,null,null,null,null,"","КПСнг(А)-FRHF 1х2х0,5-100м",{"$f":"IF(SUM(K$8:K827)=0, \"\", \" + \")","v":" + "}]
[null,null,null,null,null,null,null,null,null,null,null,"","КПСнг(А)-FRHF 1х2х0,5-100м",{"$f":"IF(SUM(K$8:K828)=0, \"\", \" + \")","v":" + "}]
[null,null,null,null,null,null,null,null,null,null,null,"","КПСнг(А)-FRHF 1х2х0,5-100м",{"$f":"IF(SUM(K$8:K829)=0, \"\", \" + \")","v":" + "}]
[null,null,null,null,null,null,null,null,null,null,null,"","КПСнг(А)-FRHF 1х2х0,5-100м",{"$f":"IF(SUM(K$8:K830)=0, \"\", \" + \")","v":" + "}]
[null,null,null,null,null,null,null,null,null,null,null,"","КПСнг(А)-FRHF 1х2х0,5-100м",{"$f":"IF(SUM(K$8:K831)=0, \"\", \" + \")","v":" + "}]
[null,null,null,null,null,null,null,null,null,null,null,"","КПСнг(А)-FRHF 1х2х0,5-100м",{"$f":"IF(SUM(K$8:K832)=0, \"\", \" + \")","v":" + "}]
[null,null,null,null,null,null,null,null,null,null,null,"","КПСнг(А)-FRHF 1х2х0,5-100м",{"$f":"IF(SUM(K$8:K833)=0, \"\", \" + \")","v":" + "}]
[null,null,null,null,null,null,null,null,null,null,null,"","КПСнг(А)-FRHF 1х2х0,5-100м",{"$f":"IF(SUM(K$8:K834)=0, \"\", \" + \")","v":" + "}]
[null,null,null,null,null,null,null,null,null,null,null,"","КПСнг(А)-FRHF 1х2х0,5-100м",{"$f":"IF(SUM(K$8:K835)=0, \"\", \" + \")","v":" + "}]
[null,null,null,null,null,null,null,null,null,null,null,"","КПСнг(А)-FRHF 1х2х0,5-100м",{"$f":"IF(SUM(K$8:K836)=0, \"\", \" + \")","v":" + "}]
[null,null,null,null,null,null,null,null,null,null,null,"","КПСнг(А)-FRHF 1х2х0,5-100м",{"$f":"IF(SUM(K$8:K837)=0, \"\", \" + \")","v":" + "}]
[null,null,null,null,null,null,null,null,null,null,null,"","КПСнг(А)-FRHF 1х2х0,5-100м",{"$f":"IF(SUM(K$8:K838)=0, \"\", \" + \")","v":" + "}]
[null,null,null,null,null,null,null,null,null,null,null,"","КПСнг(А)-FRHF 1х2х0,5-100м",{"$f":"IF(SUM(K$8:K839)=0, \"\", \" + \")","v":" + "}]
[null,null,null,null,null,null,null,null,null,null,null,"","КПСнг(А)-FRHF 1х2х0,5-100м",{"$f":"IF(SUM(K$8:K840)=0, \"\", \" + \")","v":" + "}]
[null,null,null,null,null,null,null,null,null,null,null,"","КПСнг(А)-FRHF 1х2х0,5-100м",{"$f":"IF(SUM(K$8:K841)=0, \"\", \" + \")","v":" + "}]
[null,null,null,null,null,null,null,null,null,null,null,"","КПСнг(А)-FRHF 1х2х0,5-100м",{"$f":"IF(SUM(K$8:K842)=0, \"\", \" + \")","v":" + "}]
[null,null,null,null,null,null,null,null,null,null,null,"","КПСнг(А)-FRHF 1х2х0,5-100м",{"$f":"IF(SUM(K$8:K843)=0, \"\", \" + \")","v":" + "}]
[null,null,null,null,null,null,null,null,null,null,null,"","КПСнг(А)-FRHF 1х2х0,5-100м",{"$f":"IF(SUM(K$8:K844)=0, \"\", \" + \")","v":" + "}]
[null,null,null,null,null,null,null,null,null,null,null,"","КПСнг(А)-FRHF 1х2х0,5-100м",{"$f":"IF(SUM(K$8:K845)=0, \"\", \" + \")","v":" + "}]
[null,null,null,null,null,null,null,null,null,null,null,"","КПСнг(А)-FRHF 1х2х0,5-100м",{"$f":"IF(SUM(K$8:K846)=0, \"\", \" + \")","v":" + "}]
[null,null,null,null,null,null,null,null,null,null,null,"","КПСнг(А)-FRHF 1х2х0,5-100м",{"$f":"IF(SUM(K$8:K847)=0, \"\", \" + \")","v":" + "}]
[null,null,null,null,null,null,null,null,null,null,null,"","КПСнг(А)-FRHF 1х2х0,5-100м",{"$f":"IF(SUM(K$8:K848)=0, \"\", \" + \")","v":" + "}]
[null,null,null,null,null,null,null,null,null,null,null,"","КПСнг(А)-FRHF 1х2х0,5-100м",{"$f":"IF(SUM(K$8:K849)=0, \"\", \" + \")","v":" + "}]
[null,null,null,null,null,null,null,null,null,null,null,"","КПСнг(А)-FRHF 1х2х0,5-100м",{"$f":"IF(SUM(K$8:K850)=0, \"\", \" + \")","v":" + "}]
[null,null,null,null,null,null,null,null,null,null,null,"","КПСнг(А)-FRHF 1х2х0,5-100м",{"$f":"IF(SUM(K$8:K851)=0, \"\", \" + \")","v":" + "}]
[null,null,null,null,null,null,null,null,null,null,null,"","КПСнг(А)-FRHF 1х2х0,5-100м",{"$f":"IF(SUM(K$8:K852)=0, \"\", \" + \")","v":" + "}]
[null,null,null,null,null,null,null,null,null,null,null,"","КПСнг(А)-FRHF 1х2х0,5-100м",{"$f":"IF(SUM(K$8:K853)=0, \"\", \" + \")","v":" + "}]
[null,null,null,null,null,null,null,null,null,null,null,"","КПСнг(А)-FRHF 1х2х0,5-100м",{"$f":"IF(SUM(K$8:K854)=0, \"\", \" + \")","v":" + "}]
[null,null,null,null,null,null,null,null,null,null,null,"","КПСнг(А)-FRHF 1х2х0,5-100м",{"$f":"IF(SUM(K$8:K855)=0, \"\", \" + \")","v":" + "}]
[null,null,null,null,null,null,null,null,null,null,null,"","КПСнг(А)-FRHF 1х2х0,5-100м",{"$f":"IF(SUM(K$8:K856)=0, \"\", \" + \")","v":" + "}]
[null,null,null,null,null,null,null,null,null,null,null,"","КПСнг(А)-FRHF 1х2х0,5-100м",{"$f":"IF(SUM(K$8:K857)=0, \"\", \" + \")","v":" + "}]
[null,null,null,null,null,null,null,null,null,null,null,"","КПСнг(А)-FRHF 1х2х0,5-100м",{"$f":"IF(SUM(K$8:K858)=0, \"\", \" + \")","v":" + "}]
[null,null,null,null,null,null,null,null,null,null,null,"","КПСнг(А)-FRHF 1х2х0,5-100м",{"$f":"IF(SUM(K$8:K859)=0, \"\", \" + \")","v":" + "}]
[null,null,null,null,null,null,null,null,null,null,null,"","КПСнг(А)-FRHF 1х2х0,5-100м",{"$f":"IF(SUM(K$8:K860)=0, \"\", \" + \")","v":" + "}]
[null,null,null,null,null,null,null,null,null,null,null,"","КПСнг(А)-FRHF 1х2х0,5-100м",{"$f":"IF(SUM(K$8:K861)=0, \"\", \" + \")","v":" + "}]
[null,null,null,null,null,null,null,null,null,null,null,"","КПСнг(А)-FRHF 1х2х0,5-100м",{"$f":"IF(SUM(K$8:K862)=0, \"\", \" + \")","v":" + "}]
[null,null,null,null,null,null,null,null,null,null,null,"","КПСнг(А)-FRHF 1х2х0,5-100м",{"$f":"IF(SUM(K$8:K863)=0, \"\", \" + \")","v":" + "}]
[null,null,null,null,null,null,null,null,null,null,null,"","КПСнг(А)-FRHF 1х2х0,5-100м",{"$f":"IF(SUM(K$8:K864)=0, \"\", \" + \")","v":" + "}]
[null,null,null,null,null,null,null,null,null,null,null,"","КПСнг(А)-FRHF 1х2х0,5-100м",{"$f":"IF(SUM(K$8:K865)=0, \"\", \" + \")","v":" + "}]
[null,null,null,null,null,null,null,null,null,null,null,"","КПСнг(А)-FRHF 1х2х0,5-100м",{"$f":"IF(SUM(K$8:K866)=0, \"\", \" + \")","v":" + "}]
[null,null,null,null,null,null,null,null,null,null,null,"","КПСнг(А)-FRHF 1х2х0,5-100м",{"$f":"IF(SUM(K$8:K867)=0, \"\", \" + \")","v":" + "}]
[null,null,null,null,null,null,null,null,null,null,null,"","КПСнг(А)-FRHF 1х2х0,5-100м",{"$f":"IF(SUM(K$8:K868)=0, \"\", \" + \")","v":" + "}]
[null,null,null,null,null,null,null,null,null,null,null,"","КПСнг(А)-FRHF 1х2х0,5-100м",{"$f":"IF(SUM(K$8:K869)=0, \"\", \" + \")","v":" + "}]
[null,null,null,null,null,null,null,null,null,null,null,"","КПСнг(А)-FRHF 1х2х0,5-100м",{"$f":"IF(SUM(K$8:K870)=0, \"\", \" + \")","v":" + "}]
[null,null,null,null,null,null,null,null,null,null,null,"","КПСнг(А)-FRHF 1х2х0,5-100м",{"$f":"IF(SUM(K$8:K871)=0, \"\", \" + \")","v":" + "}]
[null,null,null,null,null,null,null,null,null,null,null,"","КПСнг(А)-FRHF 1х2х0,5-100м",{"$f":"IF(SUM(K$8:K872)=0, \"\", \" + \")","v":" + "}]
[null,null,null,null,null,null,null,null,null,null,null,"","КПСнг(А)-FRHF 1х2х0,5-100м",{"$f":"IF(SUM(K$8:K873)=0, \"\", \" + \")","v":" + "}]
[null,null,null,null,null,null,null,null,null,null,null,"","КПСнг(А)-FRHF 1х2х0,5-100м",{"$f":"IF(SUM(K$8:K874)=0, \"\", \" + \")","v":" + "}]
[null,null,null,null,null,null,null,null,null,null,null,"","КПСнг(А)-FRHF 1х2х0,5-100м",{"$f":"IF(SUM(K$8:K875)=0, \"\", \" + \")","v":" + "}]
[null,null,null,null,null,null,null,null,null,null,null,{"$f":"IF(K877=0, \"\",CONCATENATE(N877, C877, \"-\",K877,\"м\"))","v":""},"КПСнг(А)-FRHF 1х2х0,5-100м",{"$f":"IF(SUM(K$8:K876)=0, \"\", \" + \")","v":" + "}]
[null,null,null,null,null,null,null,null,null,null,null,"",{"$f":"CONCATENATE(M877,L878)","v":"КПСнг(А)-FRHF 1х2х0,5-100м"},{"$f":"IF(SUM(K$8:K877)=0, \"\", \" + \")","v":" + "}]
[null,null,null,null,null,null,null,null,null,null,null,"","КПСнг(А)-FRHF 1х2х0,5-100м",{"$f":"IF(SUM(K$8:K878)=0, \"\", \" + \")","v":" + "}]
[null,null,null,null,null,null,null,null,null,null,null,"","КПСнг(А)-FRHF 1х2х0,5-100м",{"$f":"IF(SUM(K$8:K879)=0, \"\", \" + \")","v":" + "}]
[null,null,null,null,null,null,null,null,null,null,null,"","КПСнг(А)-FRHF 1х2х0,5-100м",{"$f":"IF(SUM(K$8:K880)=0, \"\", \" + \")","v":" + "}]
[null,null,null,null,null,null,null,null,null,null,null,"","КПСнг(А)-FRHF 1х2х0,5-100м",{"$f":"IF(SUM(K$8:K881)=0, \"\", \" + \")","v":" + "}]
[null,null,null,null,null,null,null,null,null,null,null,"","КПСнг(А)-FRHF 1х2х0,5-100м",{"$f":"IF(SUM(K$8:K882)=0, \"\", \" + \")","v":" + "}]
[null,null,null,null,null,null,null,null,null,null,null,"","КПСнг(А)-FRHF 1х2х0,5-100м",{"$f":"IF(SUM(K$8:K883)=0, \"\", \" + \")","v":" + "}]
[null,null,null,null,null,null,null,null,null,null,null,"","КПСнг(А)-FRHF 1х2х0,5-100м",{"$f":"IF(SUM(K$8:K884)=0, \"\", \" + \")","v":" + "}]
[null,null,null,null,null,null,null,null,null,null,null,"","КПСнг(А)-FRHF 1х2х0,5-100м",{"$f":"IF(SUM(K$8:K885)=0, \"\", \" + \")","v":" + "}]
[null,null,null,null,null,null,null,null,null,null,null,"","КПСнг(А)-FRHF 1х2х0,5-100м",{"$f":"IF(SUM(K$8:K886)=0, \"\", \" + \")","v":" + "}]
[null,null,null,null,null,null,null,null,null,null,null,"","КПСнг(А)-FRHF 1х2х0,5-100м",{"$f":"IF(SUM(K$8:K887)=0, \"\", \" + \")","v":" + "}]
[null,null,null,null,null,null,null,null,null,null,null,"","КПСнг(А)-FRHF 1х2х0,5-100м",{"$f":"IF(SUM(K$8:K888)=0, \"\", \" + \")","v":" + "}]
[null,null,null,null,null,null,null,null,null,null,null,"","КПСнг(А)-FRHF 1х2х0,5-100м",{"$f":"IF(SUM(K$8:K889)=0, \"\", \" + \")","v":" + "}]
[null,null,null,null,null,null,null,null,null,null,null,"","КПСнг(А)-FRHF 1х2х0,5-100м",{"$f":"IF(SUM(K$8:K890)=0, \"\", \" + \")","v":" + "}]
[null,null,null,null,null,null,null,null,null,null,null,"","КПСнг(А)-FRHF 1х2х0,5-100м",{"$f":"IF(SUM(K$8:K891)=0, \"\", \" + \")","v":" + "}]
[null,null,null,null,null,null,null,null,null,null,null,"","КПСнг(А)-FRHF 1х2х0,5-100м",{"$f":"IF(SUM(K$8:K892)=0, \"\", \" + \")","v":" + "}]
[null,null,null,null,null,null,null,null,null,null,null,"","КПСнг(А)-FRHF 1х2х0,5-100м",{"$f":"IF(SUM(K$8:K893)=0, \"\", \" + \")","v":" + "}]
[null,null,null,null,null,null,null,null,null,null,null,"","КПСнг(А)-FRHF 1х2х0,5-100м",{"$f":"IF(SUM(K$8:K894)=0, \"\", \" + \")","v":" + "}]
[null,null,null,null,null,null,null,null,null,null,null,"","КПСнг(А)-FRHF 1х2х0,5-100м",{"$f":"IF(SUM(K$8:K895)=0, \"\", \" + \")","v":" + "}]
[null,null,null,null,null,null,null,null,null,null,null,"","КПСнг(А)-FRHF 1х2х0,5-100м",{"$f":"IF(SUM(K$8:K896)=0, \"\", \" + \")","v":" + "}]
[null,null,null,null,null,null,null,null,null,null,null,"","КПСнг(А)-FRHF 1х2х0,5-100м",{"$f":"IF(SUM(K$8:K897)=0, \"\", \" + \")","v":" + "}]
[null,null,null,null,null,null,null,null,null,null,null,"","КПСнг(А)-FRHF 1х2х0,5-100м",{"$f":"IF(SUM(K$8:K898)=0, \"\", \" + \")","v":" + "}]
[null,null,null,null,null,null,null,null,null,null,null,"","КПСнг(А)-FRHF 1х2х0,5-100м",{"$f":"IF(SUM(K$8:K899)=0, \"\", \" + \")","v":" + "}]
[null,null,null,null,null,null,null,null,null,null,null,"","КПСнг(А)-FRHF 1х2х0,5-100м",{"$f":"IF(SUM(K$8:K900)=0, \"\", \" + \")","v":" + "}]
[null,null,null,null,null,null,null,null,null,null,null,"","КПСнг(А)-FRHF 1х2х0,5-100м",{"$f":"IF(SUM(K$8:K901)=0, \"\", \" + \")","v":" + "}]
[null,null,null,null,null,null,null,null,null,null,null,"","КПСнг(А)-FRHF 1х2х0,5-100м",{"$f":"IF(SUM(K$8:K902)=0, \"\", \" + \")","v":" + "}]
[null,null,null,null,null,null,null,null,null,null,null,"","КПСнг(А)-FRHF 1х2х0,5-100м",{"$f":"IF(SUM(K$8:K903)=0, \"\", \" + \")","v":" + "}]
[null,null,null,null,null,null,null,null,null,null,null,"","КПСнг(А)-FRHF 1х2х0,5-100м",{"$f":"IF(SUM(K$8:K904)=0, \"\", \" + \")","v":" + "}]
[null,null,null,null,null,null,null,null,null,null,null,"","КПСнг(А)-FRHF 1х2х0,5-100м",{"$f":"IF(SUM(K$8:K905)=0, \"\", \" + \")","v":" + "}]
[null,null,null,null,null,null,null,null,null,null,null,"","КПСнг(А)-FRHF 1х2х0,5-100м",{"$f":"IF(SUM(K$8:K906)=0, \"\", \" + \")","v":" + "}]
[null,null,null,null,null,null,null,null,null,null,null,"","КПСнг(А)-FRHF 1х2х0,5-100м",{"$f":"IF(SUM(K$8:K907)=0, \"\", \" + \")","v":" + "}]
[null,null,null,null,null,null,null,null,null,null,null,"","КПСнг(А)-FRHF 1х2х0,5-100м",{"$f":"IF(SUM(K$8:K908)=0, \"\", \" + \")","v":" + "}]
[null,null,null,null,null,null,null,null,null,null,null,"","КПСнг(А)-FRHF 1х2х0,5-100м",{"$f":"IF(SUM(K$8:K909)=0, \"\", \" + \")","v":" + "}]
[null,null,null,null,null,null,null,null,null,null,null,"","КПСнг(А)-FRHF 1х2х0,5-100м",{"$f":"IF(SUM(K$8:K910)=0, \"\", \" + \")","v":" + "}]
[null,null,null,null,null,null,null,null,null,null,null,"","КПСнг(А)-FRHF 1х2х0,5-100м",{"$f":"IF(SUM(K$8:K911)=0, \"\", \" + \")","v":" + "}]
[null,null,null,null,null,null,null,null,null,null,null,"","КПСнг(А)-FRHF 1х2х0,5-100м",{"$f":"IF(SUM(K$8:K912)=0, \"\", \" + \")","v":" + "}]
[null,null,null,null,null,null,null,null,null,null,null,"","КПСнг(А)-FRHF 1х2х0,5-100м",{"$f":"IF(SUM(K$8:K913)=0, \"\", \" + \")","v":" + "}]
[null,null,null,null,null,null,null,null,null,null,null,"","КПСнг(А)-FRHF 1х2х0,5-100м",{"$f":"IF(SUM(K$8:K914)=0, \"\", \" + \")","v":" + "}]
[null,null,null,null,null,null,null,null,null,null,null,"","КПСнг(А)-FRHF 1х2х0,5-100м",{"$f":"IF(SUM(K$8:K915)=0, \"\", \" + \")","v":" + "}]
[null,null,null,null,null,null,null,null,null,null,null,"","КПСнг(А)-FRHF 1х2х0,5-100м",{"$f":"IF(SUM(K$8:K916)=0, \"\", \" + \")","v":" + "}]
[null,null,null,null,null,null,null,null,null,null,null,"","КПСнг(А)-FRHF 1х2х0,5-100м",{"$f":"IF(SUM(K$8:K917)=0, \"\", \" + \")","v":" + "}]
[null,null,null,null,null,null,null,null,null,null,null,"","КПСнг(А)-FRHF 1х2х0,5-100м",{"$f":"IF(SUM(K$8:K918)=0, \"\", \" + \")","v":" + "}]
[null,null,null,null,null,null,null,null,null,null,null,"","КПСнг(А)-FRHF 1х2х0,5-100м",{"$f":"IF(SUM(K$8:K919)=0, \"\", \" + \")","v":" + "}]
[null,null,null,null,null,null,null,null,null,null,null,"","КПСнг(А)-FRHF 1х2х0,5-100м",{"$f":"IF(SUM(K$8:K920)=0, \"\", \" + \")","v":" + "}]
[null,null,null,null,null,null,null,null,null,null,null,"","КПСнг(А)-FRHF 1х2х0,5-100м",{"$f":"IF(SUM(K$8:K921)=0, \"\", \" + \")","v":" + "}]
[null,null,null,null,null,null,null,null,null,null,null,"","КПСнг(А)-FRHF 1х2х0,5-100м",{"$f":"IF(SUM(K$8:K922)=0, \"\", \" + \")","v":" + "}]
[null,null,null,null,null,null,null,null,null,null,null,"","КПСнг(А)-FRHF 1х2х0,5-100м",{"$f":"IF(SUM(K$8:K923)=0, \"\", \" + \")","v":" + "}]
[null,null,null,null,null,null,null,null,null,null,null,"","КПСнг(А)-FRHF 1х2х0,5-100м",{"$f":"IF(SUM(K$8:K924)=0, \"\", \" + \")","v":" + "}]
[null,null,null,null,null,null,null,null,null,null,null,"","КПСнг(А)-FRHF 1х2х0,5-100м",{"$f":"IF(SUM(K$8:K925)=0, \"\", \" + \")","v":" + "}]
[null,null,null,null,null,null,null,null,null,null,null,"","КПСнг(А)-FRHF 1х2х0,5-100м",{"$f":"IF(SUM(K$8:K926)=0, \"\", \" + \")","v":" + "}]
[null,null,null,null,null,null,null,null,null,null,null,"","КПСнг(А)-FRHF 1х2х0,5-100м",{"$f":"IF(SUM(K$8:K927)=0, \"\", \" + \")","v":" + "}]
[null,null,null,null,null,null,null,null,null,null,null,"","КПСнг(А)-FRHF 1х2х0,5-100м",{"$f":"IF(SUM(K$8:K928)=0, \"\", \" + \")","v":" + "}]
[null,null,null,null,null,null,null,null,null,null,null,"","КПСнг(А)-FRHF 1х2х0,5-100м",{"$f":"IF(SUM(K$8:K929)=0, \"\", \" + \")","v":" + "}]
[null,null,null,null,null,null,null,null,null,null,null,"","КПСнг(А)-FRHF 1х2х0,5-100м",{"$f":"IF(SUM(K$8:K930)=0, \"\", \" + \")","v":" + "}]
[null,null,null,null,null,null,null,null,null,null,null,"","КПСнг(А)-FRHF 1х2х0,5-100м",{"$f":"IF(SUM(K$8:K931)=0, \"\", \" + \")","v":" + "}]
[null,null,null,null,null,null,null,null,null,null,null,"","КПСнг(А)-FRHF 1х2х0,5-100м",{"$f":"IF(SUM(K$8:K932)=0, \"\", \" + \")","v":" + "}]
[null,null,null,null,null,null,null,null,null,null,null,"","КПСнг(А)-FRHF 1х2х0,5-100м",{"$f":"IF(SUM(K$8:K933)=0, \"\", \" + \")","v":" + "}]
[null,null,null,null,null,null,null,null,null,null,null,"","КПСнг(А)-FRHF 1х2х0,5-100м",{"$f":"IF(SUM(K$8:K934)=0, \"\", \" + \")","v":" + "}]
[null,null,null,null,null,null,null,null,null,null,null,"","КПСнг(А)-FRHF 1х2х0,5-100м",{"$f":"IF(SUM(K$8:K935)=0, \"\", \" + \")","v":" + "}]
[null,null,null,null,null,null,null,null,null,null,null,"","КПСнг(А)-FRHF 1х2х0,5-100м",{"$f":"IF(SUM(K$8:K936)=0, \"\", \" + \")","v":" + "}]
[null,null,null,null,null,null,null,null,null,null,null,"","КПСнг(А)-FRHF 1х2х0,5-100м",{"$f":"IF(SUM(K$8:K937)=0, \"\", \" + \")","v":" + "}]
[null,null,null,null,null,null,null,null,null,null,null,"","КПСнг(А)-FRHF 1х2х0,5-100м",{"$f":"IF(SUM(K$8:K938)=0, \"\", \" + \")","v":" + "}]
[null,null,null,null,null,null,null,null,null,null,null,"","КПСнг(А)-FRHF 1х2х0,5-100м",{"$f":"IF(SUM(K$8:K939)=0, \"\", \" + \")","v":" + "}]
[null,null,null,null,null,null,null,null,null,null,null,{"$f":"IF(K941=0, \"\",CONCATENATE(N941, C941, \"-\",K941,\"м\"))","v":""},"КПСнг(А)-FRHF 1х2х0,5-100м",{"$f":"IF(SUM(K$8:K940)=0, \"\", \" + \")","v":" + "}]
[null,null,null,null,null,null,null,null,null,null,null,"",{"$f":"CONCATENATE(M941,L942)","v":"КПСнг(А)-FRHF 1х2х0,5-100м"},{"$f":"IF(SUM(K$8:K941)=0, \"\", \" + \")","v":" + "}]
[null,null,null,null,null,null,null,null,null,null,null,"","КПСнг(А)-FRHF 1х2х0,5-100м",{"$f":"IF(SUM(K$8:K942)=0, \"\", \" + \")","v":" + "}]
[null,null,null,null,null,null,null,null,null,null,null,"","КПСнг(А)-FRHF 1х2х0,5-100м",{"$f":"IF(SUM(K$8:K943)=0, \"\", \" + \")","v":" + "}]
[null,null,null,null,null,null,null,null,null,null,null,"","КПСнг(А)-FRHF 1х2х0,5-100м",{"$f":"IF(SUM(K$8:K944)=0, \"\", \" + \")","v":" + "}]
[null,null,null,null,null,null,null,null,null,null,null,"","КПСнг(А)-FRHF 1х2х0,5-100м",{"$f":"IF(SUM(K$8:K945)=0, \"\", \" + \")","v":" + "}]
[null,null,null,null,null,null,null,null,null,null,null,"","КПСнг(А)-FRHF 1х2х0,5-100м",{"$f":"IF(SUM(K$8:K946)=0, \"\", \" + \")","v":" + "}]
[null,null,null,null,null,null,null,null,null,null,null,"","КПСнг(А)-FRHF 1х2х0,5-100м",{"$f":"IF(SUM(K$8:K947)=0, \"\", \" + \")","v":" + "}]
[null,null,null,null,null,null,null,null,null,null,null,"","КПСнг(А)-FRHF 1х2х0,5-100м",{"$f":"IF(SUM(K$8:K948)=0, \"\", \" + \")","v":" + "}]
[null,null,null,null,null,null,null,null,null,null,null,"","КПСнг(А)-FRHF 1х2х0,5-100м",{"$f":"IF(SUM(K$8:K949)=0, \"\", \" + \")","v":" + "}]
[null,null,null,null,null,null,null,null,null,null,null,"","КПСнг(А)-FRHF 1х2х0,5-100м",{"$f":"IF(SUM(K$8:K950)=0, \"\", \" + \")","v":" + "}]
[null,null,null,null,null,null,null,null,null,null,null,"","КПСнг(А)-FRHF 1х2х0,5-100м",{"$f":"IF(SUM(K$8:K951)=0, \"\", \" + \")","v":" + "}]
[null,null,null,null,null,null,null,null,null,null,null,"","КПСнг(А)-FRHF 1х2х0,5-100м",{"$f":"IF(SUM(K$8:K952)=0, \"\", \" + \")","v":" + "}]
[null,null,null,null,null,null,null,null,null,null,null,"","КПСнг(А)-FRHF 1х2х0,5-100м",{"$f":"IF(SUM(K$8:K953)=0, \"\", \" + \")","v":" + "}]
[null,null,null,null,null,null,null,null,null,null,null,"","КПСнг(А)-FRHF 1х2х0,5-100м",{"$f":"IF(SUM(K$8:K954)=0, \"\", \" + \")","v":" + "}]
[null,null,null,null,null,null,null,null,null,null,null,"","КПСнг(А)-FRHF 1х2х0,5-100м",{"$f":"IF(SUM(K$8:K955)=0, \"\", \" + \")","v":" + "}]
[null,null,null,null,null,null,null,null,null,null,null,"","КПСнг(А)-FRHF 1х2х0,5-100м",{"$f":"IF(SUM(K$8:K956)=0, \"\", \" + \")","v":" + "}]
[null,null,null,null,null,null,null,null,null,null,null,"","КПСнг(А)-FRHF 1х2х0,5-100м",{"$f":"IF(SUM(K$8:K957)=0, \"\", \" + \")","v":" + "}]
[null,null,null,null,null,null,null,null,null,null,null,"","КПСнг(А)-FRHF 1х2х0,5-100м",{"$f":"IF(SUM(K$8:K958)=0, \"\", \" + \")","v":" + "}]
[null,null,null,null,null,null,null,null,null,null,null,"","КПСнг(А)-FRHF 1х2х0,5-100м",{"$f":"IF(SUM(K$8:K959)=0, \"\", \" + \")","v":" + "}]
[null,null,null,null,null,null,null,null,null,null,null,"","КПСнг(А)-FRHF 1х2х0,5-100м",{"$f":"IF(SUM(K$8:K960)=0, \"\", \" + \")","v":" + "}]
[null,null,null,null,null,null,null,null,null,null,null,"","КПСнг(А)-FRHF 1х2х0,5-100м",{"$f":"IF(SUM(K$8:K961)=0, \"\", \" + \")","v":" + "}]
[null,null,null,null,null,null,null,null,null,null,null,"","КПСнг(А)-FRHF 1х2х0,5-100м",{"$f":"IF(SUM(K$8:K962)=0, \"\", \" + \")","v":" + "}]
[null,null,null,null,null,null,null,null,null,null,null,"","КПСнг(А)-FRHF 1х2х0,5-100м",{"$f":"IF(SUM(K$8:K963)=0, \"\", \" + \")","v":" + "}]
[null,null,null,null,null,null,null,null,null,null,null,"","КПСнг(А)-FRHF 1х2х0,5-100м",{"$f":"IF(SUM(K$8:K964)=0, \"\", \" + \")","v":" + "}]
[null,null,null,null,null,null,null,null,null,null,null,"","КПСнг(А)-FRHF 1х2х0,5-100м",{"$f":"IF(SUM(K$8:K965)=0, \"\", \" + \")","v":" + "}]
[null,null,null,null,null,null,null,null,null,null,null,"","КПСнг(А)-FRHF 1х2х0,5-100м",{"$f":"IF(SUM(K$8:K966)=0, \"\", \" + \")","v":" + "}]
[null,null,null,null,null,null,null,null,null,null,null,"","КПСнг(А)-FRHF 1х2х0,5-100м",{"$f":"IF(SUM(K$8:K967)=0, \"\", \" + \")","v":" + "}]
[null,null,null,null,null,null,null,null,null,null,null,"","КПСнг(А)-FRHF 1х2х0,5-100м",{"$f":"IF(SUM(K$8:K968)=0, \"\", \" + \")","v":" + "}]
[null,null,null,null,null,null,null,null,null,null,null,"","КПСнг(А)-FRHF 1х2х0,5-100м",{"$f":"IF(SUM(K$8:K969)=0, \"\", \" + \")","v":" + "}]
[null,null,null,null,null,null,null,null,null,null,null,"","КПСнг(А)-FRHF 1х2х0,5-100м",{"$f":"IF(SUM(K$8:K970)=0, \"\", \" + \")","v":" + "}]
[null,null,null,null,null,null,null,null,null,null,null,"","КПСнг(А)-FRHF 1х2х0,5-100м",{"$f":"IF(SUM(K$8:K971)=0, \"\", \" + \")","v":" + "}]
[null,null,null,null,null,null,null,null,null,null,null,"","КПСнг(А)-FRHF 1х2х0,5-100м",{"$f":"IF(SUM(K$8:K972)=0, \"\", \" + \")","v":" + "}]
[null,null,null,null,null,null,null,null,null,null,null,"","КПСнг(А)-FRHF 1х2х0,5-100м",{"$f":"IF(SUM(K$8:K973)=0, \"\", \" + \")","v":" + "}]
[null,null,null,null,null,null,null,null,null,null,null,"","КПСнг(А)-FRHF 1х2х0,5-100м",{"$f":"IF(SUM(K$8:K974)=0, \"\", \" + \")","v":" + "}]
[null,null,null,null,null,null,null,null,null,null,null,"","КПСнг(А)-FRHF 1х2х0,5-100м",{"$f":"IF(SUM(K$8:K975)=0, \"\", \" + \")","v":" + "}]
[null,null,null,null,null,null,null,null,null,null,null,"","КПСнг(А)-FRHF 1х2х0,5-100м",{"$f":"IF(SUM(K$8:K976)=0, \"\", \" + \")","v":" + "}]
[null,null,null,null,null,null,null,null,null,null,null,"","КПСнг(А)-FRHF 1х2х0,5-100м",{"$f":"IF(SUM(K$8:K977)=0, \"\", \" + \")","v":" + "}]
[null,null,null,null,null,null,null,null,null,null,null,"","КПСнг(А)-FRHF 1х2х0,5-100м",{"$f":"IF(SUM(K$8:K978)=0, \"\", \" + \")","v":" + "}]
[null,null,null,null,null,null,null,null,null,null,null,"","КПСнг(А)-FRHF 1х2х0,5-100м",{"$f":"IF(SUM(K$8:K979)=0, \"\", \" + \")","v":" + "}]
[null,null,null,null,null,null,null,null,null,null,null,"","КПСнг(А)-FRHF 1х2х0,5-100м",{"$f":"IF(SUM(K$8:K980)=0, \"\", \" + \")","v":" + "}]
[null,null,null,null,null,null,null,null,null,null,null,"","КПСнг(А)-FRHF 1х2х0,5-100м",{"$f":"IF(SUM(K$8:K981)=0, \"\", \" + \")","v":" + "}]
[null,null,null,null,null,null,null,null,null,null,null,"","КПСнг(А)-FRHF 1х2х0,5-100м",{"$f":"IF(SUM(K$8:K982)=0, \"\", \" + \")","v":" + "}]
[null,null,null,null,null,null,null,null,null,null,null,"","КПСнг(А)-FRHF 1х2х0,5-100м",{"$f":"IF(SUM(K$8:K983)=0, \"\", \" + \")","v":" + "}]
[null,null,null,null,null,null,null,null,null,null,null,"","КПСнг(А)-FRHF 1х2х0,5-100м",{"$f":"IF(SUM(K$8:K984)=0, \"\", \" + \")","v":" + "}]
[null,null,null,null,null,null,null,null,null,null,null,"","КПСнг(А)-FRHF 1х2х0,5-100м",{"$f":"IF(SUM(K$8:K985)=0, \"\", \" + \")","v":" + "}]
[null,null,null,null,null,null,null,null,null,null,null,"","КПСнг(А)-FRHF 1х2х0,5-100м",{"$f":"IF(SUM(K$8:K986)=0, \"\", \" + \")","v":" + "}]
[null,null,null,null,null,null,null,null,null,null,null,"","КПСнг(А)-FRHF 1х2х0,5-100м",{"$f":"IF(SUM(K$8:K987)=0, \"\", \" + \")","v":" + "}]
[null,null,null,null,null,null,null,null,null,null,null,"","КПСнг(А)-FRHF 1х2х0,5-100м",{"$f":"IF(SUM(K$8:K988)=0, \"\", \" + \")","v":" + "}]
[null,null,null,null,null,null,null,null,null,null,null,"","КПСнг(А)-FRHF 1х2х0,5-100м",{"$f":"IF(SUM(K$8:K989)=0, \"\", \" + \")","v":" + "}]

{"sheet":"КСБ","index":11,"n_rows":989,"n_cols":19,"rows_kept":989,"cut":false,"hidden":false,"merged":[[2,11,3,21]]}
[null,null,null,null,null,null,null,null,null,null,null,null,null,{"$f":"IF(SUM($L$10:$L$523)=0, 0, 1)","v":0},null,1,null,null,{"$f":"COUNT(L10:L989)","v":0}]
[null,null,null,null,null,null,null,null,null,null,null,"Кабели в составе ОКЛ"]
[null,null,null,null,null,null,null,null,null,null,null,{"$f":"CONCATENATE(N989)","v":""}]
["Столбец скрыть "]
[null,null,null,null,null,null,null,null,null,null,null,"Общая длина",null,null,null,null,{"$f":"SUM(L10:L989)","v":0},"м"]
[]
["Артикул",null,"Наименование",null,null,null,"HF/LS","Кол-во \nпар","Парность","Диаметр",null,"Длина, М"]
[]
[]
["4998",null,"КСБГКГнг(А)-FRHF 10х2х1,50",{"$f":"MID(C10, FIND(\" \",C10) +1, 100)","v":"10х2х1,50"},{"$f":"MID($D10,IF(ISERR(FIND(\"х\",$D10)), FIND(\"x\",$D10)+1, FIND(\"х\",$D10))+1, 100)","v":"2х1,50"},{"$f":"MID($E10,IF(ISERR(FIND(\"х\",$E10)), FIND(\"x\",$E10)+1, FIND(\"х\",$E10))+1,10)","v":"1,50"},{"$f":"MID(C10,FIND(\"FR\",C10)+2, 2)","v":"HF"},{"$f":"MID($D10,1, IF(ISERR(FIND(\"х\",$D10)), FIND(\"x\",$D10)-1, FIND(\"х\",$D10))-1)","v":"10"},{"$f":"MID($E10,1, IF(ISERR(FIND(\"х\",$E10)), FIND(\"x\",$E10)-1, FIND(\"х\",$E10))-1)","v":"2"},{"$f":"F10","v":"1,50"},null,null,{"$f":"IF(L10=0, \"\",CONCATENATE(O10, C10, \"-\",L10,\"м\"))","v":""},{"$f":"CONCATENATE(N9,M10)","v":""},{"$f":"IF(SUM(L$8:L9)=0, \"\", \" + \")","v":""}]
["5070",null,"КСБГКГнг(А)-FRHF 12х2х1,20","12х2х1,20",{"$f":"MID($D11,IF(ISERR(FIND(\"х\",$D11)), FIND(\"x\",$D11)+1, FIND(\"х\",$D11))+1, 100)","v":"2х1,20"},{"$f":"MID($E11,IF(ISERR(FIND(\"х\",$E11)), FIND(\"x\",$E11)+1, FIND(\"х\",$E11))+1,10)","v":"1,20"},"HF",{"$f":"MID($D11,1, IF(ISERR(FIND(\"х\",$D11)), FIND(\"x\",$D11)-1, FIND(\"х\",$D11))-1)","v":"12"},{"$f":"MID($E11,1, IF(ISERR(FIND(\"х\",$E11)), FIND(\"x\",$E11)-1, FIND(\"х\",$E11))-1)","v":"2"},{"$f":"F11","v":"1,20"},null,null,"",{"$f":"CONCATENATE(N10,M11)","v":""},{"$f":"IF(SUM(L$8:L10)=0, \"\", \" + \")","v":""}]
["5069",null,"КСБГКГнг(А)-FRHF 14х2х1,20","14х2х1,20","2х1,20","1,20","HF","14","2","1,20",null,null,"","",{"$f":"IF(SUM(L$8:L11)=0, \"\", \" + \")","v":""}]
["4351",null,"КСБГКГнг(А)-FRHF 1х2х0,78","1х2х0,78","2х0,78","0,78","HF","1","2","0,78",null,null,"","",{"$f":"IF(SUM(L$8:L12)=0, \"\", \" + \")","v":""}]
["4355",null,"КСБГКГнг(А)-FRHF 1х2х0,90","1х2х0,90","2х0,90","0,90","HF","1","2","0,90",null,null,"","",{"$f":"IF(SUM(L$8:L13)=0, \"\", \" + \")","v":""}]
["4359",null,"КСБГКГнг(А)-FRHF 1х2х1,10","1х2х1,10","2х1,10","1,10","HF","1","2","1,10",null,null,"","",{"$f":"IF(SUM(L$8:L14)=0, \"\", \" + \")","v":""}]
["4363",null,"КСБГКГнг(А)-FRHF 1х2х1,20","1х2х1,20","2х1,20","1,20","HF","1","2","1,20",null,null,"","",{"$f":"IF(SUM(L$8:L15)=0, \"\", \" + \")","v":""}]
["4367",null,"КСБГКГнг(А)-FRHF 1х2х1,50","1х2х1,50","2х1,50","1,50","HF","1","2","1,50",null,null,"","",{"$f":"IF(SUM(L$8:L16)=0, \"\", \" + \")","v":""}]
["4371",null,"КСБГКГнг(А)-FRHF 1х2х2,00","1х2х2,00","2х2,00","2,00","HF","1","2","2,00",null,null,"","",{"$f":"IF(SUM(L$8:L17)=0, \"\", \" + \")","v":""}]
["4352",null,"КСБГКГнг(А)-FRHF 2х2х0,78","2х2х0,78","2х0,78","0,78","HF","2","2","0,78",null,null,"","",{"$f":"IF(SUM(L$8:L18)=0, \"\", \" + \")","v":""}]
["4356",null,"КСБГКГнг(А)-FRHF 2х2х0,90","2х2х0,90","2х0,90","0,90","HF","2","2","0,90",null,null,"","",{"$f":"IF(SUM(L$8:L19)=0, \"\", \" + \")","v":""}]
["4360",null,"КСБГКГнг(А)-FRHF 2х2х1,10","2х2х1,10","2х1,10","1,10","HF","2","2","1,10",null,null,"",{"$f":"CONCATENATE(N20,M21)","v":""},{"$f":"IF(SUM(L$8:L20)=0, \"\", \" + \")","v":""}]
["4364",null,"КСБГКГнг(А)-FRHF 2х2х1,20","2х2х1,20","2х1,20","1,20","HF","2","2","1,20",null,null,"","",{"$f":"IF(SUM(L$8:L21)=0, \"\", \" + \")","v":""}]
["4368",null,"КСБГКГнг(А)-FRHF 2х2х1,50","2х2х1,50","2х1,50","1,50","HF","2","2","1,50",null,null,"","",{"$f":"IF(SUM(L$8:L22)=0, \"\", \" + \")","v":""}]
["4372",null,"КСБГКГнг(А)-FRHF 2х2х2,00","2х2х2,00","2х2,00","2,00","HF","2","2","2,00",null,null,"","",{"$f":"IF(SUM(L$8:L23)=0, \"\", \" + \")","v":""}]
["4353",null,"КСБГКГнг(А)-FRHF 3х2х0,78","3х2х0,78","2х0,78","0,78","HF","3","2","0,78",null,null,"","",{"$f":"IF(SUM(L$8:L24)=0, \"\", \" + \")","v":""}]
["4357",null,"КСБГКГнг(А)-FRHF 3х2х0,90","3х2х0,90","2х0,90","0,90","HF","3","2","0,90",null,null,"","",{"$f":"IF(SUM(L$8:L25)=0, \"\", \" + \")","v":""}]
["4361",null,"КСБГКГнг(А)-FRHF 3х2х1,10","3х2х1,10","2х1,10","1,10","HF","3","2","1,10",null,null,"","",{"$f":"IF(SUM(L$8:L26)=0, \"\", \" + \")","v":""}]
["4365",null,"КСБГКГнг(А)-FRHF 3х2х1,20","3х2х1,20","2х1,20","1,20","HF","3","2","1,20",null,null,"","",{"$f":"IF(SUM(L$8:L27)=0, \"\", \" + \")","v":""}]
["4369",null,"КСБГКГнг(А)-FRHF 3х2х1,50","3х2х1,50","2х1,50","1,50","HF","3","2","1,50",null,null,"","",{"$f":"IF(SUM(L$8:L28)=0, \"\", \" + \")","v":""}]
["4373",null,"КСБГКГнг(А)-FRHF 3х2х2,00","3х2х2,00","2х2,00","2,00","HF","3","2","2,00",null,null,"","",{"$f":"IF(SUM(L$8:L29)=0, \"\", \" + \")","v":""}]
["4354",null,"КСБГКГнг(А)-FRHF 4х2х0,78","4х2х0,78","2х0,78","0,78","HF","4","2","0,78",null,null,"","",{"$f":"IF(SUM(L$8:L30)=0, \"\", \" + \")","v":""}]
["4358",null,"КСБГКГнг(А)-FRHF 4х2х0,90","4х2х0,90","2х0,90","0,90","HF","4","2","0,90",null,null,"","",{"$f":"IF(SUM(L$8:L31)=0, \"\", \" + \")","v":""}]
["4362",null,"КСБГКГнг(А)-FRHF 4х2х1,10","4х2х1,10","2х1,10","1,10","HF","4","2","1,10",null,null,"","",{"$f":"IF(SUM(L$8:L32)=0, \"\", \" + \")","v":""}]
["4366",null,"КСБГКГнг(А)-FRHF 4х2х1,20","4х2х1,20","2х1,20","1,20","HF","4","2","1,20",null,null,"","",{"$f":"IF(SUM(L$8:L33)=0, \"\", \" + \")","v":""}]
["4370",null,"КСБГКГнг(А)-FRHF 4х2х1,50","4х2х1,50","2х1,50","1,50","HF","4","2","1,50",null,null,"","",{"$f":"IF(SUM(L$8:L34)=0, \"\", \" + \")","v":""}]
["4374",null,"КСБГКГнг(А)-FRHF 4х2х2,00","4х2х2,00","2х2,00","2,00","HF","4","2","2,00",null,null,"","",{"$f":"IF(SUM(L$8:L35)=0, \"\", \" + \")","v":""}]
["16441",null,"КСБГКГнг(А)-FRHF 5х2х1,10","5х2х1,10","2х1,10","1,10","HF","5","2","1,10",null,null,"","",{"$f":"IF(SUM(L$8:L36)=0, \"\", \" + \")","v":""}]
["4818",null,"КСБГКГнг(А)-FRHF 5х2х1,20","5х2х1,20","2х1,20","1,20","HF","5","2","1,20",null,null,"","",{"$f":"IF(SUM(L$8:L37)=0, \"\", \" + \")","v":""}]
["4819",null,"КСБГКГнг(А)-FRHF 5х2х1,50","5х2х1,50","2х1,50","1,50","HF","5","2","1,50",null,null,"","",{"$f":"IF(SUM(L$8:L38)=0, \"\", \" + \")","v":""}]
["4821",null,"КСБГКГнг(А)-FRHF 5х2х2,00","5х2х2,00","2х2,00","2,00","HF","5","2","2,00",null,null,"","",{"$f":"IF(SUM(L$8:L39)=0, \"\", \" + \")","v":""}]
["16424",null,"КСБГКГнг(А)-FRHF 6х2х1,10","6х2х1,10","2х1,10","1,10","HF","6","2","1,10",null,null,"","",{"$f":"IF(SUM(L$8:L40)=0, \"\", \" + \")","v":""}]
["4987",null,"КСБГКГнг(А)-FRHF 6х2х1,20","6х2х1,20","2х1,20","1,20","HF","6","2","1,20",null,null,"","",{"$f":"IF(SUM(L$8:L41)=0, \"\", \" + \")","v":""}]
["16442",null,"КСБГКГнг(А)-FRHF 6х2х1,50","6х2х1,50","2х1,50","1,50","HF","6","2","1,50",null,null,"","",{"$f":"IF(SUM(L$8:L42)=0, \"\", \" + \")","v":""}]
["4655",null,"КСБГКГнг(А)-FRHF 7х2х1,20","7х2х1,20","2х1,20","1,20","HF","7","2","1,20",null,null,"","",{"$f":"IF(SUM(L$8:L43)=0, \"\", \" + \")","v":""}]
["4820",null,"КСБГКГнг(А)-FRHF 7х2х1,50","7х2х1,50","2х1,50","1,50","HF","7","2","1,50",null,null,"","",{"$f":"IF(SUM(L$8:L44)=0, \"\", \" + \")","v":""}]
["4988",null,"КСБГКГнг(А)-FRHF 7х2х2,00","7х2х2,00","2х2,00","2,00","HF","7","2","2,00",null,null,"","",{"$f":"IF(SUM(L$8:L45)=0, \"\", \" + \")","v":""}]
["16754",null,"КСБГКГнг(А)-FRHF 8х2х1,50","8х2х1,50","2х1,50","1,50","HF","8","2","1,50",null,null,"","",{"$f":"IF(SUM(L$8:L46)=0, \"\", \" + \")","v":""}]
["19997",null,"КСБГКГнг(А)-FRLS 10х2х1,50 ","10х2х1,50 ","2х1,50 ","1,50 ","LS","10","2","1,50 ",null,null,"","",{"$f":"IF(SUM(L$8:L47)=0, \"\", \" + \")","v":""}]
["4327",null,"КСБГКГнг(А)-FRLS 1х2х0,78","1х2х0,78","2х0,78","0,78","LS","1","2","0,78",null,null,"","",{"$f":"IF(SUM(L$8:L48)=0, \"\", \" + \")","v":""}]
["4331",null,"КСБГКГнг(А)-FRLS 1х2х0,90","1х2х0,90","2х0,90","0,90","LS","1","2","0,90",null,null,"","",{"$f":"IF(SUM(L$8:L49)=0, \"\", \" + \")","v":""}]
["4335",null,"КСБГКГнг(А)-FRLS 1х2х1,10","1х2х1,10","2х1,10","1,10","LS","1","2","1,10",null,null,"","",{"$f":"IF(SUM(L$8:L50)=0, \"\", \" + \")","v":""}]
["4339",null,"КСБГКГнг(А)-FRLS 1х2х1,20","1х2х1,20","2х1,20","1,20","LS","1","2","1,20",null,null,"","",{"$f":"IF(SUM(L$8:L51)=0, \"\", \" + \")","v":""}]
["4343",null,"КСБГКГнг(А)-FRLS 1х2х1,50","1х2х1,50","2х1,50","1,50","LS","1","2","1,50",null,null,"","",{"$f":"IF(SUM(L$8:L52)=0, \"\", \" + \")","v":""}]
["4347",null,"КСБГКГнг(А)-FRLS 1х2х2,00","1х2х2,00","2х2,00","2,00","LS","1","2","2,00",null,null,"","",{"$f":"IF(SUM(L$8:L53)=0, \"\", \" + \")","v":""}]
["4328",null,"КСБГКГнг(А)-FRLS 2х2х0,78","2х2х0,78","2х0,78","0,78","LS","2","2","0,78",null,null,"","",{"$f":"IF(SUM(L$8:L54)=0, \"\", \" + \")","v":""}]
["4332",null,"КСБГКГнг(А)-FRLS 2х2х0,90","2х2х0,90","2х0,90","0,90","LS","2","2","0,90",null,null,"","",{"$f":"IF(SUM(L$8:L55)=0, \"\", \" + \")","v":""}]
["4336",null,"КСБГКГнг(А)-FRLS 2х2х1,10","2х2х1,10","2х1,10","1,10","LS","2","2","1,10",null,null,"","",{"$f":"IF(SUM(L$8:L56)=0, \"\", \" + \")","v":""}]
["4340",null,"КСБГКГнг(А)-FRLS 2х2х1,20","2х2х1,20","2х1,20","1,20","LS","2","2","1,20",null,null,"","",{"$f":"IF(SUM(L$8:L57)=0, \"\", \" + \")","v":""}]
["4344",null,"КСБГКГнг(А)-FRLS 2х2х1,50","2х2х1,50","2х1,50","1,50","LS","2","2","1,50",null,null,"","",{"$f":"IF(SUM(L$8:L58)=0, \"\", \" + \")","v":""}]
["4348",null,"КСБГКГнг(А)-FRLS 2х2х2,00","2х2х2,00","2х2,00","2,00","LS","2","2","2,00",null,null,"","",{"$f":"IF(SUM(L$8:L59)=0, \"\", \" + \")","v":""}]
["4329",null,"КСБГКГнг(А)-FRLS 3х2х0,78","3х2х0,78","2х0,78","0,78","LS","3","2","0,78",null,null,"","",{"$f":"IF(SUM(L$8:L60)=0, \"\", \" + \")","v":""}]
["4333",null,"КСБГКГнг(А)-FRLS 3х2х0,90","3х2х0,90","2х0,90","0,90","LS","3","2","0,90",null,null,"","",{"$f":"IF(SUM(L$8:L61)=0, \"\", \" + \")","v":""}]
["4337",null,"КСБГКГнг(А)-FRLS 3х2х1,10","3х2х1,10","2х1,10","1,10","LS","3","2","1,10",null,null,"","",{"$f":"IF(SUM(L$8:L62)=0, \"\", \" + \")","v":""}]
["4341",null,"КСБГКГнг(А)-FRLS 3х2х1,20","3х2х1,20","2х1,20","1,20","LS","3","2","1,20",null,null,"","",{"$f":"IF(SUM(L$8:L63)=0, \"\", \" + \")","v":""}]
["4345",null,"КСБГКГнг(А)-FRLS 3х2х1,50","3х2х1,50","2х1,50","1,50","LS","3","2","1,50",null,null,"","",{"$f":"IF(SUM(L$8:L64)=0, \"\", \" + \")","v":""}]
["4349",null,"КСБГКГнг(А)-FRLS 3х2х2,00","3х2х2,00","2х2,00","2,00","LS","3","2","2,00",null,null,"","",{"$f":"IF(SUM(L$8:L65)=0, \"\", \" + \")","v":""}]
["4330",null,"КСБГКГнг(А)-FRLS 4х2х0,78","4х2х0,78","2х0,78","0,78","LS","4","2","0,78",null,null,"","",{"$f":"IF(SUM(L$8:L66)=0, \"\", \" + \")","v":""}]
["4334",null,"КСБГКГнг(А)-FRLS 4х2х0,90","4х2х0,90","2х0,90","0,90","LS","4","2","0,90",null,null,"","",{"$f":"IF(SUM(L$8:L67)=0, \"\", \" + \")","v":""}]
["4338",null,"КСБГКГнг(А)-FRLS 4х2х1,10","4х2х1,10","2х1,10","1,10","LS","4","2","1,10",null,null,"","",{"$f":"IF(SUM(L$8:L68)=0, \"\", \" + \")","v":""}]
["4342",null,"КСБГКГнг(А)-FRLS 4х2х1,20","4х2х1,20","2х1,20","1,20","LS","4","2","1,20",null,null,"","",{"$f":"IF(SUM(L$8:L69)=0, \"\", \" + \")","v":""}]
["4346",null,"КСБГКГнг(А)-FRLS 4х2х1,50","4х2х1,50","2х1,50","1,50","LS","4","2","1,50",null,null,"","",{"$f":"IF(SUM(L$8:L70)=0, \"\", \" + \")","v":""}]
["4350",null,"КСБГКГнг(А)-FRLS 4х2х2,00","4х2х2,00","2х2,00","2,00","LS","4","2","2,00",null,null,"","",{"$f":"IF(SUM(L$8:L71)=0, \"\", \" + \")","v":""}]
["16401",null,"КСБГКГнг(А)-FRLS 5х2х1,20","5х2х1,20","2х1,20","1,20","LS","5","2","1,20",null,null,"","",{"$f":"IF(SUM(L$8:L72)=0, \"\", \" + \")","v":""}]
["4986",null,"КСБГКГнг(А)-FRLS 7х2х1,20",{"$f":"MID(C74, FIND(\" \",C74) +1, 100)","v":"7х2х1,20"},"2х1,20","1,20",{"$f":"MID(C74,FIND(\"FR\",C74)+2, 2)","v":"LS"},"7","2","1,20",null,null,{"$f":"IF(L74=0, \"\",CONCATENATE(O74, C74, \"-\",L74,\"м\"))","v":""},"",{"$f":"IF(SUM(L$8:L73)=0, \"\", \" + \")","v":""}]
["19998",null,"КСБГКГнг(А)-FRLS 8х2х1,50 ","8х2х1,50 ",{"$f":"MID($D75,IF(ISERR(FIND(\"х\",$D75)), FIND(\"x\",$D75)+1, FIND(\"х\",$D75))+1, 100)","v":"2х1,50 "},{"$f":"MID($E75,IF(ISERR(FIND(\"х\",$E75)), FIND(\"x\",$E75)+1, FIND(\"х\",$E75))+1,10)","v":"1,50 "},"LS",{"$f":"MID($D75,1, IF(ISERR(FIND(\"х\",$D75)), FIND(\"x\",$D75)-1, FIND(\"х\",$D75))-1)","v":"8"},{"$f":"MID($E75,1, IF(ISERR(FIND(\"х\",$E75)), FIND(\"x\",$E75)-1, FIND(\"х\",$E75))-1)","v":"2"},{"$f":"F75","v":"1,50 "},null,null,"",{"$f":"CONCATENATE(N74,M75)","v":""},{"$f":"IF(SUM(L$8:L74)=0, \"\", \" + \")","v":""}]
["2147",null,"КСБГКнг(А)-FRHF 10х2х0,78","10х2х0,78","2х0,78","0,78","HF","10","2","0,78",null,null,"","",{"$f":"IF(SUM(L$8:L75)=0, \"\", \" + \")","v":""}]
["2153",null,"КСБГКнг(А)-FRHF 10х2х0,90","10х2х0,90","2х0,90","0,90","HF","10","2","0,90",null,null,"","",{"$f":"IF(SUM(L$8:L76)=0, \"\", \" + \")","v":""}]
["5285",null,"КСБГКнг(А)-FRHF 10х2х1,20","10х2х1,20","2х1,20","1,20","HF","10","2","1,20",null,null,"","",{"$f":"IF(SUM(L$8:L77)=0, \"\", \" + \")","v":""}]
["4995",null,"КСБГКнг(А)-FRHF 10х2х1,50","10х2х1,50","2х1,50","1,50","HF","10","2","1,50",null,null,"","",{"$f":"IF(SUM(L$8:L78)=0, \"\", \" + \")","v":""}]
["4991",null,"КСБГКнг(А)-FRHF 12х2х1,20","12х2х1,20","2х1,20","1,20","HF","12","2","1,20",null,null,"","",{"$f":"IF(SUM(L$8:L79)=0, \"\", \" + \")","v":""}]
["5071",null,"КСБГКнг(А)-FRHF 14х2х1,20","14х2х1,20","2х1,20","1,20","HF","14","2","1,20",null,null,"","",{"$f":"IF(SUM(L$8:L80)=0, \"\", \" + \")","v":""}]
["1936",null,"КСБГКнг(А)-FRHF 1х2х0,78","1х2х0,78","2х0,78","0,78","HF","1","2","0,78",null,null,"","",{"$f":"IF(SUM(L$8:L81)=0, \"\", \" + \")","v":""}]
["1940",null,"КСБГКнг(А)-FRHF 1х2х0,90","1х2х0,90","2х0,90","0,90","HF","1","2","0,90",null,null,"","",{"$f":"IF(SUM(L$8:L82)=0, \"\", \" + \")","v":""}]
["1944",null,"КСБГКнг(А)-FRHF 1х2х1,10","1х2х1,10","2х1,10","1,10","HF","1","2","1,10",null,null,"","",{"$f":"IF(SUM(L$8:L83)=0, \"\", \" + \")","v":""}]
["1948",null,"КСБГКнг(А)-FRHF 1х2х1,20","1х2х1,20","2х1,20","1,20","HF","1","2","1,20",null,null,"","",{"$f":"IF(SUM(L$8:L84)=0, \"\", \" + \")","v":""}]
["1952",null,"КСБГКнг(А)-FRHF 1х2х1,50","1х2х1,50","2х1,50","1,50","HF","1","2","1,50",null,null,"","",{"$f":"IF(SUM(L$8:L85)=0, \"\", \" + \")","v":""}]
["1955",null,"КСБГКнг(А)-FRHF 1х2х2,00","1х2х2,00","2х2,00","2,00","HF","1","2","2,00",null,null,"","",{"$f":"IF(SUM(L$8:L86)=0, \"\", \" + \")","v":""}]
["1937",null,"КСБГКнг(А)-FRHF 2х2х0,78","2х2х0,78","2х0,78","0,78","HF","2","2","0,78",null,null,"","",{"$f":"IF(SUM(L$8:L87)=0, \"\", \" + \")","v":""}]
["1941",null,"КСБГКнг(А)-FRHF 2х2х0,90","2х2х0,90","2х0,90","0,90","HF","2","2","0,90",null,null,"","",{"$f":"IF(SUM(L$8:L88)=0, \"\", \" + \")","v":""}]
["1945",null,"КСБГКнг(А)-FRHF 2х2х1,10","2х2х1,10","2х1,10","1,10","HF","2","2","1,10",null,null,"","",{"$f":"IF(SUM(L$8:L89)=0, \"\", \" + \")","v":""}]
["1949",null,"КСБГКнг(А)-FRHF 2х2х1,20","2х2х1,20","2х1,20","1,20","HF","2","2","1,20",null,null,"","",{"$f":"IF(SUM(L$8:L90)=0, \"\", \" + \")","v":""}]
["1953",null,"КСБГКнг(А)-FRHF 2х2х1,50","2х2х1,50","2х1,50","1,50","HF","2","2","1,50",null,null,"","",{"$f":"IF(SUM(L$8:L91)=0, \"\", \" + \")","v":""}]
["1956",null,"КСБГКнг(А)-FRHF 2х2х2,00","2х2х2,00","2х2,00","2,00","HF","2","2","2,00",null,null,"","",{"$f":"IF(SUM(L$8:L92)=0, \"\", \" + \")","v":""}]
["1938",null,"КСБГКнг(А)-FRHF 3х2х0,78","3х2х0,78","2х0,78","0,78","HF","3","2","0,78",null,null,"","",{"$f":"IF(SUM(L$8:L93)=0, \"\", \" + \")","v":""}]
["1942",null,"КСБГКнг(А)-FRHF 3х2х0,90","3х2х0,90","2х0,90","0,90","HF","3","2","0,90",null,null,"","",{"$f":"IF(SUM(L$8:L94)=0, \"\", \" + \")","v":""}]
["1946",null,"КСБГКнг(А)-FRHF 3х2х1,10","3х2х1,10","2х1,10","1,10","HF","3","2","1,10",null,null,"","",{"$f":"IF(SUM(L$8:L95)=0, \"\", \" + \")","v":""}]
["1950",null,"КСБГКнг(А)-FRHF 3х2х1,20","3х2х1,20","2х1,20","1,20","HF","3","2","1,20",null,null,"","",{"$f":"IF(SUM(L$8:L96)=0, \"\", \" + \")","v":""}]
["19579",null,"КСБГКнг(А)-FRHF 3х2х1,50 ","3х2х1,50 ","2х1,50 ","1,50 ","HF","3","2","1,50 ",null,null,"","",{"$f":"IF(SUM(L$8:L97)=0, \"\", \" + \")","v":""}]
["1957",null,"КСБГКнг(А)-FRHF 3х2х2,00","3х2х2,00","2х2,00","2,00","HF","3","2","2,00",null,null,"","",{"$f":"IF(SUM(L$8:L98)=0, \"\", \" + \")","v":""}]
["1939",null,"КСБГКнг(А)-FRHF 4х2х0,78","4х2х0,78","2х0,78","0,78","HF","4","2","0,78",null,null,"","",{"$f":"IF(SUM(L$8:L99)=0, \"\", \" + \")","v":""}]
["1943",null,"КСБГКнг(А)-FRHF 4х2х0,90","4х2х0,90","2х0,90","0,90","HF","4","2","0,90",null,null,"","",{"$f":"IF(SUM(L$8:L100)=0, \"\", \" + \")","v":""}]
["1947",null,"КСБГКнг(А)-FRHF 4х2х1,10","4х2х1,10","2х1,10","1,10","HF","4","2","1,10",null,null,"","",{"$f":"IF(SUM(L$8:L101)=0, \"\", \" + \")","v":""}]
["1951",null,"КСБГКнг(А)-FRHF 4х2х1,20","4х2х1,20","2х1,20","1,20","HF","4","2","1,20",null,null,"","",{"$f":"IF(SUM(L$8:L102)=0, \"\", \" + \")","v":""}]
["1954",null,"КСБГКнг(А)-FRHF 4х2х1,50","4х2х1,50","2х1,50","1,50","HF","4","2","1,50",null,null,"","",{"$f":"IF(SUM(L$8:L103)=0, \"\", \" + \")","v":""}]
["1958",null,"КСБГКнг(А)-FRHF 4х2х2,00","4х2х2,00","2х2,00","2,00","HF","4","2","2,00",null,null,"","",{"$f":"IF(SUM(L$8:L104)=0, \"\", \" + \")","v":""}]
["2142",null,"КСБГКнг(А)-FRHF 5х2х0,78","5х2х0,78","2х0,78","0,78","HF","5","2","0,78",null,null,"","",{"$f":"IF(SUM(L$8:L105)=0, \"\", \" + \")","v":""}]
["2148",null,"КСБГКнг(А)-FRHF 5х2х0,90","5х2х0,90","2х0,90","0,90","HF","5","2","0,90",null,null,"","",{"$f":"IF(SUM(L$8:L106)=0, \"\", \" + \")","v":""}]
["3344",null,"КСБГКнг(А)-FRHF 5х2х1,10","5х2х1,10","2х1,10","1,10","HF","5","2","1,10",null,null,"","",{"$f":"IF(SUM(L$8:L107)=0, \"\", \" + \")","v":""}]
["4467",null,"КСБГКнг(А)-FRHF 5х2х1,20","5х2х1,20","2х1,20","1,20","HF","5","2","1,20",null,null,"","",{"$f":"IF(SUM(L$8:L108)=0, \"\", \" + \")","v":""}]
["4094",null,"КСБГКнг(А)-FRHF 5х2х1,50","5х2х1,50","2х1,50","1,50","HF","5","2","1,50",null,null,"","",{"$f":"IF(SUM(L$8:L109)=0, \"\", \" + \")","v":""}]
["4994",null,"КСБГКнг(А)-FRHF 5х2х2,00","5х2х2,00","2х2,00","2,00","HF","5","2","2,00",null,null,"","",{"$f":"IF(SUM(L$8:L110)=0, \"\", \" + \")","v":""}]
["2143",null,"КСБГКнг(А)-FRHF 6х2х0,78","6х2х0,78","2х0,78","0,78","HF","6","2","0,78",null,null,"","",{"$f":"IF(SUM(L$8:L111)=0, \"\", \" + \")","v":""}]
["2149",null,"КСБГКнг(А)-FRHF 6х2х0,90","6х2х0,90","2х0,90","0,90","HF","6","2","0,90",null,null,"","",{"$f":"IF(SUM(L$8:L112)=0, \"\", \" + \")","v":""}]
["3003",null,"КСБГКнг(А)-FRHF 6х2х1,10","6х2х1,10","2х1,10","1,10","HF","6","2","1,10",null,null,"","",{"$f":"IF(SUM(L$8:L113)=0, \"\", \" + \")","v":""}]
["4997",null,"КСБГКнг(А)-FRHF 6х2х1,20","6х2х1,20","2х1,20","1,20","HF","6","2","1,20",null,null,"","",{"$f":"IF(SUM(L$8:L114)=0, \"\", \" + \")","v":""}]
["4466",null,"КСБГКнг(А)-FRHF 6х2х1,50","6х2х1,50","2х1,50","1,50","HF","6","2","1,50",null,null,"","",{"$f":"IF(SUM(L$8:L115)=0, \"\", \" + \")","v":""}]
["2144",null,"КСБГКнг(А)-FRHF 7х2х0,78","7х2х0,78","2х0,78","0,78","HF","7","2","0,78",null,null,"","",{"$f":"IF(SUM(L$8:L116)=0, \"\", \" + \")","v":""}]
["2150",null,"КСБГКнг(А)-FRHF 7х2х0,90","7х2х0,90","2х0,90","0,90","HF","7","2","0,90",null,null,"","",{"$f":"IF(SUM(L$8:L117)=0, \"\", \" + \")","v":""}]
["3179",null,"КСБГКнг(А)-FRHF 7х2х1,10","7х2х1,10","2х1,10","1,10","HF","7","2","1,10",null,null,"","",{"$f":"IF(SUM(L$8:L118)=0, \"\", \" + \")","v":""}]
["4992",null,"КСБГКнг(А)-FRHF 7х2х1,20","7х2х1,20","2х1,20","1,20","HF","7","2","1,20",null,null,"","",{"$f":"IF(SUM(L$8:L119)=0, \"\", \" + \")","v":""}]
["4993",null,"КСБГКнг(А)-FRHF 7х2х1,50","7х2х1,50","2х1,50","1,50","HF","7","2","1,50",null,null,"","",{"$f":"IF(SUM(L$8:L120)=0, \"\", \" + \")","v":""}]
["4996",null,"КСБГКнг(А)-FRHF 7х2х2,00","7х2х2,00","2х2,00","2,00","HF","7","2","2,00",null,null,"","",{"$f":"IF(SUM(L$8:L121)=0, \"\", \" + \")","v":""}]
["2145",null,"КСБГКнг(А)-FRHF 8х2х0,78","8х2х0,78","2х0,78","0,78","HF","8","2","0,78",null,null,"","",{"$f":"IF(SUM(L$8:L122)=0, \"\", \" + \")","v":""}]
["2151",null,"КСБГКнг(А)-FRHF 8х2х0,90","8х2х0,90","2х0,90","0,90","HF","8","2","0,90",null,null,"","",{"$f":"IF(SUM(L$8:L123)=0, \"\", \" + \")","v":""}]
["3180",null,"КСБГКнг(А)-FRHF 8х2х1,10","8х2х1,10","2х1,10","1,10","HF","8","2","1,10",null,null,"","",{"$f":"IF(SUM(L$8:L124)=0, \"\", \" + \")","v":""}]
["5469",null,"КСБГКнг(А)-FRHF 8х2х1,20","8х2х1,20","2х1,20","1,20","HF","8","2","1,20",null,null,"","",{"$f":"IF(SUM(L$8:L125)=0, \"\", \" + \")","v":""}]
["2146",null,"КСБГКнг(А)-FRHF 9х2х0,78","9х2х0,78","2х0,78","0,78","HF","9","2","0,78",null,null,"","",{"$f":"IF(SUM(L$8:L126)=0, \"\", \" + \")","v":""}]
["2152",null,"КСБГКнг(А)-FRHF 9х2х0,90","9х2х0,90","2х0,90","0,90","HF","9","2","0,90",null,null,"","",{"$f":"IF(SUM(L$8:L127)=0, \"\", \" + \")","v":""}]
["2135",null,"КСБГКнг(А)-FRLS 10х2х0,78","10х2х0,78","2х0,78","0,78","LS","10","2","0,78",null,null,"","",{"$f":"IF(SUM(L$8:L128)=0, \"\", \" + \")","v":""}]
["2141",null,"КСБГКнг(А)-FRLS 10х2х0,90","10х2х0,90","2х0,90","0,90","LS","10","2","0,90",null,null,"","",{"$f":"IF(SUM(L$8:L129)=0, \"\", \" + \")","v":""}]
["5026",null,"КСБГКнг(А)-FRLS 10х2х1,10","10х2х1,10","2х1,10","1,10","LS","10","2","1,10",null,null,"","",{"$f":"IF(SUM(L$8:L130)=0, \"\", \" + \")","v":""}]
["5114",null,"КСБГКнг(А)-FRLS 10х2х1,20","10х2х1,20","2х1,20","1,20","LS","10","2","1,20",null,null,"","",{"$f":"IF(SUM(L$8:L131)=0, \"\", \" + \")","v":""}]
["5472",null,"КСБГКнг(А)-FRLS 10х2х1,50","10х2х1,50","2х1,50","1,50","LS","10","2","1,50",null,null,"","",{"$f":"IF(SUM(L$8:L132)=0, \"\", \" + \")","v":""}]
["4445",null,"КСБГКнг(А)-FRLS 10х2х2,00","10х2х2,00","2х2,00","2,00","LS","10","2","2,00",null,null,"","",{"$f":"IF(SUM(L$8:L133)=0, \"\", \" + \")","v":""}]
["5115",null,"КСБГКнг(А)-FRLS 12х2х1,20","12х2х1,20","2х1,20","1,20","LS","12","2","1,20",null,null,"","",{"$f":"IF(SUM(L$8:L134)=0, \"\", \" + \")","v":""}]
["1914",null,"КСБГКнг(А)-FRLS 1х2х0,78","1х2х0,78","2х0,78","0,78","LS","1","2","0,78",null,null,"","",{"$f":"IF(SUM(L$8:L135)=0, \"\", \" + \")","v":""}]
["1918",null,"КСБГКнг(А)-FRLS 1х2х0,90","1х2х0,90","2х0,90","0,90","LS","1","2","0,90",null,null,"","",{"$f":"IF(SUM(L$8:L136)=0, \"\", \" + \")","v":""}]
["1922",null,"КСБГКнг(А)-FRLS 1х2х1,10",{"$f":"MID(C138, FIND(\" \",C138) +1, 100)","v":"1х2х1,10"},"2х1,10","1,10",{"$f":"MID(C138,FIND(\"FR\",C138)+2, 2)","v":"LS"},"1","2","1,10",null,null,{"$f":"IF(L138=0, \"\",CONCATENATE(O138, C138, \"-\",L138,\"м\"))","v":""},"",{"$f":"IF(SUM(L$8:L137)=0, \"\", \" + \")","v":""}]
["1926",null,"КСБГКнг(А)-FRLS 1х2х1,20","1х2х1,20",{"$f":"MID($D139,IF(ISERR(FIND(\"х\",$D139)), FIND(\"x\",$D139)+1, FIND(\"х\",$D139))+1, 100)","v":"2х1,20"},{"$f":"MID($E139,IF(ISERR(FIND(\"х\",$E139)), FIND(\"x\",$E139)+1, FIND(\"х\",$E139))+1,10)","v":"1,20"},"LS",{"$f":"MID($D139,1, IF(ISERR(FIND(\"х\",$D139)), FIND(\"x\",$D139)-1, FIND(\"х\",$D139))-1)","v":"1"},{"$f":"MID($E139,1, IF(ISERR(FIND(\"х\",$E139)), FIND(\"x\",$E139)-1, FIND(\"х\",$E139))-1)","v":"2"},{"$f":"F139","v":"1,20"},null,null,"",{"$f":"CONCATENATE(N138,M139)","v":""},{"$f":"IF(SUM(L$8:L138)=0, \"\", \" + \")","v":""}]
["1930",null,"КСБГКнг(А)-FRLS 1х2х1,50","1х2х1,50","2х1,50","1,50","LS","1","2","1,50",null,null,"","",{"$f":"IF(SUM(L$8:L139)=0, \"\", \" + \")","v":""}]
["1932",null,"КСБГКнг(А)-FRLS 1х2х2,00","1х2х2,00","2х2,00","2,00","LS","1","2","2,00",null,null,"","",{"$f":"IF(SUM(L$8:L140)=0, \"\", \" + \")","v":""}]
["1915",null,"КСБГКнг(А)-FRLS 2х2х0,78","2х2х0,78","2х0,78","0,78","LS","2","2","0,78",null,null,"","",{"$f":"IF(SUM(L$8:L141)=0, \"\", \" + \")","v":""}]
["1919",null,"КСБГКнг(А)-FRLS 2х2х0,90","2х2х0,90","2х0,90","0,90","LS","2","2","0,90",null,null,"","",{"$f":"IF(SUM(L$8:L142)=0, \"\", \" + \")","v":""}]
["1923",null,"КСБГКнг(А)-FRLS 2х2х1,10","2х2х1,10","2х1,10","1,10","LS","2","2","1,10",null,null,"","",{"$f":"IF(SUM(L$8:L143)=0, \"\", \" + \")","v":""}]
["1927",null,"КСБГКнг(А)-FRLS 2х2х1,20","2х2х1,20","2х1,20","1,20","LS","2","2","1,20",null,null,"","",{"$f":"IF(SUM(L$8:L144)=0, \"\", \" + \")","v":""}]
["1652",null,"КСБГКнг(А)-FRLS 2х2х1,50","2х2х1,50","2х1,50","1,50","LS","2","2","1,50",null,null,"","",{"$f":"IF(SUM(L$8:L145)=0, \"\", \" + \")","v":""}]
["1933",null,"КСБГКнг(А)-FRLS 2х2х2,00","2х2х2,00","2х2,00","2,00","LS","2","2","2,00",null,null,"","",{"$f":"IF(SUM(L$8:L146)=0, \"\", \" + \")","v":""}]
["1916",null,"КСБГКнг(А)-FRLS 3х2х0,78","3х2х0,78","2х0,78","0,78","LS","3","2","0,78",null,null,"","",{"$f":"IF(SUM(L$8:L147)=0, \"\", \" + \")","v":""}]
["1920",null,"КСБГКнг(А)-FRLS 3х2х0,90","3х2х0,90","2х0,90","0,90","LS","3","2","0,90",null,null,"","",{"$f":"IF(SUM(L$8:L148)=0, \"\", \" + \")","v":""}]
["1924",null,"КСБГКнг(А)-FRLS 3х2х1,10","3х2х1,10","2х1,10","1,10","LS","3","2","1,10",null,null,"","",{"$f":"IF(SUM(L$8:L149)=0, \"\", \" + \")","v":""}]
["1928",null,"КСБГКнг(А)-FRLS 3х2х1,20","3х2х1,20","2х1,20","1,20","LS","3","2","1,20",null,null,"","",{"$f":"IF(SUM(L$8:L150)=0, \"\", \" + \")","v":""}]
["1651",null,"КСБГКнг(А)-FRLS 3х2х1,50","3х2х1,50","2х1,50","1,50","LS","3","2","1,50",null,null,"","",{"$f":"IF(SUM(L$8:L151)=0, \"\", \" + \")","v":""}]
["1934",null,"КСБГКнг(А)-FRLS 3х2х2,00","3х2х2,00","2х2,00","2,00","LS","3","2","2,00",null,null,"","",{"$f":"IF(SUM(L$8:L152)=0, \"\", \" + \")","v":""}]
["1917",null,"КСБГКнг(А)-FRLS 4х2х0,78","4х2х0,78","2х0,78","0,78","LS","4","2","0,78",null,null,"","",{"$f":"IF(SUM(L$8:L153)=0, \"\", \" + \")","v":""}]
["1921",null,"КСБГКнг(А)-FRLS 4х2х0,90","4х2х0,90","2х0,90","0,90","LS","4","2","0,90",null,null,"","",{"$f":"IF(SUM(L$8:L154)=0, \"\", \" + \")","v":""}]
["1925",null,"КСБГКнг(А)-FRLS 4х2х1,10","4х2х1,10","2х1,10","1,10","LS","4","2","1,10",null,null,"","",{"$f":"IF(SUM(L$8:L155)=0, \"\", \" + \")","v":""}]
["1929",null,"КСБГКнг(А)-FRLS 4х2х1,20","4х2х1,20","2х1,20","1,20","LS","4","2","1,20",null,null,"","",{"$f":"IF(SUM(L$8:L156)=0, \"\", \" + \")","v":""}]
["1931",null,"КСБГКнг(А)-FRLS 4х2х1,50","4х2х1,50","2х1,50","1,50","LS","4","2","1,50",null,null,"","",{"$f":"IF(SUM(L$8:L157)=0, \"\", \" + \")","v":""}]
["1935",null,"КСБГКнг(А)-FRLS 4х2х2,00","4х2х2,00","2х2,00","2,00","LS","4","2","2,00",null,null,"","",{"$f":"IF(SUM(L$8:L158)=0, \"\", \" + \")","v":""}]
["2130",null,"КСБГКнг(А)-FRLS 5х2х0,78","5х2х0,78","2х0,78","0,78","LS","5","2","0,78",null,null,"","",{"$f":"IF(SUM(L$8:L159)=0, \"\", \" + \")","v":""}]
["2136",null,"КСБГКнг(А)-FRLS 5х2х0,90","5х2х0,90","2х0,90","0,90","LS","5","2","0,90",null,null,"","",{"$f":"IF(SUM(L$8:L160)=0, \"\", \" + \")","v":""}]
["3121",null,"КСБГКнг(А)-FRLS 5х2х1,10","5х2х1,10","2х1,10","1,10","LS","5","2","1,10",null,null,"","",{"$f":"IF(SUM(L$8:L161)=0, \"\", \" + \")","v":""}]
["4647",null,"КСБГКнг(А)-FRLS 5х2х1,20","5х2х1,20","2х1,20","1,20","LS","5","2","1,20",null,null,"","",{"$f":"IF(SUM(L$8:L162)=0, \"\", \" + \")","v":""}]
["3510",null,"КСБГКнг(А)-FRLS 5х2х1,50","5х2х1,50","2х1,50","1,50","LS","5","2","1,50",null,null,"","",{"$f":"IF(SUM(L$8:L163)=0, \"\", \" + \")","v":""}]
["3129",null,"КСБГКнг(А)-FRLS 5х2х2,00","5х2х2,00","2х2,00","2,00","LS","5","2","2,00",null,null,"","",{"$f":"IF(SUM(L$8:L164)=0, \"\", \" + \")","v":""}]
["2131",null,"КСБГКнг(А)-FRLS 6х2х0,78","6х2х0,78","2х0,78","0,78","LS","6","2","0,78",null,null,"","",{"$f":"IF(SUM(L$8:L165)=0, \"\", \" + \")","v":""}]
["2137",null,"КСБГКнг(А)-FRLS 6х2х0,90","6х2х0,90","2х0,90","0,90","LS","6","2","0,90",null,null,"","",{"$f":"IF(SUM(L$8:L166)=0, \"\", \" + \")","v":""}]
["5112",null,"КСБГКнг(А)-FRLS 6х2х1,20","6х2х1,20","2х1,20","1,20","LS","6","2","1,20",null,null,"","",{"$f":"IF(SUM(L$8:L167)=0, \"\", \" + \")","v":""}]
["5471",null,"КСБГКнг(А)-FRLS 6х2х1,50","6х2х1,50","2х1,50","1,50","LS","6","2","1,50",null,null,"","",{"$f":"IF(SUM(L$8:L168)=0, \"\", \" + \")","v":""}]
["2132",null,"КСБГКнг(А)-FRLS 7х2х0,78","7х2х0,78","2х0,78","0,78","LS","7","2","0,78",null,null,"","",{"$f":"IF(SUM(L$8:L169)=0, \"\", \" + \")","v":""}]
["2138",null,"КСБГКнг(А)-FRLS 7х2х0,90","7х2х0,90","2х0,90","0,90","LS","7","2","0,90",null,null,"","",{"$f":"IF(SUM(L$8:L170)=0, \"\", \" + \")","v":""}]
["3122",null,"КСБГКнг(А)-FRLS 7х2х1,10","7х2х1,10","2х1,10","1,10","LS","7","2","1,10",null,null,"","",{"$f":"IF(SUM(L$8:L171)=0, \"\", \" + \")","v":""}]
["4648",null,"КСБГКнг(А)-FRLS 7х2х1,20","7х2х1,20","2х1,20","1,20","LS","7","2","1,20",null,null,"","",{"$f":"IF(SUM(L$8:L172)=0, \"\", \" + \")","v":""}]
["5332",null,"КСБГКнг(А)-FRLS 7х2х1,50","7х2х1,50","2х1,50","1,50","LS","7","2","1,50",null,null,"","",{"$f":"IF(SUM(L$8:L173)=0, \"\", \" + \")","v":""}]
["2133",null,"КСБГКнг(А)-FRLS 8х2х0,78","8х2х0,78","2х0,78","0,78","LS","8","2","0,78",null,null,"","",{"$f":"IF(SUM(L$8:L174)=0, \"\", \" + \")","v":""}]
["2139",null,"КСБГКнг(А)-FRLS 8х2х0,90","8х2х0,90","2х0,90","0,90","LS","8","2","0,90",null,null,"","",{"$f":"IF(SUM(L$8:L175)=0, \"\", \" + \")","v":""}]
["5113",null,"КСБГКнг(А)-FRLS 8х2х1,20","8х2х1,20","2х1,20","1,20","LS","8","2","1,20",null,null,"","",{"$f":"IF(SUM(L$8:L176)=0, \"\", \" + \")","v":""}]
["2134",null,"КСБГКнг(А)-FRLS 9х2х0,78","9х2х0,78","2х0,78","0,78","LS","9","2","0,78",null,null,"","",{"$f":"IF(SUM(L$8:L177)=0, \"\", \" + \")","v":""}]
["2140",null,"КСБГКнг(А)-FRLS 9х2х0,90","9х2х0,90","2х0,90","0,90","LS","9","2","0,90",null,null,"","",{"$f":"IF(SUM(L$8:L178)=0, \"\", \" + \")","v":""}]
["4813",null,"КСБГКнг(А)-FRLS 9х2х1,10","9х2х1,10","2х1,10","1,10","LS","9","2","1,10",null,null,"","",{"$f":"IF(SUM(L$8:L179)=0, \"\", \" + \")","v":""}]
["2123",null,"КСБГнг(А)-FRHF 10х2х0,78","10х2х0,78","2х0,78","0,78","HF","10","2","0,78",null,null,"","",{"$f":"IF(SUM(L$8:L180)=0, \"\", \" + \")","v":""}]
["2129",null,"КСБГнг(А)-FRHF 10х2х0,90","10х2х0,90","2х0,90","0,90","HF","10","2","0,90",null,null,"","",{"$f":"IF(SUM(L$8:L181)=0, \"\", \" + \")","v":""}]
["5027",null,"КСБГнг(А)-FRHF 10х2х1,10","10х2х1,10","2х1,10","1,10","HF","10","2","1,10",null,null,"","",{"$f":"IF(SUM(L$8:L182)=0, \"\", \" + \")","v":""}]
["4473",null,"КСБГнг(А)-FRHF 10х2х1,20","10х2х1,20","2х1,20","1,20","HF","10","2","1,20",null,null,"","",{"$f":"IF(SUM(L$8:L183)=0, \"\", \" + \")","v":""}]
["4474",null,"КСБГнг(А)-FRHF 10х2х1,50","10х2х1,50","2х1,50","1,50","HF","10","2","1,50",null,null,"","",{"$f":"IF(SUM(L$8:L184)=0, \"\", \" + \")","v":""}]
["16778",null,"КСБГнг(А)-FRHF 12х2х0,78","12х2х0,78","2х0,78","0,78","HF","12","2","0,78",null,null,"","",{"$f":"IF(SUM(L$8:L185)=0, \"\", \" + \")","v":""}]
["5034",null,"КСБГнг(А)-FRHF 12х2х1,10","12х2х1,10","2х1,10","1,10","HF","12","2","1,10",null,null,"","",{"$f":"IF(SUM(L$8:L186)=0, \"\", \" + \")","v":""}]
["5101",null,"КСБГнг(А)-FRHF 12х2х1,20","12х2х1,20","2х1,20","1,20","HF","12","2","1,20",null,null,"","",{"$f":"IF(SUM(L$8:L187)=0, \"\", \" + \")","v":""}]
["5035",null,"КСБГнг(А)-FRHF 16х2х1,10","16х2х1,10","2х1,10","1,10","HF","16","2","1,10",null,null,"","",{"$f":"IF(SUM(L$8:L188)=0, \"\", \" + \")","v":""}]
["1897",null,"КСБГнг(А)-FRHF 1х2х0,78","1х2х0,78","2х0,78","0,78","HF","1","2","0,78",null,null,"","",{"$f":"IF(SUM(L$8:L189)=0, \"\", \" + \")","v":""}]
["1724",null,"КСБГнг(А)-FRHF 1х2х0,90","1х2х0,90","2х0,90","0,90","HF","1","2","0,90",null,null,"","",{"$f":"IF(SUM(L$8:L190)=0, \"\", \" + \")","v":""}]
["1903",null,"КСБГнг(А)-FRHF 1х2х1,10","1х2х1,10","2х1,10","1,10","HF","1","2","1,10",null,null,"","",{"$f":"IF(SUM(L$8:L191)=0, \"\", \" + \")","v":""}]
["1866",null,"КСБГнг(А)-FRHF 1х2х1,20","1х2х1,20","2х1,20","1,20","HF","1","2","1,20",null,null,"","",{"$f":"IF(SUM(L$8:L192)=0, \"\", \" + \")","v":""}]
["1867",null,"КСБГнг(А)-FRHF 1х2х1,50","1х2х1,50","2х1,50","1,50","HF","1","2","1,50",null,null,"","",{"$f":"IF(SUM(L$8:L193)=0, \"\", \" + \")","v":""}]
["1910",null,"КСБГнг(А)-FRHF 1х2х2,00","1х2х2,00","2х2,00","2,00","HF","1","2","2,00",null,null,"","",{"$f":"IF(SUM(L$8:L194)=0, \"\", \" + \")","v":""}]
["1898",null,"КСБГнг(А)-FRHF 2х2х0,78","2х2х0,78","2х0,78","0,78","HF","2","2","0,78",null,null,"","",{"$f":"IF(SUM(L$8:L195)=0, \"\", \" + \")","v":""}]
["1726",null,"КСБГнг(А)-FRHF 2х2х0,90","2х2х0,90","2х0,90","0,90","HF","2","2","0,90",null,null,"","",{"$f":"IF(SUM(L$8:L196)=0, \"\", \" + \")","v":""}]
["1728",null,"КСБГнг(А)-FRHF 2х2х1,10","2х2х1,10","2х1,10","1,10","HF","2","2","1,10",null,null,"","",{"$f":"IF(SUM(L$8:L197)=0, \"\", \" + \")","v":""}]
["1868",null,"КСБГнг(А)-FRHF 2х2х1,50","2х2х1,50","2х1,50","1,50","HF","2","2","1,50",null,null,"","",{"$f":"IF(SUM(L$8:L198)=0, \"\", \" + \")","v":""}]
["1911",null,"КСБГнг(А)-FRHF 2х2х2,00","2х2х2,00","2х2,00","2,00","HF","2","2","2,00",null,null,"","",{"$f":"IF(SUM(L$8:L199)=0, \"\", \" + \")","v":""}]
["1899",null,"КСБГнг(А)-FRHF 3х2х0,78","3х2х0,78","2х0,78","0,78","HF","3","2","0,78",null,null,"","",{"$f":"IF(SUM(L$8:L200)=0, \"\", \" + \")","v":""}]
["1901",null,"КСБГнг(А)-FRHF 3х2х0,90",{"$f":"MID(C202, FIND(\" \",C202) +1, 100)","v":"3х2х0,90"},"2х0,90","0,90",{"$f":"MID(C202,FIND(\"FR\",C202)+2, 2)","v":"HF"},"3","2","0,90",null,null,{"$f":"IF(L202=0, \"\",CONCATENATE(O202, C202, \"-\",L202,\"м\"))","v":""},"",{"$f":"IF(SUM(L$8:L201)=0, \"\", \" + \")","v":""}]
["1904",null,"КСБГнг(А)-FRHF 3х2х1,10","3х2х1,10",{"$f":"MID($D203,IF(ISERR(FIND(\"х\",$D203)), FIND(\"x\",$D203)+1, FIND(\"х\",$D203))+1, 100)","v":"2х1,10"},{"$f":"MID($E203,IF(ISERR(FIND(\"х\",$E203)), FIND(\"x\",$E203)+1, FIND(\"х\",$E203))+1,10)","v":"1,10"},"HF",{"$f":"MID($D203,1, IF(ISERR(FIND(\"х\",$D203)), FIND(\"x\",$D203)-1, FIND(\"х\",$D203))-1)","v":"3"},{"$f":"MID($E203,1, IF(ISERR(FIND(\"х\",$E203)), FIND(\"x\",$E203)-1, FIND(\"х\",$E203))-1)","v":"2"},{"$f":"F203","v":"1,10"},null,null,"",{"$f":"CONCATENATE(N202,M203)","v":""},{"$f":"IF(SUM(L$8:L202)=0, \"\", \" + \")","v":""}]
["1906",null,"КСБГнг(А)-FRHF 3х2х1,20","3х2х1,20","2х1,20","1,20","HF","3","2","1,20",null,null,"","",{"$f":"IF(SUM(L$8:L203)=0, \"\", \" + \")","v":""}]
["1908",null,"КСБГнг(А)-FRHF 3х2х1,50","3х2х1,50","2х1,50","1,50","HF","3","2","1,50",null,null,"","",{"$f":"IF(SUM(L$8:L204)=0, \"\", \" + \")","v":""}]
["1912",null,"КСБГнг(А)-FRHF 3х2х2,00","3х2х2,00","2х2,00","2,00","HF","3","2","2,00",null,null,"","",{"$f":"IF(SUM(L$8:L205)=0, \"\", \" + \")","v":""}]
["2060",null,"КСБГнг(А)-FRHF 4х2х0,78","4х2х0,78","2х0,78","0,78","HF","4","2","0,78",null,null,"","",{"$f":"IF(SUM(L$8:L206)=0, \"\", \" + \")","v":""}]
["1902",null,"КСБГнг(А)-FRHF 4х2х0,90","4х2х0,90","2х0,90","0,90","HF","4","2","0,90",null,null,"","",{"$f":"IF(SUM(L$8:L207)=0, \"\", \" + \")","v":""}]
["1905",null,"КСБГнг(А)-FRHF 4х2х1,10","4х2х1,10","2х1,10","1,10","HF","4","2","1,10",null,null,"","",{"$f":"IF(SUM(L$8:L208)=0, \"\", \" + \")","v":""}]
["1907",null,"КСБГнг(А)-FRHF 4х2х1,20","4х2х1,20","2х1,20","1,20","HF","4","2","1,20",null,null,"","",{"$f":"IF(SUM(L$8:L209)=0, \"\", \" + \")","v":""}]
["1909",null,"КСБГнг(А)-FRHF 4х2х1,50","4х2х1,50","2х1,50","1,50","HF","4","2","1,50",null,null,"","",{"$f":"IF(SUM(L$8:L210)=0, \"\", \" + \")","v":""}]
["1913",null,"КСБГнг(А)-FRHF 4х2х2,00","4х2х2,00","2х2,00","2,00","HF","4","2","2,00",null,null,"","",{"$f":"IF(SUM(L$8:L211)=0, \"\", \" + \")","v":""}]
["2118",null,"КСБГнг(А)-FRHF 5х2х0,78","5х2х0,78","2х0,78","0,78","HF","5","2","0,78",null,null,"","",{"$f":"IF(SUM(L$8:L212)=0, \"\", \" + \")","v":""}]
["2124",null,"КСБГнг(А)-FRHF 5х2х0,90","5х2х0,90","2х0,90","0,90","HF","5","2","0,90",null,null,"","",{"$f":"IF(SUM(L$8:L213)=0, \"\", \" + \")","v":""}]
["5002",null,"КСБГнг(А)-FRHF 5х2х1,10","5х2х1,10","2х1,10","1,10","HF","5","2","1,10",null,null,"","",{"$f":"IF(SUM(L$8:L214)=0, \"\", \" + \")","v":""}]
["3143",null,"КСБГнг(А)-FRHF 5х2х1,20","5х2х1,20","2х1,20","1,20","HF","5","2","1,20",null,null,"","",{"$f":"IF(SUM(L$8:L215)=0, \"\", \" + \")","v":""}]
["2916",null,"КСБГнг(А)-FRHF 5х2х1,50","5х2х1,50","2х1,50","1,50","HF","5","2","1,50",null,null,"","",{"$f":"IF(SUM(L$8:L216)=0, \"\", \" + \")","v":""}]
["4500",null,"КСБГнг(А)-FRHF 5х2х2,00","5х2х2,00","2х2,00","2,00","HF","5","2","2,00",null,null,"","",{"$f":"IF(SUM(L$8:L217)=0, \"\", \" + \")","v":""}]
["2119",null,"КСБГнг(А)-FRHF 6х2х0,78","6х2х0,78","2х0,78","0,78","HF","6","2","0,78",null,null,"","",{"$f":"IF(SUM(L$8:L218)=0, \"\", \" + \")","v":""}]
["2125",null,"КСБГнг(А)-FRHF 6х2х0,90","6х2х0,90","2х0,90","0,90","HF","6","2","0,90",null,null,"","",{"$f":"IF(SUM(L$8:L219)=0, \"\", \" + \")","v":""}]
["3036",null,"КСБГнг(А)-FRHF 6х2х1,10","6х2х1,10","2х1,10","1,10","HF","6","2","1,10",null,null,"","",{"$f":"IF(SUM(L$8:L220)=0, \"\", \" + \")","v":""}]
["5129",null,"КСБГнг(А)-FRHF 6х2х1,20","6х2х1,20","2х1,20","1,20","HF","6","2","1,20",null,null,"","",{"$f":"IF(SUM(L$8:L221)=0, \"\", \" + \")","v":""}]
["4512",null,"КСБГнг(А)-FRHF 6х2х1,50","6х2х1,50","2х1,50","1,50","HF","6","2","1,50",null,null,"","",{"$f":"IF(SUM(L$8:L222)=0, \"\", \" + \")","v":""}]
["2120",null,"КСБГнг(А)-FRHF 7х2х0,78","7х2х0,78","2х0,78","0,78","HF","7","2","0,78",null,null,"","",{"$f":"IF(SUM(L$8:L223)=0, \"\", \" + \")","v":""}]
["2126",null,"КСБГнг(А)-FRHF 7х2х0,90","7х2х0,90","2х0,90","0,90","HF","7","2","0,90",null,null,"","",{"$f":"IF(SUM(L$8:L224)=0, \"\", \" + \")","v":""}]
["16766",null,"КСБГнг(А)-FRHF 7х2х1,10","7х2х1,10","2х1,10","1,10","HF","7","2","1,10",null,null,"","",{"$f":"IF(SUM(L$8:L225)=0, \"\", \" + \")","v":""}]
["5100",null,"КСБГнг(А)-FRHF 7х2х1,20","7х2х1,20","2х1,20","1,20","HF","7","2","1,20",null,null,"","",{"$f":"IF(SUM(L$8:L226)=0, \"\", \" + \")","v":""}]
["4501",null,"КСБГнг(А)-FRHF 7х2х1,50","7х2х1,50","2х1,50","1,50","HF","7","2","1,50",null,null,"","",{"$f":"IF(SUM(L$8:L227)=0, \"\", \" + \")","v":""}]
["2121",null,"КСБГнг(А)-FRHF 8х2х0,78","8х2х0,78","2х0,78","0,78","HF","8","2","0,78",null,null,"","",{"$f":"IF(SUM(L$8:L228)=0, \"\", \" + \")","v":""}]
["2127",null,"КСБГнг(А)-FRHF 8х2х0,90","8х2х0,90","2х0,90","0,90","HF","8","2","0,90",null,null,"","",{"$f":"IF(SUM(L$8:L229)=0, \"\", \" + \")","v":""}]
["3037",null,"КСБГнг(А)-FRHF 8х2х1,10","8х2х1,10","2х1,10","1,10","HF","8","2","1,10",null,null,"","",{"$f":"IF(SUM(L$8:L230)=0, \"\", \" + \")","v":""}]
["3461",null,"КСБГнг(А)-FRHF 8х2х1,20","8х2х1,20","2х1,20","1,20","HF","8","2","1,20",null,null,"","",{"$f":"IF(SUM(L$8:L231)=0, \"\", \" + \")","v":""}]
["5329",null,"КСБГнг(А)-FRHF 8х2х1,50","8х2х1,50","2х1,50","1,50","HF","8","2","1,50",null,null,"","",{"$f":"IF(SUM(L$8:L232)=0, \"\", \" + \")","v":""}]
["2122",null,"КСБГнг(А)-FRHF 9х2х0,78","9х2х0,78","2х0,78","0,78","HF","9","2","0,78",null,null,"","",{"$f":"IF(SUM(L$8:L233)=0, \"\", \" + \")","v":""}]
["2128",null,"КСБГнг(А)-FRHF 9х2х0,90","9х2х0,90","2х0,90","0,90","HF","9","2","0,90",null,null,"","",{"$f":"IF(SUM(L$8:L234)=0, \"\", \" + \")","v":""}]
["16465",null,"КСБГнг(А)-FRHF 9х2х1,20","9х2х1,20","2х1,20","1,20","HF","9","2","1,20",null,null,"","",{"$f":"IF(SUM(L$8:L235)=0, \"\", \" + \")","v":""}]
["2111",null,"КСБГнг(А)-FRLS 10х2х0,78","10х2х0,78","2х0,78","0,78","LS","10","2","0,78",null,null,"","",{"$f":"IF(SUM(L$8:L236)=0, \"\", \" + \")","v":""}]
["2117",null,"КСБГнг(А)-FRLS 10х2х0,90","10х2х0,90","2х0,90","0,90","LS","10","2","0,90",null,null,"","",{"$f":"IF(SUM(L$8:L237)=0, \"\", \" + \")","v":""}]
["17979",null,"КСБГнг(А)-FRLS 10х2х1,10","10х2х1,10","2х1,10","1,10","LS","10","2","1,10",null,null,"","",{"$f":"IF(SUM(L$8:L238)=0, \"\", \" + \")","v":""}]
["4985",null,"КСБГнг(А)-FRLS 10х2х1,20","10х2х1,20","2х1,20","1,20","LS","10","2","1,20",null,null,"","",{"$f":"IF(SUM(L$8:L239)=0, \"\", \" + \")","v":""}]
["20517",null,"КСБГнг(А)-FRLS 10х2х1,50 ","10х2х1,50 ","2х1,50 ","1,50 ","LS","10","2","1,50 ",null,null,"","",{"$f":"IF(SUM(L$8:L240)=0, \"\", \" + \")","v":""}]
["3341",null,"КСБГнг(А)-FRLS 12х2х1,20","12х2х1,20","2х1,20","1,20","LS","12","2","1,20",null,null,"","",{"$f":"IF(SUM(L$8:L241)=0, \"\", \" + \")","v":""}]
["3411",null,"КСБГнг(А)-FRLS 12х2х1,50","12х2х1,50","2х1,50","1,50","LS","12","2","1,50",null,null,"","",{"$f":"IF(SUM(L$8:L242)=0, \"\", \" + \")","v":""}]
["1879",null,"КСБГнг(А)-FRLS 1х2х0,78","1х2х0,78","2х0,78","0,78","LS","1","2","0,78",null,null,"","",{"$f":"IF(SUM(L$8:L243)=0, \"\", \" + \")","v":""}]
["1883",null,"КСБГнг(А)-FRLS 1х2х0,90","1х2х0,90","2х0,90","0,90","LS","1","2","0,90",null,null,"","",{"$f":"IF(SUM(L$8:L244)=0, \"\", \" + \")","v":""}]
["1886",null,"КСБГнг(А)-FRLS 1х2х1,10","1х2х1,10","2х1,10","1,10","LS","1","2","1,10",null,null,"","",{"$f":"IF(SUM(L$8:L245)=0, \"\", \" + \")","v":""}]
["1869",null,"КСБГнг(А)-FRLS 1х2х1,20","1х2х1,20","2х1,20","1,20","LS","1","2","1,20",null,null,"","",{"$f":"IF(SUM(L$8:L246)=0, \"\", \" + \")","v":""}]
["1870",null,"КСБГнг(А)-FRLS 1х2х1,50","1х2х1,50","2х1,50","1,50","LS","1","2","1,50",null,null,"","",{"$f":"IF(SUM(L$8:L247)=0, \"\", \" + \")","v":""}]
["1893",null,"КСБГнг(А)-FRLS 1х2х2,00","1х2х2,00","2х2,00","2,00","LS","1","2","2,00",null,null,"","",{"$f":"IF(SUM(L$8:L248)=0, \"\", \" + \")","v":""}]
["1880",null,"КСБГнг(А)-FRLS 2х2х0,78","2х2х0,78","2х0,78","0,78","LS","2","2","0,78",null,null,"","",{"$f":"IF(SUM(L$8:L249)=0, \"\", \" + \")","v":""}]
["1884",null,"КСБГнг(А)-FRLS 2х2х0,90","2х2х0,90","2х0,90","0,90","LS","2","2","0,90",null,null,"","",{"$f":"IF(SUM(L$8:L250)=0, \"\", \" + \")","v":""}]
["1732",null,"КСБГнг(А)-FRLS 2х2х1,10","2х2х1,10","2х1,10","1,10","LS","2","2","1,10",null,null,"","",{"$f":"IF(SUM(L$8:L251)=0, \"\", \" + \")","v":""}]
["1733",null,"КСБГнг(А)-FRLS 2х2х1,20","2х2х1,20","2х1,20","1,20","LS","2","2","1,20",null,null,"","",{"$f":"IF(SUM(L$8:L252)=0, \"\", \" + \")","v":""}]
["1871",null,"КСБГнг(А)-FRLS 2х2х1,50","2х2х1,50","2х1,50","1,50","LS","2","2","1,50",null,null,"","",{"$f":"IF(SUM(L$8:L253)=0, \"\", \" + \")","v":""}]
["1894",null,"КСБГнг(А)-FRLS 2х2х2,00","2х2х2,00","2х2,00","2,00","LS","2","2","2,00",null,null,"","",{"$f":"IF(SUM(L$8:L254)=0, \"\", \" + \")","v":""}]
["1881",null,"КСБГнг(А)-FRLS 3х2х0,78","3х2х0,78","2х0,78","0,78","LS","3","2","0,78",null,null,"","",{"$f":"IF(SUM(L$8:L255)=0, \"\", \" + \")","v":""}]
["1885",null,"КСБГнг(А)-FRLS 3х2х0,90","3х2х0,90","2х0,90","0,90","LS","3","2","0,90",null,null,"","",{"$f":"IF(SUM(L$8:L256)=0, \"\", \" + \")","v":""}]
["1887",null,"КСБГнг(А)-FRLS 3х2х1,10","3х2х1,10","2х1,10","1,10","LS","3","2","1,10",null,null,"","",{"$f":"IF(SUM(L$8:L257)=0, \"\", \" + \")","v":""}]
["1889",null,"КСБГнг(А)-FRLS 3х2х1,20","3х2х1,20","2х1,20","1,20","LS","3","2","1,20",null,null,"","",{"$f":"IF(SUM(L$8:L258)=0, \"\", \" + \")","v":""}]
["1891",null,"КСБГнг(А)-FRLS 3х2х1,50","3х2х1,50","2х1,50","1,50","LS","3","2","1,50",null,null,"","",{"$f":"IF(SUM(L$8:L259)=0, \"\", \" + \")","v":""}]
["1895",null,"КСБГнг(А)-FRLS 3х2х2,00","3х2х2,00","2х2,00","2,00","LS","3","2","2,00",null,null,"","",{"$f":"IF(SUM(L$8:L260)=0, \"\", \" + \")","v":""}]
["1882",null,"КСБГнг(А)-FRLS 4х2х0,78","4х2х0,78","2х0,78","0,78","LS","4","2","0,78",null,null,"","",{"$f":"IF(SUM(L$8:L261)=0, \"\", \" + \")","v":""}]
["1660",null,"КСБГнг(А)-FRLS 4х2х0,90","4х2х0,90","2х0,90","0,90","LS","4","2","0,90",null,null,"","",{"$f":"IF(SUM(L$8:L262)=0, \"\", \" + \")","v":""}]
["1888",null,"КСБГнг(А)-FRLS 4х2х1,10","4х2х1,10","2х1,10","1,10","LS","4","2","1,10",null,null,"","",{"$f":"IF(SUM(L$8:L263)=0, \"\", \" + \")","v":""}]
["1890",null,"КСБГнг(А)-FRLS 4х2х1,20","4х2х1,20","2х1,20","1,20","LS","4","2","1,20",null,null,"","",{"$f":"IF(SUM(L$8:L264)=0, \"\", \" + \")","v":""}]
["1892",null,"КСБГнг(А)-FRLS 4х2х1,50",{"$f":"MID(C266, FIND(\" \",C266) +1, 100)","v":"4х2х1,50"},"2х1,50","1,50",{"$f":"MID(C266,FIND(\"FR\",C266)+2, 2)","v":"LS"},"4","2","1,50",null,null,{"$f":"IF(L266=0, \"\",CONCATENATE(O266, C266, \"-\",L266,\"м\"))","v":""},"",{"$f":"IF(SUM(L$8:L265)=0, \"\", \" + \")","v":""}]
["1896",null,"КСБГнг(А)-FRLS 4х2х2,00","4х2х2,00",{"$f":"MID($D267,IF(ISERR(FIND(\"х\",$D267)), FIND(\"x\",$D267)+1, FIND(\"х\",$D267))+1, 100)","v":"2х2,00"},{"$f":"MID($E267,IF(ISERR(FIND(\"х\",$E267)), FIND(\"x\",$E267)+1, FIND(\"х\",$E267))+1,10)","v":"2,00"},"LS",{"$f":"MID($D267,1, IF(ISERR(FIND(\"х\",$D267)), FIND(\"x\",$D267)-1, FIND(\"х\",$D267))-1)","v":"4"},{"$f":"MID($E267,1, IF(ISERR(FIND(\"х\",$E267)), FIND(\"x\",$E267)-1, FIND(\"х\",$E267))-1)","v":"2"},{"$f":"F267","v":"2,00"},null,null,"",{"$f":"CONCATENATE(N266,M267)","v":""},{"$f":"IF(SUM(L$8:L266)=0, \"\", \" + \")","v":""}]
["2106",null,"КСБГнг(А)-FRLS 5х2х0,78","5х2х0,78","2х0,78","0,78","LS","5","2","0,78",null,null,"","",{"$f":"IF(SUM(L$8:L267)=0, \"\", \" + \")","v":""}]
["2112",null,"КСБГнг(А)-FRLS 5х2х0,90","5х2х0,90","2х0,90","0,90","LS","5","2","0,90",null,null,"","",{"$f":"IF(SUM(L$8:L268)=0, \"\", \" + \")","v":""}]
["4446",null,"КСБГнг(А)-FRLS 5х2х1,20","5х2х1,20","2х1,20","1,20","LS","5","2","1,20",null,null,"","",{"$f":"IF(SUM(L$8:L269)=0, \"\", \" + \")","v":""}]
["5400",null,"КСБГнг(А)-FRLS 5х2х1,50","5х2х1,50","2х1,50","1,50","LS","5","2","1,50",null,null,"","",{"$f":"IF(SUM(L$8:L270)=0, \"\", \" + \")","v":""}]
["2107",null,"КСБГнг(А)-FRLS 6х2х0,78","6х2х0,78","2х0,78","0,78","LS","6","2","0,78",null,null,"","",{"$f":"IF(SUM(L$8:L271)=0, \"\", \" + \")","v":""}]
["2113",null,"КСБГнг(А)-FRLS 6х2х0,90","6х2х0,90","2х0,90","0,90","LS","6","2","0,90",null,null,"","",{"$f":"IF(SUM(L$8:L272)=0, \"\", \" + \")","v":""}]
["3184",null,"КСБГнг(А)-FRLS 6х2х1,10","6х2х1,10","2х1,10","1,10","LS","6","2","1,10",null,null,"","",{"$f":"IF(SUM(L$8:L273)=0, \"\", \" + \")","v":""}]
["3185",null,"КСБГнг(А)-FRLS 6х2х1,20","6х2х1,20","2х1,20","1,20","LS","6","2","1,20",null,null,"","",{"$f":"IF(SUM(L$8:L274)=0, \"\", \" + \")","v":""}]
["3356",null,"КСБГнг(А)-FRLS 6х2х1,50","6х2х1,50","2х1,50","1,50","LS","6","2","1,50",null,null,"","",{"$f":"IF(SUM(L$8:L275)=0, \"\", \" + \")","v":""}]
["2108",null,"КСБГнг(А)-FRLS 7х2х0,78","7х2х0,78","2х0,78","0,78","LS","7","2","0,78",null,null,"","",{"$f":"IF(SUM(L$8:L276)=0, \"\", \" + \")","v":""}]
["2114",null,"КСБГнг(А)-FRLS 7х2х0,90","7х2х0,90","2х0,90","0,90","LS","7","2","0,90",null,null,"","",{"$f":"IF(SUM(L$8:L277)=0, \"\", \" + \")","v":""}]
["3364",null,"КСБГнг(А)-FRLS 7х2х1,20","7х2х1,20","2х1,20","1,20","LS","7","2","1,20",null,null,"","",{"$f":"IF(SUM(L$8:L278)=0, \"\", \" + \")","v":""}]
["19094",null,"КСБГнг(А)-FRLS 7х2х1,50 ","7х2х1,50 ","2х1,50 ","1,50 ","LS","7","2","1,50 ",null,null,"","",{"$f":"IF(SUM(L$8:L279)=0, \"\", \" + \")","v":""}]
["2109",null,"КСБГнг(А)-FRLS 8х2х0,78","8х2х0,78","2х0,78","0,78","LS","8","2","0,78",null,null,"","",{"$f":"IF(SUM(L$8:L280)=0, \"\", \" + \")","v":""}]
["2115",null,"КСБГнг(А)-FRLS 8х2х0,90","8х2х0,90","2х0,90","0,90","LS","8","2","0,90",null,null,"","",{"$f":"IF(SUM(L$8:L281)=0, \"\", \" + \")","v":""}]
["5376",null,"КСБГнг(А)-FRLS 8х2х1,10","8х2х1,10","2х1,10","1,10","LS","8","2","1,10",null,null,"","",{"$f":"IF(SUM(L$8:L282)=0, \"\", \" + \")","v":""}]
["4645",null,"КСБГнг(А)-FRLS 8х2х1,20","8х2х1,20","2х1,20","1,20","LS","8","2","1,20",null,null,"","",{"$f":"IF(SUM(L$8:L283)=0, \"\", \" + \")","v":""}]
["2110",null,"КСБГнг(А)-FRLS 9х2х0,78","9х2х0,78","2х0,78","0,78","LS","9","2","0,78",null,null,"","",{"$f":"IF(SUM(L$8:L284)=0, \"\", \" + \")","v":""}]
["2116",null,"КСБГнг(А)-FRLS 9х2х0,90","9х2х0,90","2х0,90","0,90","LS","9","2","0,90",null,null,"","",{"$f":"IF(SUM(L$8:L285)=0, \"\", \" + \")","v":""}]
["4399",null,"КСБГСКГнг(А)-FRHF 1х2х0,78","1х2х0,78","2х0,78","0,78","HF","1","2","0,78",null,null,"","",{"$f":"IF(SUM(L$8:L286)=0, \"\", \" + \")","v":""}]
["4403",null,"КСБГСКГнг(А)-FRHF 1х2х0,90","1х2х0,90","2х0,90","0,90","HF","1","2","0,90",null,null,"","",{"$f":"IF(SUM(L$8:L287)=0, \"\", \" + \")","v":""}]
["4407",null,"КСБГСКГнг(А)-FRHF 1х2х1,10","1х2х1,10","2х1,10","1,10","HF","1","2","1,10",null,null,"","",{"$f":"IF(SUM(L$8:L288)=0, \"\", \" + \")","v":""}]
["4411",null,"КСБГСКГнг(А)-FRHF 1х2х1,20","1х2х1,20","2х1,20","1,20","HF","1","2","1,20",null,null,"","",{"$f":"IF(SUM(L$8:L289)=0, \"\", \" + \")","v":""}]
["4415",null,"КСБГСКГнг(А)-FRHF 1х2х1,50","1х2х1,50","2х1,50","1,50","HF","1","2","1,50",null,null,"","",{"$f":"IF(SUM(L$8:L290)=0, \"\", \" + \")","v":""}]
["4419",null,"КСБГСКГнг(А)-FRHF 1х2х2,00","1х2х2,00","2х2,00","2,00","HF","1","2","2,00",null,null,"","",{"$f":"IF(SUM(L$8:L291)=0, \"\", \" + \")","v":""}]
["4400",null,"КСБГСКГнг(А)-FRHF 2х2х0,78","2х2х0,78","2х0,78","0,78","HF","2","2","0,78",null,null,"","",{"$f":"IF(SUM(L$8:L292)=0, \"\", \" + \")","v":""}]
["4404",null,"КСБГСКГнг(А)-FRHF 2х2х0,90","2х2х0,90","2х0,90","0,90","HF","2","2","0,90",null,null,"","",{"$f":"IF(SUM(L$8:L293)=0, \"\", \" + \")","v":""}]
["4408",null,"КСБГСКГнг(А)-FRHF 2х2х1,10","2х2х1,10","2х1,10","1,10","HF","2","2","1,10",null,null,"","",{"$f":"IF(SUM(L$8:L294)=0, \"\", \" + \")","v":""}]
["4412",null,"КСБГСКГнг(А)-FRHF 2х2х1,20","2х2х1,20","2х1,20","1,20","HF","2","2","1,20",null,null,"","",{"$f":"IF(SUM(L$8:L295)=0, \"\", \" + \")","v":""}]
["4416",null,"КСБГСКГнг(А)-FRHF 2х2х1,50","2х2х1,50","2х1,50","1,50","HF","2","2","1,50",null,null,"","",{"$f":"IF(SUM(L$8:L296)=0, \"\", \" + \")","v":""}]
["4420",null,"КСБГСКГнг(А)-FRHF 2х2х2,00","2х2х2,00","2х2,00","2,00","HF","2","2","2,00",null,null,"","",{"$f":"IF(SUM(L$8:L297)=0, \"\", \" + \")","v":""}]
["4401",null,"КСБГСКГнг(А)-FRHF 3х2х0,78","3х2х0,78","2х0,78","0,78","HF","3","2","0,78",null,null,"","",{"$f":"IF(SUM(L$8:L298)=0, \"\", \" + \")","v":""}]
["4405",null,"КСБГСКГнг(А)-FRHF 3х2х0,90","3х2х0,90","2х0,90","0,90","HF","3","2","0,90",null,null,"","",{"$f":"IF(SUM(L$8:L299)=0, \"\", \" + \")","v":""}]
["4409",null,"КСБГСКГнг(А)-FRHF 3х2х1,10","3х2х1,10","2х1,10","1,10","HF","3","2","1,10",null,null,"","",{"$f":"IF(SUM(L$8:L300)=0, \"\", \" + \")","v":""}]
["4413",null,"КСБГСКГнг(А)-FRHF 3х2х1,20","3х2х1,20","2х1,20","1,20","HF","3","2","1,20",null,null,"","",{"$f":"IF(SUM(L$8:L301)=0, \"\", \" + \")","v":""}]
["4417",null,"КСБГСКГнг(А)-FRHF 3х2х1,50","3х2х1,50","2х1,50","1,50","HF","3","2","1,50",null,null,"","",{"$f":"IF(SUM(L$8:L302)=0, \"\", \" + \")","v":""}]
["4421",null,"КСБГСКГнг(А)-FRHF 3х2х2,00","3х2х2,00","2х2,00","2,00","HF","3","2","2,00",null,null,"","",{"$f":"IF(SUM(L$8:L303)=0, \"\", \" + \")","v":""}]
["4402",null,"КСБГСКГнг(А)-FRHF 4х2х0,78","4х2х0,78","2х0,78","0,78","HF","4","2","0,78",null,null,"","",{"$f":"IF(SUM(L$8:L304)=0, \"\", \" + \")","v":""}]
["4406",null,"КСБГСКГнг(А)-FRHF 4х2х0,90","4х2х0,90","2х0,90","0,90","HF","4","2","0,90",null,null,"","",{"$f":"IF(SUM(L$8:L305)=0, \"\", \" + \")","v":""}]
["4410",null,"КСБГСКГнг(А)-FRHF 4х2х1,10","4х2х1,10","2х1,10","1,10","HF","4","2","1,10",null,null,"","",{"$f":"IF(SUM(L$8:L306)=0, \"\", \" + \")","v":""}]
["4414",null,"КСБГСКГнг(А)-FRHF 4х2х1,20","4х2х1,20","2х1,20","1,20","HF","4","2","1,20",null,null,"","",{"$f":"IF(SUM(L$8:L307)=0, \"\", \" + \")","v":""}]
["4418",null,"КСБГСКГнг(А)-FRHF 4х2х1,50","4х2х1,50","2х1,50","1,50","HF","4","2","1,50",null,null,"","",{"$f":"IF(SUM(L$8:L308)=0, \"\", \" + \")","v":""}]
["4422",null,"КСБГСКГнг(А)-FRHF 4х2х2,00","4х2х2,00","2х2,00","2,00","HF","4","2","2,00",null,null,"","",{"$f":"IF(SUM(L$8:L309)=0, \"\", \" + \")","v":""}]
["7863",null,"КСБГСКГнг(А)-FRHF 5х2х1,20","5х2х1,20","2х1,20","1,20","HF","5","2","1,20",null,null,"","",{"$f":"IF(SUM(L$8:L310)=0, \"\", \" + \")","v":""}]
["7864",null,"КСБГСКГнг(А)-FRHF 6х2х1,20","6х2х1,20","2х1,20","1,20","HF","6","2","1,20",null,null,"","",{"$f":"IF(SUM(L$8:L311)=0, \"\", \" + \")","v":""}]
["4375",null,"КСБГСКГнг(А)-FRLS 1х2х0,78","1х2х0,78","2х0,78","0,78","LS","1","2","0,78",null,null,"","",{"$f":"IF(SUM(L$8:L312)=0, \"\", \" + \")","v":""}]
["4379",null,"КСБГСКГнг(А)-FRLS 1х2х0,90","1х2х0,90","2х0,90","0,90","LS","1","2","0,90",null,null,"","",{"$f":"IF(SUM(L$8:L313)=0, \"\", \" + \")","v":""}]
["4383",null,"КСБГСКГнг(А)-FRLS 1х2х1,10","1х2х1,10","2х1,10","1,10","LS","1","2","1,10",null,null,"","",{"$f":"IF(SUM(L$8:L314)=0, \"\", \" + \")","v":""}]
["4387",null,"КСБГСКГнг(А)-FRLS 1х2х1,20","1х2х1,20","2х1,20","1,20","LS","1","2","1,20",null,null,"","",{"$f":"IF(SUM(L$8:L315)=0, \"\", \" + \")","v":""}]
["4391",null,"КСБГСКГнг(А)-FRLS 1х2х1,50","1х2х1,50","2х1,50","1,50","LS","1","2","1,50",null,null,"","",{"$f":"IF(SUM(L$8:L316)=0, \"\", \" + \")","v":""}]
["4395",null,"КСБГСКГнг(А)-FRLS 1х2х2,00","1х2х2,00","2х2,00","2,00","LS","1","2","2,00",null,null,"","",{"$f":"IF(SUM(L$8:L317)=0, \"\", \" + \")","v":""}]
["4376",null,"КСБГСКГнг(А)-FRLS 2х2х0,78","2х2х0,78","2х0,78","0,78","LS","2","2","0,78",null,null,"","",{"$f":"IF(SUM(L$8:L318)=0, \"\", \" + \")","v":""}]
["4380",null,"КСБГСКГнг(А)-FRLS 2х2х0,90","2х2х0,90","2х0,90","0,90","LS","2","2","0,90",null,null,"","",{"$f":"IF(SUM(L$8:L319)=0, \"\", \" + \")","v":""}]
["4384",null,"КСБГСКГнг(А)-FRLS 2х2х1,10","2х2х1,10","2х1,10","1,10","LS","2","2","1,10",null,null,"","",{"$f":"IF(SUM(L$8:L320)=0, \"\", \" + \")","v":""}]
["4388",null,"КСБГСКГнг(А)-FRLS 2х2х1,20","2х2х1,20","2х1,20","1,20","LS","2","2","1,20",null,null,"","",{"$f":"IF(SUM(L$8:L321)=0, \"\", \" + \")","v":""}]
["4392",null,"КСБГСКГнг(А)-FRLS 2х2х1,50","2х2х1,50","2х1,50","1,50","LS","2","2","1,50",null,null,"","",{"$f":"IF(SUM(L$8:L322)=0, \"\", \" + \")","v":""}]
["4396",null,"КСБГСКГнг(А)-FRLS 2х2х2,00","2х2х2,00","2х2,00","2,00","LS","2","2","2,00",null,null,"","",{"$f":"IF(SUM(L$8:L323)=0, \"\", \" + \")","v":""}]
["4377",null,"КСБГСКГнг(А)-FRLS 3х2х0,78","3х2х0,78","2х0,78","0,78","LS","3","2","0,78",null,null,"","",{"$f":"IF(SUM(L$8:L324)=0, \"\", \" + \")","v":""}]
["4381",null,"КСБГСКГнг(А)-FRLS 3х2х0,90","3х2х0,90","2х0,90","0,90","LS","3","2","0,90",null,null,"","",{"$f":"IF(SUM(L$8:L325)=0, \"\", \" + \")","v":""}]
["4385",null,"КСБГСКГнг(А)-FRLS 3х2х1,10","3х2х1,10","2х1,10","1,10","LS","3","2","1,10",null,null,"","",{"$f":"IF(SUM(L$8:L326)=0, \"\", \" + \")","v":""}]
["4389",null,"КСБГСКГнг(А)-FRLS 3х2х1,20","3х2х1,20","2х1,20","1,20","LS","3","2","1,20",null,null,"","",{"$f":"IF(SUM(L$8:L327)=0, \"\", \" + \")","v":""}]
["4393",null,"КСБГСКГнг(А)-FRLS 3х2х1,50","3х2х1,50","2х1,50","1,50","LS","3","2","1,50",null,null,"","",{"$f":"IF(SUM(L$8:L328)=0, \"\", \" + \")","v":""}]
["4397",null,"КСБГСКГнг(А)-FRLS 3х2х2,00",{"$f":"MID(C330, FIND(\" \",C330) +1, 100)","v":"3х2х2,00"},"2х2,00","2,00",{"$f":"MID(C330,FIND(\"FR\",C330)+2, 2)","v":"LS"},"3","2","2,00",null,null,{"$f":"IF(L330=0, \"\",CONCATENATE(O330, C330, \"-\",L330,\"м\"))","v":""},"",{"$f":"IF(SUM(L$8:L329)=0, \"\", \" + \")","v":""}]
["4378",null,"КСБГСКГнг(А)-FRLS 4х2х0,78","4х2х0,78",{"$f":"MID($D331,IF(ISERR(FIND(\"х\",$D331)), FIND(\"x\",$D331)+1, FIND(\"х\",$D331))+1, 100)","v":"2х0,78"},{"$f":"MID($E331,IF(ISERR(FIND(\"х\",$E331)), FIND(\"x\",$E331)+1, FIND(\"х\",$E331))+1,10)","v":"0,78"},"LS",{"$f":"MID($D331,1, IF(ISERR(FIND(\"х\",$D331)), FIND(\"x\",$D331)-1, FIND(\"х\",$D331))-1)","v":"4"},{"$f":"MID($E331,1, IF(ISERR(FIND(\"х\",$E331)), FIND(\"x\",$E331)-1, FIND(\"х\",$E331))-1)","v":"2"},{"$f":"F331","v":"0,78"},null,null,"",{"$f":"CONCATENATE(N330,M331)","v":""},{"$f":"IF(SUM(L$8:L330)=0, \"\", \" + \")","v":""}]
["4382",null,"КСБГСКГнг(А)-FRLS 4х2х0,90","4х2х0,90","2х0,90","0,90","LS","4","2","0,90",null,null,"","",{"$f":"IF(SUM(L$8:L331)=0, \"\", \" + \")","v":""}]
["4386",null,"КСБГСКГнг(А)-FRLS 4х2х1,10","4х2х1,10","2х1,10","1,10","LS","4","2","1,10",null,null,"","",{"$f":"IF(SUM(L$8:L332)=0, \"\", \" + \")","v":""}]
["4390",null,"КСБГСКГнг(А)-FRLS 4х2х1,20","4х2х1,20","2х1,20","1,20","LS","4","2","1,20",null,null,"","",{"$f":"IF(SUM(L$8:L333)=0, \"\", \" + \")","v":""}]
["4394",null,"КСБГСКГнг(А)-FRLS 4х2х1,50","4х2х1,50","2х1,50","1,50","LS","4","2","1,50",null,null,"","",{"$f":"IF(SUM(L$8:L334)=0, \"\", \" + \")","v":""}]
["4398",null,"КСБГСКГнг(А)-FRLS 4х2х2,00","4х2х2,00","2х2,00","2,00","LS","4","2","2,00",null,null,"","",{"$f":"IF(SUM(L$8:L335)=0, \"\", \" + \")","v":""}]
["17520",null,"КСБГСКГнг(А)-FRLS 6х2х1,10","6х2х1,10","2х1,10","1,10","LS","6","2","1,10",null,null,"","",{"$f":"IF(SUM(L$8:L336)=0, \"\", \" + \")","v":""}]
["2946",null,"КСБГСКнг(А)-FRHF 10х2х0,90","10х2х0,90","2х0,90","0,90","HF","10","2","0,90",null,null,"","",{"$f":"IF(SUM(L$8:L337)=0, \"\", \" + \")","v":""}]
["19518",null,"КСБГСКнг(А)-FRHF 10х2х1,10 ","10х2х1,10 ","2х1,10 ","1,10 ","HF","10","2","1,10 ",null,null,"","",{"$f":"IF(SUM(L$8:L338)=0, \"\", \" + \")","v":""}]
["1999",null,"КСБГСКнг(А)-FRHF 1х2х0,78","1х2х0,78","2х0,78","0,78","HF","1","2","0,78",null,null,"","",{"$f":"IF(SUM(L$8:L339)=0, \"\", \" + \")","v":""}]
["1862",null,"КСБГСКнг(А)-FRHF 1х2х0,90","1х2х0,90","2х0,90","0,90","HF","1","2","0,90",null,null,"","",{"$f":"IF(SUM(L$8:L340)=0, \"\", \" + \")","v":""}]
["2003",null,"КСБГСКнг(А)-FRHF 1х2х1,10","1х2х1,10","2х1,10","1,10","HF","1","2","1,10",null,null,"","",{"$f":"IF(SUM(L$8:L341)=0, \"\", \" + \")","v":""}]
["2006",null,"КСБГСКнг(А)-FRHF 1х2х1,20","1х2х1,20","2х1,20","1,20","HF","1","2","1,20",null,null,"","",{"$f":"IF(SUM(L$8:L342)=0, \"\", \" + \")","v":""}]
["2010",null,"КСБГСКнг(А)-FRHF 1х2х1,50","1х2х1,50","2х1,50","1,50","HF","1","2","1,50",null,null,"","",{"$f":"IF(SUM(L$8:L343)=0, \"\", \" + \")","v":""}]
["2014",null,"КСБГСКнг(А)-FRHF 1х2х2,00","1х2х2,00","2х2,00","2,00","HF","1","2","2,00",null,null,"","",{"$f":"IF(SUM(L$8:L344)=0, \"\", \" + \")","v":""}]
["2000",null,"КСБГСКнг(А)-FRHF 2х2х0,78","2х2х0,78","2х0,78","0,78","HF","2","2","0,78",null,null,"","",{"$f":"IF(SUM(L$8:L345)=0, \"\", \" + \")","v":""}]
["1863",null,"КСБГСКнг(А)-FRHF 2х2х0,90","2х2х0,90","2х0,90","0,90","HF","2","2","0,90",null,null,"","",{"$f":"IF(SUM(L$8:L346)=0, \"\", \" + \")","v":""}]
["2004",null,"КСБГСКнг(А)-FRHF 2х2х1,10","2х2х1,10","2х1,10","1,10","HF","2","2","1,10",null,null,"","",{"$f":"IF(SUM(L$8:L347)=0, \"\", \" + \")","v":""}]
["2007",null,"КСБГСКнг(А)-FRHF 2х2х1,20","2х2х1,20","2х1,20","1,20","HF","2","2","1,20",null,null,"","",{"$f":"IF(SUM(L$8:L348)=0, \"\", \" + \")","v":""}]
["2011",null,"КСБГСКнг(А)-FRHF 2х2х1,50","2х2х1,50","2х1,50","1,50","HF","2","2","1,50",null,null,"","",{"$f":"IF(SUM(L$8:L349)=0, \"\", \" + \")","v":""}]
["2015",null,"КСБГСКнг(А)-FRHF 2х2х2,00","2х2х2,00","2х2,00","2,00","HF","2","2","2,00",null,null,"","",{"$f":"IF(SUM(L$8:L350)=0, \"\", \" + \")","v":""}]
["2001",null,"КСБГСКнг(А)-FRHF 3х2х0,78","3х2х0,78","2х0,78","0,78","HF","3","2","0,78",null,null,"","",{"$f":"IF(SUM(L$8:L351)=0, \"\", \" + \")","v":""}]
["1864",null,"КСБГСКнг(А)-FRHF 3х2х0,90","3х2х0,90","2х0,90","0,90","HF","3","2","0,90",null,null,"","",{"$f":"IF(SUM(L$8:L352)=0, \"\", \" + \")","v":""}]
["2936",null,"КСБГСКнг(А)-FRHF 3х2х1,10","3х2х1,10","2х1,10","1,10","HF","3","2","1,10",null,null,"","",{"$f":"IF(SUM(L$8:L353)=0, \"\", \" + \")","v":""}]
["2008",null,"КСБГСКнг(А)-FRHF 3х2х1,20","3х2х1,20","2х1,20","1,20","HF","3","2","1,20",null,null,"","",{"$f":"IF(SUM(L$8:L354)=0, \"\", \" + \")","v":""}]
["2012",null,"КСБГСКнг(А)-FRHF 3х2х1,50","3х2х1,50","2х1,50","1,50","HF","3","2","1,50",null,null,"","",{"$f":"IF(SUM(L$8:L355)=0, \"\", \" + \")","v":""}]
["2016",null,"КСБГСКнг(А)-FRHF 3х2х2,00","3х2х2,00","2х2,00","2,00","HF","3","2","2,00",null,null,"","",{"$f":"IF(SUM(L$8:L356)=0, \"\", \" + \")","v":""}]
["2002",null,"КСБГСКнг(А)-FRHF 4х2х0,78","4х2х0,78","2х0,78","0,78","HF","4","2","0,78",null,null,"","",{"$f":"IF(SUM(L$8:L357)=0, \"\", \" + \")","v":""}]
["1865",null,"КСБГСКнг(А)-FRHF 4х2х0,90","4х2х0,90","2х0,90","0,90","HF","4","2","0,90",null,null,"","",{"$f":"IF(SUM(L$8:L358)=0, \"\", \" + \")","v":""}]
["2005",null,"КСБГСКнг(А)-FRHF 4х2х1,10","4х2х1,10","2х1,10","1,10","HF","4","2","1,10",null,null,"","",{"$f":"IF(SUM(L$8:L359)=0, \"\", \" + \")","v":""}]
["2009",null,"КСБГСКнг(А)-FRHF 4х2х1,20","4х2х1,20","2х1,20","1,20","HF","4","2","1,20",null,null,"","",{"$f":"IF(SUM(L$8:L360)=0, \"\", \" + \")","v":""}]
["2013",null,"КСБГСКнг(А)-FRHF 4х2х1,50","4х2х1,50","2х1,50","1,50","HF","4","2","1,50",null,null,"","",{"$f":"IF(SUM(L$8:L361)=0, \"\", \" + \")","v":""}]
["2017",null,"КСБГСКнг(А)-FRHF 4х2х2,00","4х2х2,00","2х2,00","2,00","HF","4","2","2,00",null,null,"","",{"$f":"IF(SUM(L$8:L362)=0, \"\", \" + \")","v":""}]
["4990",null,"КСБГСКнг(А)-FRHF 5х2х1,10","5х2х1,10","2х1,10","1,10","HF","5","2","1,10",null,null,"","",{"$f":"IF(SUM(L$8:L363)=0, \"\", \" + \")","v":""}]
["19017",null,"КСБГСКнг(А)-FRHF 5х2х1,50","5х2х1,50","2х1,50","1,50","HF","5","2","1,50",null,null,"","",{"$f":"IF(SUM(L$8:L364)=0, \"\", \" + \")","v":""}]
["19516",null,"КСБГСКнг(А)-FRHF 6х2х1,10 ","6х2х1,10 ","2х1,10 ","1,10 ","HF","6","2","1,10 ",null,null,"","",{"$f":"IF(SUM(L$8:L365)=0, \"\", \" + \")","v":""}]
["19517",null,"КСБГСКнг(А)-FRHF 7х2х1,10 ","7х2х1,10 ","2х1,10 ","1,10 ","HF","7","2","1,10 ",null,null,"","",{"$f":"IF(SUM(L$8:L366)=0, \"\", \" + \")","v":""}]
["16477",null,"КСБГСКнг(А)-FRHF 8х2х1,10","8х2х1,10","2х1,10","1,10","HF","8","2","1,10",null,null,"","",{"$f":"IF(SUM(L$8:L367)=0, \"\", \" + \")","v":""}]
["2018",null,"КСБГСКнг(А)-FRLS 1х2х0,78","1х2х0,78","2х0,78","0,78","LS","1","2","0,78",null,null,"","",{"$f":"IF(SUM(L$8:L368)=0, \"\", \" + \")","v":""}]
["1861",null,"КСБГСКнг(А)-FRLS 1х2х0,90","1х2х0,90","2х0,90","0,90","LS","1","2","0,90",null,null,"","",{"$f":"IF(SUM(L$8:L369)=0, \"\", \" + \")","v":""}]
["2020",null,"КСБГСКнг(А)-FRLS 1х2х1,10","1х2х1,10","2х1,10","1,10","LS","1","2","1,10",null,null,"","",{"$f":"IF(SUM(L$8:L370)=0, \"\", \" + \")","v":""}]
["2022",null,"КСБГСКнг(А)-FRLS 1х2х1,20","1х2х1,20","2х1,20","1,20","LS","1","2","1,20",null,null,"","",{"$f":"IF(SUM(L$8:L371)=0, \"\", \" + \")","v":""}]
["2024",null,"КСБГСКнг(А)-FRLS 1х2х1,50","1х2х1,50","2х1,50","1,50","LS","1","2","1,50",null,null,"","",{"$f":"IF(SUM(L$8:L372)=0, \"\", \" + \")","v":""}]
["2026",null,"КСБГСКнг(А)-FRLS 1х2х2,00","1х2х2,00","2х2,00","2,00","LS","1","2","2,00",null,null,"","",{"$f":"IF(SUM(L$8:L373)=0, \"\", \" + \")","v":""}]
["2019",null,"КСБГСКнг(А)-FRLS 2х2х0,78","2х2х0,78","2х0,78","0,78","LS","2","2","0,78",null,null,"","",{"$f":"IF(SUM(L$8:L374)=0, \"\", \" + \")","v":""}]
["1860",null,"КСБГСКнг(А)-FRLS 2х2х0,90","2х2х0,90","2х0,90","0,90","LS","2","2","0,90",null,null,"","",{"$f":"IF(SUM(L$8:L375)=0, \"\", \" + \")","v":""}]
["2021",null,"КСБГСКнг(А)-FRLS 2х2х1,10","2х2х1,10","2х1,10","1,10","LS","2","2","1,10",null,null,"","",{"$f":"IF(SUM(L$8:L376)=0, \"\", \" + \")","v":""}]
["2023",null,"КСБГСКнг(А)-FRLS 2х2х1,20","2х2х1,20","2х1,20","1,20","LS","2","2","1,20",null,null,"","",{"$f":"IF(SUM(L$8:L377)=0, \"\", \" + \")","v":""}]
["2025",null,"КСБГСКнг(А)-FRLS 2х2х1,50","2х2х1,50","2х1,50","1,50","LS","2","2","1,50",null,null,"","",{"$f":"IF(SUM(L$8:L378)=0, \"\", \" + \")","v":""}]
["2027",null,"КСБГСКнг(А)-FRLS 2х2х2,00","2х2х2,00","2х2,00","2,00","LS","2","2","2,00",null,null,"","",{"$f":"IF(SUM(L$8:L379)=0, \"\", \" + \")","v":""}]
["1704",null,"КСБГСКнг(А)-FRLS 3х2х0,78","3х2х0,78","2х0,78","0,78","LS","3","2","0,78",null,null,"","",{"$f":"IF(SUM(L$8:L380)=0, \"\", \" + \")","v":""}]
["1708",null,"КСБГСКнг(А)-FRLS 3х2х0,90","3х2х0,90","2х0,90","0,90","LS","3","2","0,90",null,null,"","",{"$f":"IF(SUM(L$8:L381)=0, \"\", \" + \")","v":""}]
["1712",null,"КСБГСКнг(А)-FRLS 3х2х1,10","3х2х1,10","2х1,10","1,10","LS","3","2","1,10",null,null,"","",{"$f":"IF(SUM(L$8:L382)=0, \"\", \" + \")","v":""}]
["1714",null,"КСБГСКнг(А)-FRLS 3х2х1,20","3х2х1,20","2х1,20","1,20","LS","3","2","1,20",null,null,"","",{"$f":"IF(SUM(L$8:L383)=0, \"\", \" + \")","v":""}]
["1716",null,"КСБГСКнг(А)-FRLS 3х2х1,50","3х2х1,50","2х1,50","1,50","LS","3","2","1,50",null,null,"","",{"$f":"IF(SUM(L$8:L384)=0, \"\", \" + \")","v":""}]
["1718",null,"КСБГСКнг(А)-FRLS 3х2х2,00","3х2х2,00","2х2,00","2,00","LS","3","2","2,00",null,null,"","",{"$f":"IF(SUM(L$8:L385)=0, \"\", \" + \")","v":""}]
["1705",null,"КСБГСКнг(А)-FRLS 4х2х0,78","4х2х0,78","2х0,78","0,78","LS","4","2","0,78",null,null,"","",{"$f":"IF(SUM(L$8:L386)=0, \"\", \" + \")","v":""}]
["1709",null,"КСБГСКнг(А)-FRLS 4х2х0,90","4х2х0,90","2х0,90","0,90","LS","4","2","0,90",null,null,"","",{"$f":"IF(SUM(L$8:L387)=0, \"\", \" + \")","v":""}]
["1713",null,"КСБГСКнг(А)-FRLS 4х2х1,10","4х2х1,10","2х1,10","1,10","LS","4","2","1,10",null,null,"","",{"$f":"IF(SUM(L$8:L388)=0, \"\", \" + \")","v":""}]
["1715",null,"КСБГСКнг(А)-FRLS 4х2х1,20","4х2х1,20","2х1,20","1,20","LS","4","2","1,20",null,null,"","",{"$f":"IF(SUM(L$8:L389)=0, \"\", \" + \")","v":""}]
["1717",null,"КСБГСКнг(А)-FRLS 4х2х1,50","4х2х1,50","2х1,50","1,50","LS","4","2","1,50",null,null,"","",{"$f":"IF(SUM(L$8:L390)=0, \"\", \" + \")","v":""}]
["1719",null,"КСБГСКнг(А)-FRLS 4х2х2,00","4х2х2,00","2х2,00","2,00","LS","4","2","2,00",null,null,"","",{"$f":"IF(SUM(L$8:L391)=0, \"\", \" + \")","v":""}]
["1706",null,"КСБГСКнг(А)-FRLS 5х2х0,78","5х2х0,78","2х0,78","0,78","LS","5","2","0,78",null,null,"","",{"$f":"IF(SUM(L$8:L392)=0, \"\", \" + \")","v":""}]
["1710",null,"КСБГСКнг(А)-FRLS 5х2х0,90",{"$f":"MID(C394, FIND(\" \",C394) +1, 100)","v":"5х2х0,90"},"2х0,90","0,90",{"$f":"MID(C394,FIND(\"FR\",C394)+2, 2)","v":"LS"},"5","2","0,90",null,null,{"$f":"IF(L394=0, \"\",CONCATENATE(O394, C394, \"-\",L394,\"м\"))","v":""},"",{"$f":"IF(SUM(L$8:L393)=0, \"\", \" + \")","v":""}]
["4989",null,"КСБГСКнг(А)-FRLS 5х2х1,10","5х2х1,10",{"$f":"MID($D395,IF(ISERR(FIND(\"х\",$D395)), FIND(\"x\",$D395)+1, FIND(\"х\",$D395))+1, 100)","v":"2х1,10"},{"$f":"MID($E395,IF(ISERR(FIND(\"х\",$E395)), FIND(\"x\",$E395)+1, FIND(\"х\",$E395))+1,10)","v":"1,10"},"LS",{"$f":"MID($D395,1, IF(ISERR(FIND(\"х\",$D395)), FIND(\"x\",$D395)-1, FIND(\"х\",$D395))-1)","v":"5"},{"$f":"MID($E395,1, IF(ISERR(FIND(\"х\",$E395)), FIND(\"x\",$E395)-1, FIND(\"х\",$E395))-1)","v":"2"},{"$f":"F395","v":"1,10"},null,null,"",{"$f":"CONCATENATE(N394,M395)","v":""},{"$f":"IF(SUM(L$8:L394)=0, \"\", \" + \")","v":""}]
["1707",null,"КСБГСКнг(А)-FRLS 6х2х0,78","6х2х0,78","2х0,78","0,78","LS","6","2","0,78",null,null,"","",{"$f":"IF(SUM(L$8:L395)=0, \"\", \" + \")","v":""}]
["1711",null,"КСБГСКнг(А)-FRLS 6х2х0,90","6х2х0,90","2х0,90","0,90","LS","6","2","0,90",null,null,"","",{"$f":"IF(SUM(L$8:L396)=0, \"\", \" + \")","v":""}]
["17422",null,"КСБГСКнг(А)-FRLS 7х2х1,10","7х2х1,10","2х1,10","1,10","LS","7","2","1,10",null,null,"","",{"$f":"IF(SUM(L$8:L397)=0, \"\", \" + \")","v":""}]
["3123",null,"КСБГСнг(А)-FRHF 10х2х0,78","10х2х0,78","2х0,78","0,78","HF","10","2","0,78",null,null,"","",{"$f":"IF(SUM(L$8:L398)=0, \"\", \" + \")","v":""}]
["5466",null,"КСБГСнг(А)-FRHF 10х2х0,90","10х2х0,90","2х0,90","0,90","HF","10","2","0,90",null,null,"","",{"$f":"IF(SUM(L$8:L399)=0, \"\", \" + \")","v":""}]
["17423",null,"КСБГСнг(А)-FRHF 10х2х1,10","10х2х1,10","2х1,10","1,10","HF","10","2","1,10",null,null,"","",{"$f":"IF(SUM(L$8:L400)=0, \"\", \" + \")","v":""}]
["1979",null,"КСБГСнг(А)-FRHF 1х2х0,78","1х2х0,78","2х0,78","0,78","HF","1","2","0,78",null,null,"","",{"$f":"IF(SUM(L$8:L401)=0, \"\", \" + \")","v":""}]
["1856",null,"КСБГСнг(А)-FRHF 1х2х0,90","1х2х0,90","2х0,90","0,90","HF","1","2","0,90",null,null,"","",{"$f":"IF(SUM(L$8:L402)=0, \"\", \" + \")","v":""}]
["1983",null,"КСБГСнг(А)-FRHF 1х2х1,10","1х2х1,10","2х1,10","1,10","HF","1","2","1,10",null,null,"","",{"$f":"IF(SUM(L$8:L403)=0, \"\", \" + \")","v":""}]
["1987",null,"КСБГСнг(А)-FRHF 1х2х1,20","1х2х1,20","2х1,20","1,20","HF","1","2","1,20",null,null,"","",{"$f":"IF(SUM(L$8:L404)=0, \"\", \" + \")","v":""}]
["1991",null,"КСБГСнг(А)-FRHF 1х2х1,50","1х2х1,50","2х1,50","1,50","HF","1","2","1,50",null,null,"","",{"$f":"IF(SUM(L$8:L405)=0, \"\", \" + \")","v":""}]
["1995",null,"КСБГСнг(А)-FRHF 1х2х2,00","1х2х2,00","2х2,00","2,00","HF","1","2","2,00",null,null,"","",{"$f":"IF(SUM(L$8:L406)=0, \"\", \" + \")","v":""}]
["1980",null,"КСБГСнг(А)-FRHF 2х2х0,78","2х2х0,78","2х0,78","0,78","HF","2","2","0,78",null,null,"","",{"$f":"IF(SUM(L$8:L407)=0, \"\", \" + \")","v":""}]
["1857",null,"КСБГСнг(А)-FRHF 2х2х0,90","2х2х0,90","2х0,90","0,90","HF","2","2","0,90",null,null,"","",{"$f":"IF(SUM(L$8:L408)=0, \"\", \" + \")","v":""}]
["1984",null,"КСБГСнг(А)-FRHF 2х2х1,10","2х2х1,10","2х1,10","1,10","HF","2","2","1,10",null,null,"","",{"$f":"IF(SUM(L$8:L409)=0, \"\", \" + \")","v":""}]
["1988",null,"КСБГСнг(А)-FRHF 2х2х1,20","2х2х1,20","2х1,20","1,20","HF","2","2","1,20",null,null,"","",{"$f":"IF(SUM(L$8:L410)=0, \"\", \" + \")","v":""}]
["1992",null,"КСБГСнг(А)-FRHF 2х2х1,50","2х2х1,50","2х1,50","1,50","HF","2","2","1,50",null,null,"","",{"$f":"IF(SUM(L$8:L411)=0, \"\", \" + \")","v":""}]
["1996",null,"КСБГСнг(А)-FRHF 2х2х2,00","2х2х2,00","2х2,00","2,00","HF","2","2","2,00",null,null,"","",{"$f":"IF(SUM(L$8:L412)=0, \"\", \" + \")","v":""}]
["1981",null,"КСБГСнг(А)-FRHF 3х2х0,78","3х2х0,78","2х0,78","0,78","HF","3","2","0,78",null,null,"","",{"$f":"IF(SUM(L$8:L413)=0, \"\", \" + \")","v":""}]
["1858",null,"КСБГСнг(А)-FRHF 3х2х0,90","3х2х0,90","2х0,90","0,90","HF","3","2","0,90",null,null,"","",{"$f":"IF(SUM(L$8:L414)=0, \"\", \" + \")","v":""}]
["1985",null,"КСБГСнг(А)-FRHF 3х2х1,10","3х2х1,10","2х1,10","1,10","HF","3","2","1,10",null,null,"","",{"$f":"IF(SUM(L$8:L415)=0, \"\", \" + \")","v":""}]
["1989",null,"КСБГСнг(А)-FRHF 3х2х1,20","3х2х1,20","2х1,20","1,20","HF","3","2","1,20",null,null,"","",{"$f":"IF(SUM(L$8:L416)=0, \"\", \" + \")","v":""}]
["1993",null,"КСБГСнг(А)-FRHF 3х2х1,50","3х2х1,50","2х1,50","1,50","HF","3","2","1,50",null,null,"","",{"$f":"IF(SUM(L$8:L417)=0, \"\", \" + \")","v":""}]
["1997",null,"КСБГСнг(А)-FRHF 3х2х2,00","3х2х2,00","2х2,00","2,00","HF","3","2","2,00",null,null,"","",{"$f":"IF(SUM(L$8:L418)=0, \"\", \" + \")","v":""}]
["1982",null,"КСБГСнг(А)-FRHF 4х2х0,78","4х2х0,78","2х0,78","0,78","HF","4","2","0,78",null,null,"","",{"$f":"IF(SUM(L$8:L419)=0, \"\", \" + \")","v":""}]
["1859",null,"КСБГСнг(А)-FRHF 4х2х0,90","4х2х0,90","2х0,90","0,90","HF","4","2","0,90",null,null,"","",{"$f":"IF(SUM(L$8:L420)=0, \"\", \" + \")","v":""}]
["1986",null,"КСБГСнг(А)-FRHF 4х2х1,10","4х2х1,10","2х1,10","1,10","HF","4","2","1,10",null,null,"","",{"$f":"IF(SUM(L$8:L421)=0, \"\", \" + \")","v":""}]
["1990",null,"КСБГСнг(А)-FRHF 4х2х1,20","4х2х1,20","2х1,20","1,20","HF","4","2","1,20",null,null,"","",{"$f":"IF(SUM(L$8:L422)=0, \"\", \" + \")","v":""}]
["1994",null,"КСБГСнг(А)-FRHF 4х2х1,50","4х2х1,50","2х1,50","1,50","HF","4","2","1,50",null,null,"","",{"$f":"IF(SUM(L$8:L423)=0, \"\", \" + \")","v":""}]
["1998",null,"КСБГСнг(А)-FRHF 4х2х2,00","4х2х2,00","2х2,00","2,00","HF","4","2","2,00",null,null,"","",{"$f":"IF(SUM(L$8:L424)=0, \"\", \" + \")","v":""}]
["18673",null,"КСБГСнг(А)-FRHF 5х2х1,20","5х2х1,20","2х1,20","1,20","HF","5","2","1,20",null,null,"","",{"$f":"IF(SUM(L$8:L425)=0, \"\", \" + \")","v":""}]
["5084",null,"КСБГСнг(А)-FRLS 10х2х0,78","10х2х0,78","2х0,78","0,78","LS","10","2","0,78",null,null,"","",{"$f":"IF(SUM(L$8:L426)=0, \"\", \" + \")","v":""}]
["20091",null,"КСБГСнг(А)-FRLS 10х2х0,90 ","10х2х0,90 ","2х0,90 ","0,90 ","LS","10","2","0,90 ",null,null,"","",{"$f":"IF(SUM(L$8:L427)=0, \"\", \" + \")","v":""}]
["1959",null,"КСБГСнг(А)-FRLS 1х2х0,78","1х2х0,78","2х0,78","0,78","LS","1","2","0,78",null,null,"","",{"$f":"IF(SUM(L$8:L428)=0, \"\", \" + \")","v":""}]
["1853",null,"КСБГСнг(А)-FRLS 1х2х0,90","1х2х0,90","2х0,90","0,90","LS","1","2","0,90",null,null,"","",{"$f":"IF(SUM(L$8:L429)=0, \"\", \" + \")","v":""}]
["1963",null,"КСБГСнг(А)-FRLS 1х2х1,10","1х2х1,10","2х1,10","1,10","LS","1","2","1,10",null,null,"","",{"$f":"IF(SUM(L$8:L430)=0, \"\", \" + \")","v":""}]
["1967",null,"КСБГСнг(А)-FRLS 1х2х1,20","1х2х1,20","2х1,20","1,20","LS","1","2","1,20",null,null,"","",{"$f":"IF(SUM(L$8:L431)=0, \"\", \" + \")","v":""}]
["1971",null,"КСБГСнг(А)-FRLS 1х2х1,50","1х2х1,50","2х1,50","1,50","LS","1","2","1,50",null,null,"","",{"$f":"IF(SUM(L$8:L432)=0, \"\", \" + \")","v":""}]
["1975",null,"КСБГСнг(А)-FRLS 1х2х2,00","1х2х2,00","2х2,00","2,00","LS","1","2","2,00",null,null,"","",{"$f":"IF(SUM(L$8:L433)=0, \"\", \" + \")","v":""}]
["1960",null,"КСБГСнг(А)-FRLS 2х2х0,78","2х2х0,78","2х0,78","0,78","LS","2","2","0,78",null,null,"","",{"$f":"IF(SUM(L$8:L434)=0, \"\", \" + \")","v":""}]
["1852",null,"КСБГСнг(А)-FRLS 2х2х0,90","2х2х0,90","2х0,90","0,90","LS","2","2","0,90",null,null,"","",{"$f":"IF(SUM(L$8:L435)=0, \"\", \" + \")","v":""}]
["1964",null,"КСБГСнг(А)-FRLS 2х2х1,10","2х2х1,10","2х1,10","1,10","LS","2","2","1,10",null,null,"","",{"$f":"IF(SUM(L$8:L436)=0, \"\", \" + \")","v":""}]
["1968",null,"КСБГСнг(А)-FRLS 2х2х1,20","2х2х1,20","2х1,20","1,20","LS","2","2","1,20",null,null,"","",{"$f":"IF(SUM(L$8:L437)=0, \"\", \" + \")","v":""}]
["1972",null,"КСБГСнг(А)-FRLS 2х2х1,50","2х2х1,50","2х1,50","1,50","LS","2","2","1,50",null,null,"","",{"$f":"IF(SUM(L$8:L438)=0, \"\", \" + \")","v":""}]
["1976",null,"КСБГСнг(А)-FRLS 2х2х2,00","2х2х2,00","2х2,00","2,00","LS","2","2","2,00",null,null,"","",{"$f":"IF(SUM(L$8:L439)=0, \"\", \" + \")","v":""}]
["1961",null,"КСБГСнг(А)-FRLS 3х2х0,78","3х2х0,78","2х0,78","0,78","LS","3","2","0,78",null,null,"","",{"$f":"IF(SUM(L$8:L440)=0, \"\", \" + \")","v":""}]
["1854",null,"КСБГСнг(А)-FRLS 3х2х0,90","3х2х0,90","2х0,90","0,90","LS","3","2","0,90",null,null,"","",{"$f":"IF(SUM(L$8:L441)=0, \"\", \" + \")","v":""}]
["1965",null,"КСБГСнг(А)-FRLS 3х2х1,10","3х2х1,10","2х1,10","1,10","LS","3","2","1,10",null,null,"","",{"$f":"IF(SUM(L$8:L442)=0, \"\", \" + \")","v":""}]
["1969",null,"КСБГСнг(А)-FRLS 3х2х1,20","3х2х1,20","2х1,20","1,20","LS","3","2","1,20",null,null,"","",{"$f":"IF(SUM(L$8:L443)=0, \"\", \" + \")","v":""}]
["1973",null,"КСБГСнг(А)-FRLS 3х2х1,50","3х2х1,50","2х1,50","1,50","LS","3","2","1,50",null,null,"","",{"$f":"IF(SUM(L$8:L444)=0, \"\", \" + \")","v":""}]
["1977",null,"КСБГСнг(А)-FRLS 3х2х2,00","3х2х2,00","2х2,00","2,00","LS","3","2","2,00",null,null,"","",{"$f":"IF(SUM(L$8:L445)=0, \"\", \" + \")","v":""}]
["1962",null,"КСБГСнг(А)-FRLS 4х2х0,78","4х2х0,78","2х0,78","0,78","LS","4","2","0,78",null,null,"","",{"$f":"IF(SUM(L$8:L446)=0, \"\", \" + \")","v":""}]
["1855",null,"КСБГСнг(А)-FRLS 4х2х0,90","4х2х0,90","2х0,90","0,90","LS","4","2","0,90",null,null,"","",{"$f":"IF(SUM(L$8:L447)=0, \"\", \" + \")","v":""}]
["1966",null,"КСБГСнг(А)-FRLS 4х2х1,10","4х2х1,10","2х1,10","1,10","LS","4","2","1,10",null,null,"","",{"$f":"IF(SUM(L$8:L448)=0, \"\", \" + \")","v":""}]
["1970",null,"КСБГСнг(А)-FRLS 4х2х1,20","4х2х1,20","2х1,20","1,20","LS","4","2","1,20",null,null,"","",{"$f":"IF(SUM(L$8:L449)=0, \"\", \" + \")","v":""}]
["1974",null,"КСБГСнг(А)-FRLS 4х2х1,50","4х2х1,50","2х1,50","1,50","LS","4","2","1,50",null,null,"","",{"$f":"IF(SUM(L$8:L450)=0, \"\", \" + \")","v":""}]
["1978",null,"КСБГСнг(А)-FRLS 4х2х2,00","4х2х2,00","2х2,00","2,00","LS","4","2","2,00",null,null,"","",{"$f":"IF(SUM(L$8:L451)=0, \"\", \" + \")","v":""}]
["17948",null,"КСБГСнг(А)-FRLS 5х2х1,20","5х2х1,20","2х1,20","1,20","LS","5","2","1,20",null,null,"","",{"$f":"IF(SUM(L$8:L452)=0, \"\", \" + \")","v":""}]
["20090",null,"КСБГСнг(А)-FRLS 8х2х0,90 ","8х2х0,90 ","2х0,90 ","0,90 ","LS","8","2","0,90 ",null,null,"","",{"$f":"IF(SUM(L$8:L453)=0, \"\", \" + \")","v":""}]
["20807",null,"КСБКГнг(А)-FRHF 10х2х1,13 ","10х2х1,13 ","2х1,13 ","1,13 ","HF","10","2","1,13 ",null,null,"","",{"$f":"IF(SUM(L$8:L454)=0, \"\", \" + \")","v":""}]
["20298",null,"КСБКГнг(А)-FRHF 12х2х0,8 ","12х2х0,8 ","2х0,8 ","0,8 ","HF","12","2","0,8 ",null,null,"","",{"$f":"IF(SUM(L$8:L455)=0, \"\", \" + \")","v":""}]
["18820",null,"КСБКГнг(А)-FRHF 16х2х0,64","16х2х0,64","2х0,64","0,64","HF","16","2","0,64",null,null,"","",{"$f":"IF(SUM(L$8:L456)=0, \"\", \" + \")","v":""}]
["20557",null,"КСБКГнг(А)-FRHF 16х2х0,8 ",{"$f":"MID(C458, FIND(\" \",C458) +1, 100)","v":"16х2х0,8 "},"2х0,8 ","0,8 ",{"$f":"MID(C458,FIND(\"FR\",C458)+2, 2)","v":"HF"},"16","2","0,8 ",null,null,{"$f":"IF(L458=0, \"\",CONCATENATE(O458, C458, \"-\",L458,\"м\"))","v":""},"",{"$f":"IF(SUM(L$8:L457)=0, \"\", \" + \")","v":""}]
["4567",null,"КСБКГнг(А)-FRHF 1х2х0,64","1х2х0,64",{"$f":"MID($D459,IF(ISERR(FIND(\"х\",$D459)), FIND(\"x\",$D459)+1, FIND(\"х\",$D459))+1, 100)","v":"2х0,64"},{"$f":"MID($E459,IF(ISERR(FIND(\"х\",$E459)), FIND(\"x\",$E459)+1, FIND(\"х\",$E459))+1,10)","v":"0,64"},"HF",{"$f":"MID($D459,1, IF(ISERR(FIND(\"х\",$D459)), FIND(\"x\",$D459)-1, FIND(\"х\",$D459))-1)","v":"1"},{"$f":"MID($E459,1, IF(ISERR(FIND(\"х\",$E459)), FIND(\"x\",$E459)-1, FIND(\"х\",$E459))-1)","v":"2"},{"$f":"F459","v":"0,64"},null,null,"",{"$f":"CONCATENATE(N458,M459)","v":""},{"$f":"IF(SUM(L$8:L458)=0, \"\", \" + \")","v":""}]
["4570",null,"КСБКГнг(А)-FRHF 1х2х0,80","1х2х0,80","2х0,80","0,80","HF","1","2","0,80",null,null,"","",{"$f":"IF(SUM(L$8:L459)=0, \"\", \" + \")","v":""}]
["4573",null,"КСБКГнг(А)-FRHF 1х2х0,98","1х2х0,98","2х0,98","0,98","HF","1","2","0,98",null,null,"","",{"$f":"IF(SUM(L$8:L460)=0, \"\", \" + \")","v":""}]
["4576",null,"КСБКГнг(А)-FRHF 1х2х1,13","1х2х1,13","2х1,13","1,13","HF","1","2","1,13",null,null,"","",{"$f":"IF(SUM(L$8:L461)=0, \"\", \" + \")","v":""}]
["4579",null,"КСБКГнг(А)-FRHF 1х2х1,38","1х2х1,38","2х1,38","1,38","HF","1","2","1,38",null,null,"","",{"$f":"IF(SUM(L$8:L462)=0, \"\", \" + \")","v":""}]
["4582",null,"КСБКГнг(А)-FRHF 1х2х1,78","1х2х1,78","2х1,78","1,78","HF","1","2","1,78",null,null,"","",{"$f":"IF(SUM(L$8:L463)=0, \"\", \" + \")","v":""}]
["18819",null,"КСБКГнг(А)-FRHF 20х2х0,64","20х2х0,64","2х0,64","0,64","HF","20","2","0,64",null,null,"","",{"$f":"IF(SUM(L$8:L464)=0, \"\", \" + \")","v":""}]
["17759",null,"КСБКГнг(А)-FRHF 20х2х0,8","20х2х0,8","2х0,8","0,8","HF","20","2","0,8",null,null,"","",{"$f":"IF(SUM(L$8:L465)=0, \"\", \" + \")","v":""}]
["4568",null,"КСБКГнг(А)-FRHF 2х2х0,64","2х2х0,64","2х0,64","0,64","HF","2","2","0,64",null,null,"","",{"$f":"IF(SUM(L$8:L466)=0, \"\", \" + \")","v":""}]
["4571",null,"КСБКГнг(А)-FRHF 2х2х0,80","2х2х0,80","2х0,80","0,80","HF","2","2","0,80",null,null,"","",{"$f":"IF(SUM(L$8:L467)=0, \"\", \" + \")","v":""}]
["4574",null,"КСБКГнг(А)-FRHF 2х2х0,98","2х2х0,98","2х0,98","0,98","HF","2","2","0,98",null,null,"","",{"$f":"IF(SUM(L$8:L468)=0, \"\", \" + \")","v":""}]
["4577",null,"КСБКГнг(А)-FRHF 2х2х1,13","2х2х1,13","2х1,13","1,13","HF","2","2","1,13",null,null,"","",{"$f":"IF(SUM(L$8:L469)=0, \"\", \" + \")","v":""}]
["4580",null,"КСБКГнг(А)-FRHF 2х2х1,38","2х2х1,38","2х1,38","1,38","HF","2","2","1,38",null,null,"","",{"$f":"IF(SUM(L$8:L470)=0, \"\", \" + \")","v":""}]
["4583",null,"КСБКГнг(А)-FRHF 2х2х1,78","2х2х1,78","2х1,78","1,78","HF","2","2","1,78",null,null,"","",{"$f":"IF(SUM(L$8:L471)=0, \"\", \" + \")","v":""}]
["18821",null,"КСБКГнг(А)-FRHF 32х2х0,64","32х2х0,64","2х0,64","0,64","HF","32","2","0,64",null,null,"","",{"$f":"IF(SUM(L$8:L472)=0, \"\", \" + \")","v":""}]
["19886",null,"КСБКГнг(А)-FRHF 32х2х0,8 ","32х2х0,8 ","2х0,8 ","0,8 ","HF","32","2","0,8 ",null,null,"","",{"$f":"IF(SUM(L$8:L473)=0, \"\", \" + \")","v":""}]
["16488",null,"КСБКГнг(А)-FRHF 3х2х0,64","3х2х0,64","2х0,64","0,64","HF","3","2","0,64",null,null,"","",{"$f":"IF(SUM(L$8:L474)=0, \"\", \" + \")","v":""}]
["16807",null,"КСБКГнг(А)-FRHF 3х2х0,80","3х2х0,80","2х0,80","0,80","HF","3","2","0,80",null,null,"","",{"$f":"IF(SUM(L$8:L475)=0, \"\", \" + \")","v":""}]
["16808",null,"КСБКГнг(А)-FRHF 3х2х0,98","3х2х0,98","2х0,98","0,98","HF","3","2","0,98",null,null,"","",{"$f":"IF(SUM(L$8:L476)=0, \"\", \" + \")","v":""}]
["18560",null,"КСБКГнг(А)-FRHF 3х2х1,13","3х2х1,13","2х1,13","1,13","HF","3","2","1,13",null,null,"","",{"$f":"IF(SUM(L$8:L477)=0, \"\", \" + \")","v":""}]
["4569",null,"КСБКГнг(А)-FRHF 4х2х0,64","4х2х0,64","2х0,64","0,64","HF","4","2","0,64",null,null,"","",{"$f":"IF(SUM(L$8:L478)=0, \"\", \" + \")","v":""}]
["4572",null,"КСБКГнг(А)-FRHF 4х2х0,80","4х2х0,80","2х0,80","0,80","HF","4","2","0,80",null,null,"","",{"$f":"IF(SUM(L$8:L479)=0, \"\", \" + \")","v":""}]
["4575",null,"КСБКГнг(А)-FRHF 4х2х0,98","4х2х0,98","2х0,98","0,98","HF","4","2","0,98",null,null,"","",{"$f":"IF(SUM(L$8:L480)=0, \"\", \" + \")","v":""}]
["4578",null,"КСБКГнг(А)-FRHF 4х2х1,13","4х2х1,13","2х1,13","1,13","HF","4","2","1,13",null,null,"","",{"$f":"IF(SUM(L$8:L481)=0, \"\", \" + \")","v":""}]
["4581",null,"КСБКГнг(А)-FRHF 4х2х1,38","4х2х1,38","2х1,38","1,38","HF","4","2","1,38",null,null,"","",{"$f":"IF(SUM(L$8:L482)=0, \"\", \" + \")","v":""}]
["4584",null,"КСБКГнг(А)-FRHF 4х2х1,78","4х2х1,78","2х1,78","1,78","HF","4","2","1,78",null,null,"","",{"$f":"IF(SUM(L$8:L483)=0, \"\", \" + \")","v":""}]
["17431",null,"КСБКГнг(А)-FRHF 5х2х0,64","5х2х0,64","2х0,64","0,64","HF","5","2","0,64",null,null,"","",{"$f":"IF(SUM(L$8:L484)=0, \"\", \" + \")","v":""}]
["16414",null,"КСБКГнг(А)-FRHF 5х2х0,98","5х2х0,98","2х0,98","0,98","HF","5","2","0,98",null,null,"","",{"$f":"IF(SUM(L$8:L485)=0, \"\", \" + \")","v":""}]
["17983",null,"КСБКГнг(А)-FRHF 6х2х0,64","6х2х0,64","2х0,64","0,64","HF","6","2","0,64",null,null,"","",{"$f":"IF(SUM(L$8:L486)=0, \"\", \" + \")","v":""}]
["18321",null,"КСБКГнг(А)-FRHF 7х2х1,13","7х2х1,13","2х1,13","1,13","HF","7","2","1,13",null,null,"","",{"$f":"IF(SUM(L$8:L487)=0, \"\", \" + \")","v":""}]
["16407",null,"КСБКГнг(А)-FRHF 8х2х0,64","8х2х0,64","2х0,64","0,64","HF","8","2","0,64",null,null,"","",{"$f":"IF(SUM(L$8:L488)=0, \"\", \" + \")","v":""}]
["5524",null,"КСБКГнг(А)-FRHF 8х2х0,98","8х2х0,98","2х0,98","0,98","HF","8","2","0,98",null,null,"","",{"$f":"IF(SUM(L$8:L489)=0, \"\", \" + \")","v":""}]
["16340",null,"КСБКГнг(А)-FRHF 8х2х1,13","8х2х1,13","2х1,13","1,13","HF","8","2","1,13",null,null,"","",{"$f":"IF(SUM(L$8:L490)=0, \"\", \" + \")","v":""}]
["19277",null,"КСБКГнг(А)-FRLS 10х2х0,64 ","10х2х0,64 ","2х0,64 ","0,64 ","LS","10","2","0,64 ",null,null,"","",{"$f":"IF(SUM(L$8:L491)=0, \"\", \" + \")","v":""}]
["12342",null,"КСБКГнг(А)-FRLS 10х2х1,13","10х2х1,13","2х1,13","1,13","LS","10","2","1,13",null,null,"","",{"$f":"IF(SUM(L$8:L492)=0, \"\", \" + \")","v":""}]
["17432",null,"КСБКГнг(А)-FRLS 12х2х1,13","12х2х1,13","2х1,13","1,13","LS","12","2","1,13",null,null,"","",{"$f":"IF(SUM(L$8:L493)=0, \"\", \" + \")","v":""}]
["18633",null,"КСБКГнг(А)-FRLS 16х2х1,13","16х2х1,13","2х1,13","1,13","LS","16","2","1,13",null,null,"","",{"$f":"IF(SUM(L$8:L494)=0, \"\", \" + \")","v":""}]
["4549",null,"КСБКГнг(А)-FRLS 1х2х0,64","1х2х0,64","2х0,64","0,64","LS","1","2","0,64",null,null,"","",{"$f":"IF(SUM(L$8:L495)=0, \"\", \" + \")","v":""}]
["4552",null,"КСБКГнг(А)-FRLS 1х2х0,80","1х2х0,80","2х0,80","0,80","LS","1","2","0,80",null,null,"","",{"$f":"IF(SUM(L$8:L496)=0, \"\", \" + \")","v":""}]
["4555",null,"КСБКГнг(А)-FRLS 1х2х0,98","1х2х0,98","2х0,98","0,98","LS","1","2","0,98",null,null,"","",{"$f":"IF(SUM(L$8:L497)=0, \"\", \" + \")","v":""}]
["4558",null,"КСБКГнг(А)-FRLS 1х2х1,13","1х2х1,13","2х1,13","1,13","LS","1","2","1,13",null,null,"","",{"$f":"IF(SUM(L$8:L498)=0, \"\", \" + \")","v":""}]
["4561",null,"КСБКГнг(А)-FRLS 1х2х1,38","1х2х1,38","2х1,38","1,38","LS","1","2","1,38",null,null,"","",{"$f":"IF(SUM(L$8:L499)=0, \"\", \" + \")","v":""}]
["4564",null,"КСБКГнг(А)-FRLS 1х2х1,78","1х2х1,78","2х1,78","1,78","LS","1","2","1,78",null,null,"","",{"$f":"IF(SUM(L$8:L500)=0, \"\", \" + \")","v":""}]
["19974",null,"КСБКГнг(А)-FRLS 20х2х0,64 ","20х2х0,64 ","2х0,64 ","0,64 ","LS","20","2","0,64 ",null,null,"","",{"$f":"IF(SUM(L$8:L501)=0, \"\", \" + \")","v":""}]
["18330",null,"КСБКГнг(А)-FRLS 20х2х0,98","20х2х0,98","2х0,98","0,98","LS","20","2","0,98",null,null,"","",{"$f":"IF(SUM(L$8:L502)=0, \"\", \" + \")","v":""}]
["4550",null,"КСБКГнг(А)-FRLS 2х2х0,64","2х2х0,64","2х0,64","0,64","LS","2","2","0,64",null,null,"","",{"$f":"IF(SUM(L$8:L503)=0, \"\", \" + \")","v":""}]
["4553",null,"КСБКГнг(А)-FRLS 2х2х0,80","2х2х0,80","2х0,80","0,80","LS","2","2","0,80",null,null,"","",{"$f":"IF(SUM(L$8:L504)=0, \"\", \" + \")","v":""}]
["4556",null,"КСБКГнг(А)-FRLS 2х2х0,98","2х2х0,98","2х0,98","0,98","LS","2","2","0,98",null,null,"","",{"$f":"IF(SUM(L$8:L505)=0, \"\", \" + \")","v":""}]
["4559",null,"КСБКГнг(А)-FRLS 2х2х1,13","2х2х1,13","2х1,13","1,13","LS","2","2","1,13",null,null,"","",{"$f":"IF(SUM(L$8:L506)=0, \"\", \" + \")","v":""}]
["4562",null,"КСБКГнг(А)-FRLS 2х2х1,38","2х2х1,38","2х1,38","1,38","LS","2","2","1,38",null,null,"","",{"$f":"IF(SUM(L$8:L507)=0, \"\", \" + \")","v":""}]
["4565",null,"КСБКГнг(А)-FRLS 2х2х1,78","2х2х1,78","2х1,78","1,78","LS","2","2","1,78",null,null,"","",{"$f":"IF(SUM(L$8:L508)=0, \"\", \" + \")","v":""}]
["22169",null,"КСБКГнг(А)-FRLS 32х2х0,80 ","32х2х0,80 ","2х0,80 ","0,80 ","LS","32","2","0,80 ",null,null,"","",{"$f":"IF(SUM(L$8:L509)=0, \"\", \" + \")","v":""}]
["16767",null,"КСБКГнг(А)-FRLS 3х2х0,64","3х2х0,64","2х0,64","0,64","LS","3","2","0,64",null,null,"","",{"$f":"IF(SUM(L$8:L510)=0, \"\", \" + \")","v":""}]
["20649",null,"КСБКГнг(А)-FRLS 3х2х0,98 ","3х2х0,98 ","2х0,98 ","0,98 ","LS","3","2","0,98 ",null,null,"","",{"$f":"IF(SUM(L$8:L511)=0, \"\", \" + \")","v":""}]
["16050",null,"КСБКГнг(А)-FRLS 3х2х1,13","3х2х1,13","2х1,13","1,13","LS","3","2","1,13",null,null,"","",{"$f":"IF(SUM(L$8:L512)=0, \"\", \" + \")","v":""}]
["18638",null,"КСБКГнг(А)-FRLS 3х2х1,38","3х2х1,38","2х1,38","1,38","LS","3","2","1,38",null,null,"","",{"$f":"IF(SUM(L$8:L513)=0, \"\", \" + \")","v":""}]
["18333",null,"КСБКГнг(А)-FRLS 3х2х1,78","3х2х1,78","2х1,78","1,78","LS","3","2","1,78",null,null,"","",{"$f":"IF(SUM(L$8:L514)=0, \"\", \" + \")","v":""}]
["4551",null,"КСБКГнг(А)-FRLS 4х2х0,64","4х2х0,64","2х0,64","0,64","LS","4","2","0,64",null,null,"","",{"$f":"IF(SUM(L$8:L515)=0, \"\", \" + \")","v":""}]
["4554",null,"КСБКГнг(А)-FRLS 4х2х0,80","4х2х0,80","2х0,80","0,80","LS","4","2","0,80",null,null,"","",{"$f":"IF(SUM(L$8:L516)=0, \"\", \" + \")","v":""}]
["4557",null,"КСБКГнг(А)-FRLS 4х2х0,98","4х2х0,98","2х0,98","0,98","LS","4","2","0,98",null,null,"","",{"$f":"IF(SUM(L$8:L517)=0, \"\", \" + \")","v":""}]
["4560",null,"КСБКГнг(А)-FRLS 4х2х1,13","4х2х1,13","2х1,13","1,13","LS","4","2","1,13",null,null,"","",{"$f":"IF(SUM(L$8:L518)=0, \"\", \" + \")","v":""}]
["4563",null,"КСБКГнг(А)-FRLS 4х2х1,38","4х2х1,38","2х1,38","1,38","LS","4","2","1,38",null,null,"","",{"$f":"IF(SUM(L$8:L519)=0, \"\", \" + \")","v":""}]
["4566",null,"КСБКГнг(А)-FRLS 4х2х1,78","4х2х1,78","2х1,78","1,78","LS","4","2","1,78",null,null,"","",{"$f":"IF(SUM(L$8:L520)=0, \"\", \" + \")","v":""}]
["19909",null,"КСБКГнг(А)-FRLS 6х2х0,64 ",{"$f":"MID(C522, FIND(\" \",C522) +1, 100)","v":"6х2х0,64 "},"2х0,64 ","0,64 ",{"$f":"MID(C522,FIND(\"FR\",C522)+2, 2)","v":"LS"},"6","2","0,64 ",null,null,{"$f":"IF(L522=0, \"\",CONCATENATE(O522, C522, \"-\",L522,\"м\"))","v":""},"",{"$f":"IF(SUM(L$8:L521)=0, \"\", \" + \")","v":""}]
["18635",null,"КСБКГнг(А)-FRLS 6х2х1,13","6х2х1,13",{"$f":"MID($D523,IF(ISERR(FIND(\"х\",$D523)), FIND(\"x\",$D523)+1, FIND(\"х\",$D523))+1, 100)","v":"2х1,13"},{"$f":"MID($E523,IF(ISERR(FIND(\"х\",$E523)), FIND(\"x\",$E523)+1, FIND(\"х\",$E523))+1,10)","v":"1,13"},"LS",{"$f":"MID($D523,1, IF(ISERR(FIND(\"х\",$D523)), FIND(\"x\",$D523)-1, FIND(\"х\",$D523))-1)","v":"6"},{"$f":"MID($E523,1, IF(ISERR(FIND(\"х\",$E523)), FIND(\"x\",$E523)-1, FIND(\"х\",$E523))-1)","v":"2"},{"$f":"F523","v":"1,13"},null,null,"",{"$f":"CONCATENATE(N522,M523)","v":""},{"$f":"IF(SUM(L$8:L522)=0, \"\", \" + \")","v":""}]
["19910",null,"КСБКГнг(А)-FRLS 7х2х0,64 ","7х2х0,64 ","2х0,64 ","0,64 ","LS","7","2","0,64 ",null,null,"","",{"$f":"IF(SUM(L$8:L523)=0, \"\", \" + \")","v":""}]
["18322",null,"КСБКГнг(А)-FRLS 7х2х1,13","7х2х1,13","2х1,13","1,13","LS","7","2","1,13",null,null,"","",{"$f":"IF(SUM(L$8:L524)=0, \"\", \" + \")","v":""}]
["19911",null,"КСБКГнг(А)-FRLS 8х2х0,64 ","8х2х0,64 ","2х0,64 ","0,64 ","LS","8","2","0,64 ",null,null,"","",{"$f":"IF(SUM(L$8:L525)=0, \"\", \" + \")","v":""}]
["18433",null,"КСБКГнг(А)-FRLS 8х2х1,13","8х2х1,13","2х1,13","1,13","LS","8","2","1,13",null,null,"","",{"$f":"IF(SUM(L$8:L526)=0, \"\", \" + \")","v":""}]
["3173",null,"КСБКнг(А)-FRHF 10х2х0,64","10х2х0,64","2х0,64","0,64","HF","10","2","0,64",null,null,"","",{"$f":"IF(SUM(L$8:L527)=0, \"\", \" + \")","v":""}]
["17818",null,"КСБКнг(А)-FRHF 10х2х0,80","10х2х0,80","2х0,80","0,80","HF","10","2","0,80",null,null,"","",{"$f":"IF(SUM(L$8:L528)=0, \"\", \" + \")","v":""}]
["3011",null,"КСБКнг(А)-FRHF 10х2х0,98","10х2х0,98","2х0,98","0,98","HF","10","2","0,98",null,null,"","",{"$f":"IF(SUM(L$8:L529)=0, \"\", \" + \")","v":""}]
["3176",null,"КСБКнг(А)-FRHF 10х2х1,13","10х2х1,13","2х1,13","1,13","HF","10","2","1,13",null,null,"","",{"$f":"IF(SUM(L$8:L530)=0, \"\", \" + \")","v":""}]
["2096",null,"КСБКнг(А)-FRHF 12х2х0,64","12х2х0,64","2х0,64","0,64","HF","12","2","0,64",null,null,"","",{"$f":"IF(SUM(L$8:L531)=0, \"\", \" + \")","v":""}]
["1746",null,"КСБКнг(А)-FRHF 12х2х0,80","12х2х0,80","2х0,80","0,80","HF","12","2","0,80",null,null,"","",{"$f":"IF(SUM(L$8:L532)=0, \"\", \" + \")","v":""}]
["2100",null,"КСБКнг(А)-FRHF 12х2х0,98","12х2х0,98","2х0,98","0,98","HF","12","2","0,98",null,null,"","",{"$f":"IF(SUM(L$8:L533)=0, \"\", \" + \")","v":""}]
["2104",null,"КСБКнг(А)-FRHF 12х2х1,13","12х2х1,13","2х1,13","1,13","HF","12","2","1,13",null,null,"","",{"$f":"IF(SUM(L$8:L534)=0, \"\", \" + \")","v":""}]
["17784",null,"КСБКнг(А)-FRHF 12х2х1,38","12х2х1,38","2х1,38","1,38","HF","12","2","1,38",null,null,"","",{"$f":"IF(SUM(L$8:L535)=0, \"\", \" + \")","v":""}]
["3147",null,"КСБКнг(А)-FRHF 14х2х0,64","14х2х0,64","2х0,64","0,64","HF","14","2","0,64",null,null,"","",{"$f":"IF(SUM(L$8:L536)=0, \"\", \" + \")","v":""}]
["18606",null,"КСБКнг(А)-FRHF 14х2х0,98","14х2х0,98","2х0,98","0,98","HF","14","2","0,98",null,null,"","",{"$f":"IF(SUM(L$8:L537)=0, \"\", \" + \")","v":""}]
["5118",null,"КСБКнг(А)-FRHF 14х2х1,13","14х2х1,13","2х1,13","1,13","HF","14","2","1,13",null,null,"","",{"$f":"IF(SUM(L$8:L538)=0, \"\", \" + \")","v":""}]
["2097",null,"КСБКнг(А)-FRHF 16х2х0,64","16х2х0,64","2х0,64","0,64","HF","16","2","0,64",null,null,"","",{"$f":"IF(SUM(L$8:L539)=0, \"\", \" + \")","v":""}]
["1747",null,"КСБКнг(А)-FRHF 16х2х0,80","16х2х0,80","2х0,80","0,80","HF","16","2","0,80",null,null,"","",{"$f":"IF(SUM(L$8:L540)=0, \"\", \" + \")","v":""}]
["2101",null,"КСБКнг(А)-FRHF 16х2х0,98","16х2х0,98","2х0,98","0,98","HF","16","2","0,98",null,null,"","",{"$f":"IF(SUM(L$8:L541)=0, \"\", \" + \")","v":""}]
["2105",null,"КСБКнг(А)-FRHF 16х2х1,13","16х2х1,13","2х1,13","1,13","HF","16","2","1,13",null,null,"","",{"$f":"IF(SUM(L$8:L542)=0, \"\", \" + \")","v":""}]
["1812",null,"КСБКнг(А)-FRHF 1х2х0,64","1х2х0,64","2х0,64","0,64","HF","1","2","0,64",null,null,"","",{"$f":"IF(SUM(L$8:L543)=0, \"\", \" + \")","v":""}]
["1742",null,"КСБКнг(А)-FRHF 1х2х0,80","1х2х0,80","2х0,80","0,80","HF","1","2","0,80",null,null,"","",{"$f":"IF(SUM(L$8:L544)=0, \"\", \" + \")","v":""}]
["1748",null,"КСБКнг(А)-FRHF 1х2х0,98","1х2х0,98","2х0,98","0,98","HF","1","2","0,98",null,null,"","",{"$f":"IF(SUM(L$8:L545)=0, \"\", \" + \")","v":""}]
["1760",null,"КСБКнг(А)-FRHF 1х2х1,13","1х2х1,13","2х1,13","1,13","HF","1","2","1,13",null,null,"","",{"$f":"IF(SUM(L$8:L546)=0, \"\", \" + \")","v":""}]
["1779",null,"КСБКнг(А)-FRHF 1х2х1,38","1х2х1,38","2х1,38","1,38","HF","1","2","1,38",null,null,"","",{"$f":"IF(SUM(L$8:L547)=0, \"\", \" + \")","v":""}]
["1750",null,"КСБКнг(А)-FRHF 1х2х1,78","1х2х1,78","2х1,78","1,78","HF","1","2","1,78",null,null,"","",{"$f":"IF(SUM(L$8:L548)=0, \"\", \" + \")","v":""}]
["2098",null,"КСБКнг(А)-FRHF 20х2х0,64","20х2х0,64","2х0,64","0,64","HF","20","2","0,64",null,null,"","",{"$f":"IF(SUM(L$8:L549)=0, \"\", \" + \")","v":""}]
["2094",null,"КСБКнг(А)-FRHF 20х2х0,80","20х2х0,80","2х0,80","0,80","HF","20","2","0,80",null,null,"","",{"$f":"IF(SUM(L$8:L550)=0, \"\", \" + \")","v":""}]
["2102",null,"КСБКнг(А)-FRHF 20х2х0,98","20х2х0,98","2х0,98","0,98","HF","20","2","0,98",null,null,"","",{"$f":"IF(SUM(L$8:L551)=0, \"\", \" + \")","v":""}]
["17785",null,"КСБКнг(А)-FRHF 20х2х1,13","20х2х1,13","2х1,13","1,13","HF","20","2","1,13",null,null,"","",{"$f":"IF(SUM(L$8:L552)=0, \"\", \" + \")","v":""}]
["1813",null,"КСБКнг(А)-FRHF 2х2х0,64","2х2х0,64","2х0,64","0,64","HF","2","2","0,64",null,null,"","",{"$f":"IF(SUM(L$8:L553)=0, \"\", \" + \")","v":""}]
["1743",null,"КСБКнг(А)-FRHF 2х2х0,80","2х2х0,80","2х0,80","0,80","HF","2","2","0,80",null,null,"","",{"$f":"IF(SUM(L$8:L554)=0, \"\", \" + \")","v":""}]
["1729",null,"КСБКнг(А)-FRHF 2х2х0,98","2х2х0,98","2х0,98","0,98","HF","2","2","0,98",null,null,"","",{"$f":"IF(SUM(L$8:L555)=0, \"\", \" + \")","v":""}]
["1761",null,"КСБКнг(А)-FRHF 2х2х1,13","2х2х1,13","2х1,13","1,13","HF","2","2","1,13",null,null,"","",{"$f":"IF(SUM(L$8:L556)=0, \"\", \" + \")","v":""}]
["1780",null,"КСБКнг(А)-FRHF 2х2х1,38","2х2х1,38","2х1,38","1,38","HF","2","2","1,38",null,null,"","",{"$f":"IF(SUM(L$8:L557)=0, \"\", \" + \")","v":""}]
["1751",null,"КСБКнг(А)-FRHF 2х2х1,78","2х2х1,78","2х1,78","1,78","HF","2","2","1,78",null,null,"","",{"$f":"IF(SUM(L$8:L558)=0, \"\", \" + \")","v":""}]
["5510",null,"КСБКнг(А)-FRHF 3х2х0,64","3х2х0,64","2х0,64","0,64","HF","3","2","0,64",null,null,"","",{"$f":"IF(SUM(L$8:L559)=0, \"\", \" + \")","v":""}]
["3507",null,"КСБКнг(А)-FRHF 3х2х0,80","3х2х0,80","2х0,80","0,80","HF","3","2","0,80",null,null,"","",{"$f":"IF(SUM(L$8:L560)=0, \"\", \" + \")","v":""}]
["3023",null,"КСБКнг(А)-FRHF 3х2х0,98","3х2х0,98","2х0,98","0,98","HF","3","2","0,98",null,null,"","",{"$f":"IF(SUM(L$8:L561)=0, \"\", \" + \")","v":""}]
["3044",null,"КСБКнг(А)-FRHF 3х2х1,13","3х2х1,13","2х1,13","1,13","HF","3","2","1,13",null,null,"","",{"$f":"IF(SUM(L$8:L562)=0, \"\", \" + \")","v":""}]
["2996",null,"КСБКнг(А)-FRHF 3х2х1,38","3х2х1,38","2х1,38","1,38","HF","3","2","1,38",null,null,"","",{"$f":"IF(SUM(L$8:L563)=0, \"\", \" + \")","v":""}]
["2903",null,"КСБКнг(А)-FRHF 3х2х1,78","3х2х1,78","2х1,78","1,78","HF","3","2","1,78",null,null,"","",{"$f":"IF(SUM(L$8:L564)=0, \"\", \" + \")","v":""}]
["1814",null,"КСБКнг(А)-FRHF 4х2х0,64","4х2х0,64","2х0,64","0,64","HF","4","2","0,64",null,null,"","",{"$f":"IF(SUM(L$8:L565)=0, \"\", \" + \")","v":""}]
["1744",null,"КСБКнг(А)-FRHF 4х2х0,80","4х2х0,80","2х0,80","0,80","HF","4","2","0,80",null,null,"","",{"$f":"IF(SUM(L$8:L566)=0, \"\", \" + \")","v":""}]
["1749",null,"КСБКнг(А)-FRHF 4х2х0,98","4х2х0,98","2х0,98","0,98","HF","4","2","0,98",null,null,"","",{"$f":"IF(SUM(L$8:L567)=0, \"\", \" + \")","v":""}]
["1762",null,"КСБКнг(А)-FRHF 4х2х1,13","4х2х1,13","2х1,13","1,13","HF","4","2","1,13",null,null,"","",{"$f":"IF(SUM(L$8:L568)=0, \"\", \" + \")","v":""}]
["1781",null,"КСБКнг(А)-FRHF 4х2х1,38","4х2х1,38","2х1,38","1,38","HF","4","2","1,38",null,null,"","",{"$f":"IF(SUM(L$8:L569)=0, \"\", \" + \")","v":""}]
["1752",null,"КСБКнг(А)-FRHF 4х2х1,78","4х2х1,78","2х1,78","1,78","HF","4","2","1,78",null,null,"","",{"$f":"IF(SUM(L$8:L570)=0, \"\", \" + \")","v":""}]
["5730",null,"КСБКнг(А)-FRHF 5х2х0,80","5х2х0,80","2х0,80","0,80","HF","5","2","0,80",null,null,"","",{"$f":"IF(SUM(L$8:L571)=0, \"\", \" + \")","v":""}]
["3033",null,"КСБКнг(А)-FRHF 5х2х1,13","5х2х1,13","2х1,13","1,13","HF","5","2","1,13",null,null,"","",{"$f":"IF(SUM(L$8:L572)=0, \"\", \" + \")","v":""}]
["3064",null,"КСБКнг(А)-FRHF 5х2х1,38","5х2х1,38","2х1,38","1,38","HF","5","2","1,38",null,null,"","",{"$f":"IF(SUM(L$8:L573)=0, \"\", \" + \")","v":""}]
["18979",null,"КСБКнг(А)-FRHF 6х2х0,64","6х2х0,64","2х0,64","0,64","HF","6","2","0,64",null,null,"","",{"$f":"IF(SUM(L$8:L574)=0, \"\", \" + \")","v":""}]
["17580",null,"КСБКнг(А)-FRHF 6х2х0,98","6х2х0,98","2х0,98","0,98","HF","6","2","0,98",null,null,"","",{"$f":"IF(SUM(L$8:L575)=0, \"\", \" + \")","v":""}]
["5086",null,"КСБКнг(А)-FRHF 6х2х1,13","6х2х1,13","2х1,13","1,13","HF","6","2","1,13",null,null,"","",{"$f":"IF(SUM(L$8:L576)=0, \"\", \" + \")","v":""}]
["20529",null,"КСБКнг(А)-FRHF 6х2х1,38 ","6х2х1,38 ","2х1,38 ","1,38 ","HF","6","2","1,38 ",null,null,"","",{"$f":"IF(SUM(L$8:L577)=0, \"\", \" + \")","v":""}]
["3413",null,"КСБКнг(А)-FRHF 7х2х0,80","7х2х0,80","2х0,80","0,80","HF","7","2","0,80",null,null,"","",{"$f":"IF(SUM(L$8:L578)=0, \"\", \" + \")","v":""}]
["5015",null,"КСБКнг(А)-FRHF 7х2х0,98","7х2х0,98","2х0,98","0,98","HF","7","2","0,98",null,null,"","",{"$f":"IF(SUM(L$8:L579)=0, \"\", \" + \")","v":""}]
["2915",null,"КСБКнг(А)-FRHF 7х2х1,13","7х2х1,13","2х1,13","1,13","HF","7","2","1,13",null,null,"","",{"$f":"IF(SUM(L$8:L580)=0, \"\", \" + \")","v":""}]
["5873",null,"КСБКнг(А)-FRHF 7х2х1,38","7х2х1,38","2х1,38","1,38","HF","7","2","1,38",null,null,"","",{"$f":"IF(SUM(L$8:L581)=0, \"\", \" + \")","v":""}]
["2095",null,"КСБКнг(А)-FRHF 8х2х0,64","8х2х0,64","2х0,64","0,64","HF","8","2","0,64",null,null,"","",{"$f":"IF(SUM(L$8:L582)=0, \"\", \" + \")","v":""}]
["1745",null,"КСБКнг(А)-FRHF 8х2х0,80","8х2х0,80","2х0,80","0,80","HF","8","2","0,80",null,null,"","",{"$f":"IF(SUM(L$8:L583)=0, \"\", \" + \")","v":""}]
["2099",null,"КСБКнг(А)-FRHF 8х2х0,98","8х2х0,98","2х0,98","0,98","HF","8","2","0,98",null,null,"","",{"$f":"IF(SUM(L$8:L584)=0, \"\", \" + \")","v":""}]
["2103",null,"КСБКнг(А)-FRHF 8х2х1,13",{"$f":"MID(C586, FIND(\" \",C586) +1, 100)","v":"8х2х1,13"},"2х1,13","1,13",{"$f":"MID(C586,FIND(\"FR\",C586)+2, 2)","v":"HF"},"8","2","1,13",null,null,{"$f":"IF(L586=0, \"\",CONCATENATE(O586, C586, \"-\",L586,\"м\"))","v":""},"",{"$f":"IF(SUM(L$8:L585)=0, \"\", \" + \")","v":""}]
["4541",null,"КСБКнг(А)-FRHF 8х2х1,38","8х2х1,38",{"$f":"MID($D587,IF(ISERR(FIND(\"х\",$D587)), FIND(\"x\",$D587)+1, FIND(\"х\",$D587))+1, 100)","v":"2х1,38"},{"$f":"MID($E587,IF(ISERR(FIND(\"х\",$E587)), FIND(\"x\",$E587)+1, FIND(\"х\",$E587))+1,10)","v":"1,38"},"HF",{"$f":"MID($D587,1, IF(ISERR(FIND(\"х\",$D587)), FIND(\"x\",$D587)-1, FIND(\"х\",$D587))-1)","v":"8"},{"$f":"MID($E587,1, IF(ISERR(FIND(\"х\",$E587)), FIND(\"x\",$E587)-1, FIND(\"х\",$E587))-1)","v":"2"},{"$f":"F587","v":"1,38"},null,null,"",{"$f":"CONCATENATE(N586,M587)","v":""},{"$f":"IF(SUM(L$8:L586)=0, \"\", \" + \")","v":""}]
["18467",null,"КСБКнг(А)-FRHF 8х2х1,78","8х2х1,78","2х1,78","1,78","HF","8","2","1,78",null,null,"","",{"$f":"IF(SUM(L$8:L587)=0, \"\", \" + \")","v":""}]
["5334",null,"КСБКнг(А)-FRLS 10х2х0,80","10х2х0,80","2х0,80","0,80","LS","10","2","0,80",null,null,"","",{"$f":"IF(SUM(L$8:L588)=0, \"\", \" + \")","v":""}]
["3006",null,"КСБКнг(А)-FRLS 10х2х0,98","10х2х0,98","2х0,98","0,98","LS","10","2","0,98",null,null,"","",{"$f":"IF(SUM(L$8:L589)=0, \"\", \" + \")","v":""}]
["2817",null,"КСБКнг(А)-FRLS 10х2х1,13","10х2х1,13","2х1,13","1,13","LS","10","2","1,13",null,null,"","",{"$f":"IF(SUM(L$8:L590)=0, \"\", \" + \")","v":""}]
["5017",null,"КСБКнг(А)-FRLS 10х2х1,38","10х2х1,38","2х1,38","1,38","LS","10","2","1,38",null,null,"","",{"$f":"IF(SUM(L$8:L591)=0, \"\", \" + \")","v":""}]
["18432",null,"КСБКнг(А)-FRLS 10х2х1,78","10х2х1,78","2х1,78","1,78","LS","10","2","1,78",null,null,"","",{"$f":"IF(SUM(L$8:L592)=0, \"\", \" + \")","v":""}]
["2088",null,"КСБКнг(А)-FRLS 12х2х0,64","12х2х0,64","2х0,64","0,64","LS","12","2","0,64",null,null,"","",{"$f":"IF(SUM(L$8:L593)=0, \"\", \" + \")","v":""}]
["1764",null,"КСБКнг(А)-FRLS 12х2х0,80","12х2х0,80","2х0,80","0,80","LS","12","2","0,80",null,null,"","",{"$f":"IF(SUM(L$8:L594)=0, \"\", \" + \")","v":""}]
["2091",null,"КСБКнг(А)-FRLS 12х2х0,98","12х2х0,98","2х0,98","0,98","LS","12","2","0,98",null,null,"","",{"$f":"IF(SUM(L$8:L595)=0, \"\", \" + \")","v":""}]
["1691",null,"КСБКнг(А)-FRLS 12х2х1,13","12х2х1,13","2х1,13","1,13","LS","12","2","1,13",null,null,"","",{"$f":"IF(SUM(L$8:L596)=0, \"\", \" + \")","v":""}]
["18407",null,"КСБКнг(А)-FRLS 14х2х0,64","14х2х0,64","2х0,64","0,64","LS","14","2","0,64",null,null,"","",{"$f":"IF(SUM(L$8:L597)=0, \"\", \" + \")","v":""}]
["2089",null,"КСБКнг(А)-FRLS 16х2х0,64","16х2х0,64","2х0,64","0,64","LS","16","2","0,64",null,null,"","",{"$f":"IF(SUM(L$8:L598)=0, \"\", \" + \")","v":""}]
["1765",null,"КСБКнг(А)-FRLS 16х2х0,80","16х2х0,80","2х0,80","0,80","LS","16","2","0,80",null,null,"","",{"$f":"IF(SUM(L$8:L599)=0, \"\", \" + \")","v":""}]
["2092",null,"КСБКнг(А)-FRLS 16х2х0,98","16х2х0,98","2х0,98","0,98","LS","16","2","0,98",null,null,"","",{"$f":"IF(SUM(L$8:L600)=0, \"\", \" + \")","v":""}]
["1692",null,"КСБКнг(А)-FRLS 16х2х1,13","16х2х1,13","2х1,13","1,13","LS","16","2","1,13",null,null,"","",{"$f":"IF(SUM(L$8:L601)=0, \"\", \" + \")","v":""}]
["1809",null,"КСБКнг(А)-FRLS 1х2х0,64","1х2х0,64","2х0,64","0,64","LS","1","2","0,64",null,null,"","",{"$f":"IF(SUM(L$8:L602)=0, \"\", \" + \")","v":""}]
["1753",null,"КСБКнг(А)-FRLS 1х2х0,80","1х2х0,80","2х0,80","0,80","LS","1","2","0,80",null,null,"","",{"$f":"IF(SUM(L$8:L603)=0, \"\", \" + \")","v":""}]
["1755",null,"КСБКнг(А)-FRLS 1х2х0,98","1х2х0,98","2х0,98","0,98","LS","1","2","0,98",null,null,"","",{"$f":"IF(SUM(L$8:L604)=0, \"\", \" + \")","v":""}]
["1662",null,"КСБКнг(А)-FRLS 1х2х1,13","1х2х1,13","2х1,13","1,13","LS","1","2","1,13",null,null,"","",{"$f":"IF(SUM(L$8:L605)=0, \"\", \" + \")","v":""}]
["1782",null,"КСБКнг(А)-FRLS 1х2х1,38","1х2х1,38","2х1,38","1,38","LS","1","2","1,38",null,null,"","",{"$f":"IF(SUM(L$8:L606)=0, \"\", \" + \")","v":""}]
["1757",null,"КСБКнг(А)-FRLS 1х2х1,78","1х2х1,78","2х1,78","1,78","LS","1","2","1,78",null,null,"","",{"$f":"IF(SUM(L$8:L607)=0, \"\", \" + \")","v":""}]
["2086",null,"КСБКнг(А)-FRLS 20х2х0,64","20х2х0,64","2х0,64","0,64","LS","20","2","0,64",null,null,"","",{"$f":"IF(SUM(L$8:L608)=0, \"\", \" + \")","v":""}]
["2085",null,"КСБКнг(А)-FRLS 20х2х0,80","20х2х0,80","2х0,80","0,80","LS","20","2","0,80",null,null,"","",{"$f":"IF(SUM(L$8:L609)=0, \"\", \" + \")","v":""}]
["2093",null,"КСБКнг(А)-FRLS 20х2х0,98","20х2х0,98","2х0,98","0,98","LS","20","2","0,98",null,null,"","",{"$f":"IF(SUM(L$8:L610)=0, \"\", \" + \")","v":""}]
["20437",null,"КСБКнг(А)-FRLS 20х2х1,38 ","20х2х1,38 ","2х1,38 ","1,38 ","LS","20","2","1,38 ",null,null,"","",{"$f":"IF(SUM(L$8:L611)=0, \"\", \" + \")","v":""}]
["1810",null,"КСБКнг(А)-FRLS 2х2х0,64","2х2х0,64","2х0,64","0,64","LS","2","2","0,64",null,null,"","",{"$f":"IF(SUM(L$8:L612)=0, \"\", \" + \")","v":""}]
["1661",null,"КСБКнг(А)-FRLS 2х2х0,80","2х2х0,80","2х0,80","0,80","LS","2","2","0,80",null,null,"","",{"$f":"IF(SUM(L$8:L613)=0, \"\", \" + \")","v":""}]
["1730",null,"КСБКнг(А)-FRLS 2х2х0,98","2х2х0,98","2х0,98","0,98","LS","2","2","0,98",null,null,"","",{"$f":"IF(SUM(L$8:L614)=0, \"\", \" + \")","v":""}]
["1688",null,"КСБКнг(А)-FRLS 2х2х1,13","2х2х1,13","2х1,13","1,13","LS","2","2","1,13",null,null,"","",{"$f":"IF(SUM(L$8:L615)=0, \"\", \" + \")","v":""}]
["1783",null,"КСБКнг(А)-FRLS 2х2х1,38","2х2х1,38","2х1,38","1,38","LS","2","2","1,38",null,null,"","",{"$f":"IF(SUM(L$8:L616)=0, \"\", \" + \")","v":""}]
["1758",null,"КСБКнг(А)-FRLS 2х2х1,78","2х2х1,78","2х1,78","1,78","LS","2","2","1,78",null,null,"","",{"$f":"IF(SUM(L$8:L617)=0, \"\", \" + \")","v":""}]
["2824",null,"КСБКнг(А)-FRLS 3х2х0,64","3х2х0,64","2х0,64","0,64","LS","3","2","0,64",null,null,"","",{"$f":"IF(SUM(L$8:L618)=0, \"\", \" + \")","v":""}]
["5386",null,"КСБКнг(А)-FRLS 3х2х0,80","3х2х0,80","2х0,80","0,80","LS","3","2","0,80",null,null,"","",{"$f":"IF(SUM(L$8:L619)=0, \"\", \" + \")","v":""}]
["3154",null,"КСБКнг(А)-FRLS 3х2х0,98","3х2х0,98","2х0,98","0,98","LS","3","2","0,98",null,null,"","",{"$f":"IF(SUM(L$8:L620)=0, \"\", \" + \")","v":""}]
["3120",null,"КСБКнг(А)-FRLS 3х2х1,13","3х2х1,13","2х1,13","1,13","LS","3","2","1,13",null,null,"","",{"$f":"IF(SUM(L$8:L621)=0, \"\", \" + \")","v":""}]
["4430",null,"КСБКнг(А)-FRLS 3х2х1,38","3х2х1,38","2х1,38","1,38","LS","3","2","1,38",null,null,"","",{"$f":"IF(SUM(L$8:L622)=0, \"\", \" + \")","v":""}]
["1811",null,"КСБКнг(А)-FRLS 4х2х0,64","4х2х0,64","2х0,64","0,64","LS","4","2","0,64",null,null,"","",{"$f":"IF(SUM(L$8:L623)=0, \"\", \" + \")","v":""}]
["1754",null,"КСБКнг(А)-FRLS 4х2х0,80","4х2х0,80","2х0,80","0,80","LS","4","2","0,80",null,null,"","",{"$f":"IF(SUM(L$8:L624)=0, \"\", \" + \")","v":""}]
["1756",null,"КСБКнг(А)-FRLS 4х2х0,98","4х2х0,98","2х0,98","0,98","LS","4","2","0,98",null,null,"","",{"$f":"IF(SUM(L$8:L625)=0, \"\", \" + \")","v":""}]
["1689",null,"КСБКнг(А)-FRLS 4х2х1,13","4х2х1,13","2х1,13","1,13","LS","4","2","1,13",null,null,"","",{"$f":"IF(SUM(L$8:L626)=0, \"\", \" + \")","v":""}]
["1784",null,"КСБКнг(А)-FRLS 4х2х1,38","4х2х1,38","2х1,38","1,38","LS","4","2","1,38",null,null,"","",{"$f":"IF(SUM(L$8:L627)=0, \"\", \" + \")","v":""}]
["1759",null,"КСБКнг(А)-FRLS 4х2х1,78","4х2х1,78","2х1,78","1,78","LS","4","2","1,78",null,null,"","",{"$f":"IF(SUM(L$8:L628)=0, \"\", \" + \")","v":""}]
["5658",null,"КСБКнг(А)-FRLS 5х2х0,8","5х2х0,8","2х0,8","0,8","LS","5","2","0,8",null,null,"","",{"$f":"IF(SUM(L$8:L629)=0, \"\", \" + \")","v":""}]
["3153",null,"КСБКнг(А)-FRLS 5х2х0,98","5х2х0,98","2х0,98","0,98","LS","5","2","0,98",null,null,"","",{"$f":"IF(SUM(L$8:L630)=0, \"\", \" + \")","v":""}]
["2818",null,"КСБКнг(А)-FRLS 5х2х1,13","5х2х1,13","2х1,13","1,13","LS","5","2","1,13",null,null,"","",{"$f":"IF(SUM(L$8:L631)=0, \"\", \" + \")","v":""}]
["3473",null,"КСБКнг(А)-FRLS 5х2х1,38","5х2х1,38","2х1,38","1,38","LS","5","2","1,38",null,null,"","",{"$f":"IF(SUM(L$8:L632)=0, \"\", \" + \")","v":""}]
["18469",null,"КСБКнг(А)-FRLS 6х2х0,64","6х2х0,64","2х0,64","0,64","LS","6","2","0,64",null,null,"","",{"$f":"IF(SUM(L$8:L633)=0, \"\", \" + \")","v":""}]
["18468",null,"КСБКнг(А)-FRLS 6х2х0,80","6х2х0,80","2х0,80","0,80","LS","6","2","0,80",null,null,"","",{"$f":"IF(SUM(L$8:L634)=0, \"\", \" + \")","v":""}]
["16456",null,"КСБКнг(А)-FRLS 6х2х0,98","6х2х0,98","2х0,98","0,98","LS","6","2","0,98",null,null,"","",{"$f":"IF(SUM(L$8:L635)=0, \"\", \" + \")","v":""}]
["5014",null,"КСБКнг(А)-FRLS 6х2х1,13","6х2х1,13","2х1,13","1,13","LS","6","2","1,13",null,null,"","",{"$f":"IF(SUM(L$8:L636)=0, \"\", \" + \")","v":""}]
["16512",null,"КСБКнг(А)-FRLS 6х2х1,38","6х2х1,38","2х1,38","1,38","LS","6","2","1,38",null,null,"","",{"$f":"IF(SUM(L$8:L637)=0, \"\", \" + \")","v":""}]
["3152",null,"КСБКнг(А)-FRLS 7х2х0,98","7х2х0,98","2х0,98","0,98","LS","7","2","0,98",null,null,"","",{"$f":"IF(SUM(L$8:L638)=0, \"\", \" + \")","v":""}]
["5137",null,"КСБКнг(А)-FRLS 7х2х1,13","7х2х1,13","2х1,13","1,13","LS","7","2","1,13",null,null,"","",{"$f":"IF(SUM(L$8:L639)=0, \"\", \" + \")","v":""}]
["5470",null,"КСБКнг(А)-FRLS 7х2х1,38","7х2х1,38","2х1,38","1,38","LS","7","2","1,38",null,null,"","",{"$f":"IF(SUM(L$8:L640)=0, \"\", \" + \")","v":""}]
["17957",null,"КСБКнг(А)-FRLS 7х2х1,78","7х2х1,78","2х1,78","1,78","LS","7","2","1,78",null,null,"","",{"$f":"IF(SUM(L$8:L641)=0, \"\", \" + \")","v":""}]
["2087",null,"КСБКнг(А)-FRLS 8х2х0,64","8х2х0,64","2х0,64","0,64","LS","8","2","0,64",null,null,"","",{"$f":"IF(SUM(L$8:L642)=0, \"\", \" + \")","v":""}]
["1763",null,"КСБКнг(А)-FRLS 8х2х0,80","8х2х0,80","2х0,80","0,80","LS","8","2","0,80",null,null,"","",{"$f":"IF(SUM(L$8:L643)=0, \"\", \" + \")","v":""}]
["2090",null,"КСБКнг(А)-FRLS 8х2х0,98","8х2х0,98","2х0,98","0,98","LS","8","2","0,98",null,null,"","",{"$f":"IF(SUM(L$8:L644)=0, \"\", \" + \")","v":""}]
["1690",null,"КСБКнг(А)-FRLS 8х2х1,13","8х2х1,13","2х1,13","1,13","LS","8","2","1,13",null,null,"","",{"$f":"IF(SUM(L$8:L645)=0, \"\", \" + \")","v":""}]
["4499",null,"КСБКнг(А)-FRLS 8х2х1,38","8х2х1,38","2х1,38","1,38","LS","8","2","1,38",null,null,"","",{"$f":"IF(SUM(L$8:L646)=0, \"\", \" + \")","v":""}]
["5331",null,"КСБнг(А)-FRHF 10х2х0,64","10х2х0,64","2х0,64","0,64","HF","10","2","0,64",null,null,"","",{"$f":"IF(SUM(L$8:L647)=0, \"\", \" + \")","v":""}]
["3495",null,"КСБнг(А)-FRHF 10х2х0,80","10х2х0,80","2х0,80","0,80","HF","10","2","0,80",null,null,"","",{"$f":"IF(SUM(L$8:L648)=0, \"\", \" + \")","v":""}]
["16338",null,"КСБнг(А)-FRHF 10х2х0,98",{"$f":"MID(C650, FIND(\" \",C650) +1, 100)","v":"10х2х0,98"},"2х0,98","0,98",{"$f":"MID(C650,FIND(\"FR\",C650)+2, 2)","v":"HF"},"10","2","0,98",null,null,{"$f":"IF(L650=0, \"\",CONCATENATE(O650, C650, \"-\",L650,\"м\"))","v":""},"",{"$f":"IF(SUM(L$8:L649)=0, \"\", \" + \")","v":""}]
["3186",null,"КСБнг(А)-FRHF 10х2х1,13","10х2х1,13",{"$f":"MID($D651,IF(ISERR(FIND(\"х\",$D651)), FIND(\"x\",$D651)+1, FIND(\"х\",$D651))+1, 100)","v":"2х1,13"},{"$f":"MID($E651,IF(ISERR(FIND(\"х\",$E651)), FIND(\"x\",$E651)+1, FIND(\"х\",$E651))+1,10)","v":"1,13"},"HF",{"$f":"MID($D651,1, IF(ISERR(FIND(\"х\",$D651)), FIND(\"x\",$D651)-1, FIND(\"х\",$D651))-1)","v":"10"},{"$f":"MID($E651,1, IF(ISERR(FIND(\"х\",$E651)), FIND(\"x\",$E651)-1, FIND(\"х\",$E651))-1)","v":"2"},{"$f":"F651","v":"1,13"},null,null,"",{"$f":"CONCATENATE(N650,M651)","v":""},{"$f":"IF(SUM(L$8:L650)=0, \"\", \" + \")","v":""}]
["5599",null,"КСБнг(А)-FRHF 10х2х1,38","10х2х1,38","2х1,38","1,38","HF","10","2","1,38",null,null,"","",{"$f":"IF(SUM(L$8:L651)=0, \"\", \" + \")","v":""}]
["2062",null,"КСБнг(А)-FRHF 12х2х0,64","12х2х0,64","2х0,64","0,64","HF","12","2","0,64",null,null,"","",{"$f":"IF(SUM(L$8:L652)=0, \"\", \" + \")","v":""}]
["1352",null,"КСБнг(А)-FRHF 12х2х0,80","12х2х0,80","2х0,80","0,80","HF","12","2","0,80",null,null,"","",{"$f":"IF(SUM(L$8:L653)=0, \"\", \" + \")","v":""}]
["1431",null,"КСБнг(А)-FRHF 12х2х0,98","12х2х0,98","2х0,98","0,98","HF","12","2","0,98",null,null,"","",{"$f":"IF(SUM(L$8:L654)=0, \"\", \" + \")","v":""}]
["1438",null,"КСБнг(А)-FRHF 12х2х1,13","12х2х1,13","2х1,13","1,13","HF","12","2","1,13",null,null,"","",{"$f":"IF(SUM(L$8:L655)=0, \"\", \" + \")","v":""}]
["1445",null,"КСБнг(А)-FRHF 12х2х1,38","12х2х1,38","2х1,38","1,38","HF","12","2","1,38",null,null,"","",{"$f":"IF(SUM(L$8:L656)=0, \"\", \" + \")","v":""}]
["1452",null,"КСБнг(А)-FRHF 12х2х1,78","12х2х1,78","2х1,78","1,78","HF","12","2","1,78",null,null,"","",{"$f":"IF(SUM(L$8:L657)=0, \"\", \" + \")","v":""}]
["3410",null,"КСБнг(А)-FRHF 14х2х0,64","14х2х0,64","2х0,64","0,64","HF","14","2","0,64",null,null,"","",{"$f":"IF(SUM(L$8:L658)=0, \"\", \" + \")","v":""}]
["4479",null,"КСБнг(А)-FRHF 14х2х1,13","14х2х1,13","2х1,13","1,13","HF","14","2","1,13",null,null,"","",{"$f":"IF(SUM(L$8:L659)=0, \"\", \" + \")","v":""}]
["2063",null,"КСБнг(А)-FRHF 16х2х0,64","16х2х0,64","2х0,64","0,64","HF","16","2","0,64",null,null,"","",{"$f":"IF(SUM(L$8:L660)=0, \"\", \" + \")","v":""}]
["1353",null,"КСБнг(А)-FRHF 16х2х0,80","16х2х0,80","2х0,80","0,80","HF","16","2","0,80",null,null,"","",{"$f":"IF(SUM(L$8:L661)=0, \"\", \" + \")","v":""}]
["1432",null,"КСБнг(А)-FRHF 16х2х0,98","16х2х0,98","2х0,98","0,98","HF","16","2","0,98",null,null,"","",{"$f":"IF(SUM(L$8:L662)=0, \"\", \" + \")","v":""}]
["1439",null,"КСБнг(А)-FRHF 16х2х1,13","16х2х1,13","2х1,13","1,13","HF","16","2","1,13",null,null,"","",{"$f":"IF(SUM(L$8:L663)=0, \"\", \" + \")","v":""}]
["1446",null,"КСБнг(А)-FRHF 16х2х1,38","16х2х1,38","2х1,38","1,38","HF","16","2","1,38",null,null,"","",{"$f":"IF(SUM(L$8:L664)=0, \"\", \" + \")","v":""}]
["1453",null,"КСБнг(А)-FRHF 16х2х1,78","16х2х1,78","2х1,78","1,78","HF","16","2","1,78",null,null,"","",{"$f":"IF(SUM(L$8:L665)=0, \"\", \" + \")","v":""}]
["1788",null,"КСБнг(А)-FRHF 1х2х0,64","1х2х0,64","2х0,64","0,64","HF","1","2","0,64",null,null,"","",{"$f":"IF(SUM(L$8:L666)=0, \"\", \" + \")","v":""}]
["1348",null,"КСБнг(А)-FRHF 1х2х0,80","1х2х0,80","2х0,80","0,80","HF","1","2","0,80",null,null,"","",{"$f":"IF(SUM(L$8:L667)=0, \"\", \" + \")","v":""}]
["1358",null,"КСБнг(А)-FRHF 1х2х0,98","1х2х0,98","2х0,98","0,98","HF","1","2","0,98",null,null,"","",{"$f":"IF(SUM(L$8:L668)=0, \"\", \" + \")","v":""}]
["1361",null,"КСБнг(А)-FRHF 1х2х1,13","1х2х1,13","2х1,13","1,13","HF","1","2","1,13",null,null,"","",{"$f":"IF(SUM(L$8:L669)=0, \"\", \" + \")","v":""}]
["1364",null,"КСБнг(А)-FRHF 1х2х1,38","1х2х1,38","2х1,38","1,38","HF","1","2","1,38",null,null,"","",{"$f":"IF(SUM(L$8:L670)=0, \"\", \" + \")","v":""}]
["1367",null,"КСБнг(А)-FRHF 1х2х1,78","1х2х1,78","2х1,78","1,78","HF","1","2","1,78",null,null,"","",{"$f":"IF(SUM(L$8:L671)=0, \"\", \" + \")","v":""}]
["2064",null,"КСБнг(А)-FRHF 20х2х0,64","20х2х0,64","2х0,64","0,64","HF","20","2","0,64",null,null,"","",{"$f":"IF(SUM(L$8:L672)=0, \"\", \" + \")","v":""}]
["1354",null,"КСБнг(А)-FRHF 20х2х0,80","20х2х0,80","2х0,80","0,80","HF","20","2","0,80",null,null,"","",{"$f":"IF(SUM(L$8:L673)=0, \"\", \" + \")","v":""}]
["1433",null,"КСБнг(А)-FRHF 20х2х0,98","20х2х0,98","2х0,98","0,98","HF","20","2","0,98",null,null,"","",{"$f":"IF(SUM(L$8:L674)=0, \"\", \" + \")","v":""}]
["1440",null,"КСБнг(А)-FRHF 20х2х1,13","20х2х1,13","2х1,13","1,13","HF","20","2","1,13",null,null,"","",{"$f":"IF(SUM(L$8:L675)=0, \"\", \" + \")","v":""}]
["1447",null,"КСБнг(А)-FRHF 20х2х1,38","20х2х1,38","2х1,38","1,38","HF","20","2","1,38",null,null,"","",{"$f":"IF(SUM(L$8:L676)=0, \"\", \" + \")","v":""}]
["1454",null,"КСБнг(А)-FRHF 20х2х1,78","20х2х1,78","2х1,78","1,78","HF","20","2","1,78",null,null,"","",{"$f":"IF(SUM(L$8:L677)=0, \"\", \" + \")","v":""}]
["19890",null,"КСБнг(А)-FRHF 24х2х0,64 ","24х2х0,64 ","2х0,64 ","0,64 ","HF","24","2","0,64 ",null,null,"","",{"$f":"IF(SUM(L$8:L678)=0, \"\", \" + \")","v":""}]
["1355",null,"КСБнг(А)-FRHF 24х2х0,80","24х2х0,80","2х0,80","0,80","HF","24","2","0,80",null,null,"","",{"$f":"IF(SUM(L$8:L679)=0, \"\", \" + \")","v":""}]
["1434",null,"КСБнг(А)-FRHF 24х2х0,98","24х2х0,98","2х0,98","0,98","HF","24","2","0,98",null,null,"","",{"$f":"IF(SUM(L$8:L680)=0, \"\", \" + \")","v":""}]
["1441",null,"КСБнг(А)-FRHF 24х2х1,13","24х2х1,13","2х1,13","1,13","HF","24","2","1,13",null,null,"","",{"$f":"IF(SUM(L$8:L681)=0, \"\", \" + \")","v":""}]
["1448",null,"КСБнг(А)-FRHF 24х2х1,38","24х2х1,38","2х1,38","1,38","HF","24","2","1,38",null,null,"","",{"$f":"IF(SUM(L$8:L682)=0, \"\", \" + \")","v":""}]
["1455",null,"КСБнг(А)-FRHF 24х2х1,78","24х2х1,78","2х1,78","1,78","HF","24","2","1,78",null,null,"","",{"$f":"IF(SUM(L$8:L683)=0, \"\", \" + \")","v":""}]
["1789",null,"КСБнг(А)-FRHF 2х2х0,64","2х2х0,64","2х0,64","0,64","HF","2","2","0,64",null,null,"","",{"$f":"IF(SUM(L$8:L684)=0, \"\", \" + \")","v":""}]
["1359",null,"КСБнг(А)-FRHF 2х2х0,98","2х2х0,98","2х0,98","0,98","HF","2","2","0,98",null,null,"","",{"$f":"IF(SUM(L$8:L685)=0, \"\", \" + \")","v":""}]
["1362",null,"КСБнг(А)-FRHF 2х2х1,13","2х2х1,13","2х1,13","1,13","HF","2","2","1,13",null,null,"","",{"$f":"IF(SUM(L$8:L686)=0, \"\", \" + \")","v":""}]
["1365",null,"КСБнг(А)-FRHF 2х2х1,38","2х2х1,38","2х1,38","1,38","HF","2","2","1,38",null,null,"","",{"$f":"IF(SUM(L$8:L687)=0, \"\", \" + \")","v":""}]
["1368",null,"КСБнг(А)-FRHF 2х2х1,78","2х2х1,78","2х1,78","1,78","HF","2","2","1,78",null,null,"","",{"$f":"IF(SUM(L$8:L688)=0, \"\", \" + \")","v":""}]
["2065",null,"КСБнг(А)-FRHF 32х2х0,64","32х2х0,64","2х0,64","0,64","HF","32","2","0,64",null,null,"","",{"$f":"IF(SUM(L$8:L689)=0, \"\", \" + \")","v":""}]
["1356",null,"КСБнг(А)-FRHF 32х2х0,80","32х2х0,80","2х0,80","0,80","HF","32","2","0,80",null,null,"","",{"$f":"IF(SUM(L$8:L690)=0, \"\", \" + \")","v":""}]
["1435",null,"КСБнг(А)-FRHF 32х2х0,98","32х2х0,98","2х0,98","0,98","HF","32","2","0,98",null,null,"","",{"$f":"IF(SUM(L$8:L691)=0, \"\", \" + \")","v":""}]
["1442",null,"КСБнг(А)-FRHF 32х2х1,13","32х2х1,13","2х1,13","1,13","HF","32","2","1,13",null,null,"","",{"$f":"IF(SUM(L$8:L692)=0, \"\", \" + \")","v":""}]
["1449",null,"КСБнг(А)-FRHF 32х2х1,38","32х2х1,38","2х1,38","1,38","HF","32","2","1,38",null,null,"","",{"$f":"IF(SUM(L$8:L693)=0, \"\", \" + \")","v":""}]
["1456",null,"КСБнг(А)-FRHF 32х2х1,78","32х2х1,78","2х1,78","1,78","HF","32","2","1,78",null,null,"","",{"$f":"IF(SUM(L$8:L694)=0, \"\", \" + \")","v":""}]
["4097",null,"КСБнг(А)-FRHF 3х2х0,64","3х2х0,64","2х0,64","0,64","HF","3","2","0,64",null,null,"","",{"$f":"IF(SUM(L$8:L695)=0, \"\", \" + \")","v":""}]
["3056",null,"КСБнг(А)-FRHF 3х2х0,80","3х2х0,80","2х0,80","0,80","HF","3","2","0,80",null,null,"","",{"$f":"IF(SUM(L$8:L696)=0, \"\", \" + \")","v":""}]
["3454",null,"КСБнг(А)-FRHF 3х2х0,98","3х2х0,98","2х0,98","0,98","HF","3","2","0,98",null,null,"","",{"$f":"IF(SUM(L$8:L697)=0, \"\", \" + \")","v":""}]
["2845",null,"КСБнг(А)-FRHF 3х2х1,13","3х2х1,13","2х1,13","1,13","HF","3","2","1,13",null,null,"","",{"$f":"IF(SUM(L$8:L698)=0, \"\", \" + \")","v":""}]
["2859",null,"КСБнг(А)-FRHF 3х2х1,38","3х2х1,38","2х1,38","1,38","HF","3","2","1,38",null,null,"","",{"$f":"IF(SUM(L$8:L699)=0, \"\", \" + \")","v":""}]
["2848",null,"КСБнг(А)-FRHF 3х2х1,78","3х2х1,78","2х1,78","1,78","HF","3","2","1,78",null,null,"","",{"$f":"IF(SUM(L$8:L700)=0, \"\", \" + \")","v":""}]
["2066",null,"КСБнг(А)-FRHF 40х2х0,64","40х2х0,64","2х0,64","0,64","HF","40","2","0,64",null,null,"","",{"$f":"IF(SUM(L$8:L701)=0, \"\", \" + \")","v":""}]
["1357",null,"КСБнг(А)-FRHF 40х2х0,80","40х2х0,80","2х0,80","0,80","HF","40","2","0,80",null,null,"","",{"$f":"IF(SUM(L$8:L702)=0, \"\", \" + \")","v":""}]
["1436",null,"КСБнг(А)-FRHF 40х2х0,98","40х2х0,98","2х0,98","0,98","HF","40","2","0,98",null,null,"","",{"$f":"IF(SUM(L$8:L703)=0, \"\", \" + \")","v":""}]
["1443",null,"КСБнг(А)-FRHF 40х2х1,13","40х2х1,13","2х1,13","1,13","HF","40","2","1,13",null,null,"","",{"$f":"IF(SUM(L$8:L704)=0, \"\", \" + \")","v":""}]
["1450",null,"КСБнг(А)-FRHF 40х2х1,38","40х2х1,38","2х1,38","1,38","HF","40","2","1,38",null,null,"","",{"$f":"IF(SUM(L$8:L705)=0, \"\", \" + \")","v":""}]
["1790",null,"КСБнг(А)-FRHF 4х2х0,64","4х2х0,64","2х0,64","0,64","HF","4","2","0,64",null,null,"","",{"$f":"IF(SUM(L$8:L706)=0, \"\", \" + \")","v":""}]
["1350",null,"КСБнг(А)-FRHF 4х2х0,80","4х2х0,80","2х0,80","0,80","HF","4","2","0,80",null,null,"","",{"$f":"IF(SUM(L$8:L707)=0, \"\", \" + \")","v":""}]
["1360",null,"КСБнг(А)-FRHF 4х2х0,98","4х2х0,98","2х0,98","0,98","HF","4","2","0,98",null,null,"","",{"$f":"IF(SUM(L$8:L708)=0, \"\", \" + \")","v":""}]
["1363",null,"КСБнг(А)-FRHF 4х2х1,13","4х2х1,13","2х1,13","1,13","HF","4","2","1,13",null,null,"","",{"$f":"IF(SUM(L$8:L709)=0, \"\", \" + \")","v":""}]
["1366",null,"КСБнг(А)-FRHF 4х2х1,38","4х2х1,38","2х1,38","1,38","HF","4","2","1,38",null,null,"","",{"$f":"IF(SUM(L$8:L710)=0, \"\", \" + \")","v":""}]
["1369",null,"КСБнг(А)-FRHF 4х2х1,78","4х2х1,78","2х1,78","1,78","HF","4","2","1,78",null,null,"","",{"$f":"IF(SUM(L$8:L711)=0, \"\", \" + \")","v":""}]
["2723",null,"КСБнг(А)-FRHF 5х2х0,80","5х2х0,80","2х0,80","0,80","HF","5","2","0,80",null,null,"","",{"$f":"IF(SUM(L$8:L712)=0, \"\", \" + \")","v":""}]
["4153",null,"КСБнг(А)-FRHF 5х2х0,98",{"$f":"MID(C714, FIND(\" \",C714) +1, 100)","v":"5х2х0,98"},"2х0,98","0,98",{"$f":"MID(C714,FIND(\"FR\",C714)+2, 2)","v":"HF"},"5","2","0,98",null,null,{"$f":"IF(L714=0, \"\",CONCATENATE(O714, C714, \"-\",L714,\"м\"))","v":""},"",{"$f":"IF(SUM(L$8:L713)=0, \"\", \" + \")","v":""}]
["2842",null,"КСБнг(А)-FRHF 5х2х1,13","5х2х1,13",{"$f":"MID($D715,IF(ISERR(FIND(\"х\",$D715)), FIND(\"x\",$D715)+1, FIND(\"х\",$D715))+1, 100)","v":"2х1,13"},{"$f":"MID($E715,IF(ISERR(FIND(\"х\",$E715)), FIND(\"x\",$E715)+1, FIND(\"х\",$E715))+1,10)","v":"1,13"},"HF",{"$f":"MID($D715,1, IF(ISERR(FIND(\"х\",$D715)), FIND(\"x\",$D715)-1, FIND(\"х\",$D715))-1)","v":"5"},{"$f":"MID($E715,1, IF(ISERR(FIND(\"х\",$E715)), FIND(\"x\",$E715)-1, FIND(\"х\",$E715))-1)","v":"2"},{"$f":"F715","v":"1,13"},null,null,"",{"$f":"CONCATENATE(N714,M715)","v":""},{"$f":"IF(SUM(L$8:L714)=0, \"\", \" + \")","v":""}]
["20169",null,"КСБнг(А)-FRHF 5х2х1,38 ","5х2х1,38 ","2х1,38 ","1,38 ","HF","5","2","1,38 ",null,null,"","",{"$f":"IF(SUM(L$8:L715)=0, \"\", \" + \")","v":""}]
["2721",null,"КСБнг(А)-FRHF 5х2х1,78","5х2х1,78","2х1,78","1,78","HF","5","2","1,78",null,null,"","",{"$f":"IF(SUM(L$8:L716)=0, \"\", \" + \")","v":""}]
["19901",null,"КСБнг(А)-FRHF 6х2х0,64 ","6х2х0,64 ","2х0,64 ","0,64 ","HF","6","2","0,64 ",null,null,"","",{"$f":"IF(SUM(L$8:L717)=0, \"\", \" + \")","v":""}]
["5600",null,"КСБнг(А)-FRHF 6х2х0,80","6х2х0,80","2х0,80","0,80","HF","6","2","0,80",null,null,"","",{"$f":"IF(SUM(L$8:L718)=0, \"\", \" + \")","v":""}]
["4478",null,"КСБнг(А)-FRHF 6х2х1,13","6х2х1,13","2х1,13","1,13","HF","6","2","1,13",null,null,"","",{"$f":"IF(SUM(L$8:L719)=0, \"\", \" + \")","v":""}]
["5520",null,"КСБнг(А)-FRHF 6х2х1,38","6х2х1,38","2х1,38","1,38","HF","6","2","1,38",null,null,"","",{"$f":"IF(SUM(L$8:L720)=0, \"\", \" + \")","v":""}]
["3018",null,"КСБнг(А)-FRHF 7х2х0,80","7х2х0,80","2х0,80","0,80","HF","7","2","0,80",null,null,"","",{"$f":"IF(SUM(L$8:L721)=0, \"\", \" + \")","v":""}]
["2872",null,"КСБнг(А)-FRHF 7х2х1,13","7х2х1,13","2х1,13","1,13","HF","7","2","1,13",null,null,"","",{"$f":"IF(SUM(L$8:L722)=0, \"\", \" + \")","v":""}]
["4477",null,"КСБнг(А)-FRHF 7х2х1,38","7х2х1,38","2х1,38","1,38","HF","7","2","1,38",null,null,"","",{"$f":"IF(SUM(L$8:L723)=0, \"\", \" + \")","v":""}]
["2061",null,"КСБнг(А)-FRHF 8х2х0,64","8х2х0,64","2х0,64","0,64","HF","8","2","0,64",null,null,"","",{"$f":"IF(SUM(L$8:L724)=0, \"\", \" + \")","v":""}]
["1351",null,"КСБнг(А)-FRHF 8х2х0,80","8х2х0,80","2х0,80","0,80","HF","8","2","0,80",null,null,"","",{"$f":"IF(SUM(L$8:L725)=0, \"\", \" + \")","v":""}]
["1430",null,"КСБнг(А)-FRHF 8х2х0,98","8х2х0,98","2х0,98","0,98","HF","8","2","0,98",null,null,"","",{"$f":"IF(SUM(L$8:L726)=0, \"\", \" + \")","v":""}]
["1437",null,"КСБнг(А)-FRHF 8х2х1,13","8х2х1,13","2х1,13","1,13","HF","8","2","1,13",null,null,"","",{"$f":"IF(SUM(L$8:L727)=0, \"\", \" + \")","v":""}]
["1444",null,"КСБнг(А)-FRHF 8х2х1,38","8х2х1,38","2х1,38","1,38","HF","8","2","1,38",null,null,"","",{"$f":"IF(SUM(L$8:L728)=0, \"\", \" + \")","v":""}]
["1451",null,"КСБнг(А)-FRHF 8х2х1,78","8х2х1,78","2х1,78","1,78","HF","8","2","1,78",null,null,"","",{"$f":"IF(SUM(L$8:L729)=0, \"\", \" + \")","v":""}]
["2184",null,"КСБнг(А)-FRLS 10х2х0,64","10х2х0,64","2х0,64","0,64","LS","10","2","0,64",null,null,"","",{"$f":"IF(SUM(L$8:L730)=0, \"\", \" + \")","v":""}]
["2183",null,"КСБнг(А)-FRLS 10х2х0,80","10х2х0,80","2х0,80","0,80","LS","10","2","0,80",null,null,"","",{"$f":"IF(SUM(L$8:L731)=0, \"\", \" + \")","v":""}]
["4465",null,"КСБнг(А)-FRLS 10х2х0,98","10х2х0,98","2х0,98","0,98","LS","10","2","0,98",null,null,"","",{"$f":"IF(SUM(L$8:L732)=0, \"\", \" + \")","v":""}]
["4471",null,"КСБнг(А)-FRLS 10х2х1,13","10х2х1,13","2х1,13","1,13","LS","10","2","1,13",null,null,"","",{"$f":"IF(SUM(L$8:L733)=0, \"\", \" + \")","v":""}]
["13113",null,"КСБнг(А)-FRLS 10х2х1,38","10х2х1,38","2х1,38","1,38","LS","10","2","1,38",null,null,"","",{"$f":"IF(SUM(L$8:L734)=0, \"\", \" + \")","v":""}]
["5079",null,"КСБнг(А)-FRLS 10х2х1,78","10х2х1,78","2х1,78","1,78","LS","10","2","1,78",null,null,"","",{"$f":"IF(SUM(L$8:L735)=0, \"\", \" + \")","v":""}]
["2074",null,"КСБнг(А)-FRLS 12х2х0,64","12х2х0,64","2х0,64","0,64","LS","12","2","0,64",null,null,"","",{"$f":"IF(SUM(L$8:L736)=0, \"\", \" + \")","v":""}]
["2068",null,"КСБнг(А)-FRLS 12х2х0,80","12х2х0,80","2х0,80","0,80","LS","12","2","0,80",null,null,"","",{"$f":"IF(SUM(L$8:L737)=0, \"\", \" + \")","v":""}]
["2080",null,"КСБнг(А)-FRLS 12х2х0,98","12х2х0,98","2х0,98","0,98","LS","12","2","0,98",null,null,"","",{"$f":"IF(SUM(L$8:L738)=0, \"\", \" + \")","v":""}]
["2083",null,"КСБнг(А)-FRLS 12х2х1,13","12х2х1,13","2х1,13","1,13","LS","12","2","1,13",null,null,"","",{"$f":"IF(SUM(L$8:L739)=0, \"\", \" + \")","v":""}]
["13114",null,"КСБнг(А)-FRLS 14х2х1,38","14х2х1,38","2х1,38","1,38","LS","14","2","1,38",null,null,"","",{"$f":"IF(SUM(L$8:L740)=0, \"\", \" + \")","v":""}]
["2075",null,"КСБнг(А)-FRLS 16х2х0,64","16х2х0,64","2х0,64","0,64","LS","16","2","0,64",null,null,"","",{"$f":"IF(SUM(L$8:L741)=0, \"\", \" + \")","v":""}]
["2069",null,"КСБнг(А)-FRLS 16х2х0,80","16х2х0,80","2х0,80","0,80","LS","16","2","0,80",null,null,"","",{"$f":"IF(SUM(L$8:L742)=0, \"\", \" + \")","v":""}]
["2081",null,"КСБнг(А)-FRLS 16х2х0,98","16х2х0,98","2х0,98","0,98","LS","16","2","0,98",null,null,"","",{"$f":"IF(SUM(L$8:L743)=0, \"\", \" + \")","v":""}]
["2084",null,"КСБнг(А)-FRLS 16х2х1,13","16х2х1,13","2х1,13","1,13","LS","16","2","1,13",null,null,"","",{"$f":"IF(SUM(L$8:L744)=0, \"\", \" + \")","v":""}]
["1700",null,"КСБнг(А)-FRLS 1х2х0,64","1х2х0,64","2х0,64","0,64","LS","1","2","0,64",null,null,"","",{"$f":"IF(SUM(L$8:L745)=0, \"\", \" + \")","v":""}]
["1578",null,"КСБнг(А)-FRLS 1х2х0,80","1х2х0,80","2х0,80","0,80","LS","1","2","0,80",null,null,"","",{"$f":"IF(SUM(L$8:L746)=0, \"\", \" + \")","v":""}]
["1580",null,"КСБнг(А)-FRLS 1х2х0,98","1х2х0,98","2х0,98","0,98","LS","1","2","0,98",null,null,"","",{"$f":"IF(SUM(L$8:L747)=0, \"\", \" + \")","v":""}]
["1582",null,"КСБнг(А)-FRLS 1х2х1,13","1х2х1,13","2х1,13","1,13","LS","1","2","1,13",null,null,"","",{"$f":"IF(SUM(L$8:L748)=0, \"\", \" + \")","v":""}]
["1584",null,"КСБнг(А)-FRLS 1х2х1,38","1х2х1,38","2х1,38","1,38","LS","1","2","1,38",null,null,"","",{"$f":"IF(SUM(L$8:L749)=0, \"\", \" + \")","v":""}]
["1586",null,"КСБнг(А)-FRLS 1х2х1,78","1х2х1,78","2х1,78","1,78","LS","1","2","1,78",null,null,"","",{"$f":"IF(SUM(L$8:L750)=0, \"\", \" + \")","v":""}]
["2076",null,"КСБнг(А)-FRLS 20х2х0,64","20х2х0,64","2х0,64","0,64","LS","20","2","0,64",null,null,"","",{"$f":"IF(SUM(L$8:L751)=0, \"\", \" + \")","v":""}]
["2070",null,"КСБнг(А)-FRLS 20х2х0,80","20х2х0,80","2х0,80","0,80","LS","20","2","0,80",null,null,"","",{"$f":"IF(SUM(L$8:L752)=0, \"\", \" + \")","v":""}]
["2154",null,"КСБнг(А)-FRLS 20х2х0,98","20х2х0,98","2х0,98","0,98","LS","20","2","0,98",null,null,"","",{"$f":"IF(SUM(L$8:L753)=0, \"\", \" + \")","v":""}]
["1701",null,"КСБнг(А)-FRLS 2х2х0,64","2х2х0,64","2х0,64","0,64","LS","2","2","0,64",null,null,"","",{"$f":"IF(SUM(L$8:L754)=0, \"\", \" + \")","v":""}]
["1579",null,"КСБнг(А)-FRLS 2х2х0,80","2х2х0,80","2х0,80","0,80","LS","2","2","0,80",null,null,"","",{"$f":"IF(SUM(L$8:L755)=0, \"\", \" + \")","v":""}]
["1581",null,"КСБнг(А)-FRLS 2х2х0,98","2х2х0,98","2х0,98","0,98","LS","2","2","0,98",null,null,"","",{"$f":"IF(SUM(L$8:L756)=0, \"\", \" + \")","v":""}]
["1583",null,"КСБнг(А)-FRLS 2х2х1,13","2х2х1,13","2х1,13","1,13","LS","2","2","1,13",null,null,"","",{"$f":"IF(SUM(L$8:L757)=0, \"\", \" + \")","v":""}]
["1585",null,"КСБнг(А)-FRLS 2х2х1,38","2х2х1,38","2х1,38","1,38","LS","2","2","1,38",null,null,"","",{"$f":"IF(SUM(L$8:L758)=0, \"\", \" + \")","v":""}]
["1587",null,"КСБнг(А)-FRLS 2х2х1,78","2х2х1,78","2х1,78","1,78","LS","2","2","1,78",null,null,"","",{"$f":"IF(SUM(L$8:L759)=0, \"\", \" + \")","v":""}]
["2077",null,"КСБнг(А)-FRLS 32х2х0,64","32х2х0,64","2х0,64","0,64","LS","32","2","0,64",null,null,"","",{"$f":"IF(SUM(L$8:L760)=0, \"\", \" + \")","v":""}]
["2071",null,"КСБнг(А)-FRLS 32х2х0,80","32х2х0,80","2х0,80","0,80","LS","32","2","0,80",null,null,"","",{"$f":"IF(SUM(L$8:L761)=0, \"\", \" + \")","v":""}]
["2717",null,"КСБнг(А)-FRLS 3х2х0,64","3х2х0,64","2х0,64","0,64","LS","3","2","0,64",null,null,"","",{"$f":"IF(SUM(L$8:L762)=0, \"\", \" + \")","v":""}]
["18365",null,"КСБнг(А)-FRLS 3х2х0,80","3х2х0,80","2х0,80","0,80","LS","3","2","0,80",null,null,"","",{"$f":"IF(SUM(L$8:L763)=0, \"\", \" + \")","v":""}]
["4484",null,"КСБнг(А)-FRLS 3х2х0,98","3х2х0,98","2х0,98","0,98","LS","3","2","0,98",null,null,"","",{"$f":"IF(SUM(L$8:L764)=0, \"\", \" + \")","v":""}]
["3472",null,"КСБнг(А)-FRLS 3х2х1,13","3х2х1,13","2х1,13","1,13","LS","3","2","1,13",null,null,"","",{"$f":"IF(SUM(L$8:L765)=0, \"\", \" + \")","v":""}]
["2980",null,"КСБнг(А)-FRLS 3х2х1,38","3х2х1,38","2х1,38","1,38","LS","3","2","1,38",null,null,"","",{"$f":"IF(SUM(L$8:L766)=0, \"\", \" + \")","v":""}]
["5080",null,"КСБнг(А)-FRLS 3х2х1,78","3х2х1,78","2х1,78","1,78","LS","3","2","1,78",null,null,"","",{"$f":"IF(SUM(L$8:L767)=0, \"\", \" + \")","v":""}]
["2078",null,"КСБнг(А)-FRLS 40х2х0,64","40х2х0,64","2х0,64","0,64","LS","40","2","0,64",null,null,"","",{"$f":"IF(SUM(L$8:L768)=0, \"\", \" + \")","v":""}]
["2072",null,"КСБнг(А)-FRLS 40х2х0,80","40х2х0,80","2х0,80","0,80","LS","40","2","0,80",null,null,"","",{"$f":"IF(SUM(L$8:L769)=0, \"\", \" + \")","v":""}]
["1702",null,"КСБнг(А)-FRLS 4х2х0,64","4х2х0,64","2х0,64","0,64","LS","4","2","0,64",null,null,"","",{"$f":"IF(SUM(L$8:L770)=0, \"\", \" + \")","v":""}]
["1796",null,"КСБнг(А)-FRLS 4х2х0,80","4х2х0,80","2х0,80","0,80","LS","4","2","0,80",null,null,"","",{"$f":"IF(SUM(L$8:L771)=0, \"\", \" + \")","v":""}]
["1797",null,"КСБнг(А)-FRLS 4х2х0,98","4х2х0,98","2х0,98","0,98","LS","4","2","0,98",null,null,"","",{"$f":"IF(SUM(L$8:L772)=0, \"\", \" + \")","v":""}]
["1798",null,"КСБнг(А)-FRLS 4х2х1,13","4х2х1,13","2х1,13","1,13","LS","4","2","1,13",null,null,"","",{"$f":"IF(SUM(L$8:L773)=0, \"\", \" + \")","v":""}]
["1799",null,"КСБнг(А)-FRLS 4х2х1,38","4х2х1,38","2х1,38","1,38","LS","4","2","1,38",null,null,"","",{"$f":"IF(SUM(L$8:L774)=0, \"\", \" + \")","v":""}]
["1800",null,"КСБнг(А)-FRLS 4х2х1,78","4х2х1,78","2х1,78","1,78","LS","4","2","1,78",null,null,"","",{"$f":"IF(SUM(L$8:L775)=0, \"\", \" + \")","v":""}]
["19821",null,"КСБнг(А)-FRLS 5х2х0,64 ","5х2х0,64 ","2х0,64 ","0,64 ","LS","5","2","0,64 ",null,null,"","",{"$f":"IF(SUM(L$8:L776)=0, \"\", \" + \")","v":""}]
["16665",null,"КСБнг(А)-FRLS 5х2х0,98",{"$f":"MID(C778, FIND(\" \",C778) +1, 100)","v":"5х2х0,98"},"2х0,98","0,98",{"$f":"MID(C778,FIND(\"FR\",C778)+2, 2)","v":"LS"},"5","2","0,98",null,null,{"$f":"IF(L778=0, \"\",CONCATENATE(O778, C778, \"-\",L778,\"м\"))","v":""},"",{"$f":"IF(SUM(L$8:L777)=0, \"\", \" + \")","v":""}]
["4326",null,"КСБнг(А)-FRLS 5х2х1,13","5х2х1,13",{"$f":"MID($D779,IF(ISERR(FIND(\"х\",$D779)), FIND(\"x\",$D779)+1, FIND(\"х\",$D779))+1, 100)","v":"2х1,13"},{"$f":"MID($E779,IF(ISERR(FIND(\"х\",$E779)), FIND(\"x\",$E779)+1, FIND(\"х\",$E779))+1,10)","v":"1,13"},"LS",{"$f":"MID($D779,1, IF(ISERR(FIND(\"х\",$D779)), FIND(\"x\",$D779)-1, FIND(\"х\",$D779))-1)","v":"5"},{"$f":"MID($E779,1, IF(ISERR(FIND(\"х\",$E779)), FIND(\"x\",$E779)-1, FIND(\"х\",$E779))-1)","v":"2"},{"$f":"F779","v":"1,13"},null,null,"",{"$f":"CONCATENATE(N778,M779)","v":""},{"$f":"IF(SUM(L$8:L778)=0, \"\", \" + \")","v":""}]
["3135",null,"КСБнг(А)-FRLS 5х2х1,38","5х2х1,38","2х1,38","1,38","LS","5","2","1,38",null,null,"","",{"$f":"IF(SUM(L$8:L779)=0, \"\", \" + \")","v":""}]
["16762",null,"КСБнг(А)-FRLS 5х2х1,78","5х2х1,78","2х1,78","1,78","LS","5","2","1,78",null,null,"","",{"$f":"IF(SUM(L$8:L780)=0, \"\", \" + \")","v":""}]
["17438",null,"КСБнг(А)-FRLS 6х2х0,64","6х2х0,64","2х0,64","0,64","LS","6","2","0,64",null,null,"","",{"$f":"IF(SUM(L$8:L781)=0, \"\", \" + \")","v":""}]
["4498",null,"КСБнг(А)-FRLS 6х2х0,80","6х2х0,80","2х0,80","0,80","LS","6","2","0,80",null,null,"","",{"$f":"IF(SUM(L$8:L782)=0, \"\", \" + \")","v":""}]
["20126",null,"КСБнг(А)-FRLS 6х2х0,98 ","6х2х0,98 ","2х0,98 ","0,98 ","LS","6","2","0,98 ",null,null,"","",{"$f":"IF(SUM(L$8:L783)=0, \"\", \" + \")","v":""}]
["16343",null,"КСБнг(А)-FRLS 6х2х1,13","6х2х1,13","2х1,13","1,13","LS","6","2","1,13",null,null,"","",{"$f":"IF(SUM(L$8:L784)=0, \"\", \" + \")","v":""}]
["18787",null,"КСБнг(А)-FRLS 6х2х1,38","6х2х1,38","2х1,38","1,38","LS","6","2","1,38",null,null,"","",{"$f":"IF(SUM(L$8:L785)=0, \"\", \" + \")","v":""}]
["5078",null,"КСБнг(А)-FRLS 6х2х1,78","6х2х1,78","2х1,78","1,78","LS","6","2","1,78",null,null,"","",{"$f":"IF(SUM(L$8:L786)=0, \"\", \" + \")","v":""}]
["3124",null,"КСБнг(А)-FRLS 7х2х0,80","7х2х0,80","2х0,80","0,80","LS","7","2","0,80",null,null,"","",{"$f":"IF(SUM(L$8:L787)=0, \"\", \" + \")","v":""}]
["17589",null,"КСБнг(А)-FRLS 7х2х1,13","7х2х1,13","2х1,13","1,13","LS","7","2","1,13",null,null,"","",{"$f":"IF(SUM(L$8:L788)=0, \"\", \" + \")","v":""}]
["13112",null,"КСБнг(А)-FRLS 7х2х1,38","7х2х1,38","2х1,38","1,38","LS","7","2","1,38",null,null,"","",{"$f":"IF(SUM(L$8:L789)=0, \"\", \" + \")","v":""}]
["2073",null,"КСБнг(А)-FRLS 8х2х0,64","8х2х0,64","2х0,64","0,64","LS","8","2","0,64",null,null,"","",{"$f":"IF(SUM(L$8:L790)=0, \"\", \" + \")","v":""}]
["2067",null,"КСБнг(А)-FRLS 8х2х0,80","8х2х0,80","2х0,80","0,80","LS","8","2","0,80",null,null,"","",{"$f":"IF(SUM(L$8:L791)=0, \"\", \" + \")","v":""}]
["2079",null,"КСБнг(А)-FRLS 8х2х0,98","8х2х0,98","2х0,98","0,98","LS","8","2","0,98",null,null,"","",{"$f":"IF(SUM(L$8:L792)=0, \"\", \" + \")","v":""}]
["2082",null,"КСБнг(А)-FRLS 8х2х1,13","8х2х1,13","2х1,13","1,13","LS","8","2","1,13",null,null,"","",{"$f":"IF(SUM(L$8:L793)=0, \"\", \" + \")","v":""}]
["4603",null,"КСБСКГнг(А)-FRHF 1х2х0,64","1х2х0,64","2х0,64","0,64","HF","1","2","0,64",null,null,"","",{"$f":"IF(SUM(L$8:L794)=0, \"\", \" + \")","v":""}]
["4606",null,"КСБСКГнг(А)-FRHF 1х2х0,8","1х2х0,8","2х0,8","0,8","HF","1","2","0,8",null,null,"","",{"$f":"IF(SUM(L$8:L795)=0, \"\", \" + \")","v":""}]
["4609",null,"КСБСКГнг(А)-FRHF 1х2х0,98","1х2х0,98","2х0,98","0,98","HF","1","2","0,98",null,null,"","",{"$f":"IF(SUM(L$8:L796)=0, \"\", \" + \")","v":""}]
["4612",null,"КСБСКГнг(А)-FRHF 1х2х1,13","1х2х1,13","2х1,13","1,13","HF","1","2","1,13",null,null,"","",{"$f":"IF(SUM(L$8:L797)=0, \"\", \" + \")","v":""}]
["4615",null,"КСБСКГнг(А)-FRHF 1х2х1,38","1х2х1,38","2х1,38","1,38","HF","1","2","1,38",null,null,"","",{"$f":"IF(SUM(L$8:L798)=0, \"\", \" + \")","v":""}]
["4618",null,"КСБСКГнг(А)-FRHF 1х2х1,78","1х2х1,78","2х1,78","1,78","HF","1","2","1,78",null,null,"","",{"$f":"IF(SUM(L$8:L799)=0, \"\", \" + \")","v":""}]
["4604",null,"КСБСКГнг(А)-FRHF 2х2х0,64","2х2х0,64","2х0,64","0,64","HF","2","2","0,64",null,null,"","",{"$f":"IF(SUM(L$8:L800)=0, \"\", \" + \")","v":""}]
["4607",null,"КСБСКГнг(А)-FRHF 2х2х0,8","2х2х0,8","2х0,8","0,8","HF","2","2","0,8",null,null,"","",{"$f":"IF(SUM(L$8:L801)=0, \"\", \" + \")","v":""}]
["4610",null,"КСБСКГнг(А)-FRHF 2х2х0,98","2х2х0,98","2х0,98","0,98","HF","2","2","0,98",null,null,"","",{"$f":"IF(SUM(L$8:L802)=0, \"\", \" + \")","v":""}]
["4613",null,"КСБСКГнг(А)-FRHF 2х2х1,13","2х2х1,13","2х1,13","1,13","HF","2","2","1,13",null,null,"","",{"$f":"IF(SUM(L$8:L803)=0, \"\", \" + \")","v":""}]
["4616",null,"КСБСКГнг(А)-FRHF 2х2х1,38","2х2х1,38","2х1,38","1,38","HF","2","2","1,38",null,null,"","",{"$f":"IF(SUM(L$8:L804)=0, \"\", \" + \")","v":""}]
["4619",null,"КСБСКГнг(А)-FRHF 2х2х1,78","2х2х1,78","2х1,78","1,78","HF","2","2","1,78",null,null,"","",{"$f":"IF(SUM(L$8:L805)=0, \"\", \" + \")","v":""}]
["4605",null,"КСБСКГнг(А)-FRHF 4х2х0,64","4х2х0,64","2х0,64","0,64","HF","4","2","0,64",null,null,"","",{"$f":"IF(SUM(L$8:L806)=0, \"\", \" + \")","v":""}]
["4608",null,"КСБСКГнг(А)-FRHF 4х2х0,8","4х2х0,8","2х0,8","0,8","HF","4","2","0,8",null,null,"","",{"$f":"IF(SUM(L$8:L807)=0, \"\", \" + \")","v":""}]
["4611",null,"КСБСКГнг(А)-FRHF 4х2х0,98","4х2х0,98","2х0,98","0,98","HF","4","2","0,98",null,null,"","",{"$f":"IF(SUM(L$8:L808)=0, \"\", \" + \")","v":""}]
["4614",null,"КСБСКГнг(А)-FRHF 4х2х1,13","4х2х1,13","2х1,13","1,13","HF","4","2","1,13",null,null,"","",{"$f":"IF(SUM(L$8:L809)=0, \"\", \" + \")","v":""}]
["4617",null,"КСБСКГнг(А)-FRHF 4х2х1,38","4х2х1,38","2х1,38","1,38","HF","4","2","1,38",null,null,"","",{"$f":"IF(SUM(L$8:L810)=0, \"\", \" + \")","v":""}]
["4620",null,"КСБСКГнг(А)-FRHF 4х2х1,78","4х2х1,78","2х1,78","1,78","HF","4","2","1,78",null,null,"","",{"$f":"IF(SUM(L$8:L811)=0, \"\", \" + \")","v":""}]
["4585",null,"КСБСКГнг(А)-FRLS 1х2х0,64","1х2х0,64","2х0,64","0,64","LS","1","2","0,64",null,null,"","",{"$f":"IF(SUM(L$8:L812)=0, \"\", \" + \")","v":""}]
["4588",null,"КСБСКГнг(А)-FRLS 1х2х0,8","1х2х0,8","2х0,8","0,8","LS","1","2","0,8",null,null,"","",{"$f":"IF(SUM(L$8:L813)=0, \"\", \" + \")","v":""}]
["4591",null,"КСБСКГнг(А)-FRLS 1х2х0,98","1х2х0,98","2х0,98","0,98","LS","1","2","0,98",null,null,"","",{"$f":"IF(SUM(L$8:L814)=0, \"\", \" + \")","v":""}]
["4594",null,"КСБСКГнг(А)-FRLS 1х2х1,13","1х2х1,13","2х1,13","1,13","LS","1","2","1,13",null,null,"","",{"$f":"IF(SUM(L$8:L815)=0, \"\", \" + \")","v":""}]
["4597",null,"КСБСКГнг(А)-FRLS 1х2х1,38","1х2х1,38","2х1,38","1,38","LS","1","2","1,38",null,null,"","",{"$f":"IF(SUM(L$8:L816)=0, \"\", \" + \")","v":""}]
["4600",null,"КСБСКГнг(А)-FRLS 1х2х1,78","1х2х1,78","2х1,78","1,78","LS","1","2","1,78",null,null,"","",{"$f":"IF(SUM(L$8:L817)=0, \"\", \" + \")","v":""}]
["4586",null,"КСБСКГнг(А)-FRLS 2х2х0,64","2х2х0,64","2х0,64","0,64","LS","2","2","0,64",null,null,"","",{"$f":"IF(SUM(L$8:L818)=0, \"\", \" + \")","v":""}]
["4589",null,"КСБСКГнг(А)-FRLS 2х2х0,8","2х2х0,8","2х0,8","0,8","LS","2","2","0,8",null,null,"","",{"$f":"IF(SUM(L$8:L819)=0, \"\", \" + \")","v":""}]
["4592",null,"КСБСКГнг(А)-FRLS 2х2х0,98","2х2х0,98","2х0,98","0,98","LS","2","2","0,98",null,null,"","",{"$f":"IF(SUM(L$8:L820)=0, \"\", \" + \")","v":""}]
["4595",null,"КСБСКГнг(А)-FRLS 2х2х1,13","2х2х1,13","2х1,13","1,13","LS","2","2","1,13",null,null,"","",{"$f":"IF(SUM(L$8:L821)=0, \"\", \" + \")","v":""}]
["4598",null,"КСБСКГнг(А)-FRLS 2х2х1,38","2х2х1,38","2х1,38","1,38","LS","2","2","1,38",null,null,"","",{"$f":"IF(SUM(L$8:L822)=0, \"\", \" + \")","v":""}]
["4601",null,"КСБСКГнг(А)-FRLS 2х2х1,78","2х2х1,78","2х1,78","1,78","LS","2","2","1,78",null,null,"","",{"$f":"IF(SUM(L$8:L823)=0, \"\", \" + \")","v":""}]
["17521",null,"КСБСКГнг(А)-FRLS 3х2х0,8","3х2х0,8","2х0,8","0,8","LS","3","2","0,8",null,null,"","",{"$f":"IF(SUM(L$8:L824)=0, \"\", \" + \")","v":""}]
["16473",null,"КСБСКГнг(А)-FRLS 3х2х1,13","3х2х1,13","2х1,13","1,13","LS","3","2","1,13",null,null,"","",{"$f":"IF(SUM(L$8:L825)=0, \"\", \" + \")","v":""}]
["4587",null,"КСБСКГнг(А)-FRLS 4х2х0,64","4х2х0,64","2х0,64","0,64","LS","4","2","0,64",null,null,"","",{"$f":"IF(SUM(L$8:L826)=0, \"\", \" + \")","v":""}]
["4590",null,"КСБСКГнг(А)-FRLS 4х2х0,8","4х2х0,8","2х0,8","0,8","LS","4","2","0,8",null,null,"","",{"$f":"IF(SUM(L$8:L827)=0, \"\", \" + \")","v":""}]
["4593",null,"КСБСКГнг(А)-FRLS 4х2х0,98","4х2х0,98","2х0,98","0,98","LS","4","2","0,98",null,null,"","",{"$f":"IF(SUM(L$8:L828)=0, \"\", \" + \")","v":""}]
["4596",null,"КСБСКГнг(А)-FRLS 4х2х1,13","4х2х1,13","2х1,13","1,13","LS","4","2","1,13",null,null,"","",{"$f":"IF(SUM(L$8:L829)=0, \"\", \" + \")","v":""}]
["4599",null,"КСБСКГнг(А)-FRLS 4х2х1,38","4х2х1,38","2х1,38","1,38","LS","4","2","1,38",null,null,"","",{"$f":"IF(SUM(L$8:L830)=0, \"\", \" + \")","v":""}]
["4602",null,"КСБСКГнг(А)-FRLS 4х2х1,78","4х2х1,78","2х1,78","1,78","LS","4","2","1,78",null,null,"","",{"$f":"IF(SUM(L$8:L831)=0, \"\", \" + \")","v":""}]
["2639",null,"КСБСКнг(А)-FRHF 12х2х0,64","12х2х0,64","2х0,64","0,64","HF","12","2","0,64",null,null,"","",{"$f":"IF(SUM(L$8:L832)=0, \"\", \" + \")","v":""}]
["2643",null,"КСБСКнг(А)-FRHF 12х2х0,8","12х2х0,8","2х0,8","0,8","HF","12","2","0,8",null,null,"","",{"$f":"IF(SUM(L$8:L833)=0, \"\", \" + \")","v":""}]
["2647",null,"КСБСКнг(А)-FRHF 12х2х0,98","12х2х0,98","2х0,98","0,98","HF","12","2","0,98",null,null,"","",{"$f":"IF(SUM(L$8:L834)=0, \"\", \" + \")","v":""}]
["2650",null,"КСБСКнг(А)-FRHF 12х2х1,13","12х2х1,13","2х1,13","1,13","HF","12","2","1,13",null,null,"","",{"$f":"IF(SUM(L$8:L835)=0, \"\", \" + \")","v":""}]
["2640",null,"КСБСКнг(А)-FRHF 16х2х0,64","16х2х0,64","2х0,64","0,64","HF","16","2","0,64",null,null,"","",{"$f":"IF(SUM(L$8:L836)=0, \"\", \" + \")","v":""}]
["2644",null,"КСБСКнг(А)-FRHF 16х2х0,8","16х2х0,8","2х0,8","0,8","HF","16","2","0,8",null,null,"","",{"$f":"IF(SUM(L$8:L837)=0, \"\", \" + \")","v":""}]
["2648",null,"КСБСКнг(А)-FRHF 16х2х0,98","16х2х0,98","2х0,98","0,98","HF","16","2","0,98",null,null,"","",{"$f":"IF(SUM(L$8:L838)=0, \"\", \" + \")","v":""}]
["1832",null,"КСБСКнг(А)-FRHF 1х2х0,64","1х2х0,64","2х0,64","0,64","HF","1","2","0,64",null,null,"","",{"$f":"IF(SUM(L$8:L839)=0, \"\", \" + \")","v":""}]
["1835",null,"КСБСКнг(А)-FRHF 1х2х0,8","1х2х0,8","2х0,8","0,8","HF","1","2","0,8",null,null,"","",{"$f":"IF(SUM(L$8:L840)=0, \"\", \" + \")","v":""}]
["1839",null,"КСБСКнг(А)-FRHF 1х2х0,98",{"$f":"MID(C842, FIND(\" \",C842) +1, 100)","v":"1х2х0,98"},"2х0,98","0,98",{"$f":"MID(C842,FIND(\"FR\",C842)+2, 2)","v":"HF"},"1","2","0,98",null,null,{"$f":"IF(L842=0, \"\",CONCATENATE(O842, C842, \"-\",L842,\"м\"))","v":""},"",{"$f":"IF(SUM(L$8:L841)=0, \"\", \" + \")","v":""}]
["1836",null,"КСБСКнг(А)-FRHF 1х2х1,13","1х2х1,13",{"$f":"MID($D843,IF(ISERR(FIND(\"х\",$D843)), FIND(\"x\",$D843)+1, FIND(\"х\",$D843))+1, 100)","v":"2х1,13"},{"$f":"MID($E843,IF(ISERR(FIND(\"х\",$E843)), FIND(\"x\",$E843)+1, FIND(\"х\",$E843))+1,10)","v":"1,13"},"HF",{"$f":"MID($D843,1, IF(ISERR(FIND(\"х\",$D843)), FIND(\"x\",$D843)-1, FIND(\"х\",$D843))-1)","v":"1"},{"$f":"MID($E843,1, IF(ISERR(FIND(\"х\",$E843)), FIND(\"x\",$E843)-1, FIND(\"х\",$E843))-1)","v":"2"},{"$f":"F843","v":"1,13"},null,null,"",{"$f":"CONCATENATE(N842,M843)","v":""},{"$f":"IF(SUM(L$8:L842)=0, \"\", \" + \")","v":""}]
["1842",null,"КСБСКнг(А)-FRHF 1х2х1,38","1х2х1,38","2х1,38","1,38","HF","1","2","1,38",null,null,"","",{"$f":"IF(SUM(L$8:L843)=0, \"\", \" + \")","v":""}]
["1845",null,"КСБСКнг(А)-FRHF 1х2х1,78","1х2х1,78","2х1,78","1,78","HF","1","2","1,78",null,null,"","",{"$f":"IF(SUM(L$8:L844)=0, \"\", \" + \")","v":""}]
["2641",null,"КСБСКнг(А)-FRHF 20х2х0,64","20х2х0,64","2х0,64","0,64","HF","20","2","0,64",null,null,"","",{"$f":"IF(SUM(L$8:L845)=0, \"\", \" + \")","v":""}]
["2645",null,"КСБСКнг(А)-FRHF 20х2х0,8","20х2х0,8","2х0,8","0,8","HF","20","2","0,8",null,null,"","",{"$f":"IF(SUM(L$8:L846)=0, \"\", \" + \")","v":""}]
["1833",null,"КСБСКнг(А)-FRHF 2х2х0,64","2х2х0,64","2х0,64","0,64","HF","2","2","0,64",null,null,"","",{"$f":"IF(SUM(L$8:L847)=0, \"\", \" + \")","v":""}]
["1840",null,"КСБСКнг(А)-FRHF 2х2х0,98","2х2х0,98","2х0,98","0,98","HF","2","2","0,98",null,null,"","",{"$f":"IF(SUM(L$8:L848)=0, \"\", \" + \")","v":""}]
["1837",null,"КСБСКнг(А)-FRHF 2х2х1,13","2х2х1,13","2х1,13","1,13","HF","2","2","1,13",null,null,"","",{"$f":"IF(SUM(L$8:L849)=0, \"\", \" + \")","v":""}]
["1843",null,"КСБСКнг(А)-FRHF 2х2х1,38","2х2х1,38","2х1,38","1,38","HF","2","2","1,38",null,null,"","",{"$f":"IF(SUM(L$8:L850)=0, \"\", \" + \")","v":""}]
["1846",null,"КСБСКнг(А)-FRHF 2х2х1,78","2х2х1,78","2х1,78","1,78","HF","2","2","1,78",null,null,"","",{"$f":"IF(SUM(L$8:L851)=0, \"\", \" + \")","v":""}]
["3041",null,"КСБСКнг(А)-FRHF 3х2х0,8","3х2х0,8","2х0,8","0,8","HF","3","2","0,8",null,null,"","",{"$f":"IF(SUM(L$8:L852)=0, \"\", \" + \")","v":""}]
["1834",null,"КСБСКнг(А)-FRHF 4х2х0,64","4х2х0,64","2х0,64","0,64","HF","4","2","0,64",null,null,"","",{"$f":"IF(SUM(L$8:L853)=0, \"\", \" + \")","v":""}]
["1849",null,"КСБСКнг(А)-FRHF 4х2х0,8","4х2х0,8","2х0,8","0,8","HF","4","2","0,8",null,null,"","",{"$f":"IF(SUM(L$8:L854)=0, \"\", \" + \")","v":""}]
["1841",null,"КСБСКнг(А)-FRHF 4х2х0,98","4х2х0,98","2х0,98","0,98","HF","4","2","0,98",null,null,"","",{"$f":"IF(SUM(L$8:L855)=0, \"\", \" + \")","v":""}]
["1838",null,"КСБСКнг(А)-FRHF 4х2х1,13","4х2х1,13","2х1,13","1,13","HF","4","2","1,13",null,null,"","",{"$f":"IF(SUM(L$8:L856)=0, \"\", \" + \")","v":""}]
["1844",null,"КСБСКнг(А)-FRHF 4х2х1,38","4х2х1,38","2х1,38","1,38","HF","4","2","1,38",null,null,"","",{"$f":"IF(SUM(L$8:L857)=0, \"\", \" + \")","v":""}]
["1847",null,"КСБСКнг(А)-FRHF 4х2х1,78","4х2х1,78","2х1,78","1,78","HF","4","2","1,78",null,null,"","",{"$f":"IF(SUM(L$8:L858)=0, \"\", \" + \")","v":""}]
["19658",null,"КСБСКнг(А)-FRHF 6х2х0,98 ","6х2х0,98 ","2х0,98 ","0,98 ","HF","6","2","0,98 ",null,null,"","",{"$f":"IF(SUM(L$8:L859)=0, \"\", \" + \")","v":""}]
["2638",null,"КСБСКнг(А)-FRHF 8х2х0,64","8х2х0,64","2х0,64","0,64","HF","8","2","0,64",null,null,"","",{"$f":"IF(SUM(L$8:L860)=0, \"\", \" + \")","v":""}]
["2642",null,"КСБСКнг(А)-FRHF 8х2х0,8","8х2х0,8","2х0,8","0,8","HF","8","2","0,8",null,null,"","",{"$f":"IF(SUM(L$8:L861)=0, \"\", \" + \")","v":""}]
["2646",null,"КСБСКнг(А)-FRHF 8х2х0,98","8х2х0,98","2х0,98","0,98","HF","8","2","0,98",null,null,"","",{"$f":"IF(SUM(L$8:L862)=0, \"\", \" + \")","v":""}]
["2649",null,"КСБСКнг(А)-FRHF 8х2х1,13","8х2х1,13","2х1,13","1,13","HF","8","2","1,13",null,null,"","",{"$f":"IF(SUM(L$8:L863)=0, \"\", \" + \")","v":""}]
["2626",null,"КСБСКнг(А)-FRLS 12х2х0,64","12х2х0,64","2х0,64","0,64","LS","12","2","0,64",null,null,"","",{"$f":"IF(SUM(L$8:L864)=0, \"\", \" + \")","v":""}]
["2630",null,"КСБСКнг(А)-FRLS 12х2х0,8","12х2х0,8","2х0,8","0,8","LS","12","2","0,8",null,null,"","",{"$f":"IF(SUM(L$8:L865)=0, \"\", \" + \")","v":""}]
["2634",null,"КСБСКнг(А)-FRLS 12х2х0,98","12х2х0,98","2х0,98","0,98","LS","12","2","0,98",null,null,"","",{"$f":"IF(SUM(L$8:L866)=0, \"\", \" + \")","v":""}]
["2637",null,"КСБСКнг(А)-FRLS 12х2х1,13","12х2х1,13","2х1,13","1,13","LS","12","2","1,13",null,null,"","",{"$f":"IF(SUM(L$8:L867)=0, \"\", \" + \")","v":""}]
["16464",null,"КСБСКнг(А)-FRLS 12х2х1,78","12х2х1,78","2х1,78","1,78","LS","12","2","1,78",null,null,"","",{"$f":"IF(SUM(L$8:L868)=0, \"\", \" + \")","v":""}]
["2627",null,"КСБСКнг(А)-FRLS 16х2х0,64","16х2х0,64","2х0,64","0,64","LS","16","2","0,64",null,null,"","",{"$f":"IF(SUM(L$8:L869)=0, \"\", \" + \")","v":""}]
["2631",null,"КСБСКнг(А)-FRLS 16х2х0,8","16х2х0,8","2х0,8","0,8","LS","16","2","0,8",null,null,"","",{"$f":"IF(SUM(L$8:L870)=0, \"\", \" + \")","v":""}]
["2635",null,"КСБСКнг(А)-FRLS 16х2х0,98","16х2х0,98","2х0,98","0,98","LS","16","2","0,98",null,null,"","",{"$f":"IF(SUM(L$8:L871)=0, \"\", \" + \")","v":""}]
["1815",null,"КСБСКнг(А)-FRLS 1х2х0,64","1х2х0,64","2х0,64","0,64","LS","1","2","0,64",null,null,"","",{"$f":"IF(SUM(L$8:L872)=0, \"\", \" + \")","v":""}]
["1818",null,"КСБСКнг(А)-FRLS 1х2х0,8","1х2х0,8","2х0,8","0,8","LS","1","2","0,8",null,null,"","",{"$f":"IF(SUM(L$8:L873)=0, \"\", \" + \")","v":""}]
["1824",null,"КСБСКнг(А)-FRLS 1х2х0,98","1х2х0,98","2х0,98","0,98","LS","1","2","0,98",null,null,"","",{"$f":"IF(SUM(L$8:L874)=0, \"\", \" + \")","v":""}]
["1821",null,"КСБСКнг(А)-FRLS 1х2х1,13","1х2х1,13","2х1,13","1,13","LS","1","2","1,13",null,null,"","",{"$f":"IF(SUM(L$8:L875)=0, \"\", \" + \")","v":""}]
["1826",null,"КСБСКнг(А)-FRLS 1х2х1,38","1х2х1,38","2х1,38","1,38","LS","1","2","1,38",null,null,"","",{"$f":"IF(SUM(L$8:L876)=0, \"\", \" + \")","v":""}]
["1829",null,"КСБСКнг(А)-FRLS 1х2х1,78","1х2х1,78","2х1,78","1,78","LS","1","2","1,78",null,null,"","",{"$f":"IF(SUM(L$8:L877)=0, \"\", \" + \")","v":""}]
["2628",null,"КСБСКнг(А)-FRLS 20х2х0,64","20х2х0,64","2х0,64","0,64","LS","20","2","0,64",null,null,"","",{"$f":"IF(SUM(L$8:L878)=0, \"\", \" + \")","v":""}]
["2632",null,"КСБСКнг(А)-FRLS 20х2х0,8","20х2х0,8","2х0,8","0,8","LS","20","2","0,8",null,null,"","",{"$f":"IF(SUM(L$8:L879)=0, \"\", \" + \")","v":""}]
["1816",null,"КСБСКнг(А)-FRLS 2х2х0,64","2х2х0,64","2х0,64","0,64","LS","2","2","0,64",null,null,"","",{"$f":"IF(SUM(L$8:L880)=0, \"\", \" + \")","v":""}]
["1819",null,"КСБСКнг(А)-FRLS 2х2х0,8","2х2х0,8","2х0,8","0,8","LS","2","2","0,8",null,null,"","",{"$f":"IF(SUM(L$8:L881)=0, \"\", \" + \")","v":""}]
["1640",null,"КСБСКнг(А)-FRLS 2х2х0,98","2х2х0,98","2х0,98","0,98","LS","2","2","0,98",null,null,"","",{"$f":"IF(SUM(L$8:L882)=0, \"\", \" + \")","v":""}]
["1822",null,"КСБСКнг(А)-FRLS 2х2х1,13","2х2х1,13","2х1,13","1,13","LS","2","2","1,13",null,null,"","",{"$f":"IF(SUM(L$8:L883)=0, \"\", \" + \")","v":""}]
["1827",null,"КСБСКнг(А)-FRLS 2х2х1,38","2х2х1,38","2х1,38","1,38","LS","2","2","1,38",null,null,"","",{"$f":"IF(SUM(L$8:L884)=0, \"\", \" + \")","v":""}]
["1830",null,"КСБСКнг(А)-FRLS 2х2х1,78","2х2х1,78","2х1,78","1,78","LS","2","2","1,78",null,null,"","",{"$f":"IF(SUM(L$8:L885)=0, \"\", \" + \")","v":""}]
["3040",null,"КСБСКнг(А)-FRLS 3х2х0,8","3х2х0,8","2х0,8","0,8","LS","3","2","0,8",null,null,"","",{"$f":"IF(SUM(L$8:L886)=0, \"\", \" + \")","v":""}]
["1817",null,"КСБСКнг(А)-FRLS 4х2х0,64","4х2х0,64","2х0,64","0,64","LS","4","2","0,64",null,null,"","",{"$f":"IF(SUM(L$8:L887)=0, \"\", \" + \")","v":""}]
["1820",null,"КСБСКнг(А)-FRLS 4х2х0,8","4х2х0,8","2х0,8","0,8","LS","4","2","0,8",null,null,"","",{"$f":"IF(SUM(L$8:L888)=0, \"\", \" + \")","v":""}]
["1825",null,"КСБСКнг(А)-FRLS 4х2х0,98","4х2х0,98","2х0,98","0,98","LS","4","2","0,98",null,null,"","",{"$f":"IF(SUM(L$8:L889)=0, \"\", \" + \")","v":""}]
["1823",null,"КСБСКнг(А)-FRLS 4х2х1,13","4х2х1,13","2х1,13","1,13","LS","4","2","1,13",null,null,"","",{"$f":"IF(SUM(L$8:L890)=0, \"\", \" + \")","v":""}]
["1828",null,"КСБСКнг(А)-FRLS 4х2х1,38","4х2х1,38","2х1,38","1,38","LS","4","2","1,38",null,null,"","",{"$f":"IF(SUM(L$8:L891)=0, \"\", \" + \")","v":""}]
["1831",null,"КСБСКнг(А)-FRLS 4х2х1,78","4х2х1,78","2х1,78","1,78","LS","4","2","1,78",null,null,"","",{"$f":"IF(SUM(L$8:L892)=0, \"\", \" + \")","v":""}]
["18945",null,"КСБСКнг(А)-FRLS 6х2х0,8","6х2х0,8","2х0,8","0,8","LS","6","2","0,8",null,null,"","",{"$f":"IF(SUM(L$8:L893)=0, \"\", \" + \")","v":""}]
["2625",null,"КСБСКнг(А)-FRLS 8х2х0,64","8х2х0,64","2х0,64","0,64","LS","8","2","0,64",null,null,"","",{"$f":"IF(SUM(L$8:L894)=0, \"\", \" + \")","v":""}]
["2629",null,"КСБСКнг(А)-FRLS 8х2х0,8","8х2х0,8","2х0,8","0,8","LS","8","2","0,8",null,null,"","",{"$f":"IF(SUM(L$8:L895)=0, \"\", \" + \")","v":""}]
["2633",null,"КСБСКнг(А)-FRLS 8х2х0,98","8х2х0,98","2х0,98","0,98","LS","8","2","0,98",null,null,"","",{"$f":"IF(SUM(L$8:L896)=0, \"\", \" + \")","v":""}]
["2636",null,"КСБСКнг(А)-FRLS 8х2х1,13","8х2х1,13","2х1,13","1,13","LS","8","2","1,13",null,null,"","",{"$f":"IF(SUM(L$8:L897)=0, \"\", \" + \")","v":""}]
["2863",null,"КСБСнг(А)-FRHF 10х2х0,64","10х2х0,64","2х0,64","0,64","HF","10","2","0,64",null,null,"","",{"$f":"IF(SUM(L$8:L898)=0, \"\", \" + \")","v":""}]
["2940",null,"КСБСнг(А)-FRHF 10х2х0,8","10х2х0,8","2х0,8","0,8","HF","10","2","0,8",null,null,"","",{"$f":"IF(SUM(L$8:L899)=0, \"\", \" + \")","v":""}]
["2938",null,"КСБСнг(А)-FRHF 10х2х0,98","10х2х0,98","2х0,98","0,98","HF","10","2","0,98",null,null,"","",{"$f":"IF(SUM(L$8:L900)=0, \"\", \" + \")","v":""}]
["2590",null,"КСБСнг(А)-FRHF 12х2х0,64","12х2х0,64","2х0,64","0,64","HF","12","2","0,64",null,null,"","",{"$f":"IF(SUM(L$8:L901)=0, \"\", \" + \")","v":""}]
["2596",null,"КСБСнг(А)-FRHF 12х2х0,8","12х2х0,8","2х0,8","0,8","HF","12","2","0,8",null,null,"","",{"$f":"IF(SUM(L$8:L902)=0, \"\", \" + \")","v":""}]
["2601",null,"КСБСнг(А)-FRHF 12х2х0,98","12х2х0,98","2х0,98","0,98","HF","12","2","0,98",null,null,"","",{"$f":"IF(SUM(L$8:L903)=0, \"\", \" + \")","v":""}]
["2605",null,"КСБСнг(А)-FRHF 12х2х1,13","12х2х1,13","2х1,13","1,13","HF","12","2","1,13",null,null,"","",{"$f":"IF(SUM(L$8:L904)=0, \"\", \" + \")","v":""}]
["2591",null,"КСБСнг(А)-FRHF 16х2х0,64",{"$f":"MID(C906, FIND(\" \",C906) +1, 100)","v":"16х2х0,64"},"2х0,64","0,64",{"$f":"MID(C906,FIND(\"FR\",C906)+2, 2)","v":"HF"},"16","2","0,64",null,null,{"$f":"IF(L906=0, \"\",CONCATENATE(O906, C906, \"-\",L906,\"м\"))","v":""},"",{"$f":"IF(SUM(L$8:L905)=0, \"\", \" + \")","v":""}]
["2597",null,"КСБСнг(А)-FRHF 16х2х0,8","16х2х0,8",{"$f":"MID($D907,IF(ISERR(FIND(\"х\",$D907)), FIND(\"x\",$D907)+1, FIND(\"х\",$D907))+1, 100)","v":"2х0,8"},{"$f":"MID($E907,IF(ISERR(FIND(\"х\",$E907)), FIND(\"x\",$E907)+1, FIND(\"х\",$E907))+1,10)","v":"0,8"},"HF",{"$f":"MID($D907,1, IF(ISERR(FIND(\"х\",$D907)), FIND(\"x\",$D907)-1, FIND(\"х\",$D907))-1)","v":"16"},{"$f":"MID($E907,1, IF(ISERR(FIND(\"х\",$E907)), FIND(\"x\",$E907)-1, FIND(\"х\",$E907))-1)","v":"2"},{"$f":"F907","v":"0,8"},null,null,"",{"$f":"CONCATENATE(N906,M907)","v":""},{"$f":"IF(SUM(L$8:L906)=0, \"\", \" + \")","v":""}]
["2602",null,"КСБСнг(А)-FRHF 16х2х0,98","16х2х0,98","2х0,98","0,98","HF","16","2","0,98",null,null,"","",{"$f":"IF(SUM(L$8:L907)=0, \"\", \" + \")","v":""}]
["2606",null,"КСБСнг(А)-FRHF 16х2х1,13","16х2х1,13","2х1,13","1,13","HF","16","2","1,13",null,null,"","",{"$f":"IF(SUM(L$8:L908)=0, \"\", \" + \")","v":""}]
["20131",null,"КСБСнг(А)-FRHF 16х2х1,38 ","16х2х1,38 ","2х1,38 ","1,38 ","HF","16","2","1,38 ",null,null,"","",{"$f":"IF(SUM(L$8:L909)=0, \"\", \" + \")","v":""}]
["1791",null,"КСБСнг(А)-FRHF 1х2х0,64","1х2х0,64","2х0,64","0,64","HF","1","2","0,64",null,null,"","",{"$f":"IF(SUM(L$8:L910)=0, \"\", \" + \")","v":""}]
["1370",null,"КСБСнг(А)-FRHF 1х2х0,8","1х2х0,8","2х0,8","0,8","HF","1","2","0,8",null,null,"","",{"$f":"IF(SUM(L$8:L911)=0, \"\", \" + \")","v":""}]
["1373",null,"КСБСнг(А)-FRHF 1х2х0,98","1х2х0,98","2х0,98","0,98","HF","1","2","0,98",null,null,"","",{"$f":"IF(SUM(L$8:L912)=0, \"\", \" + \")","v":""}]
["1376",null,"КСБСнг(А)-FRHF 1х2х1,13","1х2х1,13","2х1,13","1,13","HF","1","2","1,13",null,null,"","",{"$f":"IF(SUM(L$8:L913)=0, \"\", \" + \")","v":""}]
["1379",null,"КСБСнг(А)-FRHF 1х2х1,38","1х2х1,38","2х1,38","1,38","HF","1","2","1,38",null,null,"","",{"$f":"IF(SUM(L$8:L914)=0, \"\", \" + \")","v":""}]
["1382",null,"КСБСнг(А)-FRHF 1х2х1,78","1х2х1,78","2х1,78","1,78","HF","1","2","1,78",null,null,"","",{"$f":"IF(SUM(L$8:L915)=0, \"\", \" + \")","v":""}]
["2592",null,"КСБСнг(А)-FRHF 20х2х0,64","20х2х0,64","2х0,64","0,64","HF","20","2","0,64",null,null,"","",{"$f":"IF(SUM(L$8:L916)=0, \"\", \" + \")","v":""}]
["2598",null,"КСБСнг(А)-FRHF 20х2х0,8","20х2х0,8","2х0,8","0,8","HF","20","2","0,8",null,null,"","",{"$f":"IF(SUM(L$8:L917)=0, \"\", \" + \")","v":""}]
["2603",null,"КСБСнг(А)-FRHF 20х2х0,98","20х2х0,98","2х0,98","0,98","HF","20","2","0,98",null,null,"","",{"$f":"IF(SUM(L$8:L918)=0, \"\", \" + \")","v":""}]
["1792",null,"КСБСнг(А)-FRHF 2х2х0,64","2х2х0,64","2х0,64","0,64","HF","2","2","0,64",null,null,"","",{"$f":"IF(SUM(L$8:L919)=0, \"\", \" + \")","v":""}]
["1371",null,"КСБСнг(А)-FRHF 2х2х0,8","2х2х0,8","2х0,8","0,8","HF","2","2","0,8",null,null,"","",{"$f":"IF(SUM(L$8:L920)=0, \"\", \" + \")","v":""}]
["1374",null,"КСБСнг(А)-FRHF 2х2х0,98","2х2х0,98","2х0,98","0,98","HF","2","2","0,98",null,null,"","",{"$f":"IF(SUM(L$8:L921)=0, \"\", \" + \")","v":""}]
["1377",null,"КСБСнг(А)-FRHF 2х2х1,13","2х2х1,13","2х1,13","1,13","HF","2","2","1,13",null,null,"","",{"$f":"IF(SUM(L$8:L922)=0, \"\", \" + \")","v":""}]
["1380",null,"КСБСнг(А)-FRHF 2х2х1,38","2х2х1,38","2х1,38","1,38","HF","2","2","1,38",null,null,"","",{"$f":"IF(SUM(L$8:L923)=0, \"\", \" + \")","v":""}]
["1383",null,"КСБСнг(А)-FRHF 2х2х1,78","2х2х1,78","2х1,78","1,78","HF","2","2","1,78",null,null,"","",{"$f":"IF(SUM(L$8:L924)=0, \"\", \" + \")","v":""}]
["2593",null,"КСБСнг(А)-FRHF 32х2х0,64","32х2х0,64","2х0,64","0,64","HF","32","2","0,64",null,null,"","",{"$f":"IF(SUM(L$8:L925)=0, \"\", \" + \")","v":""}]
["2599",null,"КСБСнг(А)-FRHF 32х2х0,8","32х2х0,8","2х0,8","0,8","HF","32","2","0,8",null,null,"","",{"$f":"IF(SUM(L$8:L926)=0, \"\", \" + \")","v":""}]
["3070",null,"КСБСнг(А)-FRHF 3х2х0,8","3х2х0,8","2х0,8","0,8","HF","3","2","0,8",null,null,"","",{"$f":"IF(SUM(L$8:L927)=0, \"\", \" + \")","v":""}]
["2594",null,"КСБСнг(А)-FRHF 40х2х0,64","40х2х0,64","2х0,64","0,64","HF","40","2","0,64",null,null,"","",{"$f":"IF(SUM(L$8:L928)=0, \"\", \" + \")","v":""}]
["1793",null,"КСБСнг(А)-FRHF 4х2х0,64","4х2х0,64","2х0,64","0,64","HF","4","2","0,64",null,null,"","",{"$f":"IF(SUM(L$8:L929)=0, \"\", \" + \")","v":""}]
["1372",null,"КСБСнг(А)-FRHF 4х2х0,8","4х2х0,8","2х0,8","0,8","HF","4","2","0,8",null,null,"","",{"$f":"IF(SUM(L$8:L930)=0, \"\", \" + \")","v":""}]
["1375",null,"КСБСнг(А)-FRHF 4х2х0,98","4х2х0,98","2х0,98","0,98","HF","4","2","0,98",null,null,"","",{"$f":"IF(SUM(L$8:L931)=0, \"\", \" + \")","v":""}]
["1378",null,"КСБСнг(А)-FRHF 4х2х1,13","4х2х1,13","2х1,13","1,13","HF","4","2","1,13",null,null,"","",{"$f":"IF(SUM(L$8:L932)=0, \"\", \" + \")","v":""}]
["1381",null,"КСБСнг(А)-FRHF 4х2х1,38","4х2х1,38","2х1,38","1,38","HF","4","2","1,38",null,null,"","",{"$f":"IF(SUM(L$8:L933)=0, \"\", \" + \")","v":""}]
["1384",null,"КСБСнг(А)-FRHF 4х2х1,78","4х2х1,78","2х1,78","1,78","HF","4","2","1,78",null,null,"","",{"$f":"IF(SUM(L$8:L934)=0, \"\", \" + \")","v":""}]
["2589",null,"КСБСнг(А)-FRHF 8х2х0,64","8х2х0,64","2х0,64","0,64","HF","8","2","0,64",null,null,"","",{"$f":"IF(SUM(L$8:L935)=0, \"\", \" + \")","v":""}]
["2595",null,"КСБСнг(А)-FRHF 8х2х0,8","8х2х0,8","2х0,8","0,8","HF","8","2","0,8",null,null,"","",{"$f":"IF(SUM(L$8:L936)=0, \"\", \" + \")","v":""}]
["2600",null,"КСБСнг(А)-FRHF 8х2х0,98","8х2х0,98","2х0,98","0,98","HF","8","2","0,98",null,null,"","",{"$f":"IF(SUM(L$8:L937)=0, \"\", \" + \")","v":""}]
["2604",null,"КСБСнг(А)-FRHF 8х2х1,13","8х2х1,13","2х1,13","1,13","HF","8","2","1,13",null,null,"","",{"$f":"IF(SUM(L$8:L938)=0, \"\", \" + \")","v":""}]
["20130",null,"КСБСнг(А)-FRHF 8х2х1,38 ","8х2х1,38 ","2х1,38 ","1,38 ","HF","8","2","1,38 ",null,null,"","",{"$f":"IF(SUM(L$8:L939)=0, \"\", \" + \")","v":""}]
["3370",null,"КСБСнг(А)-FRLS 10х2х0,8","10х2х0,8","2х0,8","0,8","LS","10","2","0,8",null,null,"","",{"$f":"IF(SUM(L$8:L940)=0, \"\", \" + \")","v":""}]
["4436",null,"КСБСнг(А)-FRLS 10х2х1,13","10х2х1,13","2х1,13","1,13","LS","10","2","1,13",null,null,"","",{"$f":"IF(SUM(L$8:L941)=0, \"\", \" + \")","v":""}]
["5135",null,"КСБСнг(А)-FRLS 10х2х1,38","10х2х1,38","2х1,38","1,38","LS","10","2","1,38",null,null,"","",{"$f":"IF(SUM(L$8:L942)=0, \"\", \" + \")","v":""}]
["2608",null,"КСБСнг(А)-FRLS 12х2х0,64","12х2х0,64","2х0,64","0,64","LS","12","2","0,64",null,null,"","",{"$f":"IF(SUM(L$8:L943)=0, \"\", \" + \")","v":""}]
["2614",null,"КСБСнг(А)-FRLS 12х2х0,8","12х2х0,8","2х0,8","0,8","LS","12","2","0,8",null,null,"","",{"$f":"IF(SUM(L$8:L944)=0, \"\", \" + \")","v":""}]
["2622",null,"КСБСнг(А)-FRLS 12х2х0,98","12х2х0,98","2х0,98","0,98","LS","12","2","0,98",null,null,"","",{"$f":"IF(SUM(L$8:L945)=0, \"\", \" + \")","v":""}]
["2619",null,"КСБСнг(А)-FRLS 12х2х1,13","12х2х1,13","2х1,13","1,13","LS","12","2","1,13",null,null,"","",{"$f":"IF(SUM(L$8:L946)=0, \"\", \" + \")","v":""}]
["4643",null,"КСБСнг(А)-FRLS 14х2х1,13","14х2х1,13","2х1,13","1,13","LS","14","2","1,13",null,null,"","",{"$f":"IF(SUM(L$8:L947)=0, \"\", \" + \")","v":""}]
["2609",null,"КСБСнг(А)-FRLS 16х2х0,64","16х2х0,64","2х0,64","0,64","LS","16","2","0,64",null,null,"","",{"$f":"IF(SUM(L$8:L948)=0, \"\", \" + \")","v":""}]
["2615",null,"КСБСнг(А)-FRLS 16х2х0,8","16х2х0,8","2х0,8","0,8","LS","16","2","0,8",null,null,"","",{"$f":"IF(SUM(L$8:L949)=0, \"\", \" + \")","v":""}]
["2623",null,"КСБСнг(А)-FRLS 16х2х0,98","16х2х0,98","2х0,98","0,98","LS","16","2","0,98",null,null,"","",{"$f":"IF(SUM(L$8:L950)=0, \"\", \" + \")","v":""}]
["2620",null,"КСБСнг(А)-FRLS 16х2х1,13","16х2х1,13","2х1,13","1,13","LS","16","2","1,13",null,null,"","",{"$f":"IF(SUM(L$8:L951)=0, \"\", \" + \")","v":""}]
["1801",null,"КСБСнг(А)-FRLS 1х2х0,64","1х2х0,64","2х0,64","0,64","LS","1","2","0,64",null,null,"","",{"$f":"IF(SUM(L$8:L952)=0, \"\", \" + \")","v":""}]
["1588",null,"КСБСнг(А)-FRLS 1х2х0,8","1х2х0,8","2х0,8","0,8","LS","1","2","0,8",null,null,"","",{"$f":"IF(SUM(L$8:L953)=0, \"\", \" + \")","v":""}]
["1590",null,"КСБСнг(А)-FRLS 1х2х0,98","1х2х0,98","2х0,98","0,98","LS","1","2","0,98",null,null,"","",{"$f":"IF(SUM(L$8:L954)=0, \"\", \" + \")","v":""}]
["1592",null,"КСБСнг(А)-FRLS 1х2х1,13","1х2х1,13","2х1,13","1,13","LS","1","2","1,13",null,null,"","",{"$f":"IF(SUM(L$8:L955)=0, \"\", \" + \")","v":""}]
["1594",null,"КСБСнг(А)-FRLS 1х2х1,38","1х2х1,38","2х1,38","1,38","LS","1","2","1,38",null,null,"","",{"$f":"IF(SUM(L$8:L956)=0, \"\", \" + \")","v":""}]
["1596",null,"КСБСнг(А)-FRLS 1х2х1,78","1х2х1,78","2х1,78","1,78","LS","1","2","1,78",null,null,"","",{"$f":"IF(SUM(L$8:L957)=0, \"\", \" + \")","v":""}]
["2610",null,"КСБСнг(А)-FRLS 20х2х0,64","20х2х0,64","2х0,64","0,64","LS","20","2","0,64",null,null,"","",{"$f":"IF(SUM(L$8:L958)=0, \"\", \" + \")","v":""}]
["2616",null,"КСБСнг(А)-FRLS 20х2х0,8","20х2х0,8","2х0,8","0,8","LS","20","2","0,8",null,null,"","",{"$f":"IF(SUM(L$8:L959)=0, \"\", \" + \")","v":""}]
["2624",null,"КСБСнг(А)-FRLS 20х2х0,98","20х2х0,98","2х0,98","0,98","LS","20","2","0,98",null,null,"","",{"$f":"IF(SUM(L$8:L960)=0, \"\", \" + \")","v":""}]
["1802",null,"КСБСнг(А)-FRLS 2х2х0,64","2х2х0,64","2х0,64","0,64","LS","2","2","0,64",null,null,"","",{"$f":"IF(SUM(L$8:L961)=0, \"\", \" + \")","v":""}]
["1589",null,"КСБСнг(А)-FRLS 2х2х0,8","2х2х0,8","2х0,8","0,8","LS","2","2","0,8",null,null,"","",{"$f":"IF(SUM(L$8:L962)=0, \"\", \" + \")","v":""}]
["1591",null,"КСБСнг(А)-FRLS 2х2х0,98","2х2х0,98","2х0,98","0,98","LS","2","2","0,98",null,null,"","",{"$f":"IF(SUM(L$8:L963)=0, \"\", \" + \")","v":""}]
["1593",null,"КСБСнг(А)-FRLS 2х2х1,13","2х2х1,13","2х1,13","1,13","LS","2","2","1,13",null,null,"","",{"$f":"IF(SUM(L$8:L964)=0, \"\", \" + \")","v":""}]
["1595",null,"КСБСнг(А)-FRLS 2х2х1,38","2х2х1,38","2х1,38","1,38","LS","2","2","1,38",null,null,"","",{"$f":"IF(SUM(L$8:L965)=0, \"\", \" + \")","v":""}]
["1597",null,"КСБСнг(А)-FRLS 2х2х1,78","2х2х1,78","2х1,78","1,78","LS","2","2","1,78",null,null,"","",{"$f":"IF(SUM(L$8:L966)=0, \"\", \" + \")","v":""}]
["2611",null,"КСБСнг(А)-FRLS 32х2х0,64","32х2х0,64","2х0,64","0,64","LS","32","2","0,64",null,null,"","",{"$f":"IF(SUM(L$8:L967)=0, \"\", \" + \")","v":""}]
["2617",null,"КСБСнг(А)-FRLS 32х2х0,8","32х2х0,8","2х0,8","0,8","LS","32","2","0,8",null,null,"","",{"$f":"IF(SUM(L$8:L968)=0, \"\", \" + \")","v":""}]
["3060",null,"КСБСнг(А)-FRLS 3х2х0,8",{"$f":"MID(C970, FIND(\" \",C970) +1, 100)","v":"3х2х0,8"},"2х0,8","0,8",{"$f":"MID(C970,FIND(\"FR\",C970)+2, 2)","v":"LS"},"3","2","0,8",null,null,{"$f":"IF(L970=0, \"\",CONCATENATE(O970, C970, \"-\",L970,\"м\"))","v":""},"",{"$f":"IF(SUM(L$8:L969)=0, \"\", \" + \")","v":""}]
["4433",null,"КСБСнг(А)-FRLS 3х2х1,38","3х2х1,38",{"$f":"MID($D971,IF(ISERR(FIND(\"х\",$D971)), FIND(\"x\",$D971)+1, FIND(\"х\",$D971))+1, 100)","v":"2х1,38"},{"$f":"MID($E971,IF(ISERR(FIND(\"х\",$E971)), FIND(\"x\",$E971)+1, FIND(\"х\",$E971))+1,10)","v":"1,38"},"LS",{"$f":"MID($D971,1, IF(ISERR(FIND(\"х\",$D971)), FIND(\"x\",$D971)-1, FIND(\"х\",$D971))-1)","v":"3"},{"$f":"MID($E971,1, IF(ISERR(FIND(\"х\",$E971)), FIND(\"x\",$E971)-1, FIND(\"х\",$E971))-1)","v":"2"},{"$f":"F971","v":"1,38"},null,null,"",{"$f":"CONCATENATE(N970,M971)","v":""},{"$f":"IF(SUM(L$8:L970)=0, \"\", \" + \")","v":""}]
["2612",null,"КСБСнг(А)-FRLS 40х2х0,64","40х2х0,64","2х0,64","0,64","LS","40","2","0,64",null,null,"","",{"$f":"IF(SUM(L$8:L971)=0, \"\", \" + \")","v":""}]
["1804",null,"КСБСнг(А)-FRLS 4х2х0,64","4х2х0,64","2х0,64","0,64","LS","4","2","0,64",null,null,"","",{"$f":"IF(SUM(L$8:L972)=0, \"\", \" + \")","v":""}]
["1803",null,"КСБСнг(А)-FRLS 4х2х0,8","4х2х0,8","2х0,8","0,8","LS","4","2","0,8",null,null,"","",{"$f":"IF(SUM(L$8:L973)=0, \"\", \" + \")","v":""}]
["1805",null,"КСБСнг(А)-FRLS 4х2х0,98","4х2х0,98","2х0,98","0,98","LS","4","2","0,98",null,null,"","",{"$f":"IF(SUM(L$8:L974)=0, \"\", \" + \")","v":""}]
["1806",null,"КСБСнг(А)-FRLS 4х2х1,13","4х2х1,13","2х1,13","1,13","LS","4","2","1,13",null,null,"","",{"$f":"IF(SUM(L$8:L975)=0, \"\", \" + \")","v":""}]
["1807",null,"КСБСнг(А)-FRLS 4х2х1,38","4х2х1,38","2х1,38","1,38","LS","4","2","1,38",null,null,"","",{"$f":"IF(SUM(L$8:L976)=0, \"\", \" + \")","v":""}]
["1808",null,"КСБСнг(А)-FRLS 4х2х1,78","4х2х1,78","2х1,78","1,78","LS","4","2","1,78",null,null,"","",{"$f":"IF(SUM(L$8:L977)=0, \"\", \" + \")","v":""}]
["5299",null,"КСБСнг(А)-FRLS 5х2х0,8","5х2х0,8","2х0,8","0,8","LS","5","2","0,8",null,null,"","",{"$f":"IF(SUM(L$8:L978)=0, \"\", \" + \")","v":""}]
["4434",null,"КСБСнг(А)-FRLS 5х2х1,13","5х2х1,13","2х1,13","1,13","LS","5","2","1,13",null,null,"","",{"$f":"IF(SUM(L$8:L979)=0, \"\", \" + \")","v":""}]
["4435",null,"КСБСнг(А)-FRLS 6х2х1,13","6х2х1,13","2х1,13","1,13","LS","6","2","1,13",null,null,"","",{"$f":"IF(SUM(L$8:L980)=0, \"\", \" + \")","v":""}]
["2607",null,"КСБСнг(А)-FRLS 8х2х0,64","8х2х0,64","2х0,64","0,64","LS","8","2","0,64",null,null,"","",{"$f":"IF(SUM(L$8:L981)=0, \"\", \" + \")","v":""}]
["2613",null,"КСБСнг(А)-FRLS 8х2х0,8","8х2х0,8","2х0,8","0,8","LS","8","2","0,8",null,null,"","",{"$f":"IF(SUM(L$8:L982)=0, \"\", \" + \")","v":""}]
["2621",null,"КСБСнг(А)-FRLS 8х2х0,98","8х2х0,98","2х0,98","0,98","LS","8","2","0,98",null,null,"","",{"$f":"IF(SUM(L$8:L983)=0, \"\", \" + \")","v":""}]
["2618",null,"КСБСнг(А)-FRLS 8х2х1,13","8х2х1,13","2х1,13","1,13","LS","8","2","1,13",null,null,"","",{"$f":"IF(SUM(L$8:L984)=0, \"\", \" + \")","v":""}]
["23526",null,"КСБнг(А)-FRLSLTx 1х2х0,8 ","1х2х0,8 ","2х0,8 ","0,8 ","LS","1","2","0,8 ",null,null,"","",{"$f":"IF(SUM(L$8:L985)=0, \"\", \" + \")","v":""}]
["23603",null,"КСБСнг(А)-FRLS 10х2х0,98 ","10х2х0,98 ","2х0,98 ","0,98 ","LS","10","2","0,98 ",null,null,"","",{"$f":"IF(SUM(L$8:L986)=0, \"\", \" + \")","v":""}]
[22419,null,"КСБнг(А)-FRLSLTx 2х2х0,64","2х2х0,64","2х0,64","0,64","LS","2","2","0,64",null,null,"","",{"$f":"IF(SUM(L$8:L987)=0, \"\", \" + \")","v":""}]
[20321,null,"КСБнг(А)-FRLSLTx 1х2х0,64","1х2х0,64","2х0,64","0,64","LS","1","2","0,64",null,null,"","",{"$f":"IF(SUM(L$8:L988)=0, \"\", \" + \")","v":""}]

{"sheet":"Силовой кабель","index":12,"n_rows":1224,"n_cols":19,"rows_kept":1224,"cut":false,"hidden":false,"merged":[[2,11,3,21]]}
[null,null,null,null,null,null,null,null,null,null,null,null,null,{"$f":"IF(SUM($L$10:$L$523)=0, 0, 1)","v":0},null,1,null,null,{"$f":"COUNT(L10:L1224)","v":0}]
[null,null,null,null,null,null,null,null,null,null,null,"Кабели в составе ОКЛ"]
[null,null,null,null,null,null,null,null,null,null,null,{"$f":"CONCATENATE(N1224)","v":""}]
[]
[null,null,null,null,null,null,null,null,null,null,null,"Общая длина",null,null,null,null,{"$f":"SUM(L10:L1224)","v":0},"м"]
[]
[]
[]
["Артикул",null,"Наименование",null,null,"Тип","Кол-во жил","Сечение","N/PE",null,null,"Длина"]
["3660",null,"КунРс ВКВнг(А)-FRLS 2х0,75",{"$f":"MID(C10, FIND(\" \",C10, FIND(\" \",C10)+1), 100)","v":" 2х0,75"},{"$f":"MID($D10,IF(ISERR(FIND(\"х\",$D10)), FIND(\"x\",$D10)+1, FIND(\"х\",$D10))+1, 100)","v":"0,75"},{"$f":"MID(C10, 1, IF(ISERR(FIND(\"Кун\",C10)), 3, 5))","v":"КунРс"},{"$f":"MID($D10,1, IF(ISERR(FIND(\"х\",$D10)), FIND(\"x\",$D10)-1, FIND(\"х\",$D10))-1)","v":" 2"},{"$f":"IF(ISERR(FIND(\" \", E10)), E10, MID(E10, 1, FIND(\" \",E10)))","v":"0,75"},{"$f":"IF(ISERR(FIND(\" \", E10)), \"\", MID(E10, FIND(\" \",E10), 20))","v":""},null,null,null,{"$f":"IF(L10=0, \"\",CONCATENATE(O10, C10, \"-\",L10,\"м\"))","v":""},{"$f":"CONCATENATE(N9,M10)","v":""},{"$f":"IF(SUM(L$8:L9)=0, \"\", \" + \")","v":""}]
["16667",null,"КунРс ВКВнг(А)-FRLS 2х0,75 (N)"," 2х0,75 (N)",{"$f":"MID($D11,IF(ISERR(FIND(\"х\",$D11)), FIND(\"x\",$D11)+1, FIND(\"х\",$D11))+1, 100)","v":"0,75 (N)"},"КунРс",{"$f":"MID($D11,1, IF(ISERR(FIND(\"х\",$D11)), FIND(\"x\",$D11)-1, FIND(\"х\",$D11))-1)","v":" 2"},{"$f":"IF(ISERR(FIND(\" \", E11)), E11, MID(E11, 1, FIND(\" \",E11)))","v":"0,75 "},{"$f":"IF(ISERR(FIND(\" \", E11)), \"\", MID(E11, FIND(\" \",E11), 20))","v":" (N)"},null,null,null,"",{"$f":"CONCATENATE(N10,M11)","v":""},{"$f":"IF(SUM(L$8:L10)=0, \"\", \" + \")","v":""}]
["3664",null,"КунРс ВКВнг(А)-FRLS 2х1,0"," 2х1,0","1,0","КунРс"," 2","1,0","",null,null,null,"","",{"$f":"IF(SUM(L$8:L11)=0, \"\", \" + \")","v":""}]
["16895",null,"КунРс ВКВнг(А)-FRLS 2х1,0 (N)"," 2х1,0 (N)","1,0 (N)","КунРс"," 2","1,0 "," (N)",null,null,null,"","",{"$f":"IF(SUM(L$8:L12)=0, \"\", \" + \")","v":""}]
["3668",null,"КунРс ВКВнг(А)-FRLS 2х1,5"," 2х1,5","1,5","КунРс"," 2","1,5","",null,null,null,"","",{"$f":"IF(SUM(L$8:L13)=0, \"\", \" + \")","v":""}]
["16896",null,"КунРс ВКВнг(А)-FRLS 2х1,5 (N)"," 2х1,5 (N)","1,5 (N)","КунРс"," 2","1,5 "," (N)",null,null,null,"","",{"$f":"IF(SUM(L$8:L14)=0, \"\", \" + \")","v":""}]
["3684",null,"КунРс ВКВнг(А)-FRLS 2х10,0"," 2х10,0","10,0","КунРс"," 2","10,0","",null,null,null,"","",{"$f":"IF(SUM(L$8:L15)=0, \"\", \" + \")","v":""}]
["16900",null,"КунРс ВКВнг(А)-FRLS 2х10,0 (N)"," 2х10,0 (N)","10,0 (N)","КунРс"," 2","10,0 "," (N)",null,null,null,"","",{"$f":"IF(SUM(L$8:L16)=0, \"\", \" + \")","v":""}]
["3688",null,"КунРс ВКВнг(А)-FRLS 2х16,0"," 2х16,0","16,0","КунРс"," 2","16,0","",null,null,null,"","",{"$f":"IF(SUM(L$8:L17)=0, \"\", \" + \")","v":""}]
["16901",null,"КунРс ВКВнг(А)-FRLS 2х16,0 (N)"," 2х16,0 (N)","16,0 (N)","КунРс"," 2","16,0 "," (N)",null,null,null,"","",{"$f":"IF(SUM(L$8:L18)=0, \"\", \" + \")","v":""}]
["3672",null,"КунРс ВКВнг(А)-FRLS 2х2,5"," 2х2,5","2,5","КунРс"," 2","2,5","",null,null,null,"","",{"$f":"IF(SUM(L$8:L19)=0, \"\", \" + \")","v":""}]
["16897",null,"КунРс ВКВнг(А)-FRLS 2х2,5 (N)"," 2х2,5 (N)","2,5 (N)","КунРс"," 2","2,5 "," (N)",null,null,null,"","",{"$f":"IF(SUM(L$8:L20)=0, \"\", \" + \")","v":""}]
["3676",null,"КунРс ВКВнг(А)-FRLS 2х4,0"," 2х4,0","4,0","КунРс"," 2","4,0","",null,null,null,"","",{"$f":"IF(SUM(L$8:L21)=0, \"\", \" + \")","v":""}]
["16898",null,"КунРс ВКВнг(А)-FRLS 2х4,0 (N)"," 2х4,0 (N)","4,0 (N)","КунРс"," 2","4,0 "," (N)",null,null,null,"","",{"$f":"IF(SUM(L$8:L22)=0, \"\", \" + \")","v":""}]
["3680",null,"КунРс ВКВнг(А)-FRLS 2х6,0"," 2х6,0","6,0","КунРс"," 2","6,0","",null,null,null,"","",{"$f":"IF(SUM(L$8:L23)=0, \"\", \" + \")","v":""}]
["16899",null,"КунРс ВКВнг(А)-FRLS 2х6,0 (N)"," 2х6,0 (N)","6,0 (N)","КунРс"," 2","6,0 "," (N)",null,null,null,"","",{"$f":"IF(SUM(L$8:L24)=0, \"\", \" + \")","v":""}]
["17097",null,"КунРс ВКВнг(А)-FRLS 3х0,75"," 3х0,75","0,75","КунРс"," 3","0,75","",null,null,null,"","",{"$f":"IF(SUM(L$8:L25)=0, \"\", \" + \")","v":""}]
["3661",null,"КунРс ВКВнг(А)-FRLS 3х0,75 (PE,N)"," 3х0,75 (PE,N)","0,75 (PE,N)","КунРс"," 3","0,75 "," (PE,N)",null,null,null,"","",{"$f":"IF(SUM(L$8:L26)=0, \"\", \" + \")","v":""}]
["17098",null,"КунРс ВКВнг(А)-FRLS 3х1,0"," 3х1,0","1,0","КунРс"," 3","1,0","",null,null,null,"","",{"$f":"IF(SUM(L$8:L27)=0, \"\", \" + \")","v":""}]
["3665",null,"КунРс ВКВнг(А)-FRLS 3х1,0 (PE,N)"," 3х1,0 (PE,N)","1,0 (PE,N)","КунРс"," 3","1,0 "," (PE,N)",null,null,null,"","",{"$f":"IF(SUM(L$8:L28)=0, \"\", \" + \")","v":""}]
["17099",null,"КунРс ВКВнг(А)-FRLS 3х1,5"," 3х1,5","1,5","КунРс"," 3","1,5","",null,null,null,"","",{"$f":"IF(SUM(L$8:L29)=0, \"\", \" + \")","v":""}]
["3669",null,"КунРс ВКВнг(А)-FRLS 3х1,5 (PE,N)"," 3х1,5 (PE,N)","1,5 (PE,N)","КунРс"," 3","1,5 "," (PE,N)",null,null,null,"","",{"$f":"IF(SUM(L$8:L30)=0, \"\", \" + \")","v":""}]
["17103",null,"КунРс ВКВнг(А)-FRLS 3х10,0"," 3х10,0","10,0","КунРс"," 3","10,0","",null,null,null,"","",{"$f":"IF(SUM(L$8:L31)=0, \"\", \" + \")","v":""}]
["3685",null,"КунРс ВКВнг(А)-FRLS 3х10,0 (PE,N)"," 3х10,0 (PE,N)","10,0 (PE,N)","КунРс"," 3","10,0 "," (PE,N)",null,null,null,"","",{"$f":"IF(SUM(L$8:L32)=0, \"\", \" + \")","v":""}]
["17104",null,"КунРс ВКВнг(А)-FRLS 3х16,0"," 3х16,0","16,0","КунРс"," 3","16,0","",null,null,null,"","",{"$f":"IF(SUM(L$8:L33)=0, \"\", \" + \")","v":""}]
["3689",null,"КунРс ВКВнг(А)-FRLS 3х16,0 (PE,N)"," 3х16,0 (PE,N)","16,0 (PE,N)","КунРс"," 3","16,0 "," (PE,N)",null,null,null,"","",{"$f":"IF(SUM(L$8:L34)=0, \"\", \" + \")","v":""}]
["17100",null,"КунРс ВКВнг(А)-FRLS 3х2,5"," 3х2,5","2,5","КунРс"," 3","2,5","",null,null,null,"","",{"$f":"IF(SUM(L$8:L35)=0, \"\", \" + \")","v":""}]
["3673",null,"КунРс ВКВнг(А)-FRLS 3х2,5 (PE,N)"," 3х2,5 (PE,N)","2,5 (PE,N)","КунРс"," 3","2,5 "," (PE,N)",null,null,null,"","",{"$f":"IF(SUM(L$8:L36)=0, \"\", \" + \")","v":""}]
["17101",null,"КунРс ВКВнг(А)-FRLS 3х4,0"," 3х4,0","4,0","КунРс"," 3","4,0","",null,null,null,"","",{"$f":"IF(SUM(L$8:L37)=0, \"\", \" + \")","v":""}]
["3677",null,"КунРс ВКВнг(А)-FRLS 3х4,0 (PE,N)"," 3х4,0 (PE,N)","4,0 (PE,N)","КунРс"," 3","4,0 "," (PE,N)",null,null,null,"","",{"$f":"IF(SUM(L$8:L38)=0, \"\", \" + \")","v":""}]
["17102",null,"КунРс ВКВнг(А)-FRLS 3х6,0"," 3х6,0","6,0","КунРс"," 3","6,0","",null,null,null,"","",{"$f":"IF(SUM(L$8:L39)=0, \"\", \" + \")","v":""}]
["3681",null,"КунРс ВКВнг(А)-FRLS 3х6,0 (PE,N)"," 3х6,0 (PE,N)","6,0 (PE,N)","КунРс"," 3","6,0 "," (PE,N)",null,null,null,"","",{"$f":"IF(SUM(L$8:L40)=0, \"\", \" + \")","v":""}]
["3662",null,"КунРс ВКВнг(А)-FRLS 4х0,75 (PE)"," 4х0,75 (PE)","0,75 (PE)","КунРс"," 4","0,75 "," (PE)",null,null,null,"","",{"$f":"IF(SUM(L$8:L41)=0, \"\", \" + \")","v":""}]
["17243",null,"КунРс ВКВнг(А)-FRLS 4х1,0 (N)"," 4х1,0 (N)","1,0 (N)","КунРс"," 4","1,0 "," (N)",null,null,null,"","",{"$f":"IF(SUM(L$8:L42)=0, \"\", \" + \")","v":""}]
["3666",null,"КунРс ВКВнг(А)-FRLS 4х1,0 (PE)"," 4х1,0 (PE)","1,0 (PE)","КунРс"," 4","1,0 "," (PE)",null,null,null,"","",{"$f":"IF(SUM(L$8:L43)=0, \"\", \" + \")","v":""}]
["17244",null,"КунРс ВКВнг(А)-FRLS 4х1,5 (N)"," 4х1,5 (N)","1,5 (N)","КунРс"," 4","1,5 "," (N)",null,null,null,"","",{"$f":"IF(SUM(L$8:L44)=0, \"\", \" + \")","v":""}]
["3670",null,"КунРс ВКВнг(А)-FRLS 4х1,5 (PE)"," 4х1,5 (PE)","1,5 (PE)","КунРс"," 4","1,5 "," (PE)",null,null,null,"","",{"$f":"IF(SUM(L$8:L45)=0, \"\", \" + \")","v":""}]
["17248",null,"КунРс ВКВнг(А)-FRLS 4х10,0 (N)"," 4х10,0 (N)","10,0 (N)","КунРс"," 4","10,0 "," (N)",null,null,null,"","",{"$f":"IF(SUM(L$8:L46)=0, \"\", \" + \")","v":""}]
["3686",null,"КунРс ВКВнг(А)-FRLS 4х10,0 (PE)"," 4х10,0 (PE)","10,0 (PE)","КунРс"," 4","10,0 "," (PE)",null,null,null,"","",{"$f":"IF(SUM(L$8:L47)=0, \"\", \" + \")","v":""}]
["17249",null,"КунРс ВКВнг(А)-FRLS 4х16,0 (N)"," 4х16,0 (N)","16,0 (N)","КунРс"," 4","16,0 "," (N)",null,null,null,"","",{"$f":"IF(SUM(L$8:L48)=0, \"\", \" + \")","v":""}]
["3690",null,"КунРс ВКВнг(А)-FRLS 4х16,0 (PE)"," 4х16,0 (PE)","16,0 (PE)","КунРс"," 4","16,0 "," (PE)",null,null,null,"","",{"$f":"IF(SUM(L$8:L49)=0, \"\", \" + \")","v":""}]
["17245",null,"КунРс ВКВнг(А)-FRLS 4х2,5 (N)"," 4х2,5 (N)","2,5 (N)","КунРс"," 4","2,5 "," (N)",null,null,null,"","",{"$f":"IF(SUM(L$8:L50)=0, \"\", \" + \")","v":""}]
["3674",null,"КунРс ВКВнг(А)-FRLS 4х2,5 (PE)"," 4х2,5 (PE)","2,5 (PE)","КунРс"," 4","2,5 "," (PE)",null,null,null,"","",{"$f":"IF(SUM(L$8:L51)=0, \"\", \" + \")","v":""}]
["17246",null,"КунРс ВКВнг(А)-FRLS 4х4,0 (N)"," 4х4,0 (N)","4,0 (N)","КунРс"," 4","4,0 "," (N)",null,null,null,"","",{"$f":"IF(SUM(L$8:L52)=0, \"\", \" + \")","v":""}]
["3678",null,"КунРс ВКВнг(А)-FRLS 4х4,0 (PE)"," 4х4,0 (PE)","4,0 (PE)","КунРс"," 4","4,0 "," (PE)",null,null,null,"","",{"$f":"IF(SUM(L$8:L53)=0, \"\", \" + \")","v":""}]
["17247",null,"КунРс ВКВнг(А)-FRLS 4х6,0 (N)"," 4х6,0 (N)","6,0 (N)","КунРс"," 4","6,0 "," (N)",null,null,null,"","",{"$f":"IF(SUM(L$8:L54)=0, \"\", \" + \")","v":""}]
["3682",null,"КунРс ВКВнг(А)-FRLS 4х6,0 (PE)"," 4х6,0 (PE)","6,0 (PE)","КунРс"," 4","6,0 "," (PE)",null,null,null,"","",{"$f":"IF(SUM(L$8:L55)=0, \"\", \" + \")","v":""}]
["17339",null,"КунРс ВКВнг(А)-FRLS 5х0,75 (N)"," 5х0,75 (N)","0,75 (N)","КунРс"," 5","0,75 "," (N)",null,null,null,"","",{"$f":"IF(SUM(L$8:L56)=0, \"\", \" + \")","v":""}]
["3663",null,"КунРс ВКВнг(А)-FRLS 5х0,75 (PE,N)"," 5х0,75 (PE,N)","0,75 (PE,N)","КунРс"," 5","0,75 "," (PE,N)",null,null,null,"","",{"$f":"IF(SUM(L$8:L57)=0, \"\", \" + \")","v":""}]
["17340",null,"КунРс ВКВнг(А)-FRLS 5х1,0 (N)"," 5х1,0 (N)","1,0 (N)","КунРс"," 5","1,0 "," (N)",null,null,null,"","",{"$f":"IF(SUM(L$8:L58)=0, \"\", \" + \")","v":""}]
["3667",null,"КунРс ВКВнг(А)-FRLS 5х1,0 (PE,N)"," 5х1,0 (PE,N)","1,0 (PE,N)","КунРс"," 5","1,0 "," (PE,N)",null,null,null,"","",{"$f":"IF(SUM(L$8:L59)=0, \"\", \" + \")","v":""}]
["17342",null,"КунРс ВКВнг(А)-FRLS 5х1,5 (N)"," 5х1,5 (N)","1,5 (N)","КунРс"," 5","1,5 "," (N)",null,null,null,"","",{"$f":"IF(SUM(L$8:L60)=0, \"\", \" + \")","v":""}]
["3671",null,"КунРс ВКВнг(А)-FRLS 5х1,5 (PE,N)"," 5х1,5 (PE,N)","1,5 (PE,N)","КунРс"," 5","1,5 "," (PE,N)",null,null,null,"","",{"$f":"IF(SUM(L$8:L61)=0, \"\", \" + \")","v":""}]
["17346",null,"КунРс ВКВнг(А)-FRLS 5х10,0 (N)"," 5х10,0 (N)","10,0 (N)","КунРс"," 5","10,0 "," (N)",null,null,null,"","",{"$f":"IF(SUM(L$8:L62)=0, \"\", \" + \")","v":""}]
["3687",null,"КунРс ВКВнг(А)-FRLS 5х10,0 (PE,N)"," 5х10,0 (PE,N)","10,0 (PE,N)","КунРс"," 5","10,0 "," (PE,N)",null,null,null,"","",{"$f":"IF(SUM(L$8:L63)=0, \"\", \" + \")","v":""}]
["17347",null,"КунРс ВКВнг(А)-FRLS 5х16,0 (N)"," 5х16,0 (N)","16,0 (N)","КунРс"," 5","16,0 "," (N)",null,null,null,"","",{"$f":"IF(SUM(L$8:L64)=0, \"\", \" + \")","v":""}]
["3691",null,"КунРс ВКВнг(А)-FRLS 5х16,0 (PE,N)"," 5х16,0 (PE,N)","16,0 (PE,N)","КунРс"," 5","16,0 "," (PE,N)",null,null,null,"","",{"$f":"IF(SUM(L$8:L65)=0, \"\", \" + \")","v":""}]
["17343",null,"КунРс ВКВнг(А)-FRLS 5х2,5 (N)"," 5х2,5 (N)","2,5 (N)","КунРс"," 5","2,5 "," (N)",null,null,null,"","",{"$f":"IF(SUM(L$8:L66)=0, \"\", \" + \")","v":""}]
["3675",null,"КунРс ВКВнг(А)-FRLS 5х2,5 (PE,N)"," 5х2,5 (PE,N)","2,5 (PE,N)","КунРс"," 5","2,5 "," (PE,N)",null,null,null,"","",{"$f":"IF(SUM(L$8:L67)=0, \"\", \" + \")","v":""}]
["17344",null,"КунРс ВКВнг(А)-FRLS 5х4,0 (N)"," 5х4,0 (N)","4,0 (N)","КунРс"," 5","4,0 "," (N)",null,null,null,"","",{"$f":"IF(SUM(L$8:L68)=0, \"\", \" + \")","v":""}]
["3679",null,"КунРс ВКВнг(А)-FRLS 5х4,0 (PE,N)"," 5х4,0 (PE,N)","4,0 (PE,N)","КунРс"," 5","4,0 "," (PE,N)",null,null,null,"","",{"$f":"IF(SUM(L$8:L69)=0, \"\", \" + \")","v":""}]
["17345",null,"КунРс ВКВнг(А)-FRLS 5х6,0 (N)"," 5х6,0 (N)","6,0 (N)","КунРс"," 5","6,0 "," (N)",null,null,null,"","",{"$f":"IF(SUM(L$8:L70)=0, \"\", \" + \")","v":""}]
["3683",null,"КунРс ВКВнг(А)-FRLS 5х6,0 (PE,N)"," 5х6,0 (PE,N)","6,0 (PE,N)","КунРс"," 5","6,0 "," (PE,N)",null,null,null,"","",{"$f":"IF(SUM(L$8:L71)=0, \"\", \" + \")","v":""}]
["3628",null,"КунРс ВКГнг(А)-FRLS 2х0,75"," 2х0,75","0,75","КунРс"," 2","0,75","",null,null,null,"","",{"$f":"IF(SUM(L$8:L72)=0, \"\", \" + \")","v":""}]
["16886",null,"КунРс ВКГнг(А)-FRLS 2х0,75 (N)",{"$f":"MID(C74, FIND(\" \",C74, FIND(\" \",C74)+1), 100)","v":" 2х0,75 (N)"},"0,75 (N)",{"$f":"MID(C74, 1, IF(ISERR(FIND(\"Кун\",C74)), 3, 5))","v":"КунРс"}," 2","0,75 "," (N)",null,null,null,{"$f":"IF(L74=0, \"\",CONCATENATE(O74, C74, \"-\",L74,\"м\"))","v":""},"",{"$f":"IF(SUM(L$8:L73)=0, \"\", \" + \")","v":""}]
["3632",null,"КунРс ВКГнг(А)-FRLS 2х1,0"," 2х1,0",{"$f":"MID($D75,IF(ISERR(FIND(\"х\",$D75)), FIND(\"x\",$D75)+1, FIND(\"х\",$D75))+1, 100)","v":"1,0"},"КунРс",{"$f":"MID($D75,1, IF(ISERR(FIND(\"х\",$D75)), FIND(\"x\",$D75)-1, FIND(\"х\",$D75))-1)","v":" 2"},{"$f":"IF(ISERR(FIND(\" \", E75)), E75, MID(E75, 1, FIND(\" \",E75)))","v":"1,0"},{"$f":"IF(ISERR(FIND(\" \", E75)), \"\", MID(E75, FIND(\" \",E75), 20))","v":""},null,null,null,"",{"$f":"CONCATENATE(N74,M75)","v":""},{"$f":"IF(SUM(L$8:L74)=0, \"\", \" + \")","v":""}]
["16887",null,"КунРс ВКГнг(А)-FRLS 2х1,0 (N)"," 2х1,0 (N)","1,0 (N)","КунРс"," 2","1,0 "," (N)",null,null,null,"","",{"$f":"IF(SUM(L$8:L75)=0, \"\", \" + \")","v":""}]
["3636",null,"КунРс ВКГнг(А)-FRLS 2х1,5"," 2х1,5","1,5","КунРс"," 2","1,5","",null,null,null,"","",{"$f":"IF(SUM(L$8:L76)=0, \"\", \" + \")","v":""}]
["16888",null,"КунРс ВКГнг(А)-FRLS 2х1,5 (N)"," 2х1,5 (N)","1,5 (N)","КунРс"," 2","1,5 "," (N)",null,null,null,"","",{"$f":"IF(SUM(L$8:L77)=0, \"\", \" + \")","v":""}]
["3652",null,"КунРс ВКГнг(А)-FRLS 2х10,0"," 2х10,0","10,0","КунРс"," 2","10,0","",null,null,null,"","",{"$f":"IF(SUM(L$8:L78)=0, \"\", \" + \")","v":""}]
["16892",null,"КунРс ВКГнг(А)-FRLS 2х10,0 (N)"," 2х10,0 (N)","10,0 (N)","КунРс"," 2","10,0 "," (N)",null,null,null,"","",{"$f":"IF(SUM(L$8:L79)=0, \"\", \" + \")","v":""}]
["3656",null,"КунРс ВКГнг(А)-FRLS 2х16,0"," 2х16,0","16,0","КунРс"," 2","16,0","",null,null,null,"","",{"$f":"IF(SUM(L$8:L80)=0, \"\", \" + \")","v":""}]
["16893",null,"КунРс ВКГнг(А)-FRLS 2х16,0 (N)"," 2х16,0 (N)","16,0 (N)","КунРс"," 2","16,0 "," (N)",null,null,null,"","",{"$f":"IF(SUM(L$8:L81)=0, \"\", \" + \")","v":""}]
["3640",null,"КунРс ВКГнг(А)-FRLS 2х2,5"," 2х2,5","2,5","КунРс"," 2","2,5","",null,null,null,"","",{"$f":"IF(SUM(L$8:L82)=0, \"\", \" + \")","v":""}]
["16889",null,"КунРс ВКГнг(А)-FRLS 2х2,5 (N)"," 2х2,5 (N)","2,5 (N)","КунРс"," 2","2,5 "," (N)",null,null,null,"","",{"$f":"IF(SUM(L$8:L83)=0, \"\", \" + \")","v":""}]
["3644",null,"КунРс ВКГнг(А)-FRLS 2х4,0"," 2х4,0","4,0","КунРс"," 2","4,0","",null,null,null,"","",{"$f":"IF(SUM(L$8:L84)=0, \"\", \" + \")","v":""}]
["16890",null,"КунРс ВКГнг(А)-FRLS 2х4,0 (N)"," 2х4,0 (N)","4,0 (N)","КунРс"," 2","4,0 "," (N)",null,null,null,"","",{"$f":"IF(SUM(L$8:L85)=0, \"\", \" + \")","v":""}]
["3648",null,"КунРс ВКГнг(А)-FRLS 2х6,0"," 2х6,0","6,0","КунРс"," 2","6,0","",null,null,null,"","",{"$f":"IF(SUM(L$8:L86)=0, \"\", \" + \")","v":""}]
["16891",null,"КунРс ВКГнг(А)-FRLS 2х6,0 (N)"," 2х6,0 (N)","6,0 (N)","КунРс"," 2","6,0 "," (N)",null,null,null,"","",{"$f":"IF(SUM(L$8:L87)=0, \"\", \" + \")","v":""}]
["17089",null,"КунРс ВКГнг(А)-FRLS 3х0,75"," 3х0,75","0,75","КунРс"," 3","0,75","",null,null,null,"","",{"$f":"IF(SUM(L$8:L88)=0, \"\", \" + \")","v":""}]
["3629",null,"КунРс ВКГнг(А)-FRLS 3х0,75 (PE,N)"," 3х0,75 (PE,N)","0,75 (PE,N)","КунРс"," 3","0,75 "," (PE,N)",null,null,null,"","",{"$f":"IF(SUM(L$8:L89)=0, \"\", \" + \")","v":""}]
["17090",null,"КунРс ВКГнг(А)-FRLS 3х1,0"," 3х1,0","1,0","КунРс"," 3","1,0","",null,null,null,"","",{"$f":"IF(SUM(L$8:L90)=0, \"\", \" + \")","v":""}]
["3633",null,"КунРс ВКГнг(А)-FRLS 3х1,0 (PE,N)"," 3х1,0 (PE,N)","1,0 (PE,N)","КунРс"," 3","1,0 "," (PE,N)",null,null,null,"","",{"$f":"IF(SUM(L$8:L91)=0, \"\", \" + \")","v":""}]
["17091",null,"КунРс ВКГнг(А)-FRLS 3х1,5"," 3х1,5","1,5","КунРс"," 3","1,5","",null,null,null,"","",{"$f":"IF(SUM(L$8:L92)=0, \"\", \" + \")","v":""}]
["3637",null,"КунРс ВКГнг(А)-FRLS 3х1,5 (PE,N)"," 3х1,5 (PE,N)","1,5 (PE,N)","КунРс"," 3","1,5 "," (PE,N)",null,null,null,"","",{"$f":"IF(SUM(L$8:L93)=0, \"\", \" + \")","v":""}]
["17095",null,"КунРс ВКГнг(А)-FRLS 3х10,0"," 3х10,0","10,0","КунРс"," 3","10,0","",null,null,null,"","",{"$f":"IF(SUM(L$8:L94)=0, \"\", \" + \")","v":""}]
["3653",null,"КунРс ВКГнг(А)-FRLS 3х10,0 (PE,N)"," 3х10,0 (PE,N)","10,0 (PE,N)","КунРс"," 3","10,0 "," (PE,N)",null,null,null,"","",{"$f":"IF(SUM(L$8:L95)=0, \"\", \" + \")","v":""}]
["17096",null,"КунРс ВКГнг(А)-FRLS 3х16,0"," 3х16,0","16,0","КунРс"," 3","16,0","",null,null,null,"","",{"$f":"IF(SUM(L$8:L96)=0, \"\", \" + \")","v":""}]
["3657",null,"КунРс ВКГнг(А)-FRLS 3х16,0 (PE,N)"," 3х16,0 (PE,N)","16,0 (PE,N)","КунРс"," 3","16,0 "," (PE,N)",null,null,null,"","",{"$f":"IF(SUM(L$8:L97)=0, \"\", \" + \")","v":""}]
["17092",null,"КунРс ВКГнг(А)-FRLS 3х2,5"," 3х2,5","2,5","КунРс"," 3","2,5","",null,null,null,"","",{"$f":"IF(SUM(L$8:L98)=0, \"\", \" + \")","v":""}]
["3641",null,"КунРс ВКГнг(А)-FRLS 3х2,5 (PE,N)"," 3х2,5 (PE,N)","2,5 (PE,N)","КунРс"," 3","2,5 "," (PE,N)",null,null,null,"","",{"$f":"IF(SUM(L$8:L99)=0, \"\", \" + \")","v":""}]
["17093",null,"КунРс ВКГнг(А)-FRLS 3х4,0"," 3х4,0","4,0","КунРс"," 3","4,0","",null,null,null,"","",{"$f":"IF(SUM(L$8:L100)=0, \"\", \" + \")","v":""}]
["3645",null,"КунРс ВКГнг(А)-FRLS 3х4,0 (PE,N)"," 3х4,0 (PE,N)","4,0 (PE,N)","КунРс"," 3","4,0 "," (PE,N)",null,null,null,"","",{"$f":"IF(SUM(L$8:L101)=0, \"\", \" + \")","v":""}]
["17094",null,"КунРс ВКГнг(А)-FRLS 3х6,0"," 3х6,0","6,0","КунРс"," 3","6,0","",null,null,null,"","",{"$f":"IF(SUM(L$8:L102)=0, \"\", \" + \")","v":""}]
["3649",null,"КунРс ВКГнг(А)-FRLS 3х6,0 (PE,N)"," 3х6,0 (PE,N)","6,0 (PE,N)","КунРс"," 3","6,0 "," (PE,N)",null,null,null,"","",{"$f":"IF(SUM(L$8:L103)=0, \"\", \" + \")","v":""}]
["17235",null,"КунРс ВКГнг(А)-FRLS 4х0,75 (N)"," 4х0,75 (N)","0,75 (N)","КунРс"," 4","0,75 "," (N)",null,null,null,"","",{"$f":"IF(SUM(L$8:L104)=0, \"\", \" + \")","v":""}]
["3630",null,"КунРс ВКГнг(А)-FRLS 4х0,75 (PE)"," 4х0,75 (PE)","0,75 (PE)","КунРс"," 4","0,75 "," (PE)",null,null,null,"","",{"$f":"IF(SUM(L$8:L105)=0, \"\", \" + \")","v":""}]
["17236",null,"КунРс ВКГнг(А)-FRLS 4х1,0 (N)"," 4х1,0 (N)","1,0 (N)","КунРс"," 4","1,0 "," (N)",null,null,null,"","",{"$f":"IF(SUM(L$8:L106)=0, \"\", \" + \")","v":""}]
["3634",null,"КунРс ВКГнг(А)-FRLS 4х1,0 (PE)"," 4х1,0 (PE)","1,0 (PE)","КунРс"," 4","1,0 "," (PE)",null,null,null,"","",{"$f":"IF(SUM(L$8:L107)=0, \"\", \" + \")","v":""}]
["17237",null,"КунРс ВКГнг(А)-FRLS 4х1,5 (N)"," 4х1,5 (N)","1,5 (N)","КунРс"," 4","1,5 "," (N)",null,null,null,"","",{"$f":"IF(SUM(L$8:L108)=0, \"\", \" + \")","v":""}]
["3638",null,"КунРс ВКГнг(А)-FRLS 4х1,5 (PE)"," 4х1,5 (PE)","1,5 (PE)","КунРс"," 4","1,5 "," (PE)",null,null,null,"","",{"$f":"IF(SUM(L$8:L109)=0, \"\", \" + \")","v":""}]
["17241",null,"КунРс ВКГнг(А)-FRLS 4х10,0 (N)"," 4х10,0 (N)","10,0 (N)","КунРс"," 4","10,0 "," (N)",null,null,null,"","",{"$f":"IF(SUM(L$8:L110)=0, \"\", \" + \")","v":""}]
["3654",null,"КунРс ВКГнг(А)-FRLS 4х10,0 (PE)"," 4х10,0 (PE)","10,0 (PE)","КунРс"," 4","10,0 "," (PE)",null,null,null,"","",{"$f":"IF(SUM(L$8:L111)=0, \"\", \" + \")","v":""}]
["17242",null,"КунРс ВКГнг(А)-FRLS 4х16,0 (N)"," 4х16,0 (N)","16,0 (N)","КунРс"," 4","16,0 "," (N)",null,null,null,"","",{"$f":"IF(SUM(L$8:L112)=0, \"\", \" + \")","v":""}]
["3658",null,"КунРс ВКГнг(А)-FRLS 4х16,0 (PE)"," 4х16,0 (PE)","16,0 (PE)","КунРс"," 4","16,0 "," (PE)",null,null,null,"","",{"$f":"IF(SUM(L$8:L113)=0, \"\", \" + \")","v":""}]
["17238",null,"КунРс ВКГнг(А)-FRLS 4х2,5 (N)"," 4х2,5 (N)","2,5 (N)","КунРс"," 4","2,5 "," (N)",null,null,null,"","",{"$f":"IF(SUM(L$8:L114)=0, \"\", \" + \")","v":""}]
["3642",null,"КунРс ВКГнг(А)-FRLS 4х2,5 (PE)"," 4х2,5 (PE)","2,5 (PE)","КунРс"," 4","2,5 "," (PE)",null,null,null,"","",{"$f":"IF(SUM(L$8:L115)=0, \"\", \" + \")","v":""}]
["17239",null,"КунРс ВКГнг(А)-FRLS 4х4,0 (N)"," 4х4,0 (N)","4,0 (N)","КунРс"," 4","4,0 "," (N)",null,null,null,"","",{"$f":"IF(SUM(L$8:L116)=0, \"\", \" + \")","v":""}]
["3646",null,"КунРс ВКГнг(А)-FRLS 4х4,0 (PE)"," 4х4,0 (PE)","4,0 (PE)","КунРс"," 4","4,0 "," (PE)",null,null,null,"","",{"$f":"IF(SUM(L$8:L117)=0, \"\", \" + \")","v":""}]
["17240",null,"КунРс ВКГнг(А)-FRLS 4х6,0 (N)"," 4х6,0 (N)","6,0 (N)","КунРс"," 4","6,0 "," (N)",null,null,null,"","",{"$f":"IF(SUM(L$8:L118)=0, \"\", \" + \")","v":""}]
["3650",null,"КунРс ВКГнг(А)-FRLS 4х6,0 (PE)"," 4х6,0 (PE)","6,0 (PE)","КунРс"," 4","6,0 "," (PE)",null,null,null,"","",{"$f":"IF(SUM(L$8:L119)=0, \"\", \" + \")","v":""}]
["17331",null,"КунРс ВКГнг(А)-FRLS 5х0,75 (N)"," 5х0,75 (N)","0,75 (N)","КунРс"," 5","0,75 "," (N)",null,null,null,"","",{"$f":"IF(SUM(L$8:L120)=0, \"\", \" + \")","v":""}]
["3631",null,"КунРс ВКГнг(А)-FRLS 5х0,75 (PE,N)"," 5х0,75 (PE,N)","0,75 (PE,N)","КунРс"," 5","0,75 "," (PE,N)",null,null,null,"","",{"$f":"IF(SUM(L$8:L121)=0, \"\", \" + \")","v":""}]
["17332",null,"КунРс ВКГнг(А)-FRLS 5х1,0 (N)"," 5х1,0 (N)","1,0 (N)","КунРс"," 5","1,0 "," (N)",null,null,null,"","",{"$f":"IF(SUM(L$8:L122)=0, \"\", \" + \")","v":""}]
["3635",null,"КунРс ВКГнг(А)-FRLS 5х1,0 (PE,N)"," 5х1,0 (PE,N)","1,0 (PE,N)","КунРс"," 5","1,0 "," (PE,N)",null,null,null,"","",{"$f":"IF(SUM(L$8:L123)=0, \"\", \" + \")","v":""}]
["17333",null,"КунРс ВКГнг(А)-FRLS 5х1,5 (N)"," 5х1,5 (N)","1,5 (N)","КунРс"," 5","1,5 "," (N)",null,null,null,"","",{"$f":"IF(SUM(L$8:L124)=0, \"\", \" + \")","v":""}]
["3639",null,"КунРс ВКГнг(А)-FRLS 5х1,5 (PE,N)"," 5х1,5 (PE,N)","1,5 (PE,N)","КунРс"," 5","1,5 "," (PE,N)",null,null,null,"","",{"$f":"IF(SUM(L$8:L125)=0, \"\", \" + \")","v":""}]
["17337",null,"КунРс ВКГнг(А)-FRLS 5х10,0 (N)"," 5х10,0 (N)","10,0 (N)","КунРс"," 5","10,0 "," (N)",null,null,null,"","",{"$f":"IF(SUM(L$8:L126)=0, \"\", \" + \")","v":""}]
["3655",null,"КунРс ВКГнг(А)-FRLS 5х10,0 (PE,N)"," 5х10,0 (PE,N)","10,0 (PE,N)","КунРс"," 5","10,0 "," (PE,N)",null,null,null,"","",{"$f":"IF(SUM(L$8:L127)=0, \"\", \" + \")","v":""}]
["17338",null,"КунРс ВКГнг(А)-FRLS 5х16,0 (N)"," 5х16,0 (N)","16,0 (N)","КунРс"," 5","16,0 "," (N)",null,null,null,"","",{"$f":"IF(SUM(L$8:L128)=0, \"\", \" + \")","v":""}]
["3659",null,"КунРс ВКГнг(А)-FRLS 5х16,0 (PE,N)"," 5х16,0 (PE,N)","16,0 (PE,N)","КунРс"," 5","16,0 "," (PE,N)",null,null,null,"","",{"$f":"IF(SUM(L$8:L129)=0, \"\", \" + \")","v":""}]
["17334",null,"КунРс ВКГнг(А)-FRLS 5х2,5 (N)"," 5х2,5 (N)","2,5 (N)","КунРс"," 5","2,5 "," (N)",null,null,null,"","",{"$f":"IF(SUM(L$8:L130)=0, \"\", \" + \")","v":""}]
["3643",null,"КунРс ВКГнг(А)-FRLS 5х2,5 (PE,N)"," 5х2,5 (PE,N)","2,5 (PE,N)","КунРс"," 5","2,5 "," (PE,N)",null,null,null,"","",{"$f":"IF(SUM(L$8:L131)=0, \"\", \" + \")","v":""}]
["17335",null,"КунРс ВКГнг(А)-FRLS 5х4,0 (N)"," 5х4,0 (N)","4,0 (N)","КунРс"," 5","4,0 "," (N)",null,null,null,"","",{"$f":"IF(SUM(L$8:L132)=0, \"\", \" + \")","v":""}]
["3647",null,"КунРс ВКГнг(А)-FRLS 5х4,0 (PE,N)"," 5х4,0 (PE,N)","4,0 (PE,N)","КунРс"," 5","4,0 "," (PE,N)",null,null,null,"","",{"$f":"IF(SUM(L$8:L133)=0, \"\", \" + \")","v":""}]
["17336",null,"КунРс ВКГнг(А)-FRLS 5х6,0 (N)"," 5х6,0 (N)","6,0 (N)","КунРс"," 5","6,0 "," (N)",null,null,null,"","",{"$f":"IF(SUM(L$8:L134)=0, \"\", \" + \")","v":""}]
["3651",null,"КунРс ВКГнг(А)-FRLS 5х6,0 (PE,N)"," 5х6,0 (PE,N)","6,0 (PE,N)","КунРс"," 5","6,0 "," (PE,N)",null,null,null,"","",{"$f":"IF(SUM(L$8:L135)=0, \"\", \" + \")","v":""}]
["3605",null,"КунРс Внг(А)-FRLS 2х0,75"," 2х0,75","0,75","КунРс"," 2","0,75","",null,null,null,"","",{"$f":"IF(SUM(L$8:L136)=0, \"\", \" + \")","v":""}]
["16669",null,"КунРс Внг(А)-FRLS 2х0,75 (N)",{"$f":"MID(C138, FIND(\" \",C138, FIND(\" \",C138)+1), 100)","v":" 2х0,75 (N)"},"0,75 (N)",{"$f":"MID(C138, 1, IF(ISERR(FIND(\"Кун\",C138)), 3, 5))","v":"КунРс"}," 2","0,75 "," (N)",null,null,null,{"$f":"IF(L138=0, \"\",CONCATENATE(O138, C138, \"-\",L138,\"м\"))","v":""},"",{"$f":"IF(SUM(L$8:L137)=0, \"\", \" + \")","v":""}]
["3608",null,"КунРс Внг(А)-FRLS 2х1,0"," 2х1,0",{"$f":"MID($D139,IF(ISERR(FIND(\"х\",$D139)), FIND(\"x\",$D139)+1, FIND(\"х\",$D139))+1, 100)","v":"1,0"},"КунРс",{"$f":"MID($D139,1, IF(ISERR(FIND(\"х\",$D139)), FIND(\"x\",$D139)-1, FIND(\"х\",$D139))-1)","v":" 2"},{"$f":"IF(ISERR(FIND(\" \", E139)), E139, MID(E139, 1, FIND(\" \",E139)))","v":"1,0"},{"$f":"IF(ISERR(FIND(\" \", E139)), \"\", MID(E139, FIND(\" \",E139), 20))","v":""},null,null,null,"",{"$f":"CONCATENATE(N138,M139)","v":""},{"$f":"IF(SUM(L$8:L138)=0, \"\", \" + \")","v":""}]
["16879",null,"КунРс Внг(А)-FRLS 2х1,0 (N)"," 2х1,0 (N)","1,0 (N)","КунРс"," 2","1,0 "," (N)",null,null,null,"","",{"$f":"IF(SUM(L$8:L139)=0, \"\", \" + \")","v":""}]
["3488",null,"КунРс Внг(А)-FRLS 2х1,5"," 2х1,5","1,5","КунРс"," 2","1,5","",null,null,null,"","",{"$f":"IF(SUM(L$8:L140)=0, \"\", \" + \")","v":""}]
["16880",null,"КунРс Внг(А)-FRLS 2х1,5 (N)"," 2х1,5 (N)","1,5 (N)","КунРс"," 2","1,5 "," (N)",null,null,null,"","",{"$f":"IF(SUM(L$8:L141)=0, \"\", \" + \")","v":""}]
["3621",null,"КунРс Внг(А)-FRLS 2х10,0"," 2х10,0","10,0","КунРс"," 2","10,0","",null,null,null,"","",{"$f":"IF(SUM(L$8:L142)=0, \"\", \" + \")","v":""}]
["16884",null,"КунРс Внг(А)-FRLS 2х10,0 (N)"," 2х10,0 (N)","10,0 (N)","КунРс"," 2","10,0 "," (N)",null,null,null,"","",{"$f":"IF(SUM(L$8:L143)=0, \"\", \" + \")","v":""}]
["3624",null,"КунРс Внг(А)-FRLS 2х16,0"," 2х16,0","16,0","КунРс"," 2","16,0","",null,null,null,"","",{"$f":"IF(SUM(L$8:L144)=0, \"\", \" + \")","v":""}]
["16885",null,"КунРс Внг(А)-FRLS 2х16,0 (N)"," 2х16,0 (N)","16,0 (N)","КунРс"," 2","16,0 "," (N)",null,null,null,"","",{"$f":"IF(SUM(L$8:L145)=0, \"\", \" + \")","v":""}]
["3491",null,"КунРс Внг(А)-FRLS 2х2,5"," 2х2,5","2,5","КунРс"," 2","2,5","",null,null,null,"","",{"$f":"IF(SUM(L$8:L146)=0, \"\", \" + \")","v":""}]
["16881",null,"КунРс Внг(А)-FRLS 2х2,5 (N)"," 2х2,5 (N)","2,5 (N)","КунРс"," 2","2,5 "," (N)",null,null,null,"","",{"$f":"IF(SUM(L$8:L147)=0, \"\", \" + \")","v":""}]
["3613",null,"КунРс Внг(А)-FRLS 2х4,0"," 2х4,0","4,0","КунРс"," 2","4,0","",null,null,null,"","",{"$f":"IF(SUM(L$8:L148)=0, \"\", \" + \")","v":""}]
["16882",null,"КунРс Внг(А)-FRLS 2х4,0 (N)"," 2х4,0 (N)","4,0 (N)","КунРс"," 2","4,0 "," (N)",null,null,null,"","",{"$f":"IF(SUM(L$8:L149)=0, \"\", \" + \")","v":""}]
["3617",null,"КунРс Внг(А)-FRLS 2х6,0"," 2х6,0","6,0","КунРс"," 2","6,0","",null,null,null,"","",{"$f":"IF(SUM(L$8:L150)=0, \"\", \" + \")","v":""}]
["16883",null,"КунРс Внг(А)-FRLS 2х6,0 (N)"," 2х6,0 (N)","6,0 (N)","КунРс"," 2","6,0 "," (N)",null,null,null,"","",{"$f":"IF(SUM(L$8:L151)=0, \"\", \" + \")","v":""}]
["2941",null,"КунРс Внг(А)-FRLS 3х0,75"," 3х0,75","0,75","КунРс"," 3","0,75","",null,null,null,"","",{"$f":"IF(SUM(L$8:L152)=0, \"\", \" + \")","v":""}]
["5289",null,"КунРс Внг(А)-FRLS 3х0,75 (PE,N)"," 3х0,75 (PE,N)","0,75 (PE,N)","КунРс"," 3","0,75 "," (PE,N)",null,null,null,"","",{"$f":"IF(SUM(L$8:L153)=0, \"\", \" + \")","v":""}]
["3609",null,"КунРс Внг(А)-FRLS 3х1,0"," 3х1,0","1,0","КунРс"," 3","1,0","",null,null,null,"","",{"$f":"IF(SUM(L$8:L154)=0, \"\", \" + \")","v":""}]
["5290",null,"КунРс Внг(А)-FRLS 3х1,0 (PE,N)"," 3х1,0 (PE,N)","1,0 (PE,N)","КунРс"," 3","1,0 "," (PE,N)",null,null,null,"","",{"$f":"IF(SUM(L$8:L155)=0, \"\", \" + \")","v":""}]
["3612",null,"КунРс Внг(А)-FRLS 3х1,5"," 3х1,5","1,5","КунРс"," 3","1,5","",null,null,null,"","",{"$f":"IF(SUM(L$8:L156)=0, \"\", \" + \")","v":""}]
["5243",null,"КунРс Внг(А)-FRLS 3х1,5 (PE, N)"," 3х1,5 (PE, N)","1,5 (PE, N)","КунРс"," 3","1,5 "," (PE, N)",null,null,null,"","",{"$f":"IF(SUM(L$8:L157)=0, \"\", \" + \")","v":""}]
["5244",null,"КунРс Внг(А)-FRLS 3х1,5 450/750 (без заземления)"," 3х1,5 450/750 (без заземления)","1,5 450/750 (без заземления)","КунРс"," 3","1,5 "," 450/750 (без заземл",null,null,null,"","",{"$f":"IF(SUM(L$8:L158)=0, \"\", \" + \")","v":""}]
["17087",null,"КунРс Внг(А)-FRLS 3х10,0"," 3х10,0","10,0","КунРс"," 3","10,0","",null,null,null,"","",{"$f":"IF(SUM(L$8:L159)=0, \"\", \" + \")","v":""}]
["2942",null,"КунРс Внг(А)-FRLS 3х10,0 (PE,N)"," 3х10,0 (PE,N)","10,0 (PE,N)","КунРс"," 3","10,0 "," (PE,N)",null,null,null,"","",{"$f":"IF(SUM(L$8:L160)=0, \"\", \" + \")","v":""}]
["17088",null,"КунРс Внг(А)-FRLS 3х16,0"," 3х16,0","16,0","КунРс"," 3","16,0","",null,null,null,"","",{"$f":"IF(SUM(L$8:L161)=0, \"\", \" + \")","v":""}]
["3625",null,"КунРс Внг(А)-FRLS 3х16,0 (PE,N)"," 3х16,0 (PE,N)","16,0 (PE,N)","КунРс"," 3","16,0 "," (PE,N)",null,null,null,"","",{"$f":"IF(SUM(L$8:L162)=0, \"\", \" + \")","v":""}]
["17084",null,"КунРс Внг(А)-FRLS 3х2,5"," 3х2,5","2,5","КунРс"," 3","2,5","",null,null,null,"","",{"$f":"IF(SUM(L$8:L163)=0, \"\", \" + \")","v":""}]
["3492",null,"КунРс Внг(А)-FRLS 3х2,5 (PE,N)"," 3х2,5 (PE,N)","2,5 (PE,N)","КунРс"," 3","2,5 "," (PE,N)",null,null,null,"","",{"$f":"IF(SUM(L$8:L164)=0, \"\", \" + \")","v":""}]
["17085",null,"КунРс Внг(А)-FRLS 3х4,0"," 3х4,0","4,0","КунРс"," 3","4,0","",null,null,null,"","",{"$f":"IF(SUM(L$8:L165)=0, \"\", \" + \")","v":""}]
["3614",null,"КунРс Внг(А)-FRLS 3х4,0 (PE,N)"," 3х4,0 (PE,N)","4,0 (PE,N)","КунРс"," 3","4,0 "," (PE,N)",null,null,null,"","",{"$f":"IF(SUM(L$8:L166)=0, \"\", \" + \")","v":""}]
["17086",null,"КунРс Внг(А)-FRLS 3х6,0"," 3х6,0","6,0","КунРс"," 3","6,0","",null,null,null,"","",{"$f":"IF(SUM(L$8:L167)=0, \"\", \" + \")","v":""}]
["3618",null,"КунРс Внг(А)-FRLS 3х6,0 (PE,N)"," 3х6,0 (PE,N)","6,0 (PE,N)","КунРс"," 3","6,0 "," (PE,N)",null,null,null,"","",{"$f":"IF(SUM(L$8:L168)=0, \"\", \" + \")","v":""}]
["17227",null,"КунРс Внг(А)-FRLS 4х0,75 (N)"," 4х0,75 (N)","0,75 (N)","КунРс"," 4","0,75 "," (N)",null,null,null,"","",{"$f":"IF(SUM(L$8:L169)=0, \"\", \" + \")","v":""}]
["3606",null,"КунРс Внг(А)-FRLS 4х0,75 (PE)"," 4х0,75 (PE)","0,75 (PE)","КунРс"," 4","0,75 "," (PE)",null,null,null,"","",{"$f":"IF(SUM(L$8:L170)=0, \"\", \" + \")","v":""}]
["17228",null,"КунРс Внг(А)-FRLS 4х1,0 (N)"," 4х1,0 (N)","1,0 (N)","КунРс"," 4","1,0 "," (N)",null,null,null,"","",{"$f":"IF(SUM(L$8:L171)=0, \"\", \" + \")","v":""}]
["3610",null,"КунРс Внг(А)-FRLS 4х1,0 (PE)"," 4х1,0 (PE)","1,0 (PE)","КунРс"," 4","1,0 "," (PE)",null,null,null,"","",{"$f":"IF(SUM(L$8:L172)=0, \"\", \" + \")","v":""}]
["17229",null,"КунРс Внг(А)-FRLS 4х1,5 (N)"," 4х1,5 (N)","1,5 (N)","КунРс"," 4","1,5 "," (N)",null,null,null,"","",{"$f":"IF(SUM(L$8:L173)=0, \"\", \" + \")","v":""}]
["3489",null,"КунРс Внг(А)-FRLS 4х1,5 (PE)"," 4х1,5 (PE)","1,5 (PE)","КунРс"," 4","1,5 "," (PE)",null,null,null,"","",{"$f":"IF(SUM(L$8:L174)=0, \"\", \" + \")","v":""}]
["17233",null,"КунРс Внг(А)-FRLS 4х10,0 (N)"," 4х10,0 (N)","10,0 (N)","КунРс"," 4","10,0 "," (N)",null,null,null,"","",{"$f":"IF(SUM(L$8:L175)=0, \"\", \" + \")","v":""}]
["3622",null,"КунРс Внг(А)-FRLS 4х10,0 (PE)"," 4х10,0 (PE)","10,0 (PE)","КунРс"," 4","10,0 "," (PE)",null,null,null,"","",{"$f":"IF(SUM(L$8:L176)=0, \"\", \" + \")","v":""}]
["17234",null,"КунРс Внг(А)-FRLS 4х16,0 (N)"," 4х16,0 (N)","16,0 (N)","КунРс"," 4","16,0 "," (N)",null,null,null,"","",{"$f":"IF(SUM(L$8:L177)=0, \"\", \" + \")","v":""}]
["3626",null,"КунРс Внг(А)-FRLS 4х16,0 (PE)"," 4х16,0 (PE)","16,0 (PE)","КунРс"," 4","16,0 "," (PE)",null,null,null,"","",{"$f":"IF(SUM(L$8:L178)=0, \"\", \" + \")","v":""}]
["17230",null,"КунРс Внг(А)-FRLS 4х2,5 (N)"," 4х2,5 (N)","2,5 (N)","КунРс"," 4","2,5 "," (N)",null,null,null,"","",{"$f":"IF(SUM(L$8:L179)=0, \"\", \" + \")","v":""}]
["3493",null,"КунРс Внг(А)-FRLS 4х2,5 (PE)"," 4х2,5 (PE)","2,5 (PE)","КунРс"," 4","2,5 "," (PE)",null,null,null,"","",{"$f":"IF(SUM(L$8:L180)=0, \"\", \" + \")","v":""}]
["17231",null,"КунРс Внг(А)-FRLS 4х4,0 (N)"," 4х4,0 (N)","4,0 (N)","КунРс"," 4","4,0 "," (N)",null,null,null,"","",{"$f":"IF(SUM(L$8:L181)=0, \"\", \" + \")","v":""}]
["3615",null,"КунРс Внг(А)-FRLS 4х4,0 (PE)"," 4х4,0 (PE)","4,0 (PE)","КунРс"," 4","4,0 "," (PE)",null,null,null,"","",{"$f":"IF(SUM(L$8:L182)=0, \"\", \" + \")","v":""}]
["17232",null,"КунРс Внг(А)-FRLS 4х6,0 (N)"," 4х6,0 (N)","6,0 (N)","КунРс"," 4","6,0 "," (N)",null,null,null,"","",{"$f":"IF(SUM(L$8:L183)=0, \"\", \" + \")","v":""}]
["3619",null,"КунРс Внг(А)-FRLS 4х6,0 (PE)"," 4х6,0 (PE)","6,0 (PE)","КунРс"," 4","6,0 "," (PE)",null,null,null,"","",{"$f":"IF(SUM(L$8:L184)=0, \"\", \" + \")","v":""}]
["17323",null,"КунРс Внг(А)-FRLS 5х0,75 (N)"," 5х0,75 (N)","0,75 (N)","КунРс"," 5","0,75 "," (N)",null,null,null,"","",{"$f":"IF(SUM(L$8:L185)=0, \"\", \" + \")","v":""}]
["3607",null,"КунРс Внг(А)-FRLS 5х0,75 (PE,N)"," 5х0,75 (PE,N)","0,75 (PE,N)","КунРс"," 5","0,75 "," (PE,N)",null,null,null,"","",{"$f":"IF(SUM(L$8:L186)=0, \"\", \" + \")","v":""}]
["17324",null,"КунРс Внг(А)-FRLS 5х1,0 (N)"," 5х1,0 (N)","1,0 (N)","КунРс"," 5","1,0 "," (N)",null,null,null,"","",{"$f":"IF(SUM(L$8:L187)=0, \"\", \" + \")","v":""}]
["3611",null,"КунРс Внг(А)-FRLS 5х1,0 (PE,N)"," 5х1,0 (PE,N)","1,0 (PE,N)","КунРс"," 5","1,0 "," (PE,N)",null,null,null,"","",{"$f":"IF(SUM(L$8:L188)=0, \"\", \" + \")","v":""}]
["17325",null,"КунРс Внг(А)-FRLS 5х1,5 (N)"," 5х1,5 (N)","1,5 (N)","КунРс"," 5","1,5 "," (N)",null,null,null,"","",{"$f":"IF(SUM(L$8:L189)=0, \"\", \" + \")","v":""}]
["3490",null,"КунРс Внг(А)-FRLS 5х1,5 (PE,N)"," 5х1,5 (PE,N)","1,5 (PE,N)","КунРс"," 5","1,5 "," (PE,N)",null,null,null,"","",{"$f":"IF(SUM(L$8:L190)=0, \"\", \" + \")","v":""}]
["17329",null,"КунРс Внг(А)-FRLS 5х10,0 (N)"," 5х10,0 (N)","10,0 (N)","КунРс"," 5","10,0 "," (N)",null,null,null,"","",{"$f":"IF(SUM(L$8:L191)=0, \"\", \" + \")","v":""}]
["3623",null,"КунРс Внг(А)-FRLS 5х10,0 (PE,N)"," 5х10,0 (PE,N)","10,0 (PE,N)","КунРс"," 5","10,0 "," (PE,N)",null,null,null,"","",{"$f":"IF(SUM(L$8:L192)=0, \"\", \" + \")","v":""}]
["17330",null,"КунРс Внг(А)-FRLS 5х16,0 (N)"," 5х16,0 (N)","16,0 (N)","КунРс"," 5","16,0 "," (N)",null,null,null,"","",{"$f":"IF(SUM(L$8:L193)=0, \"\", \" + \")","v":""}]
["3627",null,"КунРс Внг(А)-FRLS 5х16,0 (PE,N)"," 5х16,0 (PE,N)","16,0 (PE,N)","КунРс"," 5","16,0 "," (PE,N)",null,null,null,"","",{"$f":"IF(SUM(L$8:L194)=0, \"\", \" + \")","v":""}]
["17326",null,"КунРс Внг(А)-FRLS 5х2,5 (N)"," 5х2,5 (N)","2,5 (N)","КунРс"," 5","2,5 "," (N)",null,null,null,"","",{"$f":"IF(SUM(L$8:L195)=0, \"\", \" + \")","v":""}]
["3494",null,"КунРс Внг(А)-FRLS 5х2,5 (PE,N)"," 5х2,5 (PE,N)","2,5 (PE,N)","КунРс"," 5","2,5 "," (PE,N)",null,null,null,"","",{"$f":"IF(SUM(L$8:L196)=0, \"\", \" + \")","v":""}]
["17327",null,"КунРс Внг(А)-FRLS 5х4,0 (N)"," 5х4,0 (N)","4,0 (N)","КунРс"," 5","4,0 "," (N)",null,null,null,"","",{"$f":"IF(SUM(L$8:L197)=0, \"\", \" + \")","v":""}]
["3616",null,"КунРс Внг(А)-FRLS 5х4,0 (PE,N)"," 5х4,0 (PE,N)","4,0 (PE,N)","КунРс"," 5","4,0 "," (PE,N)",null,null,null,"","",{"$f":"IF(SUM(L$8:L198)=0, \"\", \" + \")","v":""}]
["17328",null,"КунРс Внг(А)-FRLS 5х6,0 (N)"," 5х6,0 (N)","6,0 (N)","КунРс"," 5","6,0 "," (N)",null,null,null,"","",{"$f":"IF(SUM(L$8:L199)=0, \"\", \" + \")","v":""}]
["3620",null,"КунРс Внг(А)-FRLS 5х6,0 (PE,N)"," 5х6,0 (PE,N)","6,0 (PE,N)","КунРс"," 5","6,0 "," (PE,N)",null,null,null,"","",{"$f":"IF(SUM(L$8:L200)=0, \"\", \" + \")","v":""}]
["3487",null,"КунРс Внг(А)-FRLSLTx 2х0,75",{"$f":"MID(C202, FIND(\" \",C202, FIND(\" \",C202)+1), 100)","v":" 2х0,75"},"0,75",{"$f":"MID(C202, 1, IF(ISERR(FIND(\"Кун\",C202)), 3, 5))","v":"КунРс"}," 2","0,75","",null,null,null,{"$f":"IF(L202=0, \"\",CONCATENATE(O202, C202, \"-\",L202,\"м\"))","v":""},"",{"$f":"IF(SUM(L$8:L201)=0, \"\", \" + \")","v":""}]
["17179",null,"КунРс Внг(А)-FRLSLTx 2х0,75 (N)"," 2х0,75 (N)",{"$f":"MID($D203,IF(ISERR(FIND(\"х\",$D203)), FIND(\"x\",$D203)+1, FIND(\"х\",$D203))+1, 100)","v":"0,75 (N)"},"КунРс",{"$f":"MID($D203,1, IF(ISERR(FIND(\"х\",$D203)), FIND(\"x\",$D203)-1, FIND(\"х\",$D203))-1)","v":" 2"},{"$f":"IF(ISERR(FIND(\" \", E203)), E203, MID(E203, 1, FIND(\" \",E203)))","v":"0,75 "},{"$f":"IF(ISERR(FIND(\" \", E203)), \"\", MID(E203, FIND(\" \",E203), 20))","v":" (N)"},null,null,null,"",{"$f":"CONCATENATE(N202,M203)","v":""},{"$f":"IF(SUM(L$8:L202)=0, \"\", \" + \")","v":""}]
["5169",null,"КунРс Внг(А)-FRLSLTx 2х1,0"," 2х1,0","1,0","КунРс"," 2","1,0","",null,null,null,"","",{"$f":"IF(SUM(L$8:L203)=0, \"\", \" + \")","v":""}]
["17180",null,"КунРс Внг(А)-FRLSLTx 2х1,0 (N)"," 2х1,0 (N)","1,0 (N)","КунРс"," 2","1,0 "," (N)",null,null,null,"","",{"$f":"IF(SUM(L$8:L204)=0, \"\", \" + \")","v":""}]
["5172",null,"КунРс Внг(А)-FRLSLTx 2х1,5"," 2х1,5","1,5","КунРс"," 2","1,5","",null,null,null,"","",{"$f":"IF(SUM(L$8:L205)=0, \"\", \" + \")","v":""}]
["17181",null,"КунРс Внг(А)-FRLSLTx 2х1,5 (N)"," 2х1,5 (N)","1,5 (N)","КунРс"," 2","1,5 "," (N)",null,null,null,"","",{"$f":"IF(SUM(L$8:L206)=0, \"\", \" + \")","v":""}]
["5186",null,"КунРс Внг(А)-FRLSLTx 2х10,0"," 2х10,0","10,0","КунРс"," 2","10,0","",null,null,null,"","",{"$f":"IF(SUM(L$8:L207)=0, \"\", \" + \")","v":""}]
["17185",null,"КунРс Внг(А)-FRLSLTx 2х10,0 (N)"," 2х10,0 (N)","10,0 (N)","КунРс"," 2","10,0 "," (N)",null,null,null,"","",{"$f":"IF(SUM(L$8:L208)=0, \"\", \" + \")","v":""}]
["5189",null,"КунРс Внг(А)-FRLSLTx 2х16,0"," 2х16,0","16,0","КунРс"," 2","16,0","",null,null,null,"","",{"$f":"IF(SUM(L$8:L209)=0, \"\", \" + \")","v":""}]
["17186",null,"КунРс Внг(А)-FRLSLTx 2х16,0 (N)"," 2х16,0 (N)","16,0 (N)","КунРс"," 2","16,0 "," (N)",null,null,null,"","",{"$f":"IF(SUM(L$8:L210)=0, \"\", \" + \")","v":""}]
["5175",null,"КунРс Внг(А)-FRLSLTx 2х2,5"," 2х2,5","2,5","КунРс"," 2","2,5","",null,null,null,"","",{"$f":"IF(SUM(L$8:L211)=0, \"\", \" + \")","v":""}]
["17182",null,"КунРс Внг(А)-FRLSLTx 2х2,5 (N)"," 2х2,5 (N)","2,5 (N)","КунРс"," 2","2,5 "," (N)",null,null,null,"","",{"$f":"IF(SUM(L$8:L212)=0, \"\", \" + \")","v":""}]
["5178",null,"КунРс Внг(А)-FRLSLTx 2х4,0"," 2х4,0","4,0","КунРс"," 2","4,0","",null,null,null,"","",{"$f":"IF(SUM(L$8:L213)=0, \"\", \" + \")","v":""}]
["17183",null,"КунРс Внг(А)-FRLSLTx 2х4,0 (N)"," 2х4,0 (N)","4,0 (N)","КунРс"," 2","4,0 "," (N)",null,null,null,"","",{"$f":"IF(SUM(L$8:L214)=0, \"\", \" + \")","v":""}]
["5182",null,"КунРс Внг(А)-FRLSLTx 2х6,0"," 2х6,0","6,0","КунРс"," 2","6,0","",null,null,null,"","",{"$f":"IF(SUM(L$8:L215)=0, \"\", \" + \")","v":""}]
["17184",null,"КунРс Внг(А)-FRLSLTx 2х6,0 (N)"," 2х6,0 (N)","6,0 (N)","КунРс"," 2","6,0 "," (N)",null,null,null,"","",{"$f":"IF(SUM(L$8:L216)=0, \"\", \" + \")","v":""}]
["17131",null,"КунРс Внг(А)-FRLSLTx 3х0,75"," 3х0,75","0,75","КунРс"," 3","0,75","",null,null,null,"","",{"$f":"IF(SUM(L$8:L217)=0, \"\", \" + \")","v":""}]
["5166",null,"КунРс Внг(А)-FRLSLTx 3х0,75 (PE,N)"," 3х0,75 (PE,N)","0,75 (PE,N)","КунРс"," 3","0,75 "," (PE,N)",null,null,null,"","",{"$f":"IF(SUM(L$8:L218)=0, \"\", \" + \")","v":""}]
["17132",null,"КунРс Внг(А)-FRLSLTx 3х1,0"," 3х1,0","1,0","КунРс"," 3","1,0","",null,null,null,"","",{"$f":"IF(SUM(L$8:L219)=0, \"\", \" + \")","v":""}]
["4811",null,"КунРс Внг(А)-FRLSLTx 3х1,0 (PE,N)"," 3х1,0 (PE,N)","1,0 (PE,N)","КунРс"," 3","1,0 "," (PE,N)",null,null,null,"","",{"$f":"IF(SUM(L$8:L220)=0, \"\", \" + \")","v":""}]
["17133",null,"КунРс Внг(А)-FRLSLTx 3х1,5"," 3х1,5","1,5","КунРс"," 3","1,5","",null,null,null,"","",{"$f":"IF(SUM(L$8:L221)=0, \"\", \" + \")","v":""}]
["4470",null,"КунРс Внг(А)-FRLSLTx 3х1,5 (PE,N)"," 3х1,5 (PE,N)","1,5 (PE,N)","КунРс"," 3","1,5 "," (PE,N)",null,null,null,"","",{"$f":"IF(SUM(L$8:L222)=0, \"\", \" + \")","v":""}]
["17137",null,"КунРс Внг(А)-FRLSLTx 3х10,0"," 3х10,0","10,0","КунРс"," 3","10,0","",null,null,null,"","",{"$f":"IF(SUM(L$8:L223)=0, \"\", \" + \")","v":""}]
["3486",null,"КунРс Внг(А)-FRLSLTx 3х10,0 (PE,N)"," 3х10,0 (PE,N)","10,0 (PE,N)","КунРс"," 3","10,0 "," (PE,N)",null,null,null,"","",{"$f":"IF(SUM(L$8:L224)=0, \"\", \" + \")","v":""}]
["17138",null,"КунРс Внг(А)-FRLSLTx 3х16,0"," 3х16,0","16,0","КунРс"," 3","16,0","",null,null,null,"","",{"$f":"IF(SUM(L$8:L225)=0, \"\", \" + \")","v":""}]
["5190",null,"КунРс Внг(А)-FRLSLTx 3х16,0 (PE,N)"," 3х16,0 (PE,N)","16,0 (PE,N)","КунРс"," 3","16,0 "," (PE,N)",null,null,null,"","",{"$f":"IF(SUM(L$8:L226)=0, \"\", \" + \")","v":""}]
["17134",null,"КунРс Внг(А)-FRLSLTx 3х2,5"," 3х2,5","2,5","КунРс"," 3","2,5","",null,null,null,"","",{"$f":"IF(SUM(L$8:L227)=0, \"\", \" + \")","v":""}]
["4469",null,"КунРс Внг(А)-FRLSLTx 3х2,5 (PE,N)"," 3х2,5 (PE,N)","2,5 (PE,N)","КунРс"," 3","2,5 "," (PE,N)",null,null,null,"","",{"$f":"IF(SUM(L$8:L228)=0, \"\", \" + \")","v":""}]
["17135",null,"КунРс Внг(А)-FRLSLTx 3х4,0"," 3х4,0","4,0","КунРс"," 3","4,0","",null,null,null,"","",{"$f":"IF(SUM(L$8:L229)=0, \"\", \" + \")","v":""}]
["5179",null,"КунРс Внг(А)-FRLSLTx 3х4,0 (PE,N)"," 3х4,0 (PE,N)","4,0 (PE,N)","КунРс"," 3","4,0 "," (PE,N)",null,null,null,"","",{"$f":"IF(SUM(L$8:L230)=0, \"\", \" + \")","v":""}]
["17136",null,"КунРс Внг(А)-FRLSLTx 3х6,0"," 3х6,0","6,0","КунРс"," 3","6,0","",null,null,null,"","",{"$f":"IF(SUM(L$8:L231)=0, \"\", \" + \")","v":""}]
["5183",null,"КунРс Внг(А)-FRLSLTx 3х6,0 (PE,N)"," 3х6,0 (PE,N)","6,0 (PE,N)","КунРс"," 3","6,0 "," (PE,N)",null,null,null,"","",{"$f":"IF(SUM(L$8:L232)=0, \"\", \" + \")","v":""}]
["17275",null,"КунРс Внг(А)-FRLSLTx 4х0,75 (N)"," 4х0,75 (N)","0,75 (N)","КунРс"," 4","0,75 "," (N)",null,null,null,"","",{"$f":"IF(SUM(L$8:L233)=0, \"\", \" + \")","v":""}]
["5167",null,"КунРс Внг(А)-FRLSLTx 4х0,75 (PE)"," 4х0,75 (PE)","0,75 (PE)","КунРс"," 4","0,75 "," (PE)",null,null,null,"","",{"$f":"IF(SUM(L$8:L234)=0, \"\", \" + \")","v":""}]
["17276",null,"КунРс Внг(А)-FRLSLTx 4х1,0 (N)"," 4х1,0 (N)","1,0 (N)","КунРс"," 4","1,0 "," (N)",null,null,null,"","",{"$f":"IF(SUM(L$8:L235)=0, \"\", \" + \")","v":""}]
["5170",null,"КунРс Внг(А)-FRLSLTx 4х1,0 (PE)"," 4х1,0 (PE)","1,0 (PE)","КунРс"," 4","1,0 "," (PE)",null,null,null,"","",{"$f":"IF(SUM(L$8:L236)=0, \"\", \" + \")","v":""}]
["17277",null,"КунРс Внг(А)-FRLSLTx 4х1,5 (N)"," 4х1,5 (N)","1,5 (N)","КунРс"," 4","1,5 "," (N)",null,null,null,"","",{"$f":"IF(SUM(L$8:L237)=0, \"\", \" + \")","v":""}]
["5173",null,"КунРс Внг(А)-FRLSLTx 4х1,5 (PE)"," 4х1,5 (PE)","1,5 (PE)","КунРс"," 4","1,5 "," (PE)",null,null,null,"","",{"$f":"IF(SUM(L$8:L238)=0, \"\", \" + \")","v":""}]
["17281",null,"КунРс Внг(А)-FRLSLTx 4х10,0 (N)"," 4х10,0 (N)","10,0 (N)","КунРс"," 4","10,0 "," (N)",null,null,null,"","",{"$f":"IF(SUM(L$8:L239)=0, \"\", \" + \")","v":""}]
["5187",null,"КунРс Внг(А)-FRLSLTx 4х10,0 (PE)"," 4х10,0 (PE)","10,0 (PE)","КунРс"," 4","10,0 "," (PE)",null,null,null,"","",{"$f":"IF(SUM(L$8:L240)=0, \"\", \" + \")","v":""}]
["17282",null,"КунРс Внг(А)-FRLSLTx 4х16,0 (N)"," 4х16,0 (N)","16,0 (N)","КунРс"," 4","16,0 "," (N)",null,null,null,"","",{"$f":"IF(SUM(L$8:L241)=0, \"\", \" + \")","v":""}]
["5191",null,"КунРс Внг(А)-FRLSLTx 4х16,0 (PE)"," 4х16,0 (PE)","16,0 (PE)","КунРс"," 4","16,0 "," (PE)",null,null,null,"","",{"$f":"IF(SUM(L$8:L242)=0, \"\", \" + \")","v":""}]
["17278",null,"КунРс Внг(А)-FRLSLTx 4х2,5 (N)"," 4х2,5 (N)","2,5 (N)","КунРс"," 4","2,5 "," (N)",null,null,null,"","",{"$f":"IF(SUM(L$8:L243)=0, \"\", \" + \")","v":""}]
["5176",null,"КунРс Внг(А)-FRLSLTx 4х2,5 (PE)"," 4х2,5 (PE)","2,5 (PE)","КунРс"," 4","2,5 "," (PE)",null,null,null,"","",{"$f":"IF(SUM(L$8:L244)=0, \"\", \" + \")","v":""}]
["17279",null,"КунРс Внг(А)-FRLSLTx 4х4,0 (N)"," 4х4,0 (N)","4,0 (N)","КунРс"," 4","4,0 "," (N)",null,null,null,"","",{"$f":"IF(SUM(L$8:L245)=0, \"\", \" + \")","v":""}]
["5180",null,"КунРс Внг(А)-FRLSLTx 4х4,0 (PE)"," 4х4,0 (PE)","4,0 (PE)","КунРс"," 4","4,0 "," (PE)",null,null,null,"","",{"$f":"IF(SUM(L$8:L246)=0, \"\", \" + \")","v":""}]
["17280",null,"КунРс Внг(А)-FRLSLTx 4х6,0 (N)"," 4х6,0 (N)","6,0 (N)","КунРс"," 4","6,0 "," (N)",null,null,null,"","",{"$f":"IF(SUM(L$8:L247)=0, \"\", \" + \")","v":""}]
["5184",null,"КунРс Внг(А)-FRLSLTx 4х6,0 (PE)"," 4х6,0 (PE)","6,0 (PE)","КунРс"," 4","6,0 "," (PE)",null,null,null,"","",{"$f":"IF(SUM(L$8:L248)=0, \"\", \" + \")","v":""}]
["17372",null,"КунРс Внг(А)-FRLSLTx 5х0,75 (N)"," 5х0,75 (N)","0,75 (N)","КунРс"," 5","0,75 "," (N)",null,null,null,"","",{"$f":"IF(SUM(L$8:L249)=0, \"\", \" + \")","v":""}]
["5168",null,"КунРс Внг(А)-FRLSLTx 5х0,75 (PE,N)"," 5х0,75 (PE,N)","0,75 (PE,N)","КунРс"," 5","0,75 "," (PE,N)",null,null,null,"","",{"$f":"IF(SUM(L$8:L250)=0, \"\", \" + \")","v":""}]
["17373",null,"КунРс Внг(А)-FRLSLTx 5х1,0 (N)"," 5х1,0 (N)","1,0 (N)","КунРс"," 5","1,0 "," (N)",null,null,null,"","",{"$f":"IF(SUM(L$8:L251)=0, \"\", \" + \")","v":""}]
["5171",null,"КунРс Внг(А)-FRLSLTx 5х1,0 (PE,N)"," 5х1,0 (PE,N)","1,0 (PE,N)","КунРс"," 5","1,0 "," (PE,N)",null,null,null,"","",{"$f":"IF(SUM(L$8:L252)=0, \"\", \" + \")","v":""}]
["17374",null,"КунРс Внг(А)-FRLSLTx 5х1,5 (N)"," 5х1,5 (N)","1,5 (N)","КунРс"," 5","1,5 "," (N)",null,null,null,"","",{"$f":"IF(SUM(L$8:L253)=0, \"\", \" + \")","v":""}]
["5174",null,"КунРс Внг(А)-FRLSLTx 5х1,5 (PE,N)"," 5х1,5 (PE,N)","1,5 (PE,N)","КунРс"," 5","1,5 "," (PE,N)",null,null,null,"","",{"$f":"IF(SUM(L$8:L254)=0, \"\", \" + \")","v":""}]
["17378",null,"КунРс Внг(А)-FRLSLTx 5х10,0 (N)"," 5х10,0 (N)","10,0 (N)","КунРс"," 5","10,0 "," (N)",null,null,null,"","",{"$f":"IF(SUM(L$8:L255)=0, \"\", \" + \")","v":""}]
["5188",null,"КунРс Внг(А)-FRLSLTx 5х10,0 (PE,N)"," 5х10,0 (PE,N)","10,0 (PE,N)","КунРс"," 5","10,0 "," (PE,N)",null,null,null,"","",{"$f":"IF(SUM(L$8:L256)=0, \"\", \" + \")","v":""}]
["17379",null,"КунРс Внг(А)-FRLSLTx 5х16,0 (N)"," 5х16,0 (N)","16,0 (N)","КунРс"," 5","16,0 "," (N)",null,null,null,"","",{"$f":"IF(SUM(L$8:L257)=0, \"\", \" + \")","v":""}]
["5192",null,"КунРс Внг(А)-FRLSLTx 5х16,0 (PE,N)"," 5х16,0 (PE,N)","16,0 (PE,N)","КунРс"," 5","16,0 "," (PE,N)",null,null,null,"","",{"$f":"IF(SUM(L$8:L258)=0, \"\", \" + \")","v":""}]
["17375",null,"КунРс Внг(А)-FRLSLTx 5х2,5 (N)"," 5х2,5 (N)","2,5 (N)","КунРс"," 5","2,5 "," (N)",null,null,null,"","",{"$f":"IF(SUM(L$8:L259)=0, \"\", \" + \")","v":""}]
["5177",null,"КунРс Внг(А)-FRLSLTx 5х2,5 (PE,N)"," 5х2,5 (PE,N)","2,5 (PE,N)","КунРс"," 5","2,5 "," (PE,N)",null,null,null,"","",{"$f":"IF(SUM(L$8:L260)=0, \"\", \" + \")","v":""}]
["17376",null,"КунРс Внг(А)-FRLSLTx 5х4,0 (N)"," 5х4,0 (N)","4,0 (N)","КунРс"," 5","4,0 "," (N)",null,null,null,"","",{"$f":"IF(SUM(L$8:L261)=0, \"\", \" + \")","v":""}]
["5181",null,"КунРс Внг(А)-FRLSLTx 5х4,0 (PE,N)"," 5х4,0 (PE,N)","4,0 (PE,N)","КунРс"," 5","4,0 "," (PE,N)",null,null,null,"","",{"$f":"IF(SUM(L$8:L262)=0, \"\", \" + \")","v":""}]
["17377",null,"КунРс Внг(А)-FRLSLTx 5х6,0 (N)"," 5х6,0 (N)","6,0 (N)","КунРс"," 5","6,0 "," (N)",null,null,null,"","",{"$f":"IF(SUM(L$8:L263)=0, \"\", \" + \")","v":""}]
["5185",null,"КунРс Внг(А)-FRLSLTx 5х6,0 (PE,N)"," 5х6,0 (PE,N)","6,0 (PE,N)","КунРс"," 5","6,0 "," (PE,N)",null,null,null,"","",{"$f":"IF(SUM(L$8:L264)=0, \"\", \" + \")","v":""}]
["3541",null,"КунРс ПКГнг(А)-FRHF 2х0,75",{"$f":"MID(C266, FIND(\" \",C266, FIND(\" \",C266)+1), 100)","v":" 2х0,75"},"0,75",{"$f":"MID(C266, 1, IF(ISERR(FIND(\"Кун\",C266)), 3, 5))","v":"КунРс"}," 2","0,75","",null,null,null,{"$f":"IF(L266=0, \"\",CONCATENATE(O266, C266, \"-\",L266,\"м\"))","v":""},"",{"$f":"IF(SUM(L$8:L265)=0, \"\", \" + \")","v":""}]
["16933",null,"КунРс ПКГнг(А)-FRHF 2х0,75 (N)"," 2х0,75 (N)",{"$f":"MID($D267,IF(ISERR(FIND(\"х\",$D267)), FIND(\"x\",$D267)+1, FIND(\"х\",$D267))+1, 100)","v":"0,75 (N)"},"КунРс",{"$f":"MID($D267,1, IF(ISERR(FIND(\"х\",$D267)), FIND(\"x\",$D267)-1, FIND(\"х\",$D267))-1)","v":" 2"},{"$f":"IF(ISERR(FIND(\" \", E267)), E267, MID(E267, 1, FIND(\" \",E267)))","v":"0,75 "},{"$f":"IF(ISERR(FIND(\" \", E267)), \"\", MID(E267, FIND(\" \",E267), 20))","v":" (N)"},null,null,null,"",{"$f":"CONCATENATE(N266,M267)","v":""},{"$f":"IF(SUM(L$8:L266)=0, \"\", \" + \")","v":""}]
["3545",null,"КунРс ПКГнг(А)-FRHF 2х1,0"," 2х1,0","1,0","КунРс"," 2","1,0","",null,null,null,"","",{"$f":"IF(SUM(L$8:L267)=0, \"\", \" + \")","v":""}]
["16935",null,"КунРс ПКГнг(А)-FRHF 2х1,0 (N)"," 2х1,0 (N)","1,0 (N)","КунРс"," 2","1,0 "," (N)",null,null,null,"","",{"$f":"IF(SUM(L$8:L268)=0, \"\", \" + \")","v":""}]
["3549",null,"КунРс ПКГнг(А)-FRHF 2х1,5"," 2х1,5","1,5","КунРс"," 2","1,5","",null,null,null,"","",{"$f":"IF(SUM(L$8:L269)=0, \"\", \" + \")","v":""}]
["16936",null,"КунРс ПКГнг(А)-FRHF 2х1,5 (N)"," 2х1,5 (N)","1,5 (N)","КунРс"," 2","1,5 "," (N)",null,null,null,"","",{"$f":"IF(SUM(L$8:L270)=0, \"\", \" + \")","v":""}]
["3565",null,"КунРс ПКГнг(А)-FRHF 2х10,0"," 2х10,0","10,0","КунРс"," 2","10,0","",null,null,null,"","",{"$f":"IF(SUM(L$8:L271)=0, \"\", \" + \")","v":""}]
["16940",null,"КунРс ПКГнг(А)-FRHF 2х10,0 (N)"," 2х10,0 (N)","10,0 (N)","КунРс"," 2","10,0 "," (N)",null,null,null,"","",{"$f":"IF(SUM(L$8:L272)=0, \"\", \" + \")","v":""}]
["3569",null,"КунРс ПКГнг(А)-FRHF 2х16,0"," 2х16,0","16,0","КунРс"," 2","16,0","",null,null,null,"","",{"$f":"IF(SUM(L$8:L273)=0, \"\", \" + \")","v":""}]
["16941",null,"КунРс ПКГнг(А)-FRHF 2х16,0 (N)"," 2х16,0 (N)","16,0 (N)","КунРс"," 2","16,0 "," (N)",null,null,null,"","",{"$f":"IF(SUM(L$8:L274)=0, \"\", \" + \")","v":""}]
["3553",null,"КунРс ПКГнг(А)-FRHF 2х2,5"," 2х2,5","2,5","КунРс"," 2","2,5","",null,null,null,"","",{"$f":"IF(SUM(L$8:L275)=0, \"\", \" + \")","v":""}]
["16937",null,"КунРс ПКГнг(А)-FRHF 2х2,5 (N)"," 2х2,5 (N)","2,5 (N)","КунРс"," 2","2,5 "," (N)",null,null,null,"","",{"$f":"IF(SUM(L$8:L276)=0, \"\", \" + \")","v":""}]
["3557",null,"КунРс ПКГнг(А)-FRHF 2х4,0"," 2х4,0","4,0","КунРс"," 2","4,0","",null,null,null,"","",{"$f":"IF(SUM(L$8:L277)=0, \"\", \" + \")","v":""}]
["16938",null,"КунРс ПКГнг(А)-FRHF 2х4,0 (N)"," 2х4,0 (N)","4,0 (N)","КунРс"," 2","4,0 "," (N)",null,null,null,"","",{"$f":"IF(SUM(L$8:L278)=0, \"\", \" + \")","v":""}]
["3561",null,"КунРс ПКГнг(А)-FRHF 2х6,0"," 2х6,0","6,0","КунРс"," 2","6,0","",null,null,null,"","",{"$f":"IF(SUM(L$8:L279)=0, \"\", \" + \")","v":""}]
["16939",null,"КунРс ПКГнг(А)-FRHF 2х6,0 (N)"," 2х6,0 (N)","6,0 (N)","КунРс"," 2","6,0 "," (N)",null,null,null,"","",{"$f":"IF(SUM(L$8:L280)=0, \"\", \" + \")","v":""}]
["16972",null,"КунРс ПКГнг(А)-FRHF 3х0,75"," 3х0,75","0,75","КунРс"," 3","0,75","",null,null,null,"","",{"$f":"IF(SUM(L$8:L281)=0, \"\", \" + \")","v":""}]
["3542",null,"КунРс ПКГнг(А)-FRHF 3х0,75 (PE,N)"," 3х0,75 (PE,N)","0,75 (PE,N)","КунРс"," 3","0,75 "," (PE,N)",null,null,null,"","",{"$f":"IF(SUM(L$8:L282)=0, \"\", \" + \")","v":""}]
["16973",null,"КунРс ПКГнг(А)-FRHF 3х1,0"," 3х1,0","1,0","КунРс"," 3","1,0","",null,null,null,"","",{"$f":"IF(SUM(L$8:L283)=0, \"\", \" + \")","v":""}]
["3546",null,"КунРс ПКГнг(А)-FRHF 3х1,0 (PE,N)"," 3х1,0 (PE,N)","1,0 (PE,N)","КунРс"," 3","1,0 "," (PE,N)",null,null,null,"","",{"$f":"IF(SUM(L$8:L284)=0, \"\", \" + \")","v":""}]
["16974",null,"КунРс ПКГнг(А)-FRHF 3х1,5"," 3х1,5","1,5","КунРс"," 3","1,5","",null,null,null,"","",{"$f":"IF(SUM(L$8:L285)=0, \"\", \" + \")","v":""}]
["3550",null,"КунРс ПКГнг(А)-FRHF 3х1,5 (PE,N)"," 3х1,5 (PE,N)","1,5 (PE,N)","КунРс"," 3","1,5 "," (PE,N)",null,null,null,"","",{"$f":"IF(SUM(L$8:L286)=0, \"\", \" + \")","v":""}]
["16978",null,"КунРс ПКГнг(А)-FRHF 3х10,0"," 3х10,0","10,0","КунРс"," 3","10,0","",null,null,null,"","",{"$f":"IF(SUM(L$8:L287)=0, \"\", \" + \")","v":""}]
["3566",null,"КунРс ПКГнг(А)-FRHF 3х10,0 (PE,N)"," 3х10,0 (PE,N)","10,0 (PE,N)","КунРс"," 3","10,0 "," (PE,N)",null,null,null,"","",{"$f":"IF(SUM(L$8:L288)=0, \"\", \" + \")","v":""}]
["16979",null,"КунРс ПКГнг(А)-FRHF 3х16,0"," 3х16,0","16,0","КунРс"," 3","16,0","",null,null,null,"","",{"$f":"IF(SUM(L$8:L289)=0, \"\", \" + \")","v":""}]
["3570",null,"КунРс ПКГнг(А)-FRHF 3х16,0 (PE,N)"," 3х16,0 (PE,N)","16,0 (PE,N)","КунРс"," 3","16,0 "," (PE,N)",null,null,null,"","",{"$f":"IF(SUM(L$8:L290)=0, \"\", \" + \")","v":""}]
["16975",null,"КунРс ПКГнг(А)-FRHF 3х2,5"," 3х2,5","2,5","КунРс"," 3","2,5","",null,null,null,"","",{"$f":"IF(SUM(L$8:L291)=0, \"\", \" + \")","v":""}]
["3554",null,"КунРс ПКГнг(А)-FRHF 3х2,5 (PE,N)"," 3х2,5 (PE,N)","2,5 (PE,N)","КунРс"," 3","2,5 "," (PE,N)",null,null,null,"","",{"$f":"IF(SUM(L$8:L292)=0, \"\", \" + \")","v":""}]
["16976",null,"КунРс ПКГнг(А)-FRHF 3х4,0"," 3х4,0","4,0","КунРс"," 3","4,0","",null,null,null,"","",{"$f":"IF(SUM(L$8:L293)=0, \"\", \" + \")","v":""}]
["3558",null,"КунРс ПКГнг(А)-FRHF 3х4,0 (PE,N)"," 3х4,0 (PE,N)","4,0 (PE,N)","КунРс"," 3","4,0 "," (PE,N)",null,null,null,"","",{"$f":"IF(SUM(L$8:L294)=0, \"\", \" + \")","v":""}]
["16977",null,"КунРс ПКГнг(А)-FRHF 3х6,0"," 3х6,0","6,0","КунРс"," 3","6,0","",null,null,null,"","",{"$f":"IF(SUM(L$8:L295)=0, \"\", \" + \")","v":""}]
["3562",null,"КунРс ПКГнг(А)-FRHF 3х6,0 (PE,N)"," 3х6,0 (PE,N)","6,0 (PE,N)","КунРс"," 3","6,0 "," (PE,N)",null,null,null,"","",{"$f":"IF(SUM(L$8:L296)=0, \"\", \" + \")","v":""}]
["17012",null,"КунРс ПКГнг(А)-FRHF 4х0,75 (N)"," 4х0,75 (N)","0,75 (N)","КунРс"," 4","0,75 "," (N)",null,null,null,"","",{"$f":"IF(SUM(L$8:L297)=0, \"\", \" + \")","v":""}]
["3543",null,"КунРс ПКГнг(А)-FRHF 4х0,75 (PE)"," 4х0,75 (PE)","0,75 (PE)","КунРс"," 4","0,75 "," (PE)",null,null,null,"","",{"$f":"IF(SUM(L$8:L298)=0, \"\", \" + \")","v":""}]
["17013",null,"КунРс ПКГнг(А)-FRHF 4х1,0 (N)"," 4х1,0 (N)","1,0 (N)","КунРс"," 4","1,0 "," (N)",null,null,null,"","",{"$f":"IF(SUM(L$8:L299)=0, \"\", \" + \")","v":""}]
["3547",null,"КунРс ПКГнг(А)-FRHF 4х1,0 (PE)"," 4х1,0 (PE)","1,0 (PE)","КунРс"," 4","1,0 "," (PE)",null,null,null,"","",{"$f":"IF(SUM(L$8:L300)=0, \"\", \" + \")","v":""}]
["17014",null,"КунРс ПКГнг(А)-FRHF 4х1,5 (N)"," 4х1,5 (N)","1,5 (N)","КунРс"," 4","1,5 "," (N)",null,null,null,"","",{"$f":"IF(SUM(L$8:L301)=0, \"\", \" + \")","v":""}]
["3551",null,"КунРс ПКГнг(А)-FRHF 4х1,5 (PE)"," 4х1,5 (PE)","1,5 (PE)","КунРс"," 4","1,5 "," (PE)",null,null,null,"","",{"$f":"IF(SUM(L$8:L302)=0, \"\", \" + \")","v":""}]
["17018",null,"КунРс ПКГнг(А)-FRHF 4х10,0 (N)"," 4х10,0 (N)","10,0 (N)","КунРс"," 4","10,0 "," (N)",null,null,null,"","",{"$f":"IF(SUM(L$8:L303)=0, \"\", \" + \")","v":""}]
["3567",null,"КунРс ПКГнг(А)-FRHF 4х10,0 (PE)"," 4х10,0 (PE)","10,0 (PE)","КунРс"," 4","10,0 "," (PE)",null,null,null,"","",{"$f":"IF(SUM(L$8:L304)=0, \"\", \" + \")","v":""}]
["17019",null,"КунРс ПКГнг(А)-FRHF 4х16,0 (N)"," 4х16,0 (N)","16,0 (N)","КунРс"," 4","16,0 "," (N)",null,null,null,"","",{"$f":"IF(SUM(L$8:L305)=0, \"\", \" + \")","v":""}]
["3571",null,"КунРс ПКГнг(А)-FRHF 4х16,0 (PE)"," 4х16,0 (PE)","16,0 (PE)","КунРс"," 4","16,0 "," (PE)",null,null,null,"","",{"$f":"IF(SUM(L$8:L306)=0, \"\", \" + \")","v":""}]
["17015",null,"КунРс ПКГнг(А)-FRHF 4х2,5 (N)"," 4х2,5 (N)","2,5 (N)","КунРс"," 4","2,5 "," (N)",null,null,null,"","",{"$f":"IF(SUM(L$8:L307)=0, \"\", \" + \")","v":""}]
["3555",null,"КунРс ПКГнг(А)-FRHF 4х2,5 (PE)"," 4х2,5 (PE)","2,5 (PE)","КунРс"," 4","2,5 "," (PE)",null,null,null,"","",{"$f":"IF(SUM(L$8:L308)=0, \"\", \" + \")","v":""}]
["17016",null,"КунРс ПКГнг(А)-FRHF 4х4,0 (N)"," 4х4,0 (N)","4,0 (N)","КунРс"," 4","4,0 "," (N)",null,null,null,"","",{"$f":"IF(SUM(L$8:L309)=0, \"\", \" + \")","v":""}]
["3559",null,"КунРс ПКГнг(А)-FRHF 4х4,0 (PE)"," 4х4,0 (PE)","4,0 (PE)","КунРс"," 4","4,0 "," (PE)",null,null,null,"","",{"$f":"IF(SUM(L$8:L310)=0, \"\", \" + \")","v":""}]
["17017",null,"КунРс ПКГнг(А)-FRHF 4х6,0 (N)"," 4х6,0 (N)","6,0 (N)","КунРс"," 4","6,0 "," (N)",null,null,null,"","",{"$f":"IF(SUM(L$8:L311)=0, \"\", \" + \")","v":""}]
["3563",null,"КунРс ПКГнг(А)-FRHF 4х6,0 (PE)"," 4х6,0 (PE)","6,0 (PE)","КунРс"," 4","6,0 "," (PE)",null,null,null,"","",{"$f":"IF(SUM(L$8:L312)=0, \"\", \" + \")","v":""}]
["17052",null,"КунРс ПКГнг(А)-FRHF 5х0,75 (N)"," 5х0,75 (N)","0,75 (N)","КунРс"," 5","0,75 "," (N)",null,null,null,"","",{"$f":"IF(SUM(L$8:L313)=0, \"\", \" + \")","v":""}]
["3544",null,"КунРс ПКГнг(А)-FRHF 5х0,75 (PE,N)"," 5х0,75 (PE,N)","0,75 (PE,N)","КунРс"," 5","0,75 "," (PE,N)",null,null,null,"","",{"$f":"IF(SUM(L$8:L314)=0, \"\", \" + \")","v":""}]
["17053",null,"КунРс ПКГнг(А)-FRHF 5х1,0 (N)"," 5х1,0 (N)","1,0 (N)","КунРс"," 5","1,0 "," (N)",null,null,null,"","",{"$f":"IF(SUM(L$8:L315)=0, \"\", \" + \")","v":""}]
["3548",null,"КунРс ПКГнг(А)-FRHF 5х1,0 (PE,N)"," 5х1,0 (PE,N)","1,0 (PE,N)","КунРс"," 5","1,0 "," (PE,N)",null,null,null,"","",{"$f":"IF(SUM(L$8:L316)=0, \"\", \" + \")","v":""}]
["17054",null,"КунРс ПКГнг(А)-FRHF 5х1,5 (N)"," 5х1,5 (N)","1,5 (N)","КунРс"," 5","1,5 "," (N)",null,null,null,"","",{"$f":"IF(SUM(L$8:L317)=0, \"\", \" + \")","v":""}]
["3552",null,"КунРс ПКГнг(А)-FRHF 5х1,5 (PE,N)"," 5х1,5 (PE,N)","1,5 (PE,N)","КунРс"," 5","1,5 "," (PE,N)",null,null,null,"","",{"$f":"IF(SUM(L$8:L318)=0, \"\", \" + \")","v":""}]
["17058",null,"КунРс ПКГнг(А)-FRHF 5х10,0 (N)"," 5х10,0 (N)","10,0 (N)","КунРс"," 5","10,0 "," (N)",null,null,null,"","",{"$f":"IF(SUM(L$8:L319)=0, \"\", \" + \")","v":""}]
["3568",null,"КунРс ПКГнг(А)-FRHF 5х10,0 (PE,N)"," 5х10,0 (PE,N)","10,0 (PE,N)","КунРс"," 5","10,0 "," (PE,N)",null,null,null,"","",{"$f":"IF(SUM(L$8:L320)=0, \"\", \" + \")","v":""}]
["17059",null,"КунРс ПКГнг(А)-FRHF 5х16,0 (N)"," 5х16,0 (N)","16,0 (N)","КунРс"," 5","16,0 "," (N)",null,null,null,"","",{"$f":"IF(SUM(L$8:L321)=0, \"\", \" + \")","v":""}]
["3572",null,"КунРс ПКГнг(А)-FRHF 5х16,0 (PE,N)"," 5х16,0 (PE,N)","16,0 (PE,N)","КунРс"," 5","16,0 "," (PE,N)",null,null,null,"","",{"$f":"IF(SUM(L$8:L322)=0, \"\", \" + \")","v":""}]
["17055",null,"КунРс ПКГнг(А)-FRHF 5х2,5 (N)"," 5х2,5 (N)","2,5 (N)","КунРс"," 5","2,5 "," (N)",null,null,null,"","",{"$f":"IF(SUM(L$8:L323)=0, \"\", \" + \")","v":""}]
["3556",null,"КунРс ПКГнг(А)-FRHF 5х2,5 (PE,N)"," 5х2,5 (PE,N)","2,5 (PE,N)","КунРс"," 5","2,5 "," (PE,N)",null,null,null,"","",{"$f":"IF(SUM(L$8:L324)=0, \"\", \" + \")","v":""}]
["17056",null,"КунРс ПКГнг(А)-FRHF 5х4,0 (N)"," 5х4,0 (N)","4,0 (N)","КунРс"," 5","4,0 "," (N)",null,null,null,"","",{"$f":"IF(SUM(L$8:L325)=0, \"\", \" + \")","v":""}]
["3560",null,"КунРс ПКГнг(А)-FRHF 5х4,0 (PE,N)"," 5х4,0 (PE,N)","4,0 (PE,N)","КунРс"," 5","4,0 "," (PE,N)",null,null,null,"","",{"$f":"IF(SUM(L$8:L326)=0, \"\", \" + \")","v":""}]
["17057",null,"КунРс ПКГнг(А)-FRHF 5х6,0 (N)"," 5х6,0 (N)","6,0 (N)","КунРс"," 5","6,0 "," (N)",null,null,null,"","",{"$f":"IF(SUM(L$8:L327)=0, \"\", \" + \")","v":""}]
["3564",null,"КунРс ПКГнг(А)-FRHF 5х6,0 (PE,N)"," 5х6,0 (PE,N)","6,0 (PE,N)","КунРс"," 5","6,0 "," (PE,N)",null,null,null,"","",{"$f":"IF(SUM(L$8:L328)=0, \"\", \" + \")","v":""}]
["3573",null,"КунРс ПКПнг(А)-FRHF 2х0,75",{"$f":"MID(C330, FIND(\" \",C330, FIND(\" \",C330)+1), 100)","v":" 2х0,75"},"0,75",{"$f":"MID(C330, 1, IF(ISERR(FIND(\"Кун\",C330)), 3, 5))","v":"КунРс"}," 2","0,75","",null,null,null,{"$f":"IF(L330=0, \"\",CONCATENATE(O330, C330, \"-\",L330,\"м\"))","v":""},"",{"$f":"IF(SUM(L$8:L329)=0, \"\", \" + \")","v":""}]
["16942",null,"КунРс ПКПнг(А)-FRHF 2х0,75 (N)"," 2х0,75 (N)",{"$f":"MID($D331,IF(ISERR(FIND(\"х\",$D331)), FIND(\"x\",$D331)+1, FIND(\"х\",$D331))+1, 100)","v":"0,75 (N)"},"КунРс",{"$f":"MID($D331,1, IF(ISERR(FIND(\"х\",$D331)), FIND(\"x\",$D331)-1, FIND(\"х\",$D331))-1)","v":" 2"},{"$f":"IF(ISERR(FIND(\" \", E331)), E331, MID(E331, 1, FIND(\" \",E331)))","v":"0,75 "},{"$f":"IF(ISERR(FIND(\" \", E331)), \"\", MID(E331, FIND(\" \",E331), 20))","v":" (N)"},null,null,null,"",{"$f":"CONCATENATE(N330,M331)","v":""},{"$f":"IF(SUM(L$8:L330)=0, \"\", \" + \")","v":""}]
["3577",null,"КунРс ПКПнг(А)-FRHF 2х1,0"," 2х1,0","1,0","КунРс"," 2","1,0","",null,null,null,"","",{"$f":"IF(SUM(L$8:L331)=0, \"\", \" + \")","v":""}]
["16943",null,"КунРс ПКПнг(А)-FRHF 2х1,0 (N)"," 2х1,0 (N)","1,0 (N)","КунРс"," 2","1,0 "," (N)",null,null,null,"","",{"$f":"IF(SUM(L$8:L332)=0, \"\", \" + \")","v":""}]
["3581",null,"КунРс ПКПнг(А)-FRHF 2х1,5"," 2х1,5","1,5","КунРс"," 2","1,5","",null,null,null,"","",{"$f":"IF(SUM(L$8:L333)=0, \"\", \" + \")","v":""}]
["16944",null,"КунРс ПКПнг(А)-FRHF 2х1,5 (N)"," 2х1,5 (N)","1,5 (N)","КунРс"," 2","1,5 "," (N)",null,null,null,"","",{"$f":"IF(SUM(L$8:L334)=0, \"\", \" + \")","v":""}]
["3597",null,"КунРс ПКПнг(А)-FRHF 2х10,0"," 2х10,0","10,0","КунРс"," 2","10,0","",null,null,null,"","",{"$f":"IF(SUM(L$8:L335)=0, \"\", \" + \")","v":""}]
["16948",null,"КунРс ПКПнг(А)-FRHF 2х10,0 (N)"," 2х10,0 (N)","10,0 (N)","КунРс"," 2","10,0 "," (N)",null,null,null,"","",{"$f":"IF(SUM(L$8:L336)=0, \"\", \" + \")","v":""}]
["3601",null,"КунРс ПКПнг(А)-FRHF 2х16,0"," 2х16,0","16,0","КунРс"," 2","16,0","",null,null,null,"","",{"$f":"IF(SUM(L$8:L337)=0, \"\", \" + \")","v":""}]
["16949",null,"КунРс ПКПнг(А)-FRHF 2х16,0 (N)"," 2х16,0 (N)","16,0 (N)","КунРс"," 2","16,0 "," (N)",null,null,null,"","",{"$f":"IF(SUM(L$8:L338)=0, \"\", \" + \")","v":""}]
["3585",null,"КунРс ПКПнг(А)-FRHF 2х2,5"," 2х2,5","2,5","КунРс"," 2","2,5","",null,null,null,"","",{"$f":"IF(SUM(L$8:L339)=0, \"\", \" + \")","v":""}]
["16945",null,"КунРс ПКПнг(А)-FRHF 2х2,5 (N)"," 2х2,5 (N)","2,5 (N)","КунРс"," 2","2,5 "," (N)",null,null,null,"","",{"$f":"IF(SUM(L$8:L340)=0, \"\", \" + \")","v":""}]
["3589",null,"КунРс ПКПнг(А)-FRHF 2х4,0"," 2х4,0","4,0","КунРс"," 2","4,0","",null,null,null,"","",{"$f":"IF(SUM(L$8:L341)=0, \"\", \" + \")","v":""}]
["16946",null,"КунРс ПКПнг(А)-FRHF 2х4,0 (N)"," 2х4,0 (N)","4,0 (N)","КунРс"," 2","4,0 "," (N)",null,null,null,"","",{"$f":"IF(SUM(L$8:L342)=0, \"\", \" + \")","v":""}]
["3593",null,"КунРс ПКПнг(А)-FRHF 2х6,0"," 2х6,0","6,0","КунРс"," 2","6,0","",null,null,null,"","",{"$f":"IF(SUM(L$8:L343)=0, \"\", \" + \")","v":""}]
["16947",null,"КунРс ПКПнг(А)-FRHF 2х6,0 (N)"," 2х6,0 (N)","6,0 (N)","КунРс"," 2","6,0 "," (N)",null,null,null,"","",{"$f":"IF(SUM(L$8:L344)=0, \"\", \" + \")","v":""}]
["16980",null,"КунРс ПКПнг(А)-FRHF 3х0,75"," 3х0,75","0,75","КунРс"," 3","0,75","",null,null,null,"","",{"$f":"IF(SUM(L$8:L345)=0, \"\", \" + \")","v":""}]
["3574",null,"КунРс ПКПнг(А)-FRHF 3х0,75 (PE,N)"," 3х0,75 (PE,N)","0,75 (PE,N)","КунРс"," 3","0,75 "," (PE,N)",null,null,null,"","",{"$f":"IF(SUM(L$8:L346)=0, \"\", \" + \")","v":""}]
["16981",null,"КунРс ПКПнг(А)-FRHF 3х1,0"," 3х1,0","1,0","КунРс"," 3","1,0","",null,null,null,"","",{"$f":"IF(SUM(L$8:L347)=0, \"\", \" + \")","v":""}]
["3578",null,"КунРс ПКПнг(А)-FRHF 3х1,0 (PE,N)"," 3х1,0 (PE,N)","1,0 (PE,N)","КунРс"," 3","1,0 "," (PE,N)",null,null,null,"","",{"$f":"IF(SUM(L$8:L348)=0, \"\", \" + \")","v":""}]
["16982",null,"КунРс ПКПнг(А)-FRHF 3х1,5"," 3х1,5","1,5","КунРс"," 3","1,5","",null,null,null,"","",{"$f":"IF(SUM(L$8:L349)=0, \"\", \" + \")","v":""}]
["3582",null,"КунРс ПКПнг(А)-FRHF 3х1,5 (PE,N)"," 3х1,5 (PE,N)","1,5 (PE,N)","КунРс"," 3","1,5 "," (PE,N)",null,null,null,"","",{"$f":"IF(SUM(L$8:L350)=0, \"\", \" + \")","v":""}]
["16986",null,"КунРс ПКПнг(А)-FRHF 3х10,0"," 3х10,0","10,0","КунРс"," 3","10,0","",null,null,null,"","",{"$f":"IF(SUM(L$8:L351)=0, \"\", \" + \")","v":""}]
["3598",null,"КунРс ПКПнг(А)-FRHF 3х10,0 (PE,N)"," 3х10,0 (PE,N)","10,0 (PE,N)","КунРс"," 3","10,0 "," (PE,N)",null,null,null,"","",{"$f":"IF(SUM(L$8:L352)=0, \"\", \" + \")","v":""}]
["16987",null,"КунРс ПКПнг(А)-FRHF 3х16,0"," 3х16,0","16,0","КунРс"," 3","16,0","",null,null,null,"","",{"$f":"IF(SUM(L$8:L353)=0, \"\", \" + \")","v":""}]
["3602",null,"КунРс ПКПнг(А)-FRHF 3х16,0 (PE,N)"," 3х16,0 (PE,N)","16,0 (PE,N)","КунРс"," 3","16,0 "," (PE,N)",null,null,null,"","",{"$f":"IF(SUM(L$8:L354)=0, \"\", \" + \")","v":""}]
["16983",null,"КунРс ПКПнг(А)-FRHF 3х2,5"," 3х2,5","2,5","КунРс"," 3","2,5","",null,null,null,"","",{"$f":"IF(SUM(L$8:L355)=0, \"\", \" + \")","v":""}]
["3586",null,"КунРс ПКПнг(А)-FRHF 3х2,5 (PE,N)"," 3х2,5 (PE,N)","2,5 (PE,N)","КунРс"," 3","2,5 "," (PE,N)",null,null,null,"","",{"$f":"IF(SUM(L$8:L356)=0, \"\", \" + \")","v":""}]
["16984",null,"КунРс ПКПнг(А)-FRHF 3х4,0"," 3х4,0","4,0","КунРс"," 3","4,0","",null,null,null,"","",{"$f":"IF(SUM(L$8:L357)=0, \"\", \" + \")","v":""}]
["3590",null,"КунРс ПКПнг(А)-FRHF 3х4,0 (PE,N)"," 3х4,0 (PE,N)","4,0 (PE,N)","КунРс"," 3","4,0 "," (PE,N)",null,null,null,"","",{"$f":"IF(SUM(L$8:L358)=0, \"\", \" + \")","v":""}]
["16985",null,"КунРс ПКПнг(А)-FRHF 3х6,0"," 3х6,0","6,0","КунРс"," 3","6,0","",null,null,null,"","",{"$f":"IF(SUM(L$8:L359)=0, \"\", \" + \")","v":""}]
["3594",null,"КунРс ПКПнг(А)-FRHF 3х6,0 (PE,N)"," 3х6,0 (PE,N)","6,0 (PE,N)","КунРс"," 3","6,0 "," (PE,N)",null,null,null,"","",{"$f":"IF(SUM(L$8:L360)=0, \"\", \" + \")","v":""}]
["17020",null,"КунРс ПКПнг(А)-FRHF 4х0,75 (N)"," 4х0,75 (N)","0,75 (N)","КунРс"," 4","0,75 "," (N)",null,null,null,"","",{"$f":"IF(SUM(L$8:L361)=0, \"\", \" + \")","v":""}]
["3575",null,"КунРс ПКПнг(А)-FRHF 4х0,75 (PE)"," 4х0,75 (PE)","0,75 (PE)","КунРс"," 4","0,75 "," (PE)",null,null,null,"","",{"$f":"IF(SUM(L$8:L362)=0, \"\", \" + \")","v":""}]
["17021",null,"КунРс ПКПнг(А)-FRHF 4х1,0 (N)"," 4х1,0 (N)","1,0 (N)","КунРс"," 4","1,0 "," (N)",null,null,null,"","",{"$f":"IF(SUM(L$8:L363)=0, \"\", \" + \")","v":""}]
["3579",null,"КунРс ПКПнг(А)-FRHF 4х1,0 (PE)"," 4х1,0 (PE)","1,0 (PE)","КунРс"," 4","1,0 "," (PE)",null,null,null,"","",{"$f":"IF(SUM(L$8:L364)=0, \"\", \" + \")","v":""}]
["17022",null,"КунРс ПКПнг(А)-FRHF 4х1,5 (N)"," 4х1,5 (N)","1,5 (N)","КунРс"," 4","1,5 "," (N)",null,null,null,"","",{"$f":"IF(SUM(L$8:L365)=0, \"\", \" + \")","v":""}]
["3583",null,"КунРс ПКПнг(А)-FRHF 4х1,5 (PE)"," 4х1,5 (PE)","1,5 (PE)","КунРс"," 4","1,5 "," (PE)",null,null,null,"","",{"$f":"IF(SUM(L$8:L366)=0, \"\", \" + \")","v":""}]
["17026",null,"КунРс ПКПнг(А)-FRHF 4х10,0 (N)"," 4х10,0 (N)","10,0 (N)","КунРс"," 4","10,0 "," (N)",null,null,null,"","",{"$f":"IF(SUM(L$8:L367)=0, \"\", \" + \")","v":""}]
["3599",null,"КунРс ПКПнг(А)-FRHF 4х10,0 (PE)"," 4х10,0 (PE)","10,0 (PE)","КунРс"," 4","10,0 "," (PE)",null,null,null,"","",{"$f":"IF(SUM(L$8:L368)=0, \"\", \" + \")","v":""}]
["17027",null,"КунРс ПКПнг(А)-FRHF 4х16,0 (N)"," 4х16,0 (N)","16,0 (N)","КунРс"," 4","16,0 "," (N)",null,null,null,"","",{"$f":"IF(SUM(L$8:L369)=0, \"\", \" + \")","v":""}]
["3603",null,"КунРс ПКПнг(А)-FRHF 4х16,0 (PE)"," 4х16,0 (PE)","16,0 (PE)","КунРс"," 4","16,0 "," (PE)",null,null,null,"","",{"$f":"IF(SUM(L$8:L370)=0, \"\", \" + \")","v":""}]
["17023",null,"КунРс ПКПнг(А)-FRHF 4х2,5 (N)"," 4х2,5 (N)","2,5 (N)","КунРс"," 4","2,5 "," (N)",null,null,null,"","",{"$f":"IF(SUM(L$8:L371)=0, \"\", \" + \")","v":""}]
["3587",null,"КунРс ПКПнг(А)-FRHF 4х2,5 (PE)"," 4х2,5 (PE)","2,5 (PE)","КунРс"," 4","2,5 "," (PE)",null,null,null,"","",{"$f":"IF(SUM(L$8:L372)=0, \"\", \" + \")","v":""}]
["17024",null,"КунРс ПКПнг(А)-FRHF 4х4,0 (N)"," 4х4,0 (N)","4,0 (N)","КунРс"," 4","4,0 "," (N)",null,null,null,"","",{"$f":"IF(SUM(L$8:L373)=0, \"\", \" + \")","v":""}]
["3591",null,"КунРс ПКПнг(А)-FRHF 4х4,0 (PE)"," 4х4,0 (PE)","4,0 (PE)","КунРс"," 4","4,0 "," (PE)",null,null,null,"","",{"$f":"IF(SUM(L$8:L374)=0, \"\", \" + \")","v":""}]
["17025",null,"КунРс ПКПнг(А)-FRHF 4х6,0 (N)"," 4х6,0 (N)","6,0 (N)","КунРс"," 4","6,0 "," (N)",null,null,null,"","",{"$f":"IF(SUM(L$8:L375)=0, \"\", \" + \")","v":""}]
["3595",null,"КунРс ПКПнг(А)-FRHF 4х6,0 (PE)"," 4х6,0 (PE)","6,0 (PE)","КунРс"," 4","6,0 "," (PE)",null,null,null,"","",{"$f":"IF(SUM(L$8:L376)=0, \"\", \" + \")","v":""}]
["17060",null,"КунРс ПКПнг(А)-FRHF 5х0,75 (N)"," 5х0,75 (N)","0,75 (N)","КунРс"," 5","0,75 "," (N)",null,null,null,"","",{"$f":"IF(SUM(L$8:L377)=0, \"\", \" + \")","v":""}]
["3576",null,"КунРс ПКПнг(А)-FRHF 5х0,75 (PE,N)"," 5х0,75 (PE,N)","0,75 (PE,N)","КунРс"," 5","0,75 "," (PE,N)",null,null,null,"","",{"$f":"IF(SUM(L$8:L378)=0, \"\", \" + \")","v":""}]
["17061",null,"КунРс ПКПнг(А)-FRHF 5х1,0 (N)"," 5х1,0 (N)","1,0 (N)","КунРс"," 5","1,0 "," (N)",null,null,null,"","",{"$f":"IF(SUM(L$8:L379)=0, \"\", \" + \")","v":""}]
["3580",null,"КунРс ПКПнг(А)-FRHF 5х1,0 (PE,N)"," 5х1,0 (PE,N)","1,0 (PE,N)","КунРс"," 5","1,0 "," (PE,N)",null,null,null,"","",{"$f":"IF(SUM(L$8:L380)=0, \"\", \" + \")","v":""}]
["17062",null,"КунРс ПКПнг(А)-FRHF 5х1,5 (N)"," 5х1,5 (N)","1,5 (N)","КунРс"," 5","1,5 "," (N)",null,null,null,"","",{"$f":"IF(SUM(L$8:L381)=0, \"\", \" + \")","v":""}]
["3584",null,"КунРс ПКПнг(А)-FRHF 5х1,5 (PE,N)"," 5х1,5 (PE,N)","1,5 (PE,N)","КунРс"," 5","1,5 "," (PE,N)",null,null,null,"","",{"$f":"IF(SUM(L$8:L382)=0, \"\", \" + \")","v":""}]
["17066",null,"КунРс ПКПнг(А)-FRHF 5х10,0 (N)"," 5х10,0 (N)","10,0 (N)","КунРс"," 5","10,0 "," (N)",null,null,null,"","",{"$f":"IF(SUM(L$8:L383)=0, \"\", \" + \")","v":""}]
["3600",null,"КунРс ПКПнг(А)-FRHF 5х10,0 (PE,N)"," 5х10,0 (PE,N)","10,0 (PE,N)","КунРс"," 5","10,0 "," (PE,N)",null,null,null,"","",{"$f":"IF(SUM(L$8:L384)=0, \"\", \" + \")","v":""}]
["17067",null,"КунРс ПКПнг(А)-FRHF 5х16,0 (N)"," 5х16,0 (N)","16,0 (N)","КунРс"," 5","16,0 "," (N)",null,null,null,"","",{"$f":"IF(SUM(L$8:L385)=0, \"\", \" + \")","v":""}]
["3604",null,"КунРс ПКПнг(А)-FRHF 5х16,0 (PE,N)"," 5х16,0 (PE,N)","16,0 (PE,N)","КунРс"," 5","16,0 "," (PE,N)",null,null,null,"","",{"$f":"IF(SUM(L$8:L386)=0, \"\", \" + \")","v":""}]
["17063",null,"КунРс ПКПнг(А)-FRHF 5х2,5 (N)"," 5х2,5 (N)","2,5 (N)","КунРс"," 5","2,5 "," (N)",null,null,null,"","",{"$f":"IF(SUM(L$8:L387)=0, \"\", \" + \")","v":""}]
["3588",null,"КунРс ПКПнг(А)-FRHF 5х2,5 (PE,N)"," 5х2,5 (PE,N)","2,5 (PE,N)","КунРс"," 5","2,5 "," (PE,N)",null,null,null,"","",{"$f":"IF(SUM(L$8:L388)=0, \"\", \" + \")","v":""}]
["17064",null,"КунРс ПКПнг(А)-FRHF 5х4,0 (N)"," 5х4,0 (N)","4,0 (N)","КунРс"," 5","4,0 "," (N)",null,null,null,"","",{"$f":"IF(SUM(L$8:L389)=0, \"\", \" + \")","v":""}]
["3592",null,"КунРс ПКПнг(А)-FRHF 5х4,0 (PE,N)"," 5х4,0 (PE,N)","4,0 (PE,N)","КунРс"," 5","4,0 "," (PE,N)",null,null,null,"","",{"$f":"IF(SUM(L$8:L390)=0, \"\", \" + \")","v":""}]
["17065",null,"КунРс ПКПнг(А)-FRHF 5х6,0 (N)"," 5х6,0 (N)","6,0 (N)","КунРс"," 5","6,0 "," (N)",null,null,null,"","",{"$f":"IF(SUM(L$8:L391)=0, \"\", \" + \")","v":""}]
["3596",null,"КунРс ПКПнг(А)-FRHF 5х6,0 (PE,N)"," 5х6,0 (PE,N)","6,0 (PE,N)","КунРс"," 5","6,0 "," (PE,N)",null,null,null,"","",{"$f":"IF(SUM(L$8:L392)=0, \"\", \" + \")","v":""}]
["3511",null,"КунРс Пнг(А)-FRHF 2х0,75",{"$f":"MID(C394, FIND(\" \",C394, FIND(\" \",C394)+1), 100)","v":" 2х0,75"},"0,75",{"$f":"MID(C394, 1, IF(ISERR(FIND(\"Кун\",C394)), 3, 5))","v":"КунРс"}," 2","0,75","",null,null,null,{"$f":"IF(L394=0, \"\",CONCATENATE(O394, C394, \"-\",L394,\"м\"))","v":""},"",{"$f":"IF(SUM(L$8:L393)=0, \"\", \" + \")","v":""}]
["16919",null,"КунРс Пнг(А)-FRHF 2х0,75 (N)"," 2х0,75 (N)",{"$f":"MID($D395,IF(ISERR(FIND(\"х\",$D395)), FIND(\"x\",$D395)+1, FIND(\"х\",$D395))+1, 100)","v":"0,75 (N)"},"КунРс",{"$f":"MID($D395,1, IF(ISERR(FIND(\"х\",$D395)), FIND(\"x\",$D395)-1, FIND(\"х\",$D395))-1)","v":" 2"},{"$f":"IF(ISERR(FIND(\" \", E395)), E395, MID(E395, 1, FIND(\" \",E395)))","v":"0,75 "},{"$f":"IF(ISERR(FIND(\" \", E395)), \"\", MID(E395, FIND(\" \",E395), 20))","v":" (N)"},null,null,null,"",{"$f":"CONCATENATE(N394,M395)","v":""},{"$f":"IF(SUM(L$8:L394)=0, \"\", \" + \")","v":""}]
["3514",null,"КунРс Пнг(А)-FRHF 2х1,0"," 2х1,0","1,0","КунРс"," 2","1,0","",null,null,null,"","",{"$f":"IF(SUM(L$8:L395)=0, \"\", \" + \")","v":""}]
["16920",null,"КунРс Пнг(А)-FRHF 2х1,0 (N)"," 2х1,0 (N)","1,0 (N)","КунРс"," 2","1,0 "," (N)",null,null,null,"","",{"$f":"IF(SUM(L$8:L396)=0, \"\", \" + \")","v":""}]
["3518",null,"КунРс Пнг(А)-FRHF 2х1,5"," 2х1,5","1,5","КунРс"," 2","1,5","",null,null,null,"","",{"$f":"IF(SUM(L$8:L397)=0, \"\", \" + \")","v":""}]
["16922",null,"КунРс Пнг(А)-FRHF 2х1,5 (N)"," 2х1,5 (N)","1,5 (N)","КунРс"," 2","1,5 "," (N)",null,null,null,"","",{"$f":"IF(SUM(L$8:L398)=0, \"\", \" + \")","v":""}]
["3534",null,"КунРс Пнг(А)-FRHF 2х10,0"," 2х10,0","10,0","КунРс"," 2","10,0","",null,null,null,"","",{"$f":"IF(SUM(L$8:L399)=0, \"\", \" + \")","v":""}]
["16929",null,"КунРс Пнг(А)-FRHF 2х10,0 (N)"," 2х10,0 (N)","10,0 (N)","КунРс"," 2","10,0 "," (N)",null,null,null,"","",{"$f":"IF(SUM(L$8:L400)=0, \"\", \" + \")","v":""}]
["3537",null,"КунРс Пнг(А)-FRHF 2х16,0"," 2х16,0","16,0","КунРс"," 2","16,0","",null,null,null,"","",{"$f":"IF(SUM(L$8:L401)=0, \"\", \" + \")","v":""}]
["16931",null,"КунРс Пнг(А)-FRHF 2х16,0 (N)"," 2х16,0 (N)","16,0 (N)","КунРс"," 2","16,0 "," (N)",null,null,null,"","",{"$f":"IF(SUM(L$8:L402)=0, \"\", \" + \")","v":""}]
["3522",null,"КунРс Пнг(А)-FRHF 2х2,5"," 2х2,5","2,5","КунРс"," 2","2,5","",null,null,null,"","",{"$f":"IF(SUM(L$8:L403)=0, \"\", \" + \")","v":""}]
["16924",null,"КунРс Пнг(А)-FRHF 2х2,5 (N)"," 2х2,5 (N)","2,5 (N)","КунРс"," 2","2,5 "," (N)",null,null,null,"","",{"$f":"IF(SUM(L$8:L404)=0, \"\", \" + \")","v":""}]
["3526",null,"КунРс Пнг(А)-FRHF 2х4,0"," 2х4,0","4,0","КунРс"," 2","4,0","",null,null,null,"","",{"$f":"IF(SUM(L$8:L405)=0, \"\", \" + \")","v":""}]
["16925",null,"КунРс Пнг(А)-FRHF 2х4,0 (N)"," 2х4,0 (N)","4,0 (N)","КунРс"," 2","4,0 "," (N)",null,null,null,"","",{"$f":"IF(SUM(L$8:L406)=0, \"\", \" + \")","v":""}]
["3530",null,"КунРс Пнг(А)-FRHF 2х6,0"," 2х6,0","6,0","КунРс"," 2","6,0","",null,null,null,"","",{"$f":"IF(SUM(L$8:L407)=0, \"\", \" + \")","v":""}]
["16927",null,"КунРс Пнг(А)-FRHF 2х6,0 (N)"," 2х6,0 (N)","6,0 (N)","КунРс"," 2","6,0 "," (N)",null,null,null,"","",{"$f":"IF(SUM(L$8:L408)=0, \"\", \" + \")","v":""}]
["2943",null,"КунРс Пнг(А)-FRHF 3х0,75"," 3х0,75","0,75","КунРс"," 3","0,75","",null,null,null,"","",{"$f":"IF(SUM(L$8:L409)=0, \"\", \" + \")","v":""}]
["5295",null,"КунРс Пнг(А)-FRHF 3х0,75 (PE,N)"," 3х0,75 (PE,N)","0,75 (PE,N)","КунРс"," 3","0,75 "," (PE,N)",null,null,null,"","",{"$f":"IF(SUM(L$8:L410)=0, \"\", \" + \")","v":""}]
["16966",null,"КунРс Пнг(А)-FRHF 3х1,0"," 3х1,0","1,0","КунРс"," 3","1,0","",null,null,null,"","",{"$f":"IF(SUM(L$8:L411)=0, \"\", \" + \")","v":""}]
["3515",null,"КунРс Пнг(А)-FRHF 3х1,0 (PE,N)"," 3х1,0 (PE,N)","1,0 (PE,N)","КунРс"," 3","1,0 "," (PE,N)",null,null,null,"","",{"$f":"IF(SUM(L$8:L412)=0, \"\", \" + \")","v":""}]
["3519",null,"КунРс Пнг(А)-FRHF 3х1,5"," 3х1,5","1,5","КунРс"," 3","1,5","",null,null,null,"","",{"$f":"IF(SUM(L$8:L413)=0, \"\", \" + \")","v":""}]
["5296",null,"КунРс Пнг(А)-FRHF 3х1,5 (PE,N)"," 3х1,5 (PE,N)","1,5 (PE,N)","КунРс"," 3","1,5 "," (PE,N)",null,null,null,"","",{"$f":"IF(SUM(L$8:L414)=0, \"\", \" + \")","v":""}]
["16970",null,"КунРс Пнг(А)-FRHF 3х10,0"," 3х10,0","10,0","КунРс"," 3","10,0","",null,null,null,"","",{"$f":"IF(SUM(L$8:L415)=0, \"\", \" + \")","v":""}]
["2944",null,"КунРс Пнг(А)-FRHF 3х10,0 (PE,N)"," 3х10,0 (PE,N)","10,0 (PE,N)","КунРс"," 3","10,0 "," (PE,N)",null,null,null,"","",{"$f":"IF(SUM(L$8:L416)=0, \"\", \" + \")","v":""}]
["16971",null,"КунРс Пнг(А)-FRHF 3х16,0"," 3х16,0","16,0","КунРс"," 3","16,0","",null,null,null,"","",{"$f":"IF(SUM(L$8:L417)=0, \"\", \" + \")","v":""}]
["3538",null,"КунРс Пнг(А)-FRHF 3х16,0 (PE,N)"," 3х16,0 (PE,N)","16,0 (PE,N)","КунРс"," 3","16,0 "," (PE,N)",null,null,null,"","",{"$f":"IF(SUM(L$8:L418)=0, \"\", \" + \")","v":""}]
["16967",null,"КунРс Пнг(А)-FRHF 3х2,5"," 3х2,5","2,5","КунРс"," 3","2,5","",null,null,null,"","",{"$f":"IF(SUM(L$8:L419)=0, \"\", \" + \")","v":""}]
["3523",null,"КунРс Пнг(А)-FRHF 3х2,5 (PE,N)"," 3х2,5 (PE,N)","2,5 (PE,N)","КунРс"," 3","2,5 "," (PE,N)",null,null,null,"","",{"$f":"IF(SUM(L$8:L420)=0, \"\", \" + \")","v":""}]
["16968",null,"КунРс Пнг(А)-FRHF 3х4,0"," 3х4,0","4,0","КунРс"," 3","4,0","",null,null,null,"","",{"$f":"IF(SUM(L$8:L421)=0, \"\", \" + \")","v":""}]
["3527",null,"КунРс Пнг(А)-FRHF 3х4,0 (PE,N)"," 3х4,0 (PE,N)","4,0 (PE,N)","КунРс"," 3","4,0 "," (PE,N)",null,null,null,"","",{"$f":"IF(SUM(L$8:L422)=0, \"\", \" + \")","v":""}]
["16969",null,"КунРс Пнг(А)-FRHF 3х6,0"," 3х6,0","6,0","КунРс"," 3","6,0","",null,null,null,"","",{"$f":"IF(SUM(L$8:L423)=0, \"\", \" + \")","v":""}]
["3531",null,"КунРс Пнг(А)-FRHF 3х6,0 (PE,N)"," 3х6,0 (PE,N)","6,0 (PE,N)","КунРс"," 3","6,0 "," (PE,N)",null,null,null,"","",{"$f":"IF(SUM(L$8:L424)=0, \"\", \" + \")","v":""}]
["17004",null,"КунРс Пнг(А)-FRHF 4х0,75 (N)"," 4х0,75 (N)","0,75 (N)","КунРс"," 4","0,75 "," (N)",null,null,null,"","",{"$f":"IF(SUM(L$8:L425)=0, \"\", \" + \")","v":""}]
["3512",null,"КунРс Пнг(А)-FRHF 4х0,75 (PE)"," 4х0,75 (PE)","0,75 (PE)","КунРс"," 4","0,75 "," (PE)",null,null,null,"","",{"$f":"IF(SUM(L$8:L426)=0, \"\", \" + \")","v":""}]
["17005",null,"КунРс Пнг(А)-FRHF 4х1,0 (N)"," 4х1,0 (N)","1,0 (N)","КунРс"," 4","1,0 "," (N)",null,null,null,"","",{"$f":"IF(SUM(L$8:L427)=0, \"\", \" + \")","v":""}]
["3516",null,"КунРс Пнг(А)-FRHF 4х1,0 (PE)"," 4х1,0 (PE)","1,0 (PE)","КунРс"," 4","1,0 "," (PE)",null,null,null,"","",{"$f":"IF(SUM(L$8:L428)=0, \"\", \" + \")","v":""}]
["17006",null,"КунРс Пнг(А)-FRHF 4х1,5 (N)"," 4х1,5 (N)","1,5 (N)","КунРс"," 4","1,5 "," (N)",null,null,null,"","",{"$f":"IF(SUM(L$8:L429)=0, \"\", \" + \")","v":""}]
["3520",null,"КунРс Пнг(А)-FRHF 4х1,5 (PE)"," 4х1,5 (PE)","1,5 (PE)","КунРс"," 4","1,5 "," (PE)",null,null,null,"","",{"$f":"IF(SUM(L$8:L430)=0, \"\", \" + \")","v":""}]
["17010",null,"КунРс Пнг(А)-FRHF 4х10,0 (N)"," 4х10,0 (N)","10,0 (N)","КунРс"," 4","10,0 "," (N)",null,null,null,"","",{"$f":"IF(SUM(L$8:L431)=0, \"\", \" + \")","v":""}]
["3535",null,"КунРс Пнг(А)-FRHF 4х10,0 (PE)"," 4х10,0 (PE)","10,0 (PE)","КунРс"," 4","10,0 "," (PE)",null,null,null,"","",{"$f":"IF(SUM(L$8:L432)=0, \"\", \" + \")","v":""}]
["17011",null,"КунРс Пнг(А)-FRHF 4х16,0 (N)"," 4х16,0 (N)","16,0 (N)","КунРс"," 4","16,0 "," (N)",null,null,null,"","",{"$f":"IF(SUM(L$8:L433)=0, \"\", \" + \")","v":""}]
["3539",null,"КунРс Пнг(А)-FRHF 4х16,0 (PE)"," 4х16,0 (PE)","16,0 (PE)","КунРс"," 4","16,0 "," (PE)",null,null,null,"","",{"$f":"IF(SUM(L$8:L434)=0, \"\", \" + \")","v":""}]
["17007",null,"КунРс Пнг(А)-FRHF 4х2,5 (N)"," 4х2,5 (N)","2,5 (N)","КунРс"," 4","2,5 "," (N)",null,null,null,"","",{"$f":"IF(SUM(L$8:L435)=0, \"\", \" + \")","v":""}]
["3524",null,"КунРс Пнг(А)-FRHF 4х2,5 (PE)"," 4х2,5 (PE)","2,5 (PE)","КунРс"," 4","2,5 "," (PE)",null,null,null,"","",{"$f":"IF(SUM(L$8:L436)=0, \"\", \" + \")","v":""}]
["17008",null,"КунРс Пнг(А)-FRHF 4х4,0 (N)"," 4х4,0 (N)","4,0 (N)","КунРс"," 4","4,0 "," (N)",null,null,null,"","",{"$f":"IF(SUM(L$8:L437)=0, \"\", \" + \")","v":""}]
["3528",null,"КунРс Пнг(А)-FRHF 4х4,0 (PE)"," 4х4,0 (PE)","4,0 (PE)","КунРс"," 4","4,0 "," (PE)",null,null,null,"","",{"$f":"IF(SUM(L$8:L438)=0, \"\", \" + \")","v":""}]
["17009",null,"КунРс Пнг(А)-FRHF 4х6,0 (N)"," 4х6,0 (N)","6,0 (N)","КунРс"," 4","6,0 "," (N)",null,null,null,"","",{"$f":"IF(SUM(L$8:L439)=0, \"\", \" + \")","v":""}]
["3532",null,"КунРс Пнг(А)-FRHF 4х6,0 (PE)"," 4х6,0 (PE)","6,0 (PE)","КунРс"," 4","6,0 "," (PE)",null,null,null,"","",{"$f":"IF(SUM(L$8:L440)=0, \"\", \" + \")","v":""}]
["17044",null,"КунРс Пнг(А)-FRHF 5х0,75 (N)"," 5х0,75 (N)","0,75 (N)","КунРс"," 5","0,75 "," (N)",null,null,null,"","",{"$f":"IF(SUM(L$8:L441)=0, \"\", \" + \")","v":""}]
["3513",null,"КунРс Пнг(А)-FRHF 5х0,75 (PE,N)"," 5х0,75 (PE,N)","0,75 (PE,N)","КунРс"," 5","0,75 "," (PE,N)",null,null,null,"","",{"$f":"IF(SUM(L$8:L442)=0, \"\", \" + \")","v":""}]
["17045",null,"КунРс Пнг(А)-FRHF 5х1,0 (N)"," 5х1,0 (N)","1,0 (N)","КунРс"," 5","1,0 "," (N)",null,null,null,"","",{"$f":"IF(SUM(L$8:L443)=0, \"\", \" + \")","v":""}]
["3517",null,"КунРс Пнг(А)-FRHF 5х1,0 (PE,N)"," 5х1,0 (PE,N)","1,0 (PE,N)","КунРс"," 5","1,0 "," (PE,N)",null,null,null,"","",{"$f":"IF(SUM(L$8:L444)=0, \"\", \" + \")","v":""}]
["17046",null,"КунРс Пнг(А)-FRHF 5х1,5 (N)"," 5х1,5 (N)","1,5 (N)","КунРс"," 5","1,5 "," (N)",null,null,null,"","",{"$f":"IF(SUM(L$8:L445)=0, \"\", \" + \")","v":""}]
["3521",null,"КунРс Пнг(А)-FRHF 5х1,5 (PE,N)"," 5х1,5 (PE,N)","1,5 (PE,N)","КунРс"," 5","1,5 "," (PE,N)",null,null,null,"","",{"$f":"IF(SUM(L$8:L446)=0, \"\", \" + \")","v":""}]
["17050",null,"КунРс Пнг(А)-FRHF 5х10,0 (N)"," 5х10,0 (N)","10,0 (N)","КунРс"," 5","10,0 "," (N)",null,null,null,"","",{"$f":"IF(SUM(L$8:L447)=0, \"\", \" + \")","v":""}]
["3536",null,"КунРс Пнг(А)-FRHF 5х10,0 (PE,N)"," 5х10,0 (PE,N)","10,0 (PE,N)","КунРс"," 5","10,0 "," (PE,N)",null,null,null,"","",{"$f":"IF(SUM(L$8:L448)=0, \"\", \" + \")","v":""}]
["17051",null,"КунРс Пнг(А)-FRHF 5х16,0 (N)"," 5х16,0 (N)","16,0 (N)","КунРс"," 5","16,0 "," (N)",null,null,null,"","",{"$f":"IF(SUM(L$8:L449)=0, \"\", \" + \")","v":""}]
["3540",null,"КунРс Пнг(А)-FRHF 5х16,0 (PE,N)"," 5х16,0 (PE,N)","16,0 (PE,N)","КунРс"," 5","16,0 "," (PE,N)",null,null,null,"","",{"$f":"IF(SUM(L$8:L450)=0, \"\", \" + \")","v":""}]
["17047",null,"КунРс Пнг(А)-FRHF 5х2,5 (N)"," 5х2,5 (N)","2,5 (N)","КунРс"," 5","2,5 "," (N)",null,null,null,"","",{"$f":"IF(SUM(L$8:L451)=0, \"\", \" + \")","v":""}]
["3525",null,"КунРс Пнг(А)-FRHF 5х2,5 (PE,N)"," 5х2,5 (PE,N)","2,5 (PE,N)","КунРс"," 5","2,5 "," (PE,N)",null,null,null,"","",{"$f":"IF(SUM(L$8:L452)=0, \"\", \" + \")","v":""}]
["17048",null,"КунРс Пнг(А)-FRHF 5х4,0 (N)"," 5х4,0 (N)","4,0 (N)","КунРс"," 5","4,0 "," (N)",null,null,null,"","",{"$f":"IF(SUM(L$8:L453)=0, \"\", \" + \")","v":""}]
["3529",null,"КунРс Пнг(А)-FRHF 5х4,0 (PE,N)"," 5х4,0 (PE,N)","4,0 (PE,N)","КунРс"," 5","4,0 "," (PE,N)",null,null,null,"","",{"$f":"IF(SUM(L$8:L454)=0, \"\", \" + \")","v":""}]
["17049",null,"КунРс Пнг(А)-FRHF 5х6,0 (N)"," 5х6,0 (N)","6,0 (N)","КунРс"," 5","6,0 "," (N)",null,null,null,"","",{"$f":"IF(SUM(L$8:L455)=0, \"\", \" + \")","v":""}]
["3533",null,"КунРс Пнг(А)-FRHF 5х6,0 (PE,N)"," 5х6,0 (PE,N)","6,0 (PE,N)","КунРс"," 5","6,0 "," (PE,N)",null,null,null,"","",{"$f":"IF(SUM(L$8:L456)=0, \"\", \" + \")","v":""}]
["4910",null,"КунРс УКУнг(А)-FRHF 2х0,75",{"$f":"MID(C458, FIND(\" \",C458, FIND(\" \",C458)+1), 100)","v":" 2х0,75"},"0,75",{"$f":"MID(C458, 1, IF(ISERR(FIND(\"Кун\",C458)), 3, 5))","v":"КунРс"}," 2","0,75","",null,null,null,{"$f":"IF(L458=0, \"\",CONCATENATE(O458, C458, \"-\",L458,\"м\"))","v":""},"",{"$f":"IF(SUM(L$8:L457)=0, \"\", \" + \")","v":""}]
["17211",null,"КунРс УКУнг(А)-FRHF 2х0,75 (N)"," 2х0,75 (N)",{"$f":"MID($D459,IF(ISERR(FIND(\"х\",$D459)), FIND(\"x\",$D459)+1, FIND(\"х\",$D459))+1, 100)","v":"0,75 (N)"},"КунРс",{"$f":"MID($D459,1, IF(ISERR(FIND(\"х\",$D459)), FIND(\"x\",$D459)-1, FIND(\"х\",$D459))-1)","v":" 2"},{"$f":"IF(ISERR(FIND(\" \", E459)), E459, MID(E459, 1, FIND(\" \",E459)))","v":"0,75 "},{"$f":"IF(ISERR(FIND(\" \", E459)), \"\", MID(E459, FIND(\" \",E459), 20))","v":" (N)"},null,null,null,"",{"$f":"CONCATENATE(N458,M459)","v":""},{"$f":"IF(SUM(L$8:L458)=0, \"\", \" + \")","v":""}]
["4914",null,"КунРс УКУнг(А)-FRHF 2х1,0"," 2х1,0","1,0","КунРс"," 2","1,0","",null,null,null,"","",{"$f":"IF(SUM(L$8:L459)=0, \"\", \" + \")","v":""}]
["17212",null,"КунРс УКУнг(А)-FRHF 2х1,0 (N)"," 2х1,0 (N)","1,0 (N)","КунРс"," 2","1,0 "," (N)",null,null,null,"","",{"$f":"IF(SUM(L$8:L460)=0, \"\", \" + \")","v":""}]
["4918",null,"КунРс УКУнг(А)-FRHF 2х1,5"," 2х1,5","1,5","КунРс"," 2","1,5","",null,null,null,"","",{"$f":"IF(SUM(L$8:L461)=0, \"\", \" + \")","v":""}]
["17213",null,"КунРс УКУнг(А)-FRHF 2х1,5 (N)"," 2х1,5 (N)","1,5 (N)","КунРс"," 2","1,5 "," (N)",null,null,null,"","",{"$f":"IF(SUM(L$8:L462)=0, \"\", \" + \")","v":""}]
["4934",null,"КунРс УКУнг(А)-FRHF 2х10,0"," 2х10,0","10,0","КунРс"," 2","10,0","",null,null,null,"","",{"$f":"IF(SUM(L$8:L463)=0, \"\", \" + \")","v":""}]
["17217",null,"КунРс УКУнг(А)-FRHF 2х10,0 (N)"," 2х10,0 (N)","10,0 (N)","КунРс"," 2","10,0 "," (N)",null,null,null,"","",{"$f":"IF(SUM(L$8:L464)=0, \"\", \" + \")","v":""}]
["4938",null,"КунРс УКУнг(А)-FRHF 2х16,0"," 2х16,0","16,0","КунРс"," 2","16,0","",null,null,null,"","",{"$f":"IF(SUM(L$8:L465)=0, \"\", \" + \")","v":""}]
["17218",null,"КунРс УКУнг(А)-FRHF 2х16,0 (N)"," 2х16,0 (N)","16,0 (N)","КунРс"," 2","16,0 "," (N)",null,null,null,"","",{"$f":"IF(SUM(L$8:L466)=0, \"\", \" + \")","v":""}]
["4922",null,"КунРс УКУнг(А)-FRHF 2х2,5"," 2х2,5","2,5","КунРс"," 2","2,5","",null,null,null,"","",{"$f":"IF(SUM(L$8:L467)=0, \"\", \" + \")","v":""}]
["17214",null,"КунРс УКУнг(А)-FRHF 2х2,5 (N)"," 2х2,5 (N)","2,5 (N)","КунРс"," 2","2,5 "," (N)",null,null,null,"","",{"$f":"IF(SUM(L$8:L468)=0, \"\", \" + \")","v":""}]
["4926",null,"КунРс УКУнг(А)-FRHF 2х4,0"," 2х4,0","4,0","КунРс"," 2","4,0","",null,null,null,"","",{"$f":"IF(SUM(L$8:L469)=0, \"\", \" + \")","v":""}]
["17215",null,"КунРс УКУнг(А)-FRHF 2х4,0 (N)"," 2х4,0 (N)","4,0 (N)","КунРс"," 2","4,0 "," (N)",null,null,null,"","",{"$f":"IF(SUM(L$8:L470)=0, \"\", \" + \")","v":""}]
["4930",null,"КунРс УКУнг(А)-FRHF 2х6,0"," 2х6,0","6,0","КунРс"," 2","6,0","",null,null,null,"","",{"$f":"IF(SUM(L$8:L471)=0, \"\", \" + \")","v":""}]
["17216",null,"КунРс УКУнг(А)-FRHF 2х6,0 (N)"," 2х6,0 (N)","6,0 (N)","КунРс"," 2","6,0 "," (N)",null,null,null,"","",{"$f":"IF(SUM(L$8:L472)=0, \"\", \" + \")","v":""}]
["17163",null,"КунРс УКУнг(А)-FRHF 3х0,75"," 3х0,75","0,75","КунРс"," 3","0,75","",null,null,null,"","",{"$f":"IF(SUM(L$8:L473)=0, \"\", \" + \")","v":""}]
["4911",null,"КунРс УКУнг(А)-FRHF 3х0,75 (PE,N)"," 3х0,75 (PE,N)","0,75 (PE,N)","КунРс"," 3","0,75 "," (PE,N)",null,null,null,"","",{"$f":"IF(SUM(L$8:L474)=0, \"\", \" + \")","v":""}]
["17164",null,"КунРс УКУнг(А)-FRHF 3х1,0"," 3х1,0","1,0","КунРс"," 3","1,0","",null,null,null,"","",{"$f":"IF(SUM(L$8:L475)=0, \"\", \" + \")","v":""}]
["4915",null,"КунРс УКУнг(А)-FRHF 3х1,0 (PE,N)"," 3х1,0 (PE,N)","1,0 (PE,N)","КунРс"," 3","1,0 "," (PE,N)",null,null,null,"","",{"$f":"IF(SUM(L$8:L476)=0, \"\", \" + \")","v":""}]
["17165",null,"КунРс УКУнг(А)-FRHF 3х1,5"," 3х1,5","1,5","КунРс"," 3","1,5","",null,null,null,"","",{"$f":"IF(SUM(L$8:L477)=0, \"\", \" + \")","v":""}]
["4919",null,"КунРс УКУнг(А)-FRHF 3х1,5 (PE,N)"," 3х1,5 (PE,N)","1,5 (PE,N)","КунРс"," 3","1,5 "," (PE,N)",null,null,null,"","",{"$f":"IF(SUM(L$8:L478)=0, \"\", \" + \")","v":""}]
["17169",null,"КунРс УКУнг(А)-FRHF 3х10,0"," 3х10,0","10,0","КунРс"," 3","10,0","",null,null,null,"","",{"$f":"IF(SUM(L$8:L479)=0, \"\", \" + \")","v":""}]
["4935",null,"КунРс УКУнг(А)-FRHF 3х10,0 (PE,N)"," 3х10,0 (PE,N)","10,0 (PE,N)","КунРс"," 3","10,0 "," (PE,N)",null,null,null,"","",{"$f":"IF(SUM(L$8:L480)=0, \"\", \" + \")","v":""}]
["17170",null,"КунРс УКУнг(А)-FRHF 3х16,0"," 3х16,0","16,0","КунРс"," 3","16,0","",null,null,null,"","",{"$f":"IF(SUM(L$8:L481)=0, \"\", \" + \")","v":""}]
["4939",null,"КунРс УКУнг(А)-FRHF 3х16,0 (PE,N)"," 3х16,0 (PE,N)","16,0 (PE,N)","КунРс"," 3","16,0 "," (PE,N)",null,null,null,"","",{"$f":"IF(SUM(L$8:L482)=0, \"\", \" + \")","v":""}]
["17166",null,"КунРс УКУнг(А)-FRHF 3х2,5"," 3х2,5","2,5","КунРс"," 3","2,5","",null,null,null,"","",{"$f":"IF(SUM(L$8:L483)=0, \"\", \" + \")","v":""}]
["4923",null,"КунРс УКУнг(А)-FRHF 3х2,5 (PE,N)"," 3х2,5 (PE,N)","2,5 (PE,N)","КунРс"," 3","2,5 "," (PE,N)",null,null,null,"","",{"$f":"IF(SUM(L$8:L484)=0, \"\", \" + \")","v":""}]
["17167",null,"КунРс УКУнг(А)-FRHF 3х4,0"," 3х4,0","4,0","КунРс"," 3","4,0","",null,null,null,"","",{"$f":"IF(SUM(L$8:L485)=0, \"\", \" + \")","v":""}]
["4927",null,"КунРс УКУнг(А)-FRHF 3х4,0 (PE,N)"," 3х4,0 (PE,N)","4,0 (PE,N)","КунРс"," 3","4,0 "," (PE,N)",null,null,null,"","",{"$f":"IF(SUM(L$8:L486)=0, \"\", \" + \")","v":""}]
["17168",null,"КунРс УКУнг(А)-FRHF 3х6,0"," 3х6,0","6,0","КунРс"," 3","6,0","",null,null,null,"","",{"$f":"IF(SUM(L$8:L487)=0, \"\", \" + \")","v":""}]
["4931",null,"КунРс УКУнг(А)-FRHF 3х6,0 (PE,N)"," 3х6,0 (PE,N)","6,0 (PE,N)","КунРс"," 3","6,0 "," (PE,N)",null,null,null,"","",{"$f":"IF(SUM(L$8:L488)=0, \"\", \" + \")","v":""}]
["17307",null,"КунРс УКУнг(А)-FRHF 4х0,75 (N)"," 4х0,75 (N)","0,75 (N)","КунРс"," 4","0,75 "," (N)",null,null,null,"","",{"$f":"IF(SUM(L$8:L489)=0, \"\", \" + \")","v":""}]
["4912",null,"КунРс УКУнг(А)-FRHF 4х0,75 (PE)"," 4х0,75 (PE)","0,75 (PE)","КунРс"," 4","0,75 "," (PE)",null,null,null,"","",{"$f":"IF(SUM(L$8:L490)=0, \"\", \" + \")","v":""}]
["17308",null,"КунРс УКУнг(А)-FRHF 4х1,0 (N)"," 4х1,0 (N)","1,0 (N)","КунРс"," 4","1,0 "," (N)",null,null,null,"","",{"$f":"IF(SUM(L$8:L491)=0, \"\", \" + \")","v":""}]
["4916",null,"КунРс УКУнг(А)-FRHF 4х1,0 (PE)"," 4х1,0 (PE)","1,0 (PE)","КунРс"," 4","1,0 "," (PE)",null,null,null,"","",{"$f":"IF(SUM(L$8:L492)=0, \"\", \" + \")","v":""}]
["17309",null,"КунРс УКУнг(А)-FRHF 4х1,5 (N)"," 4х1,5 (N)","1,5 (N)","КунРс"," 4","1,5 "," (N)",null,null,null,"","",{"$f":"IF(SUM(L$8:L493)=0, \"\", \" + \")","v":""}]
["4920",null,"КунРс УКУнг(А)-FRHF 4х1,5 (PE)"," 4х1,5 (PE)","1,5 (PE)","КунРс"," 4","1,5 "," (PE)",null,null,null,"","",{"$f":"IF(SUM(L$8:L494)=0, \"\", \" + \")","v":""}]
["17313",null,"КунРс УКУнг(А)-FRHF 4х10,0 (N)"," 4х10,0 (N)","10,0 (N)","КунРс"," 4","10,0 "," (N)",null,null,null,"","",{"$f":"IF(SUM(L$8:L495)=0, \"\", \" + \")","v":""}]
["4936",null,"КунРс УКУнг(А)-FRHF 4х10,0 (PE)"," 4х10,0 (PE)","10,0 (PE)","КунРс"," 4","10,0 "," (PE)",null,null,null,"","",{"$f":"IF(SUM(L$8:L496)=0, \"\", \" + \")","v":""}]
["17314",null,"КунРс УКУнг(А)-FRHF 4х16,0 (N)"," 4х16,0 (N)","16,0 (N)","КунРс"," 4","16,0 "," (N)",null,null,null,"","",{"$f":"IF(SUM(L$8:L497)=0, \"\", \" + \")","v":""}]
["4940",null,"КунРс УКУнг(А)-FRHF 4х16,0 (PE)"," 4х16,0 (PE)","16,0 (PE)","КунРс"," 4","16,0 "," (PE)",null,null,null,"","",{"$f":"IF(SUM(L$8:L498)=0, \"\", \" + \")","v":""}]
["17310",null,"КунРс УКУнг(А)-FRHF 4х2,5 (N)"," 4х2,5 (N)","2,5 (N)","КунРс"," 4","2,5 "," (N)",null,null,null,"","",{"$f":"IF(SUM(L$8:L499)=0, \"\", \" + \")","v":""}]
["4924",null,"КунРс УКУнг(А)-FRHF 4х2,5 (PE)"," 4х2,5 (PE)","2,5 (PE)","КунРс"," 4","2,5 "," (PE)",null,null,null,"","",{"$f":"IF(SUM(L$8:L500)=0, \"\", \" + \")","v":""}]
["17311",null,"КунРс УКУнг(А)-FRHF 4х4,0 (N)"," 4х4,0 (N)","4,0 (N)","КунРс"," 4","4,0 "," (N)",null,null,null,"","",{"$f":"IF(SUM(L$8:L501)=0, \"\", \" + \")","v":""}]
["4928",null,"КунРс УКУнг(А)-FRHF 4х4,0 (PE)"," 4х4,0 (PE)","4,0 (PE)","КунРс"," 4","4,0 "," (PE)",null,null,null,"","",{"$f":"IF(SUM(L$8:L502)=0, \"\", \" + \")","v":""}]
["17312",null,"КунРс УКУнг(А)-FRHF 4х6,0 (N)"," 4х6,0 (N)","6,0 (N)","КунРс"," 4","6,0 "," (N)",null,null,null,"","",{"$f":"IF(SUM(L$8:L503)=0, \"\", \" + \")","v":""}]
["4932",null,"КунРс УКУнг(А)-FRHF 4х6,0 (PE)"," 4х6,0 (PE)","6,0 (PE)","КунРс"," 4","6,0 "," (PE)",null,null,null,"","",{"$f":"IF(SUM(L$8:L504)=0, \"\", \" + \")","v":""}]
["17404",null,"КунРс УКУнг(А)-FRHF 5х0,75 (N)"," 5х0,75 (N)","0,75 (N)","КунРс"," 5","0,75 "," (N)",null,null,null,"","",{"$f":"IF(SUM(L$8:L505)=0, \"\", \" + \")","v":""}]
["4913",null,"КунРс УКУнг(А)-FRHF 5х0,75 (PE,N)"," 5х0,75 (PE,N)","0,75 (PE,N)","КунРс"," 5","0,75 "," (PE,N)",null,null,null,"","",{"$f":"IF(SUM(L$8:L506)=0, \"\", \" + \")","v":""}]
["17405",null,"КунРс УКУнг(А)-FRHF 5х1,0 (N)"," 5х1,0 (N)","1,0 (N)","КунРс"," 5","1,0 "," (N)",null,null,null,"","",{"$f":"IF(SUM(L$8:L507)=0, \"\", \" + \")","v":""}]
["4917",null,"КунРс УКУнг(А)-FRHF 5х1,0 (PE,N)"," 5х1,0 (PE,N)","1,0 (PE,N)","КунРс"," 5","1,0 "," (PE,N)",null,null,null,"","",{"$f":"IF(SUM(L$8:L508)=0, \"\", \" + \")","v":""}]
["17406",null,"КунРс УКУнг(А)-FRHF 5х1,5 (N)"," 5х1,5 (N)","1,5 (N)","КунРс"," 5","1,5 "," (N)",null,null,null,"","",{"$f":"IF(SUM(L$8:L509)=0, \"\", \" + \")","v":""}]
["4921",null,"КунРс УКУнг(А)-FRHF 5х1,5 (PE,N)"," 5х1,5 (PE,N)","1,5 (PE,N)","КунРс"," 5","1,5 "," (PE,N)",null,null,null,"","",{"$f":"IF(SUM(L$8:L510)=0, \"\", \" + \")","v":""}]
["17410",null,"КунРс УКУнг(А)-FRHF 5х10,0 (N)"," 5х10,0 (N)","10,0 (N)","КунРс"," 5","10,0 "," (N)",null,null,null,"","",{"$f":"IF(SUM(L$8:L511)=0, \"\", \" + \")","v":""}]
["4937",null,"КунРс УКУнг(А)-FRHF 5х10,0 (PE,N)"," 5х10,0 (PE,N)","10,0 (PE,N)","КунРс"," 5","10,0 "," (PE,N)",null,null,null,"","",{"$f":"IF(SUM(L$8:L512)=0, \"\", \" + \")","v":""}]
["17411",null,"КунРс УКУнг(А)-FRHF 5х16,0 (N)"," 5х16,0 (N)","16,0 (N)","КунРс"," 5","16,0 "," (N)",null,null,null,"","",{"$f":"IF(SUM(L$8:L513)=0, \"\", \" + \")","v":""}]
["4941",null,"КунРс УКУнг(А)-FRHF 5х16,0 (PE,N)"," 5х16,0 (PE,N)","16,0 (PE,N)","КунРс"," 5","16,0 "," (PE,N)",null,null,null,"","",{"$f":"IF(SUM(L$8:L514)=0, \"\", \" + \")","v":""}]
["17407",null,"КунРс УКУнг(А)-FRHF 5х2,5 (N)"," 5х2,5 (N)","2,5 (N)","КунРс"," 5","2,5 "," (N)",null,null,null,"","",{"$f":"IF(SUM(L$8:L515)=0, \"\", \" + \")","v":""}]
["4925",null,"КунРс УКУнг(А)-FRHF 5х2,5 (PE,N)"," 5х2,5 (PE,N)","2,5 (PE,N)","КунРс"," 5","2,5 "," (PE,N)",null,null,null,"","",{"$f":"IF(SUM(L$8:L516)=0, \"\", \" + \")","v":""}]
["17408",null,"КунРс УКУнг(А)-FRHF 5х4,0 (N)"," 5х4,0 (N)","4,0 (N)","КунРс"," 5","4,0 "," (N)",null,null,null,"","",{"$f":"IF(SUM(L$8:L517)=0, \"\", \" + \")","v":""}]
["4929",null,"КунРс УКУнг(А)-FRHF 5х4,0 (PE,N)"," 5х4,0 (PE,N)","4,0 (PE,N)","КунРс"," 5","4,0 "," (PE,N)",null,null,null,"","",{"$f":"IF(SUM(L$8:L518)=0, \"\", \" + \")","v":""}]
["17409",null,"КунРс УКУнг(А)-FRHF 5х6,0 (N)"," 5х6,0 (N)","6,0 (N)","КунРс"," 5","6,0 "," (N)",null,null,null,"","",{"$f":"IF(SUM(L$8:L519)=0, \"\", \" + \")","v":""}]
["4933",null,"КунРс УКУнг(А)-FRHF 5х6,0 (PE,N)"," 5х6,0 (PE,N)","6,0 (PE,N)","КунРс"," 5","6,0 "," (PE,N)",null,null,null,"","",{"$f":"IF(SUM(L$8:L520)=0, \"\", \" + \")","v":""}]
["4847",null,"КунРс Унг(А)-FRHF 2х0,75",{"$f":"MID(C522, FIND(\" \",C522, FIND(\" \",C522)+1), 100)","v":" 2х0,75"},"0,75",{"$f":"MID(C522, 1, IF(ISERR(FIND(\"Кун\",C522)), 3, 5))","v":"КунРс"}," 2","0,75","",null,null,null,{"$f":"IF(L522=0, \"\",CONCATENATE(O522, C522, \"-\",L522,\"м\"))","v":""},"",{"$f":"IF(SUM(L$8:L521)=0, \"\", \" + \")","v":""}]
["17195",null,"КунРс Унг(А)-FRHF 2х0,75 (N)"," 2х0,75 (N)",{"$f":"MID($D523,IF(ISERR(FIND(\"х\",$D523)), FIND(\"x\",$D523)+1, FIND(\"х\",$D523))+1, 100)","v":"0,75 (N)"},"КунРс",{"$f":"MID($D523,1, IF(ISERR(FIND(\"х\",$D523)), FIND(\"x\",$D523)-1, FIND(\"х\",$D523))-1)","v":" 2"},{"$f":"IF(ISERR(FIND(\" \", E523)), E523, MID(E523, 1, FIND(\" \",E523)))","v":"0,75 "},{"$f":"IF(ISERR(FIND(\" \", E523)), \"\", MID(E523, FIND(\" \",E523), 20))","v":" (N)"},null,null,null,"",{"$f":"CONCATENATE(N522,M523)","v":""},{"$f":"IF(SUM(L$8:L522)=0, \"\", \" + \")","v":""}]
["4851",null,"КунРс Унг(А)-FRHF 2х1,0"," 2х1,0","1,0","КунРс"," 2","1,0","",null,null,null,"","",{"$f":"IF(SUM(L$8:L523)=0, \"\", \" + \")","v":""}]
["17196",null,"КунРс Унг(А)-FRHF 2х1,0 (N)"," 2х1,0 (N)","1,0 (N)","КунРс"," 2","1,0 "," (N)",null,null,null,"","",{"$f":"IF(SUM(L$8:L524)=0, \"\", \" + \")","v":""}]
["4855",null,"КунРс Унг(А)-FRHF 2х1,5"," 2х1,5","1,5","КунРс"," 2","1,5","",null,null,null,"","",{"$f":"IF(SUM(L$8:L525)=0, \"\", \" + \")","v":""}]
["17197",null,"КунРс Унг(А)-FRHF 2х1,5 (N)"," 2х1,5 (N)","1,5 (N)","КунРс"," 2","1,5 "," (N)",null,null,null,"","",{"$f":"IF(SUM(L$8:L526)=0, \"\", \" + \")","v":""}]
["4871",null,"КунРс Унг(А)-FRHF 2х10,0"," 2х10,0","10,0","КунРс"," 2","10,0","",null,null,null,"","",{"$f":"IF(SUM(L$8:L527)=0, \"\", \" + \")","v":""}]
["17201",null,"КунРс Унг(А)-FRHF 2х10,0 (N)"," 2х10,0 (N)","10,0 (N)","КунРс"," 2","10,0 "," (N)",null,null,null,"","",{"$f":"IF(SUM(L$8:L528)=0, \"\", \" + \")","v":""}]
["4875",null,"КунРс Унг(А)-FRHF 2х16,0"," 2х16,0","16,0","КунРс"," 2","16,0","",null,null,null,"","",{"$f":"IF(SUM(L$8:L529)=0, \"\", \" + \")","v":""}]
["17202",null,"КунРс Унг(А)-FRHF 2х16,0 (N)"," 2х16,0 (N)","16,0 (N)","КунРс"," 2","16,0 "," (N)",null,null,null,"","",{"$f":"IF(SUM(L$8:L530)=0, \"\", \" + \")","v":""}]
["4859",null,"КунРс Унг(А)-FRHF 2х2,5"," 2х2,5","2,5","КунРс"," 2","2,5","",null,null,null,"","",{"$f":"IF(SUM(L$8:L531)=0, \"\", \" + \")","v":""}]
["17198",null,"КунРс Унг(А)-FRHF 2х2,5 (N)"," 2х2,5 (N)","2,5 (N)","КунРс"," 2","2,5 "," (N)",null,null,null,"","",{"$f":"IF(SUM(L$8:L532)=0, \"\", \" + \")","v":""}]
["4863",null,"КунРс Унг(А)-FRHF 2х4,0"," 2х4,0","4,0","КунРс"," 2","4,0","",null,null,null,"","",{"$f":"IF(SUM(L$8:L533)=0, \"\", \" + \")","v":""}]
["17199",null,"КунРс Унг(А)-FRHF 2х4,0 (N)"," 2х4,0 (N)","4,0 (N)","КунРс"," 2","4,0 "," (N)",null,null,null,"","",{"$f":"IF(SUM(L$8:L534)=0, \"\", \" + \")","v":""}]
["4867",null,"КунРс Унг(А)-FRHF 2х6,0"," 2х6,0","6,0","КунРс"," 2","6,0","",null,null,null,"","",{"$f":"IF(SUM(L$8:L535)=0, \"\", \" + \")","v":""}]
["17200",null,"КунРс Унг(А)-FRHF 2х6,0 (N)"," 2х6,0 (N)","6,0 (N)","КунРс"," 2","6,0 "," (N)",null,null,null,"","",{"$f":"IF(SUM(L$8:L536)=0, \"\", \" + \")","v":""}]
["17147",null,"КунРс Унг(А)-FRHF 3х0,75"," 3х0,75","0,75","КунРс"," 3","0,75","",null,null,null,"","",{"$f":"IF(SUM(L$8:L537)=0, \"\", \" + \")","v":""}]
["4848",null,"КунРс Унг(А)-FRHF 3х0,75 (PE,N)"," 3х0,75 (PE,N)","0,75 (PE,N)","КунРс"," 3","0,75 "," (PE,N)",null,null,null,"","",{"$f":"IF(SUM(L$8:L538)=0, \"\", \" + \")","v":""}]
["17148",null,"КунРс Унг(А)-FRHF 3х1,0"," 3х1,0","1,0","КунРс"," 3","1,0","",null,null,null,"","",{"$f":"IF(SUM(L$8:L539)=0, \"\", \" + \")","v":""}]
["4852",null,"КунРс Унг(А)-FRHF 3х1,0 (PE,N)"," 3х1,0 (PE,N)","1,0 (PE,N)","КунРс"," 3","1,0 "," (PE,N)",null,null,null,"","",{"$f":"IF(SUM(L$8:L540)=0, \"\", \" + \")","v":""}]
["17149",null,"КунРс Унг(А)-FRHF 3х1,5"," 3х1,5","1,5","КунРс"," 3","1,5","",null,null,null,"","",{"$f":"IF(SUM(L$8:L541)=0, \"\", \" + \")","v":""}]
["4856",null,"КунРс Унг(А)-FRHF 3х1,5 (PE,N)"," 3х1,5 (PE,N)","1,5 (PE,N)","КунРс"," 3","1,5 "," (PE,N)",null,null,null,"","",{"$f":"IF(SUM(L$8:L542)=0, \"\", \" + \")","v":""}]
["17153",null,"КунРс Унг(А)-FRHF 3х10,0"," 3х10,0","10,0","КунРс"," 3","10,0","",null,null,null,"","",{"$f":"IF(SUM(L$8:L543)=0, \"\", \" + \")","v":""}]
["4872",null,"КунРс Унг(А)-FRHF 3х10,0 (PE,N)"," 3х10,0 (PE,N)","10,0 (PE,N)","КунРс"," 3","10,0 "," (PE,N)",null,null,null,"","",{"$f":"IF(SUM(L$8:L544)=0, \"\", \" + \")","v":""}]
["17154",null,"КунРс Унг(А)-FRHF 3х16,0"," 3х16,0","16,0","КунРс"," 3","16,0","",null,null,null,"","",{"$f":"IF(SUM(L$8:L545)=0, \"\", \" + \")","v":""}]
["4876",null,"КунРс Унг(А)-FRHF 3х16,0 (PE,N)"," 3х16,0 (PE,N)","16,0 (PE,N)","КунРс"," 3","16,0 "," (PE,N)",null,null,null,"","",{"$f":"IF(SUM(L$8:L546)=0, \"\", \" + \")","v":""}]
["17150",null,"КунРс Унг(А)-FRHF 3х2,5"," 3х2,5","2,5","КунРс"," 3","2,5","",null,null,null,"","",{"$f":"IF(SUM(L$8:L547)=0, \"\", \" + \")","v":""}]
["4860",null,"КунРс Унг(А)-FRHF 3х2,5 (PE,N)"," 3х2,5 (PE,N)","2,5 (PE,N)","КунРс"," 3","2,5 "," (PE,N)",null,null,null,"","",{"$f":"IF(SUM(L$8:L548)=0, \"\", \" + \")","v":""}]
["17151",null,"КунРс Унг(А)-FRHF 3х4,0"," 3х4,0","4,0","КунРс"," 3","4,0","",null,null,null,"","",{"$f":"IF(SUM(L$8:L549)=0, \"\", \" + \")","v":""}]
["4864",null,"КунРс Унг(А)-FRHF 3х4,0 (PE,N)"," 3х4,0 (PE,N)","4,0 (PE,N)","КунРс"," 3","4,0 "," (PE,N)",null,null,null,"","",{"$f":"IF(SUM(L$8:L550)=0, \"\", \" + \")","v":""}]
["17152",null,"КунРс Унг(А)-FRHF 3х6,0"," 3х6,0","6,0","КунРс"," 3","6,0","",null,null,null,"","",{"$f":"IF(SUM(L$8:L551)=0, \"\", \" + \")","v":""}]
["4868",null,"КунРс Унг(А)-FRHF 3х6,0 (PE,N)"," 3х6,0 (PE,N)","6,0 (PE,N)","КунРс"," 3","6,0 "," (PE,N)",null,null,null,"","",{"$f":"IF(SUM(L$8:L552)=0, \"\", \" + \")","v":""}]
["17291",null,"КунРс Унг(А)-FRHF 4х0,75 (N)"," 4х0,75 (N)","0,75 (N)","КунРс"," 4","0,75 "," (N)",null,null,null,"","",{"$f":"IF(SUM(L$8:L553)=0, \"\", \" + \")","v":""}]
["4849",null,"КунРс Унг(А)-FRHF 4х0,75 (PE)"," 4х0,75 (PE)","0,75 (PE)","КунРс"," 4","0,75 "," (PE)",null,null,null,"","",{"$f":"IF(SUM(L$8:L554)=0, \"\", \" + \")","v":""}]
["17292",null,"КунРс Унг(А)-FRHF 4х1,0 (N)"," 4х1,0 (N)","1,0 (N)","КунРс"," 4","1,0 "," (N)",null,null,null,"","",{"$f":"IF(SUM(L$8:L555)=0, \"\", \" + \")","v":""}]
["4853",null,"КунРс Унг(А)-FRHF 4х1,0 (PE)"," 4х1,0 (PE)","1,0 (PE)","КунРс"," 4","1,0 "," (PE)",null,null,null,"","",{"$f":"IF(SUM(L$8:L556)=0, \"\", \" + \")","v":""}]
["17293",null,"КунРс Унг(А)-FRHF 4х1,5 (N)"," 4х1,5 (N)","1,5 (N)","КунРс"," 4","1,5 "," (N)",null,null,null,"","",{"$f":"IF(SUM(L$8:L557)=0, \"\", \" + \")","v":""}]
["4857",null,"КунРс Унг(А)-FRHF 4х1,5 (PE)"," 4х1,5 (PE)","1,5 (PE)","КунРс"," 4","1,5 "," (PE)",null,null,null,"","",{"$f":"IF(SUM(L$8:L558)=0, \"\", \" + \")","v":""}]
["17297",null,"КунРс Унг(А)-FRHF 4х10,0 (N)"," 4х10,0 (N)","10,0 (N)","КунРс"," 4","10,0 "," (N)",null,null,null,"","",{"$f":"IF(SUM(L$8:L559)=0, \"\", \" + \")","v":""}]
["4873",null,"КунРс Унг(А)-FRHF 4х10,0 (PE)"," 4х10,0 (PE)","10,0 (PE)","КунРс"," 4","10,0 "," (PE)",null,null,null,"","",{"$f":"IF(SUM(L$8:L560)=0, \"\", \" + \")","v":""}]
["17298",null,"КунРс Унг(А)-FRHF 4х16,0 (N)"," 4х16,0 (N)","16,0 (N)","КунРс"," 4","16,0 "," (N)",null,null,null,"","",{"$f":"IF(SUM(L$8:L561)=0, \"\", \" + \")","v":""}]
["4877",null,"КунРс Унг(А)-FRHF 4х16,0 (PE)"," 4х16,0 (PE)","16,0 (PE)","КунРс"," 4","16,0 "," (PE)",null,null,null,"","",{"$f":"IF(SUM(L$8:L562)=0, \"\", \" + \")","v":""}]
["17294",null,"КунРс Унг(А)-FRHF 4х2,5 (N)"," 4х2,5 (N)","2,5 (N)","КунРс"," 4","2,5 "," (N)",null,null,null,"","",{"$f":"IF(SUM(L$8:L563)=0, \"\", \" + \")","v":""}]
["4861",null,"КунРс Унг(А)-FRHF 4х2,5 (PE)"," 4х2,5 (PE)","2,5 (PE)","КунРс"," 4","2,5 "," (PE)",null,null,null,"","",{"$f":"IF(SUM(L$8:L564)=0, \"\", \" + \")","v":""}]
["17295",null,"КунРс Унг(А)-FRHF 4х4,0 (N)"," 4х4,0 (N)","4,0 (N)","КунРс"," 4","4,0 "," (N)",null,null,null,"","",{"$f":"IF(SUM(L$8:L565)=0, \"\", \" + \")","v":""}]
["4865",null,"КунРс Унг(А)-FRHF 4х4,0 (PE)"," 4х4,0 (PE)","4,0 (PE)","КунРс"," 4","4,0 "," (PE)",null,null,null,"","",{"$f":"IF(SUM(L$8:L566)=0, \"\", \" + \")","v":""}]
["17296",null,"КунРс Унг(А)-FRHF 4х6,0 (N)"," 4х6,0 (N)","6,0 (N)","КунРс"," 4","6,0 "," (N)",null,null,null,"","",{"$f":"IF(SUM(L$8:L567)=0, \"\", \" + \")","v":""}]
["4869",null,"КунРс Унг(А)-FRHF 4х6,0 (PE)"," 4х6,0 (PE)","6,0 (PE)","КунРс"," 4","6,0 "," (PE)",null,null,null,"","",{"$f":"IF(SUM(L$8:L568)=0, \"\", \" + \")","v":""}]
["17388",null,"КунРс Унг(А)-FRHF 5х0,75 (N)"," 5х0,75 (N)","0,75 (N)","КунРс"," 5","0,75 "," (N)",null,null,null,"","",{"$f":"IF(SUM(L$8:L569)=0, \"\", \" + \")","v":""}]
["4850",null,"КунРс Унг(А)-FRHF 5х0,75 (PE,N)"," 5х0,75 (PE,N)","0,75 (PE,N)","КунРс"," 5","0,75 "," (PE,N)",null,null,null,"","",{"$f":"IF(SUM(L$8:L570)=0, \"\", \" + \")","v":""}]
["17389",null,"КунРс Унг(А)-FRHF 5х1,0 (N)"," 5х1,0 (N)","1,0 (N)","КунРс"," 5","1,0 "," (N)",null,null,null,"","",{"$f":"IF(SUM(L$8:L571)=0, \"\", \" + \")","v":""}]
["4854",null,"КунРс Унг(А)-FRHF 5х1,0 (PE,N)"," 5х1,0 (PE,N)","1,0 (PE,N)","КунРс"," 5","1,0 "," (PE,N)",null,null,null,"","",{"$f":"IF(SUM(L$8:L572)=0, \"\", \" + \")","v":""}]
["17390",null,"КунРс Унг(А)-FRHF 5х1,5 (N)"," 5х1,5 (N)","1,5 (N)","КунРс"," 5","1,5 "," (N)",null,null,null,"","",{"$f":"IF(SUM(L$8:L573)=0, \"\", \" + \")","v":""}]
["4858",null,"КунРс Унг(А)-FRHF 5х1,5 (PE,N)"," 5х1,5 (PE,N)","1,5 (PE,N)","КунРс"," 5","1,5 "," (PE,N)",null,null,null,"","",{"$f":"IF(SUM(L$8:L574)=0, \"\", \" + \")","v":""}]
["17394",null,"КунРс Унг(А)-FRHF 5х10,0 (N)"," 5х10,0 (N)","10,0 (N)","КунРс"," 5","10,0 "," (N)",null,null,null,"","",{"$f":"IF(SUM(L$8:L575)=0, \"\", \" + \")","v":""}]
["4874",null,"КунРс Унг(А)-FRHF 5х10,0 (PE,N)"," 5х10,0 (PE,N)","10,0 (PE,N)","КунРс"," 5","10,0 "," (PE,N)",null,null,null,"","",{"$f":"IF(SUM(L$8:L576)=0, \"\", \" + \")","v":""}]
["17395",null,"КунРс Унг(А)-FRHF 5х16,0 (N)"," 5х16,0 (N)","16,0 (N)","КунРс"," 5","16,0 "," (N)",null,null,null,"","",{"$f":"IF(SUM(L$8:L577)=0, \"\", \" + \")","v":""}]
["4878",null,"КунРс Унг(А)-FRHF 5х16,0 (PE,N)"," 5х16,0 (PE,N)","16,0 (PE,N)","КунРс"," 5","16,0 "," (PE,N)",null,null,null,"","",{"$f":"IF(SUM(L$8:L578)=0, \"\", \" + \")","v":""}]
["17391",null,"КунРс Унг(А)-FRHF 5х2,5 (N)"," 5х2,5 (N)","2,5 (N)","КунРс"," 5","2,5 "," (N)",null,null,null,"","",{"$f":"IF(SUM(L$8:L579)=0, \"\", \" + \")","v":""}]
["4862",null,"КунРс Унг(А)-FRHF 5х2,5 (PE,N)"," 5х2,5 (PE,N)","2,5 (PE,N)","КунРс"," 5","2,5 "," (PE,N)",null,null,null,"","",{"$f":"IF(SUM(L$8:L580)=0, \"\", \" + \")","v":""}]
["17392",null,"КунРс Унг(А)-FRHF 5х4,0 (N)"," 5х4,0 (N)","4,0 (N)","КунРс"," 5","4,0 "," (N)",null,null,null,"","",{"$f":"IF(SUM(L$8:L581)=0, \"\", \" + \")","v":""}]
["4866",null,"КунРс Унг(А)-FRHF 5х4,0 (PE,N)"," 5х4,0 (PE,N)","4,0 (PE,N)","КунРс"," 5","4,0 "," (PE,N)",null,null,null,"","",{"$f":"IF(SUM(L$8:L582)=0, \"\", \" + \")","v":""}]
["17393",null,"КунРс Унг(А)-FRHF 5х6,0 (N)"," 5х6,0 (N)","6,0 (N)","КунРс"," 5","6,0 "," (N)",null,null,null,"","",{"$f":"IF(SUM(L$8:L583)=0, \"\", \" + \")","v":""}]
["4870",null,"КунРс Унг(А)-FRHF 5х6,0 (PE,N)"," 5х6,0 (PE,N)","6,0 (PE,N)","КунРс"," 5","6,0 "," (PE,N)",null,null,null,"","",{"$f":"IF(SUM(L$8:L584)=0, \"\", \" + \")","v":""}]
["3850",null,"КунРс ЭВКВнг(А)-FRLS 2х0,75",{"$f":"MID(C586, FIND(\" \",C586, FIND(\" \",C586)+1), 100)","v":" 2х0,75"},"0,75",{"$f":"MID(C586, 1, IF(ISERR(FIND(\"Кун\",C586)), 3, 5))","v":"КунРс"}," 2","0,75","",null,null,null,{"$f":"IF(L586=0, \"\",CONCATENATE(O586, C586, \"-\",L586,\"м\"))","v":""},"",{"$f":"IF(SUM(L$8:L585)=0, \"\", \" + \")","v":""}]
["16918",null,"КунРс ЭВКВнг(А)-FRLS 2х0,75 (N)"," 2х0,75 (N)",{"$f":"MID($D587,IF(ISERR(FIND(\"х\",$D587)), FIND(\"x\",$D587)+1, FIND(\"х\",$D587))+1, 100)","v":"0,75 (N)"},"КунРс",{"$f":"MID($D587,1, IF(ISERR(FIND(\"х\",$D587)), FIND(\"x\",$D587)-1, FIND(\"х\",$D587))-1)","v":" 2"},{"$f":"IF(ISERR(FIND(\" \", E587)), E587, MID(E587, 1, FIND(\" \",E587)))","v":"0,75 "},{"$f":"IF(ISERR(FIND(\" \", E587)), \"\", MID(E587, FIND(\" \",E587), 20))","v":" (N)"},null,null,null,"",{"$f":"CONCATENATE(N586,M587)","v":""},{"$f":"IF(SUM(L$8:L586)=0, \"\", \" + \")","v":""}]
["3854",null,"КунРс ЭВКВнг(А)-FRLS 2х1,0"," 2х1,0","1,0","КунРс"," 2","1,0","",null,null,null,"","",{"$f":"IF(SUM(L$8:L587)=0, \"\", \" + \")","v":""}]
["16921",null,"КунРс ЭВКВнг(А)-FRLS 2х1,0 (N)"," 2х1,0 (N)","1,0 (N)","КунРс"," 2","1,0 "," (N)",null,null,null,"","",{"$f":"IF(SUM(L$8:L588)=0, \"\", \" + \")","v":""}]
["3858",null,"КунРс ЭВКВнг(А)-FRLS 2х1,5"," 2х1,5","1,5","КунРс"," 2","1,5","",null,null,null,"","",{"$f":"IF(SUM(L$8:L589)=0, \"\", \" + \")","v":""}]
["16923",null,"КунРс ЭВКВнг(А)-FRLS 2х1,5 (N)"," 2х1,5 (N)","1,5 (N)","КунРс"," 2","1,5 "," (N)",null,null,null,"","",{"$f":"IF(SUM(L$8:L590)=0, \"\", \" + \")","v":""}]
["3874",null,"КунРс ЭВКВнг(А)-FRLS 2х10,0"," 2х10,0","10,0","КунРс"," 2","10,0","",null,null,null,"","",{"$f":"IF(SUM(L$8:L591)=0, \"\", \" + \")","v":""}]
["16932",null,"КунРс ЭВКВнг(А)-FRLS 2х10,0 (N)"," 2х10,0 (N)","10,0 (N)","КунРс"," 2","10,0 "," (N)",null,null,null,"","",{"$f":"IF(SUM(L$8:L592)=0, \"\", \" + \")","v":""}]
["3878",null,"КунРс ЭВКВнг(А)-FRLS 2х16,0"," 2х16,0","16,0","КунРс"," 2","16,0","",null,null,null,"","",{"$f":"IF(SUM(L$8:L593)=0, \"\", \" + \")","v":""}]
["16934",null,"КунРс ЭВКВнг(А)-FRLS 2х16,0 (N)"," 2х16,0 (N)","16,0 (N)","КунРс"," 2","16,0 "," (N)",null,null,null,"","",{"$f":"IF(SUM(L$8:L594)=0, \"\", \" + \")","v":""}]
["3862",null,"КунРс ЭВКВнг(А)-FRLS 2х2,5"," 2х2,5","2,5","КунРс"," 2","2,5","",null,null,null,"","",{"$f":"IF(SUM(L$8:L595)=0, \"\", \" + \")","v":""}]
["16926",null,"КунРс ЭВКВнг(А)-FRLS 2х2,5 (N)"," 2х2,5 (N)","2,5 (N)","КунРс"," 2","2,5 "," (N)",null,null,null,"","",{"$f":"IF(SUM(L$8:L596)=0, \"\", \" + \")","v":""}]
["3866",null,"КунРс ЭВКВнг(А)-FRLS 2х4,0"," 2х4,0","4,0","КунРс"," 2","4,0","",null,null,null,"","",{"$f":"IF(SUM(L$8:L597)=0, \"\", \" + \")","v":""}]
["16928",null,"КунРс ЭВКВнг(А)-FRLS 2х4,0 (N)"," 2х4,0 (N)","4,0 (N)","КунРс"," 2","4,0 "," (N)",null,null,null,"","",{"$f":"IF(SUM(L$8:L598)=0, \"\", \" + \")","v":""}]
["3870",null,"КунРс ЭВКВнг(А)-FRLS 2х6,0"," 2х6,0","6,0","КунРс"," 2","6,0","",null,null,null,"","",{"$f":"IF(SUM(L$8:L599)=0, \"\", \" + \")","v":""}]
["16930",null,"КунРс ЭВКВнг(А)-FRLS 2х6,0 (N)"," 2х6,0 (N)","6,0 (N)","КунРс"," 2","6,0 "," (N)",null,null,null,"","",{"$f":"IF(SUM(L$8:L600)=0, \"\", \" + \")","v":""}]
["17123",null,"КунРс ЭВКВнг(А)-FRLS 3х0,75"," 3х0,75","0,75","КунРс"," 3","0,75","",null,null,null,"","",{"$f":"IF(SUM(L$8:L601)=0, \"\", \" + \")","v":""}]
["3851",null,"КунРс ЭВКВнг(А)-FRLS 3х0,75 (PE,N)"," 3х0,75 (PE,N)","0,75 (PE,N)","КунРс"," 3","0,75 "," (PE,N)",null,null,null,"","",{"$f":"IF(SUM(L$8:L602)=0, \"\", \" + \")","v":""}]
["17124",null,"КунРс ЭВКВнг(А)-FRLS 3х1,0"," 3х1,0","1,0","КунРс"," 3","1,0","",null,null,null,"","",{"$f":"IF(SUM(L$8:L603)=0, \"\", \" + \")","v":""}]
["3855",null,"КунРс ЭВКВнг(А)-FRLS 3х1,0 (PE,N)"," 3х1,0 (PE,N)","1,0 (PE,N)","КунРс"," 3","1,0 "," (PE,N)",null,null,null,"","",{"$f":"IF(SUM(L$8:L604)=0, \"\", \" + \")","v":""}]
["17125",null,"КунРс ЭВКВнг(А)-FRLS 3х1,5"," 3х1,5","1,5","КунРс"," 3","1,5","",null,null,null,"","",{"$f":"IF(SUM(L$8:L605)=0, \"\", \" + \")","v":""}]
["3859",null,"КунРс ЭВКВнг(А)-FRLS 3х1,5 (PE,N)"," 3х1,5 (PE,N)","1,5 (PE,N)","КунРс"," 3","1,5 "," (PE,N)",null,null,null,"","",{"$f":"IF(SUM(L$8:L606)=0, \"\", \" + \")","v":""}]
["17129",null,"КунРс ЭВКВнг(А)-FRLS 3х10,0"," 3х10,0","10,0","КунРс"," 3","10,0","",null,null,null,"","",{"$f":"IF(SUM(L$8:L607)=0, \"\", \" + \")","v":""}]
["3875",null,"КунРс ЭВКВнг(А)-FRLS 3х10,0 (PE,N)"," 3х10,0 (PE,N)","10,0 (PE,N)","КунРс"," 3","10,0 "," (PE,N)",null,null,null,"","",{"$f":"IF(SUM(L$8:L608)=0, \"\", \" + \")","v":""}]
["17130",null,"КунРс ЭВКВнг(А)-FRLS 3х16,0"," 3х16,0","16,0","КунРс"," 3","16,0","",null,null,null,"","",{"$f":"IF(SUM(L$8:L609)=0, \"\", \" + \")","v":""}]
["3879",null,"КунРс ЭВКВнг(А)-FRLS 3х16,0 (PE,N)"," 3х16,0 (PE,N)","16,0 (PE,N)","КунРс"," 3","16,0 "," (PE,N)",null,null,null,"","",{"$f":"IF(SUM(L$8:L610)=0, \"\", \" + \")","v":""}]
["17126",null,"КунРс ЭВКВнг(А)-FRLS 3х2,5"," 3х2,5","2,5","КунРс"," 3","2,5","",null,null,null,"","",{"$f":"IF(SUM(L$8:L611)=0, \"\", \" + \")","v":""}]
["3863",null,"КунРс ЭВКВнг(А)-FRLS 3х2,5 (PE,N)"," 3х2,5 (PE,N)","2,5 (PE,N)","КунРс"," 3","2,5 "," (PE,N)",null,null,null,"","",{"$f":"IF(SUM(L$8:L612)=0, \"\", \" + \")","v":""}]
["17127",null,"КунРс ЭВКВнг(А)-FRLS 3х4,0"," 3х4,0","4,0","КунРс"," 3","4,0","",null,null,null,"","",{"$f":"IF(SUM(L$8:L613)=0, \"\", \" + \")","v":""}]
["3867",null,"КунРс ЭВКВнг(А)-FRLS 3х4,0 (PE,N)"," 3х4,0 (PE,N)","4,0 (PE,N)","КунРс"," 3","4,0 "," (PE,N)",null,null,null,"","",{"$f":"IF(SUM(L$8:L614)=0, \"\", \" + \")","v":""}]
["17128",null,"КунРс ЭВКВнг(А)-FRLS 3х6,0"," 3х6,0","6,0","КунРс"," 3","6,0","",null,null,null,"","",{"$f":"IF(SUM(L$8:L615)=0, \"\", \" + \")","v":""}]
["3871",null,"КунРс ЭВКВнг(А)-FRLS 3х6,0 (PE,N)"," 3х6,0 (PE,N)","6,0 (PE,N)","КунРс"," 3","6,0 "," (PE,N)",null,null,null,"","",{"$f":"IF(SUM(L$8:L616)=0, \"\", \" + \")","v":""}]
["17266",null,"КунРс ЭВКВнг(А)-FRLS 4х0,75 (N)"," 4х0,75 (N)","0,75 (N)","КунРс"," 4","0,75 "," (N)",null,null,null,"","",{"$f":"IF(SUM(L$8:L617)=0, \"\", \" + \")","v":""}]
["3852",null,"КунРс ЭВКВнг(А)-FRLS 4х0,75 (PE)"," 4х0,75 (PE)","0,75 (PE)","КунРс"," 4","0,75 "," (PE)",null,null,null,"","",{"$f":"IF(SUM(L$8:L618)=0, \"\", \" + \")","v":""}]
["17267",null,"КунРс ЭВКВнг(А)-FRLS 4х1,0 (N)"," 4х1,0 (N)","1,0 (N)","КунРс"," 4","1,0 "," (N)",null,null,null,"","",{"$f":"IF(SUM(L$8:L619)=0, \"\", \" + \")","v":""}]
["3856",null,"КунРс ЭВКВнг(А)-FRLS 4х1,0 (PE)"," 4х1,0 (PE)","1,0 (PE)","КунРс"," 4","1,0 "," (PE)",null,null,null,"","",{"$f":"IF(SUM(L$8:L620)=0, \"\", \" + \")","v":""}]
["17268",null,"КунРс ЭВКВнг(А)-FRLS 4х1,5 (N)"," 4х1,5 (N)","1,5 (N)","КунРс"," 4","1,5 "," (N)",null,null,null,"","",{"$f":"IF(SUM(L$8:L621)=0, \"\", \" + \")","v":""}]
["3860",null,"КунРс ЭВКВнг(А)-FRLS 4х1,5 (PE)"," 4х1,5 (PE)","1,5 (PE)","КунРс"," 4","1,5 "," (PE)",null,null,null,"","",{"$f":"IF(SUM(L$8:L622)=0, \"\", \" + \")","v":""}]
["17272",null,"КунРс ЭВКВнг(А)-FRLS 4х10,0 (N)"," 4х10,0 (N)","10,0 (N)","КунРс"," 4","10,0 "," (N)",null,null,null,"","",{"$f":"IF(SUM(L$8:L623)=0, \"\", \" + \")","v":""}]
["3876",null,"КунРс ЭВКВнг(А)-FRLS 4х10,0 (PE)"," 4х10,0 (PE)","10,0 (PE)","КунРс"," 4","10,0 "," (PE)",null,null,null,"","",{"$f":"IF(SUM(L$8:L624)=0, \"\", \" + \")","v":""}]
["17273",null,"КунРс ЭВКВнг(А)-FRLS 4х16,0 (N)"," 4х16,0 (N)","16,0 (N)","КунРс"," 4","16,0 "," (N)",null,null,null,"","",{"$f":"IF(SUM(L$8:L625)=0, \"\", \" + \")","v":""}]
["3880",null,"КунРс ЭВКВнг(А)-FRLS 4х16,0 (PE)"," 4х16,0 (PE)","16,0 (PE)","КунРс"," 4","16,0 "," (PE)",null,null,null,"","",{"$f":"IF(SUM(L$8:L626)=0, \"\", \" + \")","v":""}]
["17269",null,"КунРс ЭВКВнг(А)-FRLS 4х2,5 (N)"," 4х2,5 (N)","2,5 (N)","КунРс"," 4","2,5 "," (N)",null,null,null,"","",{"$f":"IF(SUM(L$8:L627)=0, \"\", \" + \")","v":""}]
["3864",null,"КунРс ЭВКВнг(А)-FRLS 4х2,5 (PE)"," 4х2,5 (PE)","2,5 (PE)","КунРс"," 4","2,5 "," (PE)",null,null,null,"","",{"$f":"IF(SUM(L$8:L628)=0, \"\", \" + \")","v":""}]
["17270",null,"КунРс ЭВКВнг(А)-FRLS 4х4,0 (N)"," 4х4,0 (N)","4,0 (N)","КунРс"," 4","4,0 "," (N)",null,null,null,"","",{"$f":"IF(SUM(L$8:L629)=0, \"\", \" + \")","v":""}]
["3868",null,"КунРс ЭВКВнг(А)-FRLS 4х4,0 (PE)"," 4х4,0 (PE)","4,0 (PE)","КунРс"," 4","4,0 "," (PE)",null,null,null,"","",{"$f":"IF(SUM(L$8:L630)=0, \"\", \" + \")","v":""}]
["17271",null,"КунРс ЭВКВнг(А)-FRLS 4х6,0 (N)"," 4х6,0 (N)","6,0 (N)","КунРс"," 4","6,0 "," (N)",null,null,null,"","",{"$f":"IF(SUM(L$8:L631)=0, \"\", \" + \")","v":""}]
["3872",null,"КунРс ЭВКВнг(А)-FRLS 4х6,0 (PE)"," 4х6,0 (PE)","6,0 (PE)","КунРс"," 4","6,0 "," (PE)",null,null,null,"","",{"$f":"IF(SUM(L$8:L632)=0, \"\", \" + \")","v":""}]
["17364",null,"КунРс ЭВКВнг(А)-FRLS 5х0,75 (N)"," 5х0,75 (N)","0,75 (N)","КунРс"," 5","0,75 "," (N)",null,null,null,"","",{"$f":"IF(SUM(L$8:L633)=0, \"\", \" + \")","v":""}]
["3853",null,"КунРс ЭВКВнг(А)-FRLS 5х0,75 (PE,N)"," 5х0,75 (PE,N)","0,75 (PE,N)","КунРс"," 5","0,75 "," (PE,N)",null,null,null,"","",{"$f":"IF(SUM(L$8:L634)=0, \"\", \" + \")","v":""}]
["17365",null,"КунРс ЭВКВнг(А)-FRLS 5х1,0 (N)"," 5х1,0 (N)","1,0 (N)","КунРс"," 5","1,0 "," (N)",null,null,null,"","",{"$f":"IF(SUM(L$8:L635)=0, \"\", \" + \")","v":""}]
["3857",null,"КунРс ЭВКВнг(А)-FRLS 5х1,0 (PE,N)"," 5х1,0 (PE,N)","1,0 (PE,N)","КунРс"," 5","1,0 "," (PE,N)",null,null,null,"","",{"$f":"IF(SUM(L$8:L636)=0, \"\", \" + \")","v":""}]
["17366",null,"КунРс ЭВКВнг(А)-FRLS 5х1,5 (N)"," 5х1,5 (N)","1,5 (N)","КунРс"," 5","1,5 "," (N)",null,null,null,"","",{"$f":"IF(SUM(L$8:L637)=0, \"\", \" + \")","v":""}]
["3861",null,"КунРс ЭВКВнг(А)-FRLS 5х1,5 (PE,N)"," 5х1,5 (PE,N)","1,5 (PE,N)","КунРс"," 5","1,5 "," (PE,N)",null,null,null,"","",{"$f":"IF(SUM(L$8:L638)=0, \"\", \" + \")","v":""}]
["17370",null,"КунРс ЭВКВнг(А)-FRLS 5х10,0 (N)"," 5х10,0 (N)","10,0 (N)","КунРс"," 5","10,0 "," (N)",null,null,null,"","",{"$f":"IF(SUM(L$8:L639)=0, \"\", \" + \")","v":""}]
["3877",null,"КунРс ЭВКВнг(А)-FRLS 5х10,0 (PE,N)"," 5х10,0 (PE,N)","10,0 (PE,N)","КунРс"," 5","10,0 "," (PE,N)",null,null,null,"","",{"$f":"IF(SUM(L$8:L640)=0, \"\", \" + \")","v":""}]
["17371",null,"КунРс ЭВКВнг(А)-FRLS 5х16,0 (N)"," 5х16,0 (N)","16,0 (N)","КунРс"," 5","16,0 "," (N)",null,null,null,"","",{"$f":"IF(SUM(L$8:L641)=0, \"\", \" + \")","v":""}]
["3881",null,"КунРс ЭВКВнг(А)-FRLS 5х16,0 (PE,N)"," 5х16,0 (PE,N)","16,0 (PE,N)","КунРс"," 5","16,0 "," (PE,N)",null,null,null,"","",{"$f":"IF(SUM(L$8:L642)=0, \"\", \" + \")","v":""}]
["17367",null,"КунРс ЭВКВнг(А)-FRLS 5х2,5 (N)"," 5х2,5 (N)","2,5 (N)","КунРс"," 5","2,5 "," (N)",null,null,null,"","",{"$f":"IF(SUM(L$8:L643)=0, \"\", \" + \")","v":""}]
["3865",null,"КунРс ЭВКВнг(А)-FRLS 5х2,5 (PE,N)"," 5х2,5 (PE,N)","2,5 (PE,N)","КунРс"," 5","2,5 "," (PE,N)",null,null,null,"","",{"$f":"IF(SUM(L$8:L644)=0, \"\", \" + \")","v":""}]
["17368",null,"КунРс ЭВКВнг(А)-FRLS 5х4,0 (N)"," 5х4,0 (N)","4,0 (N)","КунРс"," 5","4,0 "," (N)",null,null,null,"","",{"$f":"IF(SUM(L$8:L645)=0, \"\", \" + \")","v":""}]
["3869",null,"КунРс ЭВКВнг(А)-FRLS 5х4,0 (PE,N)"," 5х4,0 (PE,N)","4,0 (PE,N)","КунРс"," 5","4,0 "," (PE,N)",null,null,null,"","",{"$f":"IF(SUM(L$8:L646)=0, \"\", \" + \")","v":""}]
["3873",null,"КунРс ЭВКВнг(А)-FRLS 5х6,0"," 5х6,0","6,0","КунРс"," 5","6,0","",null,null,null,"","",{"$f":"IF(SUM(L$8:L647)=0, \"\", \" + \")","v":""}]
["17369",null,"КунРс ЭВКВнг(А)-FRLS 5х6,0 (N)"," 5х6,0 (N)","6,0 (N)","КунРс"," 5","6,0 "," (N)",null,null,null,"","",{"$f":"IF(SUM(L$8:L648)=0, \"\", \" + \")","v":""}]
["5292",null,"КунРс ЭВКВнг(А)-FRLS 5х6,0 (PE,N)",{"$f":"MID(C650, FIND(\" \",C650, FIND(\" \",C650)+1), 100)","v":" 5х6,0 (PE,N)"},"6,0 (PE,N)",{"$f":"MID(C650, 1, IF(ISERR(FIND(\"Кун\",C650)), 3, 5))","v":"КунРс"}," 5","6,0 "," (PE,N)",null,null,null,{"$f":"IF(L650=0, \"\",CONCATENATE(O650, C650, \"-\",L650,\"м\"))","v":""},"",{"$f":"IF(SUM(L$8:L649)=0, \"\", \" + \")","v":""}]
["3818",null,"КунРс ЭВКГнг(А)-FRLS 2х0,75"," 2х0,75",{"$f":"MID($D651,IF(ISERR(FIND(\"х\",$D651)), FIND(\"x\",$D651)+1, FIND(\"х\",$D651))+1, 100)","v":"0,75"},"КунРс",{"$f":"MID($D651,1, IF(ISERR(FIND(\"х\",$D651)), FIND(\"x\",$D651)-1, FIND(\"х\",$D651))-1)","v":" 2"},{"$f":"IF(ISERR(FIND(\" \", E651)), E651, MID(E651, 1, FIND(\" \",E651)))","v":"0,75"},{"$f":"IF(ISERR(FIND(\" \", E651)), \"\", MID(E651, FIND(\" \",E651), 20))","v":""},null,null,null,"",{"$f":"CONCATENATE(N650,M651)","v":""},{"$f":"IF(SUM(L$8:L650)=0, \"\", \" + \")","v":""}]
["16910",null,"КунРс ЭВКГнг(А)-FRLS 2х0,75 (N)"," 2х0,75 (N)","0,75 (N)","КунРс"," 2","0,75 "," (N)",null,null,null,"","",{"$f":"IF(SUM(L$8:L651)=0, \"\", \" + \")","v":""}]
["3822",null,"КунРс ЭВКГнг(А)-FRLS 2х1,0"," 2х1,0","1,0","КунРс"," 2","1,0","",null,null,null,"","",{"$f":"IF(SUM(L$8:L652)=0, \"\", \" + \")","v":""}]
["16911",null,"КунРс ЭВКГнг(А)-FRLS 2х1,0 (N)"," 2х1,0 (N)","1,0 (N)","КунРс"," 2","1,0 "," (N)",null,null,null,"","",{"$f":"IF(SUM(L$8:L653)=0, \"\", \" + \")","v":""}]
["3826",null,"КунРс ЭВКГнг(А)-FRLS 2х1,5"," 2х1,5","1,5","КунРс"," 2","1,5","",null,null,null,"","",{"$f":"IF(SUM(L$8:L654)=0, \"\", \" + \")","v":""}]
["16912",null,"КунРс ЭВКГнг(А)-FRLS 2х1,5 (N)"," 2х1,5 (N)","1,5 (N)","КунРс"," 2","1,5 "," (N)",null,null,null,"","",{"$f":"IF(SUM(L$8:L655)=0, \"\", \" + \")","v":""}]
["3842",null,"КунРс ЭВКГнг(А)-FRLS 2х10,0"," 2х10,0","10,0","КунРс"," 2","10,0","",null,null,null,"","",{"$f":"IF(SUM(L$8:L656)=0, \"\", \" + \")","v":""}]
["16916",null,"КунРс ЭВКГнг(А)-FRLS 2х10,0 (N)"," 2х10,0 (N)","10,0 (N)","КунРс"," 2","10,0 "," (N)",null,null,null,"","",{"$f":"IF(SUM(L$8:L657)=0, \"\", \" + \")","v":""}]
["3846",null,"КунРс ЭВКГнг(А)-FRLS 2х16,0"," 2х16,0","16,0","КунРс"," 2","16,0","",null,null,null,"","",{"$f":"IF(SUM(L$8:L658)=0, \"\", \" + \")","v":""}]
["16917",null,"КунРс ЭВКГнг(А)-FRLS 2х16,0 (N)"," 2х16,0 (N)","16,0 (N)","КунРс"," 2","16,0 "," (N)",null,null,null,"","",{"$f":"IF(SUM(L$8:L659)=0, \"\", \" + \")","v":""}]
["3830",null,"КунРс ЭВКГнг(А)-FRLS 2х2,5"," 2х2,5","2,5","КунРс"," 2","2,5","",null,null,null,"","",{"$f":"IF(SUM(L$8:L660)=0, \"\", \" + \")","v":""}]
["16913",null,"КунРс ЭВКГнг(А)-FRLS 2х2,5 (N)"," 2х2,5 (N)","2,5 (N)","КунРс"," 2","2,5 "," (N)",null,null,null,"","",{"$f":"IF(SUM(L$8:L661)=0, \"\", \" + \")","v":""}]
["3834",null,"КунРс ЭВКГнг(А)-FRLS 2х4,0"," 2х4,0","4,0","КунРс"," 2","4,0","",null,null,null,"","",{"$f":"IF(SUM(L$8:L662)=0, \"\", \" + \")","v":""}]
["16914",null,"КунРс ЭВКГнг(А)-FRLS 2х4,0 (N)"," 2х4,0 (N)","4,0 (N)","КунРс"," 2","4,0 "," (N)",null,null,null,"","",{"$f":"IF(SUM(L$8:L663)=0, \"\", \" + \")","v":""}]
["3838",null,"КунРс ЭВКГнг(А)-FRLS 2х6,0"," 2х6,0","6,0","КунРс"," 2","6,0","",null,null,null,"","",{"$f":"IF(SUM(L$8:L664)=0, \"\", \" + \")","v":""}]
["16915",null,"КунРс ЭВКГнг(А)-FRLS 2х6,0 (N)"," 2х6,0 (N)","6,0 (N)","КунРс"," 2","6,0 "," (N)",null,null,null,"","",{"$f":"IF(SUM(L$8:L665)=0, \"\", \" + \")","v":""}]
["17113",null,"КунРс ЭВКГнг(А)-FRLS 3х0,75"," 3х0,75","0,75","КунРс"," 3","0,75","",null,null,null,"","",{"$f":"IF(SUM(L$8:L666)=0, \"\", \" + \")","v":""}]
["3819",null,"КунРс ЭВКГнг(А)-FRLS 3х0,75 (PE,N)"," 3х0,75 (PE,N)","0,75 (PE,N)","КунРс"," 3","0,75 "," (PE,N)",null,null,null,"","",{"$f":"IF(SUM(L$8:L667)=0, \"\", \" + \")","v":""}]
["17115",null,"КунРс ЭВКГнг(А)-FRLS 3х1,0"," 3х1,0","1,0","КунРс"," 3","1,0","",null,null,null,"","",{"$f":"IF(SUM(L$8:L668)=0, \"\", \" + \")","v":""}]
["3823",null,"КунРс ЭВКГнг(А)-FRLS 3х1,0 (PE,N)"," 3х1,0 (PE,N)","1,0 (PE,N)","КунРс"," 3","1,0 "," (PE,N)",null,null,null,"","",{"$f":"IF(SUM(L$8:L669)=0, \"\", \" + \")","v":""}]
["17117",null,"КунРс ЭВКГнг(А)-FRLS 3х1,5"," 3х1,5","1,5","КунРс"," 3","1,5","",null,null,null,"","",{"$f":"IF(SUM(L$8:L670)=0, \"\", \" + \")","v":""}]
["3827",null,"КунРс ЭВКГнг(А)-FRLS 3х1,5 (PE,N)"," 3х1,5 (PE,N)","1,5 (PE,N)","КунРс"," 3","1,5 "," (PE,N)",null,null,null,"","",{"$f":"IF(SUM(L$8:L671)=0, \"\", \" + \")","v":""}]
["17121",null,"КунРс ЭВКГнг(А)-FRLS 3х10,0"," 3х10,0","10,0","КунРс"," 3","10,0","",null,null,null,"","",{"$f":"IF(SUM(L$8:L672)=0, \"\", \" + \")","v":""}]
["3843",null,"КунРс ЭВКГнг(А)-FRLS 3х10,0 (PE,N)"," 3х10,0 (PE,N)","10,0 (PE,N)","КунРс"," 3","10,0 "," (PE,N)",null,null,null,"","",{"$f":"IF(SUM(L$8:L673)=0, \"\", \" + \")","v":""}]
["17122",null,"КунРс ЭВКГнг(А)-FRLS 3х16,0"," 3х16,0","16,0","КунРс"," 3","16,0","",null,null,null,"","",{"$f":"IF(SUM(L$8:L674)=0, \"\", \" + \")","v":""}]
["3847",null,"КунРс ЭВКГнг(А)-FRLS 3х16,0 (PE,N)"," 3х16,0 (PE,N)","16,0 (PE,N)","КунРс"," 3","16,0 "," (PE,N)",null,null,null,"","",{"$f":"IF(SUM(L$8:L675)=0, \"\", \" + \")","v":""}]
["17118",null,"КунРс ЭВКГнг(А)-FRLS 3х2,5"," 3х2,5","2,5","КунРс"," 3","2,5","",null,null,null,"","",{"$f":"IF(SUM(L$8:L676)=0, \"\", \" + \")","v":""}]
["3831",null,"КунРс ЭВКГнг(А)-FRLS 3х2,5 (PE,N)"," 3х2,5 (PE,N)","2,5 (PE,N)","КунРс"," 3","2,5 "," (PE,N)",null,null,null,"","",{"$f":"IF(SUM(L$8:L677)=0, \"\", \" + \")","v":""}]
["17119",null,"КунРс ЭВКГнг(А)-FRLS 3х4,0"," 3х4,0","4,0","КунРс"," 3","4,0","",null,null,null,"","",{"$f":"IF(SUM(L$8:L678)=0, \"\", \" + \")","v":""}]
["3835",null,"КунРс ЭВКГнг(А)-FRLS 3х4,0 (PE,N)"," 3х4,0 (PE,N)","4,0 (PE,N)","КунРс"," 3","4,0 "," (PE,N)",null,null,null,"","",{"$f":"IF(SUM(L$8:L679)=0, \"\", \" + \")","v":""}]
["17120",null,"КунРс ЭВКГнг(А)-FRLS 3х6,0"," 3х6,0","6,0","КунРс"," 3","6,0","",null,null,null,"","",{"$f":"IF(SUM(L$8:L680)=0, \"\", \" + \")","v":""}]
["3839",null,"КунРс ЭВКГнг(А)-FRLS 3х6,0 (PE,N)"," 3х6,0 (PE,N)","6,0 (PE,N)","КунРс"," 3","6,0 "," (PE,N)",null,null,null,"","",{"$f":"IF(SUM(L$8:L681)=0, \"\", \" + \")","v":""}]
["17258",null,"КунРс ЭВКГнг(А)-FRLS 4х0,75 (N)"," 4х0,75 (N)","0,75 (N)","КунРс"," 4","0,75 "," (N)",null,null,null,"","",{"$f":"IF(SUM(L$8:L682)=0, \"\", \" + \")","v":""}]
["3820",null,"КунРс ЭВКГнг(А)-FRLS 4х0,75 (PE)"," 4х0,75 (PE)","0,75 (PE)","КунРс"," 4","0,75 "," (PE)",null,null,null,"","",{"$f":"IF(SUM(L$8:L683)=0, \"\", \" + \")","v":""}]
["17259",null,"КунРс ЭВКГнг(А)-FRLS 4х1,0 (N)"," 4х1,0 (N)","1,0 (N)","КунРс"," 4","1,0 "," (N)",null,null,null,"","",{"$f":"IF(SUM(L$8:L684)=0, \"\", \" + \")","v":""}]
["3824",null,"КунРс ЭВКГнг(А)-FRLS 4х1,0 (PE)"," 4х1,0 (PE)","1,0 (PE)","КунРс"," 4","1,0 "," (PE)",null,null,null,"","",{"$f":"IF(SUM(L$8:L685)=0, \"\", \" + \")","v":""}]
["17260",null,"КунРс ЭВКГнг(А)-FRLS 4х1,5 (N)"," 4х1,5 (N)","1,5 (N)","КунРс"," 4","1,5 "," (N)",null,null,null,"","",{"$f":"IF(SUM(L$8:L686)=0, \"\", \" + \")","v":""}]
["3828",null,"КунРс ЭВКГнг(А)-FRLS 4х1,5 (PE)"," 4х1,5 (PE)","1,5 (PE)","КунРс"," 4","1,5 "," (PE)",null,null,null,"","",{"$f":"IF(SUM(L$8:L687)=0, \"\", \" + \")","v":""}]
["17264",null,"КунРс ЭВКГнг(А)-FRLS 4х10,0 (N)"," 4х10,0 (N)","10,0 (N)","КунРс"," 4","10,0 "," (N)",null,null,null,"","",{"$f":"IF(SUM(L$8:L688)=0, \"\", \" + \")","v":""}]
["3844",null,"КунРс ЭВКГнг(А)-FRLS 4х10,0 (PE)"," 4х10,0 (PE)","10,0 (PE)","КунРс"," 4","10,0 "," (PE)",null,null,null,"","",{"$f":"IF(SUM(L$8:L689)=0, \"\", \" + \")","v":""}]
["17265",null,"КунРс ЭВКГнг(А)-FRLS 4х16,0 (N)"," 4х16,0 (N)","16,0 (N)","КунРс"," 4","16,0 "," (N)",null,null,null,"","",{"$f":"IF(SUM(L$8:L690)=0, \"\", \" + \")","v":""}]
["3848",null,"КунРс ЭВКГнг(А)-FRLS 4х16,0 (PE)"," 4х16,0 (PE)","16,0 (PE)","КунРс"," 4","16,0 "," (PE)",null,null,null,"","",{"$f":"IF(SUM(L$8:L691)=0, \"\", \" + \")","v":""}]
["17261",null,"КунРс ЭВКГнг(А)-FRLS 4х2,5 (N)"," 4х2,5 (N)","2,5 (N)","КунРс"," 4","2,5 "," (N)",null,null,null,"","",{"$f":"IF(SUM(L$8:L692)=0, \"\", \" + \")","v":""}]
["3832",null,"КунРс ЭВКГнг(А)-FRLS 4х2,5 (PE)"," 4х2,5 (PE)","2,5 (PE)","КунРс"," 4","2,5 "," (PE)",null,null,null,"","",{"$f":"IF(SUM(L$8:L693)=0, \"\", \" + \")","v":""}]
["17262",null,"КунРс ЭВКГнг(А)-FRLS 4х4,0 (N)"," 4х4,0 (N)","4,0 (N)","КунРс"," 4","4,0 "," (N)",null,null,null,"","",{"$f":"IF(SUM(L$8:L694)=0, \"\", \" + \")","v":""}]
["3836",null,"КунРс ЭВКГнг(А)-FRLS 4х4,0 (PE)"," 4х4,0 (PE)","4,0 (PE)","КунРс"," 4","4,0 "," (PE)",null,null,null,"","",{"$f":"IF(SUM(L$8:L695)=0, \"\", \" + \")","v":""}]
["17263",null,"КунРс ЭВКГнг(А)-FRLS 4х6,0 (N)"," 4х6,0 (N)","6,0 (N)","КунРс"," 4","6,0 "," (N)",null,null,null,"","",{"$f":"IF(SUM(L$8:L696)=0, \"\", \" + \")","v":""}]
["3840",null,"КунРс ЭВКГнг(А)-FRLS 4х6,0 (PE)"," 4х6,0 (PE)","6,0 (PE)","КунРс"," 4","6,0 "," (PE)",null,null,null,"","",{"$f":"IF(SUM(L$8:L697)=0, \"\", \" + \")","v":""}]
["17356",null,"КунРс ЭВКГнг(А)-FRLS 5х0,75 (N)"," 5х0,75 (N)","0,75 (N)","КунРс"," 5","0,75 "," (N)",null,null,null,"","",{"$f":"IF(SUM(L$8:L698)=0, \"\", \" + \")","v":""}]
["3821",null,"КунРс ЭВКГнг(А)-FRLS 5х0,75 (PE,N)"," 5х0,75 (PE,N)","0,75 (PE,N)","КунРс"," 5","0,75 "," (PE,N)",null,null,null,"","",{"$f":"IF(SUM(L$8:L699)=0, \"\", \" + \")","v":""}]
["17357",null,"КунРс ЭВКГнг(А)-FRLS 5х1,0 (N)"," 5х1,0 (N)","1,0 (N)","КунРс"," 5","1,0 "," (N)",null,null,null,"","",{"$f":"IF(SUM(L$8:L700)=0, \"\", \" + \")","v":""}]
["3825",null,"КунРс ЭВКГнг(А)-FRLS 5х1,0 (PE,N)"," 5х1,0 (PE,N)","1,0 (PE,N)","КунРс"," 5","1,0 "," (PE,N)",null,null,null,"","",{"$f":"IF(SUM(L$8:L701)=0, \"\", \" + \")","v":""}]
["17358",null,"КунРс ЭВКГнг(А)-FRLS 5х1,5 (N)"," 5х1,5 (N)","1,5 (N)","КунРс"," 5","1,5 "," (N)",null,null,null,"","",{"$f":"IF(SUM(L$8:L702)=0, \"\", \" + \")","v":""}]
["3829",null,"КунРс ЭВКГнг(А)-FRLS 5х1,5 (PE,N)"," 5х1,5 (PE,N)","1,5 (PE,N)","КунРс"," 5","1,5 "," (PE,N)",null,null,null,"","",{"$f":"IF(SUM(L$8:L703)=0, \"\", \" + \")","v":""}]
["17362",null,"КунРс ЭВКГнг(А)-FRLS 5х10,0 (N)"," 5х10,0 (N)","10,0 (N)","КунРс"," 5","10,0 "," (N)",null,null,null,"","",{"$f":"IF(SUM(L$8:L704)=0, \"\", \" + \")","v":""}]
["3845",null,"КунРс ЭВКГнг(А)-FRLS 5х10,0 (PE,N)"," 5х10,0 (PE,N)","10,0 (PE,N)","КунРс"," 5","10,0 "," (PE,N)",null,null,null,"","",{"$f":"IF(SUM(L$8:L705)=0, \"\", \" + \")","v":""}]
["17363",null,"КунРс ЭВКГнг(А)-FRLS 5х16,0 (N)"," 5х16,0 (N)","16,0 (N)","КунРс"," 5","16,0 "," (N)",null,null,null,"","",{"$f":"IF(SUM(L$8:L706)=0, \"\", \" + \")","v":""}]
["3849",null,"КунРс ЭВКГнг(А)-FRLS 5х16,0 (PE,N)"," 5х16,0 (PE,N)","16,0 (PE,N)","КунРс"," 5","16,0 "," (PE,N)",null,null,null,"","",{"$f":"IF(SUM(L$8:L707)=0, \"\", \" + \")","v":""}]
["17359",null,"КунРс ЭВКГнг(А)-FRLS 5х2,5 (N)"," 5х2,5 (N)","2,5 (N)","КунРс"," 5","2,5 "," (N)",null,null,null,"","",{"$f":"IF(SUM(L$8:L708)=0, \"\", \" + \")","v":""}]
["3833",null,"КунРс ЭВКГнг(А)-FRLS 5х2,5 (PE,N)"," 5х2,5 (PE,N)","2,5 (PE,N)","КунРс"," 5","2,5 "," (PE,N)",null,null,null,"","",{"$f":"IF(SUM(L$8:L709)=0, \"\", \" + \")","v":""}]
["17360",null,"КунРс ЭВКГнг(А)-FRLS 5х4,0 (N)"," 5х4,0 (N)","4,0 (N)","КунРс"," 5","4,0 "," (N)",null,null,null,"","",{"$f":"IF(SUM(L$8:L710)=0, \"\", \" + \")","v":""}]
["3837",null,"КунРс ЭВКГнг(А)-FRLS 5х4,0 (PE,N)"," 5х4,0 (PE,N)","4,0 (PE,N)","КунРс"," 5","4,0 "," (PE,N)",null,null,null,"","",{"$f":"IF(SUM(L$8:L711)=0, \"\", \" + \")","v":""}]
["17361",null,"КунРс ЭВКГнг(А)-FRLS 5х6,0 (N)"," 5х6,0 (N)","6,0 (N)","КунРс"," 5","6,0 "," (N)",null,null,null,"","",{"$f":"IF(SUM(L$8:L712)=0, \"\", \" + \")","v":""}]
["3841",null,"КунРс ЭВКГнг(А)-FRLS 5х6,0 (PE,N)",{"$f":"MID(C714, FIND(\" \",C714, FIND(\" \",C714)+1), 100)","v":" 5х6,0 (PE,N)"},"6,0 (PE,N)",{"$f":"MID(C714, 1, IF(ISERR(FIND(\"Кун\",C714)), 3, 5))","v":"КунРс"}," 5","6,0 "," (PE,N)",null,null,null,{"$f":"IF(L714=0, \"\",CONCATENATE(O714, C714, \"-\",L714,\"м\"))","v":""},"",{"$f":"IF(SUM(L$8:L713)=0, \"\", \" + \")","v":""}]
["3787",null,"КунРс ЭВнг(А)-FRLS 2х0,75"," 2х0,75",{"$f":"MID($D715,IF(ISERR(FIND(\"х\",$D715)), FIND(\"x\",$D715)+1, FIND(\"х\",$D715))+1, 100)","v":"0,75"},"КунРс",{"$f":"MID($D715,1, IF(ISERR(FIND(\"х\",$D715)), FIND(\"x\",$D715)-1, FIND(\"х\",$D715))-1)","v":" 2"},{"$f":"IF(ISERR(FIND(\" \", E715)), E715, MID(E715, 1, FIND(\" \",E715)))","v":"0,75"},{"$f":"IF(ISERR(FIND(\" \", E715)), \"\", MID(E715, FIND(\" \",E715), 20))","v":""},null,null,null,"",{"$f":"CONCATENATE(N714,M715)","v":""},{"$f":"IF(SUM(L$8:L714)=0, \"\", \" + \")","v":""}]
["16902",null,"КунРс ЭВнг(А)-FRLS 2х0,75 (N)"," 2х0,75 (N)","0,75 (N)","КунРс"," 2","0,75 "," (N)",null,null,null,"","",{"$f":"IF(SUM(L$8:L715)=0, \"\", \" + \")","v":""}]
["3790",null,"КунРс ЭВнг(А)-FRLS 2х1,0"," 2х1,0","1,0","КунРс"," 2","1,0","",null,null,null,"","",{"$f":"IF(SUM(L$8:L716)=0, \"\", \" + \")","v":""}]
["16903",null,"КунРс ЭВнг(А)-FRLS 2х1,0 (N)"," 2х1,0 (N)","1,0 (N)","КунРс"," 2","1,0 "," (N)",null,null,null,"","",{"$f":"IF(SUM(L$8:L717)=0, \"\", \" + \")","v":""}]
["3794",null,"КунРс ЭВнг(А)-FRLS 2х1,5"," 2х1,5","1,5","КунРс"," 2","1,5","",null,null,null,"","",{"$f":"IF(SUM(L$8:L718)=0, \"\", \" + \")","v":""}]
["16904",null,"КунРс ЭВнг(А)-FRLS 2х1,5 (N)"," 2х1,5 (N)","1,5 (N)","КунРс"," 2","1,5 "," (N)",null,null,null,"","",{"$f":"IF(SUM(L$8:L719)=0, \"\", \" + \")","v":""}]
["3810",null,"КунРс ЭВнг(А)-FRLS 2х10,0"," 2х10,0","10,0","КунРс"," 2","10,0","",null,null,null,"","",{"$f":"IF(SUM(L$8:L720)=0, \"\", \" + \")","v":""}]
["16908",null,"КунРс ЭВнг(А)-FRLS 2х10,0 (N)"," 2х10,0 (N)","10,0 (N)","КунРс"," 2","10,0 "," (N)",null,null,null,"","",{"$f":"IF(SUM(L$8:L721)=0, \"\", \" + \")","v":""}]
["3814",null,"КунРс ЭВнг(А)-FRLS 2х16,0"," 2х16,0","16,0","КунРс"," 2","16,0","",null,null,null,"","",{"$f":"IF(SUM(L$8:L722)=0, \"\", \" + \")","v":""}]
["16909",null,"КунРс ЭВнг(А)-FRLS 2х16,0 (N)"," 2х16,0 (N)","16,0 (N)","КунРс"," 2","16,0 "," (N)",null,null,null,"","",{"$f":"IF(SUM(L$8:L723)=0, \"\", \" + \")","v":""}]
["3798",null,"КунРс ЭВнг(А)-FRLS 2х2,5"," 2х2,5","2,5","КунРс"," 2","2,5","",null,null,null,"","",{"$f":"IF(SUM(L$8:L724)=0, \"\", \" + \")","v":""}]
["16905",null,"КунРс ЭВнг(А)-FRLS 2х2,5 (N)"," 2х2,5 (N)","2,5 (N)","КунРс"," 2","2,5 "," (N)",null,null,null,"","",{"$f":"IF(SUM(L$8:L725)=0, \"\", \" + \")","v":""}]
["3802",null,"КунРс ЭВнг(А)-FRLS 2х4,0"," 2х4,0","4,0","КунРс"," 2","4,0","",null,null,null,"","",{"$f":"IF(SUM(L$8:L726)=0, \"\", \" + \")","v":""}]
["16906",null,"КунРс ЭВнг(А)-FRLS 2х4,0 (N)"," 2х4,0 (N)","4,0 (N)","КунРс"," 2","4,0 "," (N)",null,null,null,"","",{"$f":"IF(SUM(L$8:L727)=0, \"\", \" + \")","v":""}]
["3806",null,"КунРс ЭВнг(А)-FRLS 2х6,0"," 2х6,0","6,0","КунРс"," 2","6,0","",null,null,null,"","",{"$f":"IF(SUM(L$8:L728)=0, \"\", \" + \")","v":""}]
["16907",null,"КунРс ЭВнг(А)-FRLS 2х6,0 (N)"," 2х6,0 (N)","6,0 (N)","КунРс"," 2","6,0 "," (N)",null,null,null,"","",{"$f":"IF(SUM(L$8:L729)=0, \"\", \" + \")","v":""}]
["17105",null,"КунРс ЭВнг(А)-FRLS 3х0,75"," 3х0,75","0,75","КунРс"," 3","0,75","",null,null,null,"","",{"$f":"IF(SUM(L$8:L730)=0, \"\", \" + \")","v":""}]
["3453",null,"КунРс ЭВнг(А)-FRLS 3х0,75 (PE,N)"," 3х0,75 (PE,N)","0,75 (PE,N)","КунРс"," 3","0,75 "," (PE,N)",null,null,null,"","",{"$f":"IF(SUM(L$8:L731)=0, \"\", \" + \")","v":""}]
["17106",null,"КунРс ЭВнг(А)-FRLS 3х1,0"," 3х1,0","1,0","КунРс"," 3","1,0","",null,null,null,"","",{"$f":"IF(SUM(L$8:L732)=0, \"\", \" + \")","v":""}]
["3791",null,"КунРс ЭВнг(А)-FRLS 3х1,0 (PE,N)"," 3х1,0 (PE,N)","1,0 (PE,N)","КунРс"," 3","1,0 "," (PE,N)",null,null,null,"","",{"$f":"IF(SUM(L$8:L733)=0, \"\", \" + \")","v":""}]
["17107",null,"КунРс ЭВнг(А)-FRLS 3х1,5"," 3х1,5","1,5","КунРс"," 3","1,5","",null,null,null,"","",{"$f":"IF(SUM(L$8:L734)=0, \"\", \" + \")","v":""}]
["3795",null,"КунРс ЭВнг(А)-FRLS 3х1,5 (PE,N)"," 3х1,5 (PE,N)","1,5 (PE,N)","КунРс"," 3","1,5 "," (PE,N)",null,null,null,"","",{"$f":"IF(SUM(L$8:L735)=0, \"\", \" + \")","v":""}]
["17110",null,"КунРс ЭВнг(А)-FRLS 3х10,0"," 3х10,0","10,0","КунРс"," 3","10,0","",null,null,null,"","",{"$f":"IF(SUM(L$8:L736)=0, \"\", \" + \")","v":""}]
["3811",null,"КунРс ЭВнг(А)-FRLS 3х10,0 (PE,N)"," 3х10,0 (PE,N)","10,0 (PE,N)","КунРс"," 3","10,0 "," (PE,N)",null,null,null,"","",{"$f":"IF(SUM(L$8:L737)=0, \"\", \" + \")","v":""}]
["17112",null,"КунРс ЭВнг(А)-FRLS 3х16,0"," 3х16,0","16,0","КунРс"," 3","16,0","",null,null,null,"","",{"$f":"IF(SUM(L$8:L738)=0, \"\", \" + \")","v":""}]
["3815",null,"КунРс ЭВнг(А)-FRLS 3х16,0 (PE,N)"," 3х16,0 (PE,N)","16,0 (PE,N)","КунРс"," 3","16,0 "," (PE,N)",null,null,null,"","",{"$f":"IF(SUM(L$8:L739)=0, \"\", \" + \")","v":""}]
["3799",null,"КунРс ЭВнг(А)-FRLS 3х2,5"," 3х2,5","2,5","КунРс"," 3","2,5","",null,null,null,"","",{"$f":"IF(SUM(L$8:L740)=0, \"\", \" + \")","v":""}]
["5291",null,"КунРс ЭВнг(А)-FRLS 3х2,5 (PE,N)"," 3х2,5 (PE,N)","2,5 (PE,N)","КунРс"," 3","2,5 "," (PE,N)",null,null,null,"","",{"$f":"IF(SUM(L$8:L741)=0, \"\", \" + \")","v":""}]
["17108",null,"КунРс ЭВнг(А)-FRLS 3х4,0"," 3х4,0","4,0","КунРс"," 3","4,0","",null,null,null,"","",{"$f":"IF(SUM(L$8:L742)=0, \"\", \" + \")","v":""}]
["3803",null,"КунРс ЭВнг(А)-FRLS 3х4,0 (PE,N)"," 3х4,0 (PE,N)","4,0 (PE,N)","КунРс"," 3","4,0 "," (PE,N)",null,null,null,"","",{"$f":"IF(SUM(L$8:L743)=0, \"\", \" + \")","v":""}]
["17109",null,"КунРс ЭВнг(А)-FRLS 3х6,0"," 3х6,0","6,0","КунРс"," 3","6,0","",null,null,null,"","",{"$f":"IF(SUM(L$8:L744)=0, \"\", \" + \")","v":""}]
["3807",null,"КунРс ЭВнг(А)-FRLS 3х6,0 (PE,N)"," 3х6,0 (PE,N)","6,0 (PE,N)","КунРс"," 3","6,0 "," (PE,N)",null,null,null,"","",{"$f":"IF(SUM(L$8:L745)=0, \"\", \" + \")","v":""}]
["17250",null,"КунРс ЭВнг(А)-FRLS 4х0,75 (N)"," 4х0,75 (N)","0,75 (N)","КунРс"," 4","0,75 "," (N)",null,null,null,"","",{"$f":"IF(SUM(L$8:L746)=0, \"\", \" + \")","v":""}]
["3788",null,"КунРс ЭВнг(А)-FRLS 4х0,75 (PE)"," 4х0,75 (PE)","0,75 (PE)","КунРс"," 4","0,75 "," (PE)",null,null,null,"","",{"$f":"IF(SUM(L$8:L747)=0, \"\", \" + \")","v":""}]
["17251",null,"КунРс ЭВнг(А)-FRLS 4х1,0 (N)"," 4х1,0 (N)","1,0 (N)","КунРс"," 4","1,0 "," (N)",null,null,null,"","",{"$f":"IF(SUM(L$8:L748)=0, \"\", \" + \")","v":""}]
["3792",null,"КунРс ЭВнг(А)-FRLS 4х1,0 (PE)"," 4х1,0 (PE)","1,0 (PE)","КунРс"," 4","1,0 "," (PE)",null,null,null,"","",{"$f":"IF(SUM(L$8:L749)=0, \"\", \" + \")","v":""}]
["17252",null,"КунРс ЭВнг(А)-FRLS 4х1,5 (N)"," 4х1,5 (N)","1,5 (N)","КунРс"," 4","1,5 "," (N)",null,null,null,"","",{"$f":"IF(SUM(L$8:L750)=0, \"\", \" + \")","v":""}]
["3796",null,"КунРс ЭВнг(А)-FRLS 4х1,5 (PE)"," 4х1,5 (PE)","1,5 (PE)","КунРс"," 4","1,5 "," (PE)",null,null,null,"","",{"$f":"IF(SUM(L$8:L751)=0, \"\", \" + \")","v":""}]
["17256",null,"КунРс ЭВнг(А)-FRLS 4х10,0 (N)"," 4х10,0 (N)","10,0 (N)","КунРс"," 4","10,0 "," (N)",null,null,null,"","",{"$f":"IF(SUM(L$8:L752)=0, \"\", \" + \")","v":""}]
["3812",null,"КунРс ЭВнг(А)-FRLS 4х10,0 (PE)"," 4х10,0 (PE)","10,0 (PE)","КунРс"," 4","10,0 "," (PE)",null,null,null,"","",{"$f":"IF(SUM(L$8:L753)=0, \"\", \" + \")","v":""}]
["17257",null,"КунРс ЭВнг(А)-FRLS 4х16,0 (N)"," 4х16,0 (N)","16,0 (N)","КунРс"," 4","16,0 "," (N)",null,null,null,"","",{"$f":"IF(SUM(L$8:L754)=0, \"\", \" + \")","v":""}]
["3816",null,"КунРс ЭВнг(А)-FRLS 4х16,0 (PE)"," 4х16,0 (PE)","16,0 (PE)","КунРс"," 4","16,0 "," (PE)",null,null,null,"","",{"$f":"IF(SUM(L$8:L755)=0, \"\", \" + \")","v":""}]
["17253",null,"КунРс ЭВнг(А)-FRLS 4х2,5 (N)"," 4х2,5 (N)","2,5 (N)","КунРс"," 4","2,5 "," (N)",null,null,null,"","",{"$f":"IF(SUM(L$8:L756)=0, \"\", \" + \")","v":""}]
["3800",null,"КунРс ЭВнг(А)-FRLS 4х2,5 (PE)"," 4х2,5 (PE)","2,5 (PE)","КунРс"," 4","2,5 "," (PE)",null,null,null,"","",{"$f":"IF(SUM(L$8:L757)=0, \"\", \" + \")","v":""}]
["17254",null,"КунРс ЭВнг(А)-FRLS 4х4,0 (N)"," 4х4,0 (N)","4,0 (N)","КунРс"," 4","4,0 "," (N)",null,null,null,"","",{"$f":"IF(SUM(L$8:L758)=0, \"\", \" + \")","v":""}]
["3804",null,"КунРс ЭВнг(А)-FRLS 4х4,0 (PE)"," 4х4,0 (PE)","4,0 (PE)","КунРс"," 4","4,0 "," (PE)",null,null,null,"","",{"$f":"IF(SUM(L$8:L759)=0, \"\", \" + \")","v":""}]
["17255",null,"КунРс ЭВнг(А)-FRLS 4х6,0 (N)"," 4х6,0 (N)","6,0 (N)","КунРс"," 4","6,0 "," (N)",null,null,null,"","",{"$f":"IF(SUM(L$8:L760)=0, \"\", \" + \")","v":""}]
["3808",null,"КунРс ЭВнг(А)-FRLS 4х6,0 (PE)"," 4х6,0 (PE)","6,0 (PE)","КунРс"," 4","6,0 "," (PE)",null,null,null,"","",{"$f":"IF(SUM(L$8:L761)=0, \"\", \" + \")","v":""}]
["17348",null,"КунРс ЭВнг(А)-FRLS 5х0,75 (N)"," 5х0,75 (N)","0,75 (N)","КунРс"," 5","0,75 "," (N)",null,null,null,"","",{"$f":"IF(SUM(L$8:L762)=0, \"\", \" + \")","v":""}]
["3789",null,"КунРс ЭВнг(А)-FRLS 5х0,75 (PE,N)"," 5х0,75 (PE,N)","0,75 (PE,N)","КунРс"," 5","0,75 "," (PE,N)",null,null,null,"","",{"$f":"IF(SUM(L$8:L763)=0, \"\", \" + \")","v":""}]
["17349",null,"КунРс ЭВнг(А)-FRLS 5х1,0 (N)"," 5х1,0 (N)","1,0 (N)","КунРс"," 5","1,0 "," (N)",null,null,null,"","",{"$f":"IF(SUM(L$8:L764)=0, \"\", \" + \")","v":""}]
["3793",null,"КунРс ЭВнг(А)-FRLS 5х1,0 (PE,N)"," 5х1,0 (PE,N)","1,0 (PE,N)","КунРс"," 5","1,0 "," (PE,N)",null,null,null,"","",{"$f":"IF(SUM(L$8:L765)=0, \"\", \" + \")","v":""}]
["17350",null,"КунРс ЭВнг(А)-FRLS 5х1,5 (N)"," 5х1,5 (N)","1,5 (N)","КунРс"," 5","1,5 "," (N)",null,null,null,"","",{"$f":"IF(SUM(L$8:L766)=0, \"\", \" + \")","v":""}]
["3797",null,"КунРс ЭВнг(А)-FRLS 5х1,5 (PE,N)"," 5х1,5 (PE,N)","1,5 (PE,N)","КунРс"," 5","1,5 "," (PE,N)",null,null,null,"","",{"$f":"IF(SUM(L$8:L767)=0, \"\", \" + \")","v":""}]
["17354",null,"КунРс ЭВнг(А)-FRLS 5х10,0 (N)"," 5х10,0 (N)","10,0 (N)","КунРс"," 5","10,0 "," (N)",null,null,null,"","",{"$f":"IF(SUM(L$8:L768)=0, \"\", \" + \")","v":""}]
["3813",null,"КунРс ЭВнг(А)-FRLS 5х10,0 (PE,N)"," 5х10,0 (PE,N)","10,0 (PE,N)","КунРс"," 5","10,0 "," (PE,N)",null,null,null,"","",{"$f":"IF(SUM(L$8:L769)=0, \"\", \" + \")","v":""}]
["17355",null,"КунРс ЭВнг(А)-FRLS 5х16,0 (N)"," 5х16,0 (N)","16,0 (N)","КунРс"," 5","16,0 "," (N)",null,null,null,"","",{"$f":"IF(SUM(L$8:L770)=0, \"\", \" + \")","v":""}]
["3817",null,"КунРс ЭВнг(А)-FRLS 5х16,0 (PE,N)"," 5х16,0 (PE,N)","16,0 (PE,N)","КунРс"," 5","16,0 "," (PE,N)",null,null,null,"","",{"$f":"IF(SUM(L$8:L771)=0, \"\", \" + \")","v":""}]
["17351",null,"КунРс ЭВнг(А)-FRLS 5х2,5 (N)"," 5х2,5 (N)","2,5 (N)","КунРс"," 5","2,5 "," (N)",null,null,null,"","",{"$f":"IF(SUM(L$8:L772)=0, \"\", \" + \")","v":""}]
["3801",null,"КунРс ЭВнг(А)-FRLS 5х2,5 (PE,N)"," 5х2,5 (PE,N)","2,5 (PE,N)","КунРс"," 5","2,5 "," (PE,N)",null,null,null,"","",{"$f":"IF(SUM(L$8:L773)=0, \"\", \" + \")","v":""}]
["17352",null,"КунРс ЭВнг(А)-FRLS 5х4,0 (N)"," 5х4,0 (N)","4,0 (N)","КунРс"," 5","4,0 "," (N)",null,null,null,"","",{"$f":"IF(SUM(L$8:L774)=0, \"\", \" + \")","v":""}]
["3805",null,"КунРс ЭВнг(А)-FRLS 5х4,0 (PE,N)"," 5х4,0 (PE,N)","4,0 (PE,N)","КунРс"," 5","4,0 "," (PE,N)",null,null,null,"","",{"$f":"IF(SUM(L$8:L775)=0, \"\", \" + \")","v":""}]
["17353",null,"КунРс ЭВнг(А)-FRLS 5х6,0 (N)"," 5х6,0 (N)","6,0 (N)","КунРс"," 5","6,0 "," (N)",null,null,null,"","",{"$f":"IF(SUM(L$8:L776)=0, \"\", \" + \")","v":""}]
["3809",null,"КунРс ЭВнг(А)-FRLS 5х6,0 (PE,N)",{"$f":"MID(C778, FIND(\" \",C778, FIND(\" \",C778)+1), 100)","v":" 5х6,0 (PE,N)"},"6,0 (PE,N)",{"$f":"MID(C778, 1, IF(ISERR(FIND(\"Кун\",C778)), 3, 5))","v":"КунРс"}," 5","6,0 "," (PE,N)",null,null,null,{"$f":"IF(L778=0, \"\",CONCATENATE(O778, C778, \"-\",L778,\"м\"))","v":""},"",{"$f":"IF(SUM(L$8:L777)=0, \"\", \" + \")","v":""}]
["5193",null,"КунРс ЭВнг(А)-FRLSLTx 2х0,75"," 2х0,75",{"$f":"MID($D779,IF(ISERR(FIND(\"х\",$D779)), FIND(\"x\",$D779)+1, FIND(\"х\",$D779))+1, 100)","v":"0,75"},"КунРс",{"$f":"MID($D779,1, IF(ISERR(FIND(\"х\",$D779)), FIND(\"x\",$D779)-1, FIND(\"х\",$D779))-1)","v":" 2"},{"$f":"IF(ISERR(FIND(\" \", E779)), E779, MID(E779, 1, FIND(\" \",E779)))","v":"0,75"},{"$f":"IF(ISERR(FIND(\" \", E779)), \"\", MID(E779, FIND(\" \",E779), 20))","v":""},null,null,null,"",{"$f":"CONCATENATE(N778,M779)","v":""},{"$f":"IF(SUM(L$8:L778)=0, \"\", \" + \")","v":""}]
["17187",null,"КунРс ЭВнг(А)-FRLSLTx 2х0,75 (N)"," 2х0,75 (N)","0,75 (N)","КунРс"," 2","0,75 "," (N)",null,null,null,"","",{"$f":"IF(SUM(L$8:L779)=0, \"\", \" + \")","v":""}]
["5197",null,"КунРс ЭВнг(А)-FRLSLTx 2х1,0"," 2х1,0","1,0","КунРс"," 2","1,0","",null,null,null,"","",{"$f":"IF(SUM(L$8:L780)=0, \"\", \" + \")","v":""}]
["17188",null,"КунРс ЭВнг(А)-FRLSLTx 2х1,0 (N)"," 2х1,0 (N)","1,0 (N)","КунРс"," 2","1,0 "," (N)",null,null,null,"","",{"$f":"IF(SUM(L$8:L781)=0, \"\", \" + \")","v":""}]
["5201",null,"КунРс ЭВнг(А)-FRLSLTx 2х1,5"," 2х1,5","1,5","КунРс"," 2","1,5","",null,null,null,"","",{"$f":"IF(SUM(L$8:L782)=0, \"\", \" + \")","v":""}]
["17189",null,"КунРс ЭВнг(А)-FRLSLTx 2х1,5 (N)"," 2х1,5 (N)","1,5 (N)","КунРс"," 2","1,5 "," (N)",null,null,null,"","",{"$f":"IF(SUM(L$8:L783)=0, \"\", \" + \")","v":""}]
["5217",null,"КунРс ЭВнг(А)-FRLSLTx 2х10,0"," 2х10,0","10,0","КунРс"," 2","10,0","",null,null,null,"","",{"$f":"IF(SUM(L$8:L784)=0, \"\", \" + \")","v":""}]
["17193",null,"КунРс ЭВнг(А)-FRLSLTx 2х10,0 (N)"," 2х10,0 (N)","10,0 (N)","КунРс"," 2","10,0 "," (N)",null,null,null,"","",{"$f":"IF(SUM(L$8:L785)=0, \"\", \" + \")","v":""}]
["5221",null,"КунРс ЭВнг(А)-FRLSLTx 2х16,0"," 2х16,0","16,0","КунРс"," 2","16,0","",null,null,null,"","",{"$f":"IF(SUM(L$8:L786)=0, \"\", \" + \")","v":""}]
["17194",null,"КунРс ЭВнг(А)-FRLSLTx 2х16,0 (N)"," 2х16,0 (N)","16,0 (N)","КунРс"," 2","16,0 "," (N)",null,null,null,"","",{"$f":"IF(SUM(L$8:L787)=0, \"\", \" + \")","v":""}]
["5205",null,"КунРс ЭВнг(А)-FRLSLTx 2х2,5"," 2х2,5","2,5","КунРс"," 2","2,5","",null,null,null,"","",{"$f":"IF(SUM(L$8:L788)=0, \"\", \" + \")","v":""}]
["17190",null,"КунРс ЭВнг(А)-FRLSLTx 2х2,5 (N)"," 2х2,5 (N)","2,5 (N)","КунРс"," 2","2,5 "," (N)",null,null,null,"","",{"$f":"IF(SUM(L$8:L789)=0, \"\", \" + \")","v":""}]
["5209",null,"КунРс ЭВнг(А)-FRLSLTx 2х4,0"," 2х4,0","4,0","КунРс"," 2","4,0","",null,null,null,"","",{"$f":"IF(SUM(L$8:L790)=0, \"\", \" + \")","v":""}]
["17191",null,"КунРс ЭВнг(А)-FRLSLTx 2х4,0 (N)"," 2х4,0 (N)","4,0 (N)","КунРс"," 2","4,0 "," (N)",null,null,null,"","",{"$f":"IF(SUM(L$8:L791)=0, \"\", \" + \")","v":""}]
["5213",null,"КунРс ЭВнг(А)-FRLSLTx 2х6,0"," 2х6,0","6,0","КунРс"," 2","6,0","",null,null,null,"","",{"$f":"IF(SUM(L$8:L792)=0, \"\", \" + \")","v":""}]
["17192",null,"КунРс ЭВнг(А)-FRLSLTx 2х6,0 (N)"," 2х6,0 (N)","6,0 (N)","КунРс"," 2","6,0 "," (N)",null,null,null,"","",{"$f":"IF(SUM(L$8:L793)=0, \"\", \" + \")","v":""}]
["17139",null,"КунРс ЭВнг(А)-FRLSLTx 3х0,75"," 3х0,75","0,75","КунРс"," 3","0,75","",null,null,null,"","",{"$f":"IF(SUM(L$8:L794)=0, \"\", \" + \")","v":""}]
["5194",null,"КунРс ЭВнг(А)-FRLSLTx 3х0,75 (PE,N)"," 3х0,75 (PE,N)","0,75 (PE,N)","КунРс"," 3","0,75 "," (PE,N)",null,null,null,"","",{"$f":"IF(SUM(L$8:L795)=0, \"\", \" + \")","v":""}]
["17140",null,"КунРс ЭВнг(А)-FRLSLTx 3х1,0"," 3х1,0","1,0","КунРс"," 3","1,0","",null,null,null,"","",{"$f":"IF(SUM(L$8:L796)=0, \"\", \" + \")","v":""}]
["5198",null,"КунРс ЭВнг(А)-FRLSLTx 3х1,0 (PE,N)"," 3х1,0 (PE,N)","1,0 (PE,N)","КунРс"," 3","1,0 "," (PE,N)",null,null,null,"","",{"$f":"IF(SUM(L$8:L797)=0, \"\", \" + \")","v":""}]
["17141",null,"КунРс ЭВнг(А)-FRLSLTx 3х1,5"," 3х1,5","1,5","КунРс"," 3","1,5","",null,null,null,"","",{"$f":"IF(SUM(L$8:L798)=0, \"\", \" + \")","v":""}]
["5202",null,"КунРс ЭВнг(А)-FRLSLTx 3х1,5 (PE,N)"," 3х1,5 (PE,N)","1,5 (PE,N)","КунРс"," 3","1,5 "," (PE,N)",null,null,null,"","",{"$f":"IF(SUM(L$8:L799)=0, \"\", \" + \")","v":""}]
["17145",null,"КунРс ЭВнг(А)-FRLSLTx 3х10,0"," 3х10,0","10,0","КунРс"," 3","10,0","",null,null,null,"","",{"$f":"IF(SUM(L$8:L800)=0, \"\", \" + \")","v":""}]
["5218",null,"КунРс ЭВнг(А)-FRLSLTx 3х10,0 (PE,N)"," 3х10,0 (PE,N)","10,0 (PE,N)","КунРс"," 3","10,0 "," (PE,N)",null,null,null,"","",{"$f":"IF(SUM(L$8:L801)=0, \"\", \" + \")","v":""}]
["17146",null,"КунРс ЭВнг(А)-FRLSLTx 3х16,0"," 3х16,0","16,0","КунРс"," 3","16,0","",null,null,null,"","",{"$f":"IF(SUM(L$8:L802)=0, \"\", \" + \")","v":""}]
["5222",null,"КунРс ЭВнг(А)-FRLSLTx 3х16,0 (PE,N)"," 3х16,0 (PE,N)","16,0 (PE,N)","КунРс"," 3","16,0 "," (PE,N)",null,null,null,"","",{"$f":"IF(SUM(L$8:L803)=0, \"\", \" + \")","v":""}]
["17142",null,"КунРс ЭВнг(А)-FRLSLTx 3х2,5"," 3х2,5","2,5","КунРс"," 3","2,5","",null,null,null,"","",{"$f":"IF(SUM(L$8:L804)=0, \"\", \" + \")","v":""}]
["5206",null,"КунРс ЭВнг(А)-FRLSLTx 3х2,5 (PE,N)"," 3х2,5 (PE,N)","2,5 (PE,N)","КунРс"," 3","2,5 "," (PE,N)",null,null,null,"","",{"$f":"IF(SUM(L$8:L805)=0, \"\", \" + \")","v":""}]
["17143",null,"КунРс ЭВнг(А)-FRLSLTx 3х4,0"," 3х4,0","4,0","КунРс"," 3","4,0","",null,null,null,"","",{"$f":"IF(SUM(L$8:L806)=0, \"\", \" + \")","v":""}]
["5210",null,"КунРс ЭВнг(А)-FRLSLTx 3х4,0 (PE,N)"," 3х4,0 (PE,N)","4,0 (PE,N)","КунРс"," 3","4,0 "," (PE,N)",null,null,null,"","",{"$f":"IF(SUM(L$8:L807)=0, \"\", \" + \")","v":""}]
["17144",null,"КунРс ЭВнг(А)-FRLSLTx 3х6,0"," 3х6,0","6,0","КунРс"," 3","6,0","",null,null,null,"","",{"$f":"IF(SUM(L$8:L808)=0, \"\", \" + \")","v":""}]
["5214",null,"КунРс ЭВнг(А)-FRLSLTx 3х6,0 (PE,N)"," 3х6,0 (PE,N)","6,0 (PE,N)","КунРс"," 3","6,0 "," (PE,N)",null,null,null,"","",{"$f":"IF(SUM(L$8:L809)=0, \"\", \" + \")","v":""}]
["17283",null,"КунРс ЭВнг(А)-FRLSLTx 4х0,75 (N)"," 4х0,75 (N)","0,75 (N)","КунРс"," 4","0,75 "," (N)",null,null,null,"","",{"$f":"IF(SUM(L$8:L810)=0, \"\", \" + \")","v":""}]
["5195",null,"КунРс ЭВнг(А)-FRLSLTx 4х0,75 (PE)"," 4х0,75 (PE)","0,75 (PE)","КунРс"," 4","0,75 "," (PE)",null,null,null,"","",{"$f":"IF(SUM(L$8:L811)=0, \"\", \" + \")","v":""}]
["17284",null,"КунРс ЭВнг(А)-FRLSLTx 4х1,0 (N)"," 4х1,0 (N)","1,0 (N)","КунРс"," 4","1,0 "," (N)",null,null,null,"","",{"$f":"IF(SUM(L$8:L812)=0, \"\", \" + \")","v":""}]
["5199",null,"КунРс ЭВнг(А)-FRLSLTx 4х1,0 (PE)"," 4х1,0 (PE)","1,0 (PE)","КунРс"," 4","1,0 "," (PE)",null,null,null,"","",{"$f":"IF(SUM(L$8:L813)=0, \"\", \" + \")","v":""}]
["17285",null,"КунРс ЭВнг(А)-FRLSLTx 4х1,5 (N)"," 4х1,5 (N)","1,5 (N)","КунРс"," 4","1,5 "," (N)",null,null,null,"","",{"$f":"IF(SUM(L$8:L814)=0, \"\", \" + \")","v":""}]
["5203",null,"КунРс ЭВнг(А)-FRLSLTx 4х1,5 (PE)"," 4х1,5 (PE)","1,5 (PE)","КунРс"," 4","1,5 "," (PE)",null,null,null,"","",{"$f":"IF(SUM(L$8:L815)=0, \"\", \" + \")","v":""}]
["17289",null,"КунРс ЭВнг(А)-FRLSLTx 4х10,0 (N)"," 4х10,0 (N)","10,0 (N)","КунРс"," 4","10,0 "," (N)",null,null,null,"","",{"$f":"IF(SUM(L$8:L816)=0, \"\", \" + \")","v":""}]
["5219",null,"КунРс ЭВнг(А)-FRLSLTx 4х10,0 (PE)"," 4х10,0 (PE)","10,0 (PE)","КунРс"," 4","10,0 "," (PE)",null,null,null,"","",{"$f":"IF(SUM(L$8:L817)=0, \"\", \" + \")","v":""}]
["17290",null,"КунРс ЭВнг(А)-FRLSLTx 4х16,0 (N)"," 4х16,0 (N)","16,0 (N)","КунРс"," 4","16,0 "," (N)",null,null,null,"","",{"$f":"IF(SUM(L$8:L818)=0, \"\", \" + \")","v":""}]
["5223",null,"КунРс ЭВнг(А)-FRLSLTx 4х16,0 (PE)"," 4х16,0 (PE)","16,0 (PE)","КунРс"," 4","16,0 "," (PE)",null,null,null,"","",{"$f":"IF(SUM(L$8:L819)=0, \"\", \" + \")","v":""}]
["17286",null,"КунРс ЭВнг(А)-FRLSLTx 4х2,5 (N)"," 4х2,5 (N)","2,5 (N)","КунРс"," 4","2,5 "," (N)",null,null,null,"","",{"$f":"IF(SUM(L$8:L820)=0, \"\", \" + \")","v":""}]
["5207",null,"КунРс ЭВнг(А)-FRLSLTx 4х2,5 (PE)"," 4х2,5 (PE)","2,5 (PE)","КунРс"," 4","2,5 "," (PE)",null,null,null,"","",{"$f":"IF(SUM(L$8:L821)=0, \"\", \" + \")","v":""}]
["17287",null,"КунРс ЭВнг(А)-FRLSLTx 4х4,0 (N)"," 4х4,0 (N)","4,0 (N)","КунРс"," 4","4,0 "," (N)",null,null,null,"","",{"$f":"IF(SUM(L$8:L822)=0, \"\", \" + \")","v":""}]
["5211",null,"КунРс ЭВнг(А)-FRLSLTx 4х4,0 (PE)"," 4х4,0 (PE)","4,0 (PE)","КунРс"," 4","4,0 "," (PE)",null,null,null,"","",{"$f":"IF(SUM(L$8:L823)=0, \"\", \" + \")","v":""}]
["17288",null,"КунРс ЭВнг(А)-FRLSLTx 4х6,0 (N)"," 4х6,0 (N)","6,0 (N)","КунРс"," 4","6,0 "," (N)",null,null,null,"","",{"$f":"IF(SUM(L$8:L824)=0, \"\", \" + \")","v":""}]
["5215",null,"КунРс ЭВнг(А)-FRLSLTx 4х6,0 (PE)"," 4х6,0 (PE)","6,0 (PE)","КунРс"," 4","6,0 "," (PE)",null,null,null,"","",{"$f":"IF(SUM(L$8:L825)=0, \"\", \" + \")","v":""}]
["17380",null,"КунРс ЭВнг(А)-FRLSLTx 5х0,75 (N)"," 5х0,75 (N)","0,75 (N)","КунРс"," 5","0,75 "," (N)",null,null,null,"","",{"$f":"IF(SUM(L$8:L826)=0, \"\", \" + \")","v":""}]
["5196",null,"КунРс ЭВнг(А)-FRLSLTx 5х0,75 (PE,N)"," 5х0,75 (PE,N)","0,75 (PE,N)","КунРс"," 5","0,75 "," (PE,N)",null,null,null,"","",{"$f":"IF(SUM(L$8:L827)=0, \"\", \" + \")","v":""}]
["17381",null,"КунРс ЭВнг(А)-FRLSLTx 5х1,0 (N)"," 5х1,0 (N)","1,0 (N)","КунРс"," 5","1,0 "," (N)",null,null,null,"","",{"$f":"IF(SUM(L$8:L828)=0, \"\", \" + \")","v":""}]
["5200",null,"КунРс ЭВнг(А)-FRLSLTx 5х1,0 (PE,N)"," 5х1,0 (PE,N)","1,0 (PE,N)","КунРс"," 5","1,0 "," (PE,N)",null,null,null,"","",{"$f":"IF(SUM(L$8:L829)=0, \"\", \" + \")","v":""}]
["17382",null,"КунРс ЭВнг(А)-FRLSLTx 5х1,5 (N)"," 5х1,5 (N)","1,5 (N)","КунРс"," 5","1,5 "," (N)",null,null,null,"","",{"$f":"IF(SUM(L$8:L830)=0, \"\", \" + \")","v":""}]
["5204",null,"КунРс ЭВнг(А)-FRLSLTx 5х1,5 (PE,N)"," 5х1,5 (PE,N)","1,5 (PE,N)","КунРс"," 5","1,5 "," (PE,N)",null,null,null,"","",{"$f":"IF(SUM(L$8:L831)=0, \"\", \" + \")","v":""}]
["17386",null,"КунРс ЭВнг(А)-FRLSLTx 5х10,0 (N)"," 5х10,0 (N)","10,0 (N)","КунРс"," 5","10,0 "," (N)",null,null,null,"","",{"$f":"IF(SUM(L$8:L832)=0, \"\", \" + \")","v":""}]
["5220",null,"КунРс ЭВнг(А)-FRLSLTx 5х10,0 (PE,N)"," 5х10,0 (PE,N)","10,0 (PE,N)","КунРс"," 5","10,0 "," (PE,N)",null,null,null,"","",{"$f":"IF(SUM(L$8:L833)=0, \"\", \" + \")","v":""}]
["17387",null,"КунРс ЭВнг(А)-FRLSLTx 5х16,0 (N)"," 5х16,0 (N)","16,0 (N)","КунРс"," 5","16,0 "," (N)",null,null,null,"","",{"$f":"IF(SUM(L$8:L834)=0, \"\", \" + \")","v":""}]
["5224",null,"КунРс ЭВнг(А)-FRLSLTx 5х16,0 (PE,N)"," 5х16,0 (PE,N)","16,0 (PE,N)","КунРс"," 5","16,0 "," (PE,N)",null,null,null,"","",{"$f":"IF(SUM(L$8:L835)=0, \"\", \" + \")","v":""}]
["17383",null,"КунРс ЭВнг(А)-FRLSLTx 5х2,5 (N)"," 5х2,5 (N)","2,5 (N)","КунРс"," 5","2,5 "," (N)",null,null,null,"","",{"$f":"IF(SUM(L$8:L836)=0, \"\", \" + \")","v":""}]
["5208",null,"КунРс ЭВнг(А)-FRLSLTx 5х2,5 (PE,N)"," 5х2,5 (PE,N)","2,5 (PE,N)","КунРс"," 5","2,5 "," (PE,N)",null,null,null,"","",{"$f":"IF(SUM(L$8:L837)=0, \"\", \" + \")","v":""}]
["17384",null,"КунРс ЭВнг(А)-FRLSLTx 5х4,0 (N)"," 5х4,0 (N)","4,0 (N)","КунРс"," 5","4,0 "," (N)",null,null,null,"","",{"$f":"IF(SUM(L$8:L838)=0, \"\", \" + \")","v":""}]
["5212",null,"КунРс ЭВнг(А)-FRLSLTx 5х4,0 (PE,N)"," 5х4,0 (PE,N)","4,0 (PE,N)","КунРс"," 5","4,0 "," (PE,N)",null,null,null,"","",{"$f":"IF(SUM(L$8:L839)=0, \"\", \" + \")","v":""}]
["17385",null,"КунРс ЭВнг(А)-FRLSLTx 5х6,0 (N)"," 5х6,0 (N)","6,0 (N)","КунРс"," 5","6,0 "," (N)",null,null,null,"","",{"$f":"IF(SUM(L$8:L840)=0, \"\", \" + \")","v":""}]
["5216",null,"КунРс ЭВнг(А)-FRLSLTx 5х6,0 (PE,N)",{"$f":"MID(C842, FIND(\" \",C842, FIND(\" \",C842)+1), 100)","v":" 5х6,0 (PE,N)"},"6,0 (PE,N)",{"$f":"MID(C842, 1, IF(ISERR(FIND(\"Кун\",C842)), 3, 5))","v":"КунРс"}," 5","6,0 "," (PE,N)",null,null,null,{"$f":"IF(L842=0, \"\",CONCATENATE(O842, C842, \"-\",L842,\"м\"))","v":""},"",{"$f":"IF(SUM(L$8:L841)=0, \"\", \" + \")","v":""}]
["3755",null,"КунРс ЭПКПнг(А)-FRHF 2х0,75"," 2х0,75",{"$f":"MID($D843,IF(ISERR(FIND(\"х\",$D843)), FIND(\"x\",$D843)+1, FIND(\"х\",$D843))+1, 100)","v":"0,75"},"КунРс",{"$f":"MID($D843,1, IF(ISERR(FIND(\"х\",$D843)), FIND(\"x\",$D843)-1, FIND(\"х\",$D843))-1)","v":" 2"},{"$f":"IF(ISERR(FIND(\" \", E843)), E843, MID(E843, 1, FIND(\" \",E843)))","v":"0,75"},{"$f":"IF(ISERR(FIND(\" \", E843)), \"\", MID(E843, FIND(\" \",E843), 20))","v":""},null,null,null,"",{"$f":"CONCATENATE(N842,M843)","v":""},{"$f":"IF(SUM(L$8:L842)=0, \"\", \" + \")","v":""}]
["16958",null,"КунРс ЭПКПнг(А)-FRHF 2х0,75 (N)"," 2х0,75 (N)","0,75 (N)","КунРс"," 2","0,75 "," (N)",null,null,null,"","",{"$f":"IF(SUM(L$8:L843)=0, \"\", \" + \")","v":""}]
["3759",null,"КунРс ЭПКПнг(А)-FRHF 2х1,0"," 2х1,0","1,0","КунРс"," 2","1,0","",null,null,null,"","",{"$f":"IF(SUM(L$8:L844)=0, \"\", \" + \")","v":""}]
["16959",null,"КунРс ЭПКПнг(А)-FRHF 2х1,0 (N)"," 2х1,0 (N)","1,0 (N)","КунРс"," 2","1,0 "," (N)",null,null,null,"","",{"$f":"IF(SUM(L$8:L845)=0, \"\", \" + \")","v":""}]
["3763",null,"КунРс ЭПКПнг(А)-FRHF 2х1,5"," 2х1,5","1,5","КунРс"," 2","1,5","",null,null,null,"","",{"$f":"IF(SUM(L$8:L846)=0, \"\", \" + \")","v":""}]
["16960",null,"КунРс ЭПКПнг(А)-FRHF 2х1,5 (N)"," 2х1,5 (N)","1,5 (N)","КунРс"," 2","1,5 "," (N)",null,null,null,"","",{"$f":"IF(SUM(L$8:L847)=0, \"\", \" + \")","v":""}]
["3779",null,"КунРс ЭПКПнг(А)-FRHF 2х10,0"," 2х10,0","10,0","КунРс"," 2","10,0","",null,null,null,"","",{"$f":"IF(SUM(L$8:L848)=0, \"\", \" + \")","v":""}]
["16964",null,"КунРс ЭПКПнг(А)-FRHF 2х10,0 (N)"," 2х10,0 (N)","10,0 (N)","КунРс"," 2","10,0 "," (N)",null,null,null,"","",{"$f":"IF(SUM(L$8:L849)=0, \"\", \" + \")","v":""}]
["3783",null,"КунРс ЭПКПнг(А)-FRHF 2х16,0"," 2х16,0","16,0","КунРс"," 2","16,0","",null,null,null,"","",{"$f":"IF(SUM(L$8:L850)=0, \"\", \" + \")","v":""}]
["16965",null,"КунРс ЭПКПнг(А)-FRHF 2х16,0 (N)"," 2х16,0 (N)","16,0 (N)","КунРс"," 2","16,0 "," (N)",null,null,null,"","",{"$f":"IF(SUM(L$8:L851)=0, \"\", \" + \")","v":""}]
["3767",null,"КунРс ЭПКПнг(А)-FRHF 2х2,5"," 2х2,5","2,5","КунРс"," 2","2,5","",null,null,null,"","",{"$f":"IF(SUM(L$8:L852)=0, \"\", \" + \")","v":""}]
["16961",null,"КунРс ЭПКПнг(А)-FRHF 2х2,5 (N)"," 2х2,5 (N)","2,5 (N)","КунРс"," 2","2,5 "," (N)",null,null,null,"","",{"$f":"IF(SUM(L$8:L853)=0, \"\", \" + \")","v":""}]
["3771",null,"КунРс ЭПКПнг(А)-FRHF 2х4,0"," 2х4,0","4,0","КунРс"," 2","4,0","",null,null,null,"","",{"$f":"IF(SUM(L$8:L854)=0, \"\", \" + \")","v":""}]
["16962",null,"КунРс ЭПКПнг(А)-FRHF 2х4,0 (N)"," 2х4,0 (N)","4,0 (N)","КунРс"," 2","4,0 "," (N)",null,null,null,"","",{"$f":"IF(SUM(L$8:L855)=0, \"\", \" + \")","v":""}]
["3775",null,"КунРс ЭПКПнг(А)-FRHF 2х6,0"," 2х6,0","6,0","КунРс"," 2","6,0","",null,null,null,"","",{"$f":"IF(SUM(L$8:L856)=0, \"\", \" + \")","v":""}]
["16963",null,"КунРс ЭПКПнг(А)-FRHF 2х6,0 (N)"," 2х6,0 (N)","6,0 (N)","КунРс"," 2","6,0 "," (N)",null,null,null,"","",{"$f":"IF(SUM(L$8:L857)=0, \"\", \" + \")","v":""}]
["16996",null,"КунРс ЭПКПнг(А)-FRHF 3х0,75"," 3х0,75","0,75","КунРс"," 3","0,75","",null,null,null,"","",{"$f":"IF(SUM(L$8:L858)=0, \"\", \" + \")","v":""}]
["3756",null,"КунРс ЭПКПнг(А)-FRHF 3х0,75 (PE,N)"," 3х0,75 (PE,N)","0,75 (PE,N)","КунРс"," 3","0,75 "," (PE,N)",null,null,null,"","",{"$f":"IF(SUM(L$8:L859)=0, \"\", \" + \")","v":""}]
["16997",null,"КунРс ЭПКПнг(А)-FRHF 3х1,0"," 3х1,0","1,0","КунРс"," 3","1,0","",null,null,null,"","",{"$f":"IF(SUM(L$8:L860)=0, \"\", \" + \")","v":""}]
["3760",null,"КунРс ЭПКПнг(А)-FRHF 3х1,0 (PE,N)"," 3х1,0 (PE,N)","1,0 (PE,N)","КунРс"," 3","1,0 "," (PE,N)",null,null,null,"","",{"$f":"IF(SUM(L$8:L861)=0, \"\", \" + \")","v":""}]
["16998",null,"КунРс ЭПКПнг(А)-FRHF 3х1,5"," 3х1,5","1,5","КунРс"," 3","1,5","",null,null,null,"","",{"$f":"IF(SUM(L$8:L862)=0, \"\", \" + \")","v":""}]
["3764",null,"КунРс ЭПКПнг(А)-FRHF 3х1,5 (PE,N)"," 3х1,5 (PE,N)","1,5 (PE,N)","КунРс"," 3","1,5 "," (PE,N)",null,null,null,"","",{"$f":"IF(SUM(L$8:L863)=0, \"\", \" + \")","v":""}]
["17002",null,"КунРс ЭПКПнг(А)-FRHF 3х10,0"," 3х10,0","10,0","КунРс"," 3","10,0","",null,null,null,"","",{"$f":"IF(SUM(L$8:L864)=0, \"\", \" + \")","v":""}]
["3780",null,"КунРс ЭПКПнг(А)-FRHF 3х10,0 (PE,N)"," 3х10,0 (PE,N)","10,0 (PE,N)","КунРс"," 3","10,0 "," (PE,N)",null,null,null,"","",{"$f":"IF(SUM(L$8:L865)=0, \"\", \" + \")","v":""}]
["17003",null,"КунРс ЭПКПнг(А)-FRHF 3х16,0"," 3х16,0","16,0","КунРс"," 3","16,0","",null,null,null,"","",{"$f":"IF(SUM(L$8:L866)=0, \"\", \" + \")","v":""}]
["3784",null,"КунРс ЭПКПнг(А)-FRHF 3х16,0 (PE,N)"," 3х16,0 (PE,N)","16,0 (PE,N)","КунРс"," 3","16,0 "," (PE,N)",null,null,null,"","",{"$f":"IF(SUM(L$8:L867)=0, \"\", \" + \")","v":""}]
["16999",null,"КунРс ЭПКПнг(А)-FRHF 3х2,5"," 3х2,5","2,5","КунРс"," 3","2,5","",null,null,null,"","",{"$f":"IF(SUM(L$8:L868)=0, \"\", \" + \")","v":""}]
["3768",null,"КунРс ЭПКПнг(А)-FRHF 3х2,5 (PE,N)"," 3х2,5 (PE,N)","2,5 (PE,N)","КунРс"," 3","2,5 "," (PE,N)",null,null,null,"","",{"$f":"IF(SUM(L$8:L869)=0, \"\", \" + \")","v":""}]
["17000",null,"КунРс ЭПКПнг(А)-FRHF 3х4,0"," 3х4,0","4,0","КунРс"," 3","4,0","",null,null,null,"","",{"$f":"IF(SUM(L$8:L870)=0, \"\", \" + \")","v":""}]
["3772",null,"КунРс ЭПКПнг(А)-FRHF 3х4,0 (PE,N)"," 3х4,0 (PE,N)","4,0 (PE,N)","КунРс"," 3","4,0 "," (PE,N)",null,null,null,"","",{"$f":"IF(SUM(L$8:L871)=0, \"\", \" + \")","v":""}]
["17001",null,"КунРс ЭПКПнг(А)-FRHF 3х6,0"," 3х6,0","6,0","КунРс"," 3","6,0","",null,null,null,"","",{"$f":"IF(SUM(L$8:L872)=0, \"\", \" + \")","v":""}]
["3776",null,"КунРс ЭПКПнг(А)-FRHF 3х6,0 (PE,N)"," 3х6,0 (PE,N)","6,0 (PE,N)","КунРс"," 3","6,0 "," (PE,N)",null,null,null,"","",{"$f":"IF(SUM(L$8:L873)=0, \"\", \" + \")","v":""}]
["17036",null,"КунРс ЭПКПнг(А)-FRHF 4х0,75 (N)"," 4х0,75 (N)","0,75 (N)","КунРс"," 4","0,75 "," (N)",null,null,null,"","",{"$f":"IF(SUM(L$8:L874)=0, \"\", \" + \")","v":""}]
["3757",null,"КунРс ЭПКПнг(А)-FRHF 4х0,75 (PE)"," 4х0,75 (PE)","0,75 (PE)","КунРс"," 4","0,75 "," (PE)",null,null,null,"","",{"$f":"IF(SUM(L$8:L875)=0, \"\", \" + \")","v":""}]
["3761",null,"КунРс ЭПКПнг(А)-FRHF 4х1,0"," 4х1,0","1,0","КунРс"," 4","1,0","",null,null,null,"","",{"$f":"IF(SUM(L$8:L876)=0, \"\", \" + \")","v":""}]
["17037",null,"КунРс ЭПКПнг(А)-FRHF 4х1,0 (N)"," 4х1,0 (N)","1,0 (N)","КунРс"," 4","1,0 "," (N)",null,null,null,"","",{"$f":"IF(SUM(L$8:L877)=0, \"\", \" + \")","v":""}]
["5297",null,"КунРс ЭПКПнг(А)-FRHF 4х1,0 (PE)"," 4х1,0 (PE)","1,0 (PE)","КунРс"," 4","1,0 "," (PE)",null,null,null,"","",{"$f":"IF(SUM(L$8:L878)=0, \"\", \" + \")","v":""}]
["5494",null,"КунРс ЭПКПнг(А)-FRHF 4х1,5"," 4х1,5","1,5","КунРс"," 4","1,5","",null,null,null,"","",{"$f":"IF(SUM(L$8:L879)=0, \"\", \" + \")","v":""}]
["17038",null,"КунРс ЭПКПнг(А)-FRHF 4х1,5 (N)"," 4х1,5 (N)","1,5 (N)","КунРс"," 4","1,5 "," (N)",null,null,null,"","",{"$f":"IF(SUM(L$8:L880)=0, \"\", \" + \")","v":""}]
["3765",null,"КунРс ЭПКПнг(А)-FRHF 4х1,5 (PE)"," 4х1,5 (PE)","1,5 (PE)","КунРс"," 4","1,5 "," (PE)",null,null,null,"","",{"$f":"IF(SUM(L$8:L881)=0, \"\", \" + \")","v":""}]
["17042",null,"КунРс ЭПКПнг(А)-FRHF 4х10,0 (N)"," 4х10,0 (N)","10,0 (N)","КунРс"," 4","10,0 "," (N)",null,null,null,"","",{"$f":"IF(SUM(L$8:L882)=0, \"\", \" + \")","v":""}]
["3781",null,"КунРс ЭПКПнг(А)-FRHF 4х10,0 (PE)"," 4х10,0 (PE)","10,0 (PE)","КунРс"," 4","10,0 "," (PE)",null,null,null,"","",{"$f":"IF(SUM(L$8:L883)=0, \"\", \" + \")","v":""}]
["17043",null,"КунРс ЭПКПнг(А)-FRHF 4х16,0 (N)"," 4х16,0 (N)","16,0 (N)","КунРс"," 4","16,0 "," (N)",null,null,null,"","",{"$f":"IF(SUM(L$8:L884)=0, \"\", \" + \")","v":""}]
["3785",null,"КунРс ЭПКПнг(А)-FRHF 4х16,0 (PE)"," 4х16,0 (PE)","16,0 (PE)","КунРс"," 4","16,0 "," (PE)",null,null,null,"","",{"$f":"IF(SUM(L$8:L885)=0, \"\", \" + \")","v":""}]
["3769",null,"КунРс ЭПКПнг(А)-FRHF 4х2,5"," 4х2,5","2,5","КунРс"," 4","2,5","",null,null,null,"","",{"$f":"IF(SUM(L$8:L886)=0, \"\", \" + \")","v":""}]
["17039",null,"КунРс ЭПКПнг(А)-FRHF 4х2,5 (N)"," 4х2,5 (N)","2,5 (N)","КунРс"," 4","2,5 "," (N)",null,null,null,"","",{"$f":"IF(SUM(L$8:L887)=0, \"\", \" + \")","v":""}]
["5298",null,"КунРс ЭПКПнг(А)-FRHF 4х2,5 (PE)"," 4х2,5 (PE)","2,5 (PE)","КунРс"," 4","2,5 "," (PE)",null,null,null,"","",{"$f":"IF(SUM(L$8:L888)=0, \"\", \" + \")","v":""}]
["17040",null,"КунРс ЭПКПнг(А)-FRHF 4х4,0 (N)"," 4х4,0 (N)","4,0 (N)","КунРс"," 4","4,0 "," (N)",null,null,null,"","",{"$f":"IF(SUM(L$8:L889)=0, \"\", \" + \")","v":""}]
["3773",null,"КунРс ЭПКПнг(А)-FRHF 4х4,0 (PE)"," 4х4,0 (PE)","4,0 (PE)","КунРс"," 4","4,0 "," (PE)",null,null,null,"","",{"$f":"IF(SUM(L$8:L890)=0, \"\", \" + \")","v":""}]
["17041",null,"КунРс ЭПКПнг(А)-FRHF 4х6,0 (N)"," 4х6,0 (N)","6,0 (N)","КунРс"," 4","6,0 "," (N)",null,null,null,"","",{"$f":"IF(SUM(L$8:L891)=0, \"\", \" + \")","v":""}]
["3777",null,"КунРс ЭПКПнг(А)-FRHF 4х6,0 (PE)"," 4х6,0 (PE)","6,0 (PE)","КунРс"," 4","6,0 "," (PE)",null,null,null,"","",{"$f":"IF(SUM(L$8:L892)=0, \"\", \" + \")","v":""}]
["17076",null,"КунРс ЭПКПнг(А)-FRHF 5х0,75 (N)"," 5х0,75 (N)","0,75 (N)","КунРс"," 5","0,75 "," (N)",null,null,null,"","",{"$f":"IF(SUM(L$8:L893)=0, \"\", \" + \")","v":""}]
["3758",null,"КунРс ЭПКПнг(А)-FRHF 5х0,75 (PE,N)"," 5х0,75 (PE,N)","0,75 (PE,N)","КунРс"," 5","0,75 "," (PE,N)",null,null,null,"","",{"$f":"IF(SUM(L$8:L894)=0, \"\", \" + \")","v":""}]
["17077",null,"КунРс ЭПКПнг(А)-FRHF 5х1,0 (N)"," 5х1,0 (N)","1,0 (N)","КунРс"," 5","1,0 "," (N)",null,null,null,"","",{"$f":"IF(SUM(L$8:L895)=0, \"\", \" + \")","v":""}]
["3762",null,"КунРс ЭПКПнг(А)-FRHF 5х1,0 (PE,N)"," 5х1,0 (PE,N)","1,0 (PE,N)","КунРс"," 5","1,0 "," (PE,N)",null,null,null,"","",{"$f":"IF(SUM(L$8:L896)=0, \"\", \" + \")","v":""}]
["17078",null,"КунРс ЭПКПнг(А)-FRHF 5х1,5 (N)"," 5х1,5 (N)","1,5 (N)","КунРс"," 5","1,5 "," (N)",null,null,null,"","",{"$f":"IF(SUM(L$8:L897)=0, \"\", \" + \")","v":""}]
["3766",null,"КунРс ЭПКПнг(А)-FRHF 5х1,5 (PE,N)"," 5х1,5 (PE,N)","1,5 (PE,N)","КунРс"," 5","1,5 "," (PE,N)",null,null,null,"","",{"$f":"IF(SUM(L$8:L898)=0, \"\", \" + \")","v":""}]
["17082",null,"КунРс ЭПКПнг(А)-FRHF 5х10,0 (N)"," 5х10,0 (N)","10,0 (N)","КунРс"," 5","10,0 "," (N)",null,null,null,"","",{"$f":"IF(SUM(L$8:L899)=0, \"\", \" + \")","v":""}]
["3782",null,"КунРс ЭПКПнг(А)-FRHF 5х10,0 (PE,N)"," 5х10,0 (PE,N)","10,0 (PE,N)","КунРс"," 5","10,0 "," (PE,N)",null,null,null,"","",{"$f":"IF(SUM(L$8:L900)=0, \"\", \" + \")","v":""}]
["17083",null,"КунРс ЭПКПнг(А)-FRHF 5х16,0 (N)"," 5х16,0 (N)","16,0 (N)","КунРс"," 5","16,0 "," (N)",null,null,null,"","",{"$f":"IF(SUM(L$8:L901)=0, \"\", \" + \")","v":""}]
["3786",null,"КунРс ЭПКПнг(А)-FRHF 5х16,0 (PE,N)"," 5х16,0 (PE,N)","16,0 (PE,N)","КунРс"," 5","16,0 "," (PE,N)",null,null,null,"","",{"$f":"IF(SUM(L$8:L902)=0, \"\", \" + \")","v":""}]
["17079",null,"КунРс ЭПКПнг(А)-FRHF 5х2,5 (N)"," 5х2,5 (N)","2,5 (N)","КунРс"," 5","2,5 "," (N)",null,null,null,"","",{"$f":"IF(SUM(L$8:L903)=0, \"\", \" + \")","v":""}]
["3770",null,"КунРс ЭПКПнг(А)-FRHF 5х2,5 (PE,N)"," 5х2,5 (PE,N)","2,5 (PE,N)","КунРс"," 5","2,5 "," (PE,N)",null,null,null,"","",{"$f":"IF(SUM(L$8:L904)=0, \"\", \" + \")","v":""}]
["17080",null,"КунРс ЭПКПнг(А)-FRHF 5х4,0 (N)",{"$f":"MID(C906, FIND(\" \",C906, FIND(\" \",C906)+1), 100)","v":" 5х4,0 (N)"},"4,0 (N)",{"$f":"MID(C906, 1, IF(ISERR(FIND(\"Кун\",C906)), 3, 5))","v":"КунРс"}," 5","4,0 "," (N)",null,null,null,{"$f":"IF(L906=0, \"\",CONCATENATE(O906, C906, \"-\",L906,\"м\"))","v":""},"",{"$f":"IF(SUM(L$8:L905)=0, \"\", \" + \")","v":""}]
["3774",null,"КунРс ЭПКПнг(А)-FRHF 5х4,0 (PE,N)"," 5х4,0 (PE,N)",{"$f":"MID($D907,IF(ISERR(FIND(\"х\",$D907)), FIND(\"x\",$D907)+1, FIND(\"х\",$D907))+1, 100)","v":"4,0 (PE,N)"},"КунРс",{"$f":"MID($D907,1, IF(ISERR(FIND(\"х\",$D907)), FIND(\"x\",$D907)-1, FIND(\"х\",$D907))-1)","v":" 5"},{"$f":"IF(ISERR(FIND(\" \", E907)), E907, MID(E907, 1, FIND(\" \",E907)))","v":"4,0 "},{"$f":"IF(ISERR(FIND(\" \", E907)), \"\", MID(E907, FIND(\" \",E907), 20))","v":" (PE,N)"},null,null,null,"",{"$f":"CONCATENATE(N906,M907)","v":""},{"$f":"IF(SUM(L$8:L906)=0, \"\", \" + \")","v":""}]
["17081",null,"КунРс ЭПКПнг(А)-FRHF 5х6,0 (N)"," 5х6,0 (N)","6,0 (N)","КунРс"," 5","6,0 "," (N)",null,null,null,"","",{"$f":"IF(SUM(L$8:L907)=0, \"\", \" + \")","v":""}]
["3778",null,"КунРс ЭПКПнг(А)-FRHF 5х6,0 (PE,N)"," 5х6,0 (PE,N)","6,0 (PE,N)","КунРс"," 5","6,0 "," (PE,N)",null,null,null,"","",{"$f":"IF(SUM(L$8:L908)=0, \"\", \" + \")","v":""}]
["3692",null,"КунРс ЭПнг(А)-FRHF 2х0,75"," 2х0,75","0,75","КунРс"," 2","0,75","",null,null,null,"","",{"$f":"IF(SUM(L$8:L909)=0, \"\", \" + \")","v":""}]
["16950",null,"КунРс ЭПнг(А)-FRHF 2х0,75 (N)"," 2х0,75 (N)","0,75 (N)","КунРс"," 2","0,75 "," (N)",null,null,null,"","",{"$f":"IF(SUM(L$8:L910)=0, \"\", \" + \")","v":""}]
["3695",null,"КунРс ЭПнг(А)-FRHF 2х1,0"," 2х1,0","1,0","КунРс"," 2","1,0","",null,null,null,"","",{"$f":"IF(SUM(L$8:L911)=0, \"\", \" + \")","v":""}]
["16951",null,"КунРс ЭПнг(А)-FRHF 2х1,0 (N)"," 2х1,0 (N)","1,0 (N)","КунРс"," 2","1,0 "," (N)",null,null,null,"","",{"$f":"IF(SUM(L$8:L912)=0, \"\", \" + \")","v":""}]
["3699",null,"КунРс ЭПнг(А)-FRHF 2х1,5"," 2х1,5","1,5","КунРс"," 2","1,5","",null,null,null,"","",{"$f":"IF(SUM(L$8:L913)=0, \"\", \" + \")","v":""}]
["16952",null,"КунРс ЭПнг(А)-FRHF 2х1,5 (N)"," 2х1,5 (N)","1,5 (N)","КунРс"," 2","1,5 "," (N)",null,null,null,"","",{"$f":"IF(SUM(L$8:L914)=0, \"\", \" + \")","v":""}]
["3715",null,"КунРс ЭПнг(А)-FRHF 2х10,0"," 2х10,0","10,0","КунРс"," 2","10,0","",null,null,null,"","",{"$f":"IF(SUM(L$8:L915)=0, \"\", \" + \")","v":""}]
["16956",null,"КунРс ЭПнг(А)-FRHF 2х10,0 (N)"," 2х10,0 (N)","10,0 (N)","КунРс"," 2","10,0 "," (N)",null,null,null,"","",{"$f":"IF(SUM(L$8:L916)=0, \"\", \" + \")","v":""}]
["3719",null,"КунРс ЭПнг(А)-FRHF 2х16,0"," 2х16,0","16,0","КунРс"," 2","16,0","",null,null,null,"","",{"$f":"IF(SUM(L$8:L917)=0, \"\", \" + \")","v":""}]
["16957",null,"КунРс ЭПнг(А)-FRHF 2х16,0 (N)"," 2х16,0 (N)","16,0 (N)","КунРс"," 2","16,0 "," (N)",null,null,null,"","",{"$f":"IF(SUM(L$8:L918)=0, \"\", \" + \")","v":""}]
["3703",null,"КунРс ЭПнг(А)-FRHF 2х2,5"," 2х2,5","2,5","КунРс"," 2","2,5","",null,null,null,"","",{"$f":"IF(SUM(L$8:L919)=0, \"\", \" + \")","v":""}]
["16953",null,"КунРс ЭПнг(А)-FRHF 2х2,5 (N)"," 2х2,5 (N)","2,5 (N)","КунРс"," 2","2,5 "," (N)",null,null,null,"","",{"$f":"IF(SUM(L$8:L920)=0, \"\", \" + \")","v":""}]
["3707",null,"КунРс ЭПнг(А)-FRHF 2х4,0"," 2х4,0","4,0","КунРс"," 2","4,0","",null,null,null,"","",{"$f":"IF(SUM(L$8:L921)=0, \"\", \" + \")","v":""}]
["16954",null,"КунРс ЭПнг(А)-FRHF 2х4,0 (N)"," 2х4,0 (N)","4,0 (N)","КунРс"," 2","4,0 "," (N)",null,null,null,"","",{"$f":"IF(SUM(L$8:L922)=0, \"\", \" + \")","v":""}]
["3711",null,"КунРс ЭПнг(А)-FRHF 2х6,0"," 2х6,0","6,0","КунРс"," 2","6,0","",null,null,null,"","",{"$f":"IF(SUM(L$8:L923)=0, \"\", \" + \")","v":""}]
["16955",null,"КунРс ЭПнг(А)-FRHF 2х6,0 (N)"," 2х6,0 (N)","6,0 (N)","КунРс"," 2","6,0 "," (N)",null,null,null,"","",{"$f":"IF(SUM(L$8:L924)=0, \"\", \" + \")","v":""}]
["16988",null,"КунРс ЭПнг(А)-FRHF 3х0,75"," 3х0,75","0,75","КунРс"," 3","0,75","",null,null,null,"","",{"$f":"IF(SUM(L$8:L925)=0, \"\", \" + \")","v":""}]
["3366",null,"КунРс ЭПнг(А)-FRHF 3х0,75 (PE,N)"," 3х0,75 (PE,N)","0,75 (PE,N)","КунРс"," 3","0,75 "," (PE,N)",null,null,null,"","",{"$f":"IF(SUM(L$8:L926)=0, \"\", \" + \")","v":""}]
["16989",null,"КунРс ЭПнг(А)-FRHF 3х1,0"," 3х1,0","1,0","КунРс"," 3","1,0","",null,null,null,"","",{"$f":"IF(SUM(L$8:L927)=0, \"\", \" + \")","v":""}]
["3696",null,"КунРс ЭПнг(А)-FRHF 3х1,0 (PE,N)"," 3х1,0 (PE,N)","1,0 (PE,N)","КунРс"," 3","1,0 "," (PE,N)",null,null,null,"","",{"$f":"IF(SUM(L$8:L928)=0, \"\", \" + \")","v":""}]
["16990",null,"КунРс ЭПнг(А)-FRHF 3х1,5"," 3х1,5","1,5","КунРс"," 3","1,5","",null,null,null,"","",{"$f":"IF(SUM(L$8:L929)=0, \"\", \" + \")","v":""}]
["3700",null,"КунРс ЭПнг(А)-FRHF 3х1,5 (PE,N)"," 3х1,5 (PE,N)","1,5 (PE,N)","КунРс"," 3","1,5 "," (PE,N)",null,null,null,"","",{"$f":"IF(SUM(L$8:L930)=0, \"\", \" + \")","v":""}]
["16994",null,"КунРс ЭПнг(А)-FRHF 3х10,0"," 3х10,0","10,0","КунРс"," 3","10,0","",null,null,null,"","",{"$f":"IF(SUM(L$8:L931)=0, \"\", \" + \")","v":""}]
["3716",null,"КунРс ЭПнг(А)-FRHF 3х10,0 (PE,N)"," 3х10,0 (PE,N)","10,0 (PE,N)","КунРс"," 3","10,0 "," (PE,N)",null,null,null,"","",{"$f":"IF(SUM(L$8:L932)=0, \"\", \" + \")","v":""}]
["16995",null,"КунРс ЭПнг(А)-FRHF 3х16,0"," 3х16,0","16,0","КунРс"," 3","16,0","",null,null,null,"","",{"$f":"IF(SUM(L$8:L933)=0, \"\", \" + \")","v":""}]
["3720",null,"КунРс ЭПнг(А)-FRHF 3х16,0 (PE,N)"," 3х16,0 (PE,N)","16,0 (PE,N)","КунРс"," 3","16,0 "," (PE,N)",null,null,null,"","",{"$f":"IF(SUM(L$8:L934)=0, \"\", \" + \")","v":""}]
["16991",null,"КунРс ЭПнг(А)-FRHF 3х2,5"," 3х2,5","2,5","КунРс"," 3","2,5","",null,null,null,"","",{"$f":"IF(SUM(L$8:L935)=0, \"\", \" + \")","v":""}]
["3704",null,"КунРс ЭПнг(А)-FRHF 3х2,5 (PE,N)"," 3х2,5 (PE,N)","2,5 (PE,N)","КунРс"," 3","2,5 "," (PE,N)",null,null,null,"","",{"$f":"IF(SUM(L$8:L936)=0, \"\", \" + \")","v":""}]
["16992",null,"КунРс ЭПнг(А)-FRHF 3х4,0"," 3х4,0","4,0","КунРс"," 3","4,0","",null,null,null,"","",{"$f":"IF(SUM(L$8:L937)=0, \"\", \" + \")","v":""}]
["3708",null,"КунРс ЭПнг(А)-FRHF 3х4,0 (PE,N)"," 3х4,0 (PE,N)","4,0 (PE,N)","КунРс"," 3","4,0 "," (PE,N)",null,null,null,"","",{"$f":"IF(SUM(L$8:L938)=0, \"\", \" + \")","v":""}]
["16993",null,"КунРс ЭПнг(А)-FRHF 3х6,0"," 3х6,0","6,0","КунРс"," 3","6,0","",null,null,null,"","",{"$f":"IF(SUM(L$8:L939)=0, \"\", \" + \")","v":""}]
["3712",null,"КунРс ЭПнг(А)-FRHF 3х6,0 (PE,N)"," 3х6,0 (PE,N)","6,0 (PE,N)","КунРс"," 3","6,0 "," (PE,N)",null,null,null,"","",{"$f":"IF(SUM(L$8:L940)=0, \"\", \" + \")","v":""}]
["17028",null,"КунРс ЭПнг(А)-FRHF 4х0,75 (N)"," 4х0,75 (N)","0,75 (N)","КунРс"," 4","0,75 "," (N)",null,null,null,"","",{"$f":"IF(SUM(L$8:L941)=0, \"\", \" + \")","v":""}]
["3693",null,"КунРс ЭПнг(А)-FRHF 4х0,75 (PE)"," 4х0,75 (PE)","0,75 (PE)","КунРс"," 4","0,75 "," (PE)",null,null,null,"","",{"$f":"IF(SUM(L$8:L942)=0, \"\", \" + \")","v":""}]
["17029",null,"КунРс ЭПнг(А)-FRHF 4х1,0 (N)"," 4х1,0 (N)","1,0 (N)","КунРс"," 4","1,0 "," (N)",null,null,null,"","",{"$f":"IF(SUM(L$8:L943)=0, \"\", \" + \")","v":""}]
["3697",null,"КунРс ЭПнг(А)-FRHF 4х1,0 (PE)"," 4х1,0 (PE)","1,0 (PE)","КунРс"," 4","1,0 "," (PE)",null,null,null,"","",{"$f":"IF(SUM(L$8:L944)=0, \"\", \" + \")","v":""}]
["17030",null,"КунРс ЭПнг(А)-FRHF 4х1,5 (N)"," 4х1,5 (N)","1,5 (N)","КунРс"," 4","1,5 "," (N)",null,null,null,"","",{"$f":"IF(SUM(L$8:L945)=0, \"\", \" + \")","v":""}]
["3701",null,"КунРс ЭПнг(А)-FRHF 4х1,5 (PE)"," 4х1,5 (PE)","1,5 (PE)","КунРс"," 4","1,5 "," (PE)",null,null,null,"","",{"$f":"IF(SUM(L$8:L946)=0, \"\", \" + \")","v":""}]
["17034",null,"КунРс ЭПнг(А)-FRHF 4х10,0 (N)"," 4х10,0 (N)","10,0 (N)","КунРс"," 4","10,0 "," (N)",null,null,null,"","",{"$f":"IF(SUM(L$8:L947)=0, \"\", \" + \")","v":""}]
["3717",null,"КунРс ЭПнг(А)-FRHF 4х10,0 (PE)"," 4х10,0 (PE)","10,0 (PE)","КунРс"," 4","10,0 "," (PE)",null,null,null,"","",{"$f":"IF(SUM(L$8:L948)=0, \"\", \" + \")","v":""}]
["17035",null,"КунРс ЭПнг(А)-FRHF 4х16,0 (N)"," 4х16,0 (N)","16,0 (N)","КунРс"," 4","16,0 "," (N)",null,null,null,"","",{"$f":"IF(SUM(L$8:L949)=0, \"\", \" + \")","v":""}]
["3721",null,"КунРс ЭПнг(А)-FRHF 4х16,0 (PE)"," 4х16,0 (PE)","16,0 (PE)","КунРс"," 4","16,0 "," (PE)",null,null,null,"","",{"$f":"IF(SUM(L$8:L950)=0, \"\", \" + \")","v":""}]
["17031",null,"КунРс ЭПнг(А)-FRHF 4х2,5 (N)"," 4х2,5 (N)","2,5 (N)","КунРс"," 4","2,5 "," (N)",null,null,null,"","",{"$f":"IF(SUM(L$8:L951)=0, \"\", \" + \")","v":""}]
["3705",null,"КунРс ЭПнг(А)-FRHF 4х2,5 (PE)"," 4х2,5 (PE)","2,5 (PE)","КунРс"," 4","2,5 "," (PE)",null,null,null,"","",{"$f":"IF(SUM(L$8:L952)=0, \"\", \" + \")","v":""}]
["17032",null,"КунРс ЭПнг(А)-FRHF 4х4,0 (N)"," 4х4,0 (N)","4,0 (N)","КунРс"," 4","4,0 "," (N)",null,null,null,"","",{"$f":"IF(SUM(L$8:L953)=0, \"\", \" + \")","v":""}]
["3709",null,"КунРс ЭПнг(А)-FRHF 4х4,0 (PE)"," 4х4,0 (PE)","4,0 (PE)","КунРс"," 4","4,0 "," (PE)",null,null,null,"","",{"$f":"IF(SUM(L$8:L954)=0, \"\", \" + \")","v":""}]
["17033",null,"КунРс ЭПнг(А)-FRHF 4х6,0 (N)"," 4х6,0 (N)","6,0 (N)","КунРс"," 4","6,0 "," (N)",null,null,null,"","",{"$f":"IF(SUM(L$8:L955)=0, \"\", \" + \")","v":""}]
["3713",null,"КунРс ЭПнг(А)-FRHF 4х6,0 (PE)"," 4х6,0 (PE)","6,0 (PE)","КунРс"," 4","6,0 "," (PE)",null,null,null,"","",{"$f":"IF(SUM(L$8:L956)=0, \"\", \" + \")","v":""}]
["17068",null,"КунРс ЭПнг(А)-FRHF 5х0,75 (N)"," 5х0,75 (N)","0,75 (N)","КунРс"," 5","0,75 "," (N)",null,null,null,"","",{"$f":"IF(SUM(L$8:L957)=0, \"\", \" + \")","v":""}]
["3694",null,"КунРс ЭПнг(А)-FRHF 5х0,75 (PE,N)"," 5х0,75 (PE,N)","0,75 (PE,N)","КунРс"," 5","0,75 "," (PE,N)",null,null,null,"","",{"$f":"IF(SUM(L$8:L958)=0, \"\", \" + \")","v":""}]
["17069",null,"КунРс ЭПнг(А)-FRHF 5х1,0 (N)"," 5х1,0 (N)","1,0 (N)","КунРс"," 5","1,0 "," (N)",null,null,null,"","",{"$f":"IF(SUM(L$8:L959)=0, \"\", \" + \")","v":""}]
["3698",null,"КунРс ЭПнг(А)-FRHF 5х1,0 (PE,N)"," 5х1,0 (PE,N)","1,0 (PE,N)","КунРс"," 5","1,0 "," (PE,N)",null,null,null,"","",{"$f":"IF(SUM(L$8:L960)=0, \"\", \" + \")","v":""}]
["17070",null,"КунРс ЭПнг(А)-FRHF 5х1,5 (N)"," 5х1,5 (N)","1,5 (N)","КунРс"," 5","1,5 "," (N)",null,null,null,"","",{"$f":"IF(SUM(L$8:L961)=0, \"\", \" + \")","v":""}]
["3702",null,"КунРс ЭПнг(А)-FRHF 5х1,5 (PE,N)"," 5х1,5 (PE,N)","1,5 (PE,N)","КунРс"," 5","1,5 "," (PE,N)",null,null,null,"","",{"$f":"IF(SUM(L$8:L962)=0, \"\", \" + \")","v":""}]
["17074",null,"КунРс ЭПнг(А)-FRHF 5х10,0 (N)"," 5х10,0 (N)","10,0 (N)","КунРс"," 5","10,0 "," (N)",null,null,null,"","",{"$f":"IF(SUM(L$8:L963)=0, \"\", \" + \")","v":""}]
["3718",null,"КунРс ЭПнг(А)-FRHF 5х10,0 (PE,N)"," 5х10,0 (PE,N)","10,0 (PE,N)","КунРс"," 5","10,0 "," (PE,N)",null,null,null,"","",{"$f":"IF(SUM(L$8:L964)=0, \"\", \" + \")","v":""}]
["17075",null,"КунРс ЭПнг(А)-FRHF 5х16,0 (N)"," 5х16,0 (N)","16,0 (N)","КунРс"," 5","16,0 "," (N)",null,null,null,"","",{"$f":"IF(SUM(L$8:L965)=0, \"\", \" + \")","v":""}]
["3722",null,"КунРс ЭПнг(А)-FRHF 5х16,0 (PE,N)"," 5х16,0 (PE,N)","16,0 (PE,N)","КунРс"," 5","16,0 "," (PE,N)",null,null,null,"","",{"$f":"IF(SUM(L$8:L966)=0, \"\", \" + \")","v":""}]
["17071",null,"КунРс ЭПнг(А)-FRHF 5х2,5 (N)"," 5х2,5 (N)","2,5 (N)","КунРс"," 5","2,5 "," (N)",null,null,null,"","",{"$f":"IF(SUM(L$8:L967)=0, \"\", \" + \")","v":""}]
["3706",null,"КунРс ЭПнг(А)-FRHF 5х2,5 (PE,N)"," 5х2,5 (PE,N)","2,5 (PE,N)","КунРс"," 5","2,5 "," (PE,N)",null,null,null,"","",{"$f":"IF(SUM(L$8:L968)=0, \"\", \" + \")","v":""}]
["17072",null,"КунРс ЭПнг(А)-FRHF 5х4,0 (N)",{"$f":"MID(C970, FIND(\" \",C970, FIND(\" \",C970)+1), 100)","v":" 5х4,0 (N)"},"4,0 (N)",{"$f":"MID(C970, 1, IF(ISERR(FIND(\"Кун\",C970)), 3, 5))","v":"КунРс"}," 5","4,0 "," (N)",null,null,null,{"$f":"IF(L970=0, \"\",CONCATENATE(O970, C970, \"-\",L970,\"м\"))","v":""},"",{"$f":"IF(SUM(L$8:L969)=0, \"\", \" + \")","v":""}]
["3710",null,"КунРс ЭПнг(А)-FRHF 5х4,0 (PE,N)"," 5х4,0 (PE,N)",{"$f":"MID($D971,IF(ISERR(FIND(\"х\",$D971)), FIND(\"x\",$D971)+1, FIND(\"х\",$D971))+1, 100)","v":"4,0 (PE,N)"},"КунРс",{"$f":"MID($D971,1, IF(ISERR(FIND(\"х\",$D971)), FIND(\"x\",$D971)-1, FIND(\"х\",$D971))-1)","v":" 5"},{"$f":"IF(ISERR(FIND(\" \", E971)), E971, MID(E971, 1, FIND(\" \",E971)))","v":"4,0 "},{"$f":"IF(ISERR(FIND(\" \", E971)), \"\", MID(E971, FIND(\" \",E971), 20))","v":" (PE,N)"},null,null,null,"",{"$f":"CONCATENATE(N970,M971)","v":""},{"$f":"IF(SUM(L$8:L970)=0, \"\", \" + \")","v":""}]
["17073",null,"КунРс ЭПнг(А)-FRHF 5х6,0 (N)"," 5х6,0 (N)","6,0 (N)","КунРс"," 5","6,0 "," (N)",null,null,null,"","",{"$f":"IF(SUM(L$8:L971)=0, \"\", \" + \")","v":""}]
["3714",null,"КунРс ЭПнг(А)-FRHF 5х6,0 (PE,N)"," 5х6,0 (PE,N)","6,0 (PE,N)","КунРс"," 5","6,0 "," (PE,N)",null,null,null,"","",{"$f":"IF(SUM(L$8:L972)=0, \"\", \" + \")","v":""}]
["4942",null,"КунРс ЭУКУнг(А)-FRHF 2х0,75"," 2х0,75","0,75","КунРс"," 2","0,75","",null,null,null,"","",{"$f":"IF(SUM(L$8:L973)=0, \"\", \" + \")","v":""}]
["17219",null,"КунРс ЭУКУнг(А)-FRHF 2х0,75 (N)"," 2х0,75 (N)","0,75 (N)","КунРс"," 2","0,75 "," (N)",null,null,null,"","",{"$f":"IF(SUM(L$8:L974)=0, \"\", \" + \")","v":""}]
["4946",null,"КунРс ЭУКУнг(А)-FRHF 2х1,0"," 2х1,0","1,0","КунРс"," 2","1,0","",null,null,null,"","",{"$f":"IF(SUM(L$8:L975)=0, \"\", \" + \")","v":""}]
["17220",null,"КунРс ЭУКУнг(А)-FRHF 2х1,0 (N)"," 2х1,0 (N)","1,0 (N)","КунРс"," 2","1,0 "," (N)",null,null,null,"","",{"$f":"IF(SUM(L$8:L976)=0, \"\", \" + \")","v":""}]
["4950",null,"КунРс ЭУКУнг(А)-FRHF 2х1,5"," 2х1,5","1,5","КунРс"," 2","1,5","",null,null,null,"","",{"$f":"IF(SUM(L$8:L977)=0, \"\", \" + \")","v":""}]
["17221",null,"КунРс ЭУКУнг(А)-FRHF 2х1,5 (N)"," 2х1,5 (N)","1,5 (N)","КунРс"," 2","1,5 "," (N)",null,null,null,"","",{"$f":"IF(SUM(L$8:L978)=0, \"\", \" + \")","v":""}]
["4966",null,"КунРс ЭУКУнг(А)-FRHF 2х10,0"," 2х10,0","10,0","КунРс"," 2","10,0","",null,null,null,"","",{"$f":"IF(SUM(L$8:L979)=0, \"\", \" + \")","v":""}]
["17225",null,"КунРс ЭУКУнг(А)-FRHF 2х10,0 (N)"," 2х10,0 (N)","10,0 (N)","КунРс"," 2","10,0 "," (N)",null,null,null,"","",{"$f":"IF(SUM(L$8:L980)=0, \"\", \" + \")","v":""}]
["4970",null,"КунРс ЭУКУнг(А)-FRHF 2х16,0"," 2х16,0","16,0","КунРс"," 2","16,0","",null,null,null,"","",{"$f":"IF(SUM(L$8:L981)=0, \"\", \" + \")","v":""}]
["17226",null,"КунРс ЭУКУнг(А)-FRHF 2х16,0 (N)"," 2х16,0 (N)","16,0 (N)","КунРс"," 2","16,0 "," (N)",null,null,null,"","",{"$f":"IF(SUM(L$8:L982)=0, \"\", \" + \")","v":""}]
["4954",null,"КунРс ЭУКУнг(А)-FRHF 2х2,5"," 2х2,5","2,5","КунРс"," 2","2,5","",null,null,null,"","",{"$f":"IF(SUM(L$8:L983)=0, \"\", \" + \")","v":""}]
["17222",null,"КунРс ЭУКУнг(А)-FRHF 2х2,5 (N)"," 2х2,5 (N)","2,5 (N)","КунРс"," 2","2,5 "," (N)",null,null,null,"","",{"$f":"IF(SUM(L$8:L984)=0, \"\", \" + \")","v":""}]
["4958",null,"КунРс ЭУКУнг(А)-FRHF 2х4,0"," 2х4,0","4,0","КунРс"," 2","4,0","",null,null,null,"","",{"$f":"IF(SUM(L$8:L985)=0, \"\", \" + \")","v":""}]
["17223",null,"КунРс ЭУКУнг(А)-FRHF 2х4,0 (N)"," 2х4,0 (N)","4,0 (N)","КунРс"," 2","4,0 "," (N)",null,null,null,"","",{"$f":"IF(SUM(L$8:L986)=0, \"\", \" + \")","v":""}]
["4962",null,"КунРс ЭУКУнг(А)-FRHF 2х6,0"," 2х6,0","6,0","КунРс"," 2","6,0","",null,null,null,"","",{"$f":"IF(SUM(L$8:L987)=0, \"\", \" + \")","v":""}]
["17224",null,"КунРс ЭУКУнг(А)-FRHF 2х6,0 (N)"," 2х6,0 (N)","6,0 (N)","КунРс"," 2","6,0 "," (N)",null,null,null,"","",{"$f":"IF(SUM(L$8:L988)=0, \"\", \" + \")","v":""}]
["17171",null,"КунРс ЭУКУнг(А)-FRHF 3х0,75"," 3х0,75","0,75","КунРс"," 3","0,75","",null,null,null,"","",{"$f":"IF(SUM(L$8:L989)=0, \"\", \" + \")","v":""}]
["4943",null,"КунРс ЭУКУнг(А)-FRHF 3х0,75 (PE,N)"," 3х0,75 (PE,N)","0,75 (PE,N)","КунРс"," 3","0,75 "," (PE,N)",null,null,null,"","",{"$f":"IF(SUM(L$8:L990)=0, \"\", \" + \")","v":""}]
["17172",null,"КунРс ЭУКУнг(А)-FRHF 3х1,0"," 3х1,0","1,0","КунРс"," 3","1,0","",null,null,null,"","",{"$f":"IF(SUM(L$8:L991)=0, \"\", \" + \")","v":""}]
["4947",null,"КунРс ЭУКУнг(А)-FRHF 3х1,0 (PE,N)"," 3х1,0 (PE,N)","1,0 (PE,N)","КунРс"," 3","1,0 "," (PE,N)",null,null,null,"","",{"$f":"IF(SUM(L$8:L992)=0, \"\", \" + \")","v":""}]
["17173",null,"КунРс ЭУКУнг(А)-FRHF 3х1,5"," 3х1,5","1,5","КунРс"," 3","1,5","",null,null,null,"","",{"$f":"IF(SUM(L$8:L993)=0, \"\", \" + \")","v":""}]
["4951",null,"КунРс ЭУКУнг(А)-FRHF 3х1,5 (PE,N)"," 3х1,5 (PE,N)","1,5 (PE,N)","КунРс"," 3","1,5 "," (PE,N)",null,null,null,"","",{"$f":"IF(SUM(L$8:L994)=0, \"\", \" + \")","v":""}]
["17177",null,"КунРс ЭУКУнг(А)-FRHF 3х10,0"," 3х10,0","10,0","КунРс"," 3","10,0","",null,null,null,"","",{"$f":"IF(SUM(L$8:L995)=0, \"\", \" + \")","v":""}]
["4967",null,"КунРс ЭУКУнг(А)-FRHF 3х10,0 (PE,N)"," 3х10,0 (PE,N)","10,0 (PE,N)","КунРс"," 3","10,0 "," (PE,N)",null,null,null,"","",{"$f":"IF(SUM(L$8:L996)=0, \"\", \" + \")","v":""}]
["17178",null,"КунРс ЭУКУнг(А)-FRHF 3х16,0"," 3х16,0","16,0","КунРс"," 3","16,0","",null,null,null,"","",{"$f":"IF(SUM(L$8:L997)=0, \"\", \" + \")","v":""}]
["4971",null,"КунРс ЭУКУнг(А)-FRHF 3х16,0 (PE,N)"," 3х16,0 (PE,N)","16,0 (PE,N)","КунРс"," 3","16,0 "," (PE,N)",null,null,null,"","",{"$f":"IF(SUM(L$8:L998)=0, \"\", \" + \")","v":""}]
["17174",null,"КунРс ЭУКУнг(А)-FRHF 3х2,5"," 3х2,5","2,5","КунРс"," 3","2,5","",null,null,null,"","",{"$f":"IF(SUM(L$8:L999)=0, \"\", \" + \")","v":""}]
["4955",null,"КунРс ЭУКУнг(А)-FRHF 3х2,5 (PE,N)"," 3х2,5 (PE,N)","2,5 (PE,N)","КунРс"," 3","2,5 "," (PE,N)",null,null,null,"","",{"$f":"IF(SUM(L$8:L1000)=0, \"\", \" + \")","v":""}]
["17175",null,"КунРс ЭУКУнг(А)-FRHF 3х4,0"," 3х4,0","4,0","КунРс"," 3","4,0","",null,null,null,"","",{"$f":"IF(SUM(L$8:L1001)=0, \"\", \" + \")","v":""}]
["4959",null,"КунРс ЭУКУнг(А)-FRHF 3х4,0 (PE,N)"," 3х4,0 (PE,N)","4,0 (PE,N)","КунРс"," 3","4,0 "," (PE,N)",null,null,null,"","",{"$f":"IF(SUM(L$8:L1002)=0, \"\", \" + \")","v":""}]
["17176",null,"КунРс ЭУКУнг(А)-FRHF 3х6,0"," 3х6,0","6,0","КунРс"," 3","6,0","",null,null,null,"","",{"$f":"IF(SUM(L$8:L1003)=0, \"\", \" + \")","v":""}]
["4963",null,"КунРс ЭУКУнг(А)-FRHF 3х6,0 (PE,N)"," 3х6,0 (PE,N)","6,0 (PE,N)","КунРс"," 3","6,0 "," (PE,N)",null,null,null,"","",{"$f":"IF(SUM(L$8:L1004)=0, \"\", \" + \")","v":""}]
["17315",null,"КунРс ЭУКУнг(А)-FRHF 4х0,75 (N)"," 4х0,75 (N)","0,75 (N)","КунРс"," 4","0,75 "," (N)",null,null,null,"","",{"$f":"IF(SUM(L$8:L1005)=0, \"\", \" + \")","v":""}]
["4944",null,"КунРс ЭУКУнг(А)-FRHF 4х0,75 (PE)"," 4х0,75 (PE)","0,75 (PE)","КунРс"," 4","0,75 "," (PE)",null,null,null,"","",{"$f":"IF(SUM(L$8:L1006)=0, \"\", \" + \")","v":""}]
["17316",null,"КунРс ЭУКУнг(А)-FRHF 4х1,0 (N)"," 4х1,0 (N)","1,0 (N)","КунРс"," 4","1,0 "," (N)",null,null,null,"","",{"$f":"IF(SUM(L$8:L1007)=0, \"\", \" + \")","v":""}]
["4948",null,"КунРс ЭУКУнг(А)-FRHF 4х1,0 (PE)"," 4х1,0 (PE)","1,0 (PE)","КунРс"," 4","1,0 "," (PE)",null,null,null,"","",{"$f":"IF(SUM(L$8:L1008)=0, \"\", \" + \")","v":""}]
["17317",null,"КунРс ЭУКУнг(А)-FRHF 4х1,5 (N)"," 4х1,5 (N)","1,5 (N)","КунРс"," 4","1,5 "," (N)",null,null,null,"","",{"$f":"IF(SUM(L$8:L1009)=0, \"\", \" + \")","v":""}]
["4952",null,"КунРс ЭУКУнг(А)-FRHF 4х1,5 (PE)"," 4х1,5 (PE)","1,5 (PE)","КунРс"," 4","1,5 "," (PE)",null,null,null,"","",{"$f":"IF(SUM(L$8:L1010)=0, \"\", \" + \")","v":""}]
["17321",null,"КунРс ЭУКУнг(А)-FRHF 4х10,0 (N)"," 4х10,0 (N)","10,0 (N)","КунРс"," 4","10,0 "," (N)",null,null,null,"","",{"$f":"IF(SUM(L$8:L1011)=0, \"\", \" + \")","v":""}]
["4968",null,"КунРс ЭУКУнг(А)-FRHF 4х10,0 (PE)"," 4х10,0 (PE)","10,0 (PE)","КунРс"," 4","10,0 "," (PE)",null,null,null,"","",{"$f":"IF(SUM(L$8:L1012)=0, \"\", \" + \")","v":""}]
["17322",null,"КунРс ЭУКУнг(А)-FRHF 4х16,0 (N)"," 4х16,0 (N)","16,0 (N)","КунРс"," 4","16,0 "," (N)",null,null,null,"","",{"$f":"IF(SUM(L$8:L1013)=0, \"\", \" + \")","v":""}]
["4972",null,"КунРс ЭУКУнг(А)-FRHF 4х16,0 (PE)"," 4х16,0 (PE)","16,0 (PE)","КунРс"," 4","16,0 "," (PE)",null,null,null,"","",{"$f":"IF(SUM(L$8:L1014)=0, \"\", \" + \")","v":""}]
["17318",null,"КунРс ЭУКУнг(А)-FRHF 4х2,5 (N)"," 4х2,5 (N)","2,5 (N)","КунРс"," 4","2,5 "," (N)",null,null,null,"","",{"$f":"IF(SUM(L$8:L1015)=0, \"\", \" + \")","v":""}]
["4956",null,"КунРс ЭУКУнг(А)-FRHF 4х2,5 (PE)"," 4х2,5 (PE)","2,5 (PE)","КунРс"," 4","2,5 "," (PE)",null,null,null,"","",{"$f":"IF(SUM(L$8:L1016)=0, \"\", \" + \")","v":""}]
["17319",null,"КунРс ЭУКУнг(А)-FRHF 4х4,0 (N)"," 4х4,0 (N)","4,0 (N)","КунРс"," 4","4,0 "," (N)",null,null,null,"","",{"$f":"IF(SUM(L$8:L1017)=0, \"\", \" + \")","v":""}]
["4960",null,"КунРс ЭУКУнг(А)-FRHF 4х4,0 (PE)"," 4х4,0 (PE)","4,0 (PE)","КунРс"," 4","4,0 "," (PE)",null,null,null,"","",{"$f":"IF(SUM(L$8:L1018)=0, \"\", \" + \")","v":""}]
["17320",null,"КунРс ЭУКУнг(А)-FRHF 4х6,0 (N)"," 4х6,0 (N)","6,0 (N)","КунРс"," 4","6,0 "," (N)",null,null,null,"","",{"$f":"IF(SUM(L$8:L1019)=0, \"\", \" + \")","v":""}]
["4964",null,"КунРс ЭУКУнг(А)-FRHF 4х6,0 (PE)"," 4х6,0 (PE)","6,0 (PE)","КунРс"," 4","6,0 "," (PE)",null,null,null,"","",{"$f":"IF(SUM(L$8:L1020)=0, \"\", \" + \")","v":""}]
["17412",null,"КунРс ЭУКУнг(А)-FRHF 5х0,75 (N)"," 5х0,75 (N)","0,75 (N)","КунРс"," 5","0,75 "," (N)",null,null,null,"","",{"$f":"IF(SUM(L$8:L1021)=0, \"\", \" + \")","v":""}]
["4945",null,"КунРс ЭУКУнг(А)-FRHF 5х0,75 (PE,N)"," 5х0,75 (PE,N)","0,75 (PE,N)","КунРс"," 5","0,75 "," (PE,N)",null,null,null,"","",{"$f":"IF(SUM(L$8:L1022)=0, \"\", \" + \")","v":""}]
["17413",null,"КунРс ЭУКУнг(А)-FRHF 5х1,0 (N)"," 5х1,0 (N)","1,0 (N)","КунРс"," 5","1,0 "," (N)",null,null,null,"","",{"$f":"IF(SUM(L$8:L1023)=0, \"\", \" + \")","v":""}]
["4949",null,"КунРс ЭУКУнг(А)-FRHF 5х1,0 (PE,N)"," 5х1,0 (PE,N)","1,0 (PE,N)","КунРс"," 5","1,0 "," (PE,N)",null,null,null,"","",{"$f":"IF(SUM(L$8:L1024)=0, \"\", \" + \")","v":""}]
["17414",null,"КунРс ЭУКУнг(А)-FRHF 5х1,5 (N)"," 5х1,5 (N)","1,5 (N)","КунРс"," 5","1,5 "," (N)",null,null,null,"","",{"$f":"IF(SUM(L$8:L1025)=0, \"\", \" + \")","v":""}]
["4953",null,"КунРс ЭУКУнг(А)-FRHF 5х1,5 (PE,N)"," 5х1,5 (PE,N)","1,5 (PE,N)","КунРс"," 5","1,5 "," (PE,N)",null,null,null,"","",{"$f":"IF(SUM(L$8:L1026)=0, \"\", \" + \")","v":""}]
["17418",null,"КунРс ЭУКУнг(А)-FRHF 5х10,0 (N)"," 5х10,0 (N)","10,0 (N)","КунРс"," 5","10,0 "," (N)",null,null,null,"","",{"$f":"IF(SUM(L$8:L1027)=0, \"\", \" + \")","v":""}]
["4969",null,"КунРс ЭУКУнг(А)-FRHF 5х10,0 (PE,N)"," 5х10,0 (PE,N)","10,0 (PE,N)","КунРс"," 5","10,0 "," (PE,N)",null,null,null,"","",{"$f":"IF(SUM(L$8:L1028)=0, \"\", \" + \")","v":""}]
["17419",null,"КунРс ЭУКУнг(А)-FRHF 5х16,0 (N)"," 5х16,0 (N)","16,0 (N)","КунРс"," 5","16,0 "," (N)",null,null,null,"","",{"$f":"IF(SUM(L$8:L1029)=0, \"\", \" + \")","v":""}]
["4973",null,"КунРс ЭУКУнг(А)-FRHF 5х16,0 (PE,N)"," 5х16,0 (PE,N)","16,0 (PE,N)","КунРс"," 5","16,0 "," (PE,N)",null,null,null,"","",{"$f":"IF(SUM(L$8:L1030)=0, \"\", \" + \")","v":""}]
["17415",null,"КунРс ЭУКУнг(А)-FRHF 5х2,5 (N)"," 5х2,5 (N)","2,5 (N)","КунРс"," 5","2,5 "," (N)",null,null,null,"","",{"$f":"IF(SUM(L$8:L1031)=0, \"\", \" + \")","v":""}]
["4957",null,"КунРс ЭУКУнг(А)-FRHF 5х2,5 (PE,N)"," 5х2,5 (PE,N)","2,5 (PE,N)","КунРс"," 5","2,5 "," (PE,N)",null,null,null,"","",{"$f":"IF(SUM(L$8:L1032)=0, \"\", \" + \")","v":""}]
["17416",null,"КунРс ЭУКУнг(А)-FRHF 5х4,0 (N)",{"$f":"MID(C1034, FIND(\" \",C1034, FIND(\" \",C1034)+1), 100)","v":" 5х4,0 (N)"},"4,0 (N)",{"$f":"MID(C1034, 1, IF(ISERR(FIND(\"Кун\",C1034)), 3, 5))","v":"КунРс"}," 5","4,0 "," (N)",null,null,null,{"$f":"IF(L1034=0, \"\",CONCATENATE(O1034, C1034, \"-\",L1034,\"м\"))","v":""},"",{"$f":"IF(SUM(L$8:L1033)=0, \"\", \" + \")","v":""}]
["4961",null,"КунРс ЭУКУнг(А)-FRHF 5х4,0 (PE,N)"," 5х4,0 (PE,N)",{"$f":"MID($D1035,IF(ISERR(FIND(\"х\",$D1035)), FIND(\"x\",$D1035)+1, FIND(\"х\",$D1035))+1, 100)","v":"4,0 (PE,N)"},"КунРс",{"$f":"MID($D1035,1, IF(ISERR(FIND(\"х\",$D1035)), FIND(\"x\",$D1035)-1, FIND(\"х\",$D1035))-1)","v":" 5"},{"$f":"IF(ISERR(FIND(\" \", E1035)), E1035, MID(E1035, 1, FIND(\" \",E1035)))","v":"4,0 "},{"$f":"IF(ISERR(FIND(\" \", E1035)), \"\", MID(E1035, FIND(\" \",E1035), 20))","v":" (PE,N)"},null,null,null,"",{"$f":"CONCATENATE(N1034,M1035)","v":""},{"$f":"IF(SUM(L$8:L1034)=0, \"\", \" + \")","v":""}]
["17417",null,"КунРс ЭУКУнг(А)-FRHF 5х6,0 (N)"," 5х6,0 (N)","6,0 (N)","КунРс"," 5","6,0 "," (N)",null,null,null,"","",{"$f":"IF(SUM(L$8:L1035)=0, \"\", \" + \")","v":""}]
["4965",null,"КунРс ЭУКУнг(А)-FRHF 5х6,0 (PE,N)"," 5х6,0 (PE,N)","6,0 (PE,N)","КунРс"," 5","6,0 "," (PE,N)",null,null,null,"","",{"$f":"IF(SUM(L$8:L1036)=0, \"\", \" + \")","v":""}]
["4879",null,"КунРс ЭУнг(А)-FRHF 2х0,75"," 2х0,75","0,75","КунРс"," 2","0,75","",null,null,null,"","",{"$f":"IF(SUM(L$8:L1037)=0, \"\", \" + \")","v":""}]
["17203",null,"КунРс ЭУнг(А)-FRHF 2х0,75 (N)"," 2х0,75 (N)","0,75 (N)","КунРс"," 2","0,75 "," (N)",null,null,null,"","",{"$f":"IF(SUM(L$8:L1038)=0, \"\", \" + \")","v":""}]
["4883",null,"КунРс ЭУнг(А)-FRHF 2х1,0"," 2х1,0","1,0","КунРс"," 2","1,0","",null,null,null,"","",{"$f":"IF(SUM(L$8:L1039)=0, \"\", \" + \")","v":""}]
["17204",null,"КунРс ЭУнг(А)-FRHF 2х1,0 (N)"," 2х1,0 (N)","1,0 (N)","КунРс"," 2","1,0 "," (N)",null,null,null,"","",{"$f":"IF(SUM(L$8:L1040)=0, \"\", \" + \")","v":""}]
["4887",null,"КунРс ЭУнг(А)-FRHF 2х1,5"," 2х1,5","1,5","КунРс"," 2","1,5","",null,null,null,"","",{"$f":"IF(SUM(L$8:L1041)=0, \"\", \" + \")","v":""}]
["17205",null,"КунРс ЭУнг(А)-FRHF 2х1,5 (N)"," 2х1,5 (N)","1,5 (N)","КунРс"," 2","1,5 "," (N)",null,null,null,"","",{"$f":"IF(SUM(L$8:L1042)=0, \"\", \" + \")","v":""}]
["4902",null,"КунРс ЭУнг(А)-FRHF 2х10,0"," 2х10,0","10,0","КунРс"," 2","10,0","",null,null,null,"","",{"$f":"IF(SUM(L$8:L1043)=0, \"\", \" + \")","v":""}]
["17209",null,"КунРс ЭУнг(А)-FRHF 2х10,0 (N)"," 2х10,0 (N)","10,0 (N)","КунРс"," 2","10,0 "," (N)",null,null,null,"","",{"$f":"IF(SUM(L$8:L1044)=0, \"\", \" + \")","v":""}]
["4906",null,"КунРс ЭУнг(А)-FRHF 2х16,0"," 2х16,0","16,0","КунРс"," 2","16,0","",null,null,null,"","",{"$f":"IF(SUM(L$8:L1045)=0, \"\", \" + \")","v":""}]
["17210",null,"КунРс ЭУнг(А)-FRHF 2х16,0 (N)"," 2х16,0 (N)","16,0 (N)","КунРс"," 2","16,0 "," (N)",null,null,null,"","",{"$f":"IF(SUM(L$8:L1046)=0, \"\", \" + \")","v":""}]
["4890",null,"КунРс ЭУнг(А)-FRHF 2х2,5"," 2х2,5","2,5","КунРс"," 2","2,5","",null,null,null,"","",{"$f":"IF(SUM(L$8:L1047)=0, \"\", \" + \")","v":""}]
["17206",null,"КунРс ЭУнг(А)-FRHF 2х2,5 (N)"," 2х2,5 (N)","2,5 (N)","КунРс"," 2","2,5 "," (N)",null,null,null,"","",{"$f":"IF(SUM(L$8:L1048)=0, \"\", \" + \")","v":""}]
["4894",null,"КунРс ЭУнг(А)-FRHF 2х4,0"," 2х4,0","4,0","КунРс"," 2","4,0","",null,null,null,"","",{"$f":"IF(SUM(L$8:L1049)=0, \"\", \" + \")","v":""}]
["17207",null,"КунРс ЭУнг(А)-FRHF 2х4,0 (N)"," 2х4,0 (N)","4,0 (N)","КунРс"," 2","4,0 "," (N)",null,null,null,"","",{"$f":"IF(SUM(L$8:L1050)=0, \"\", \" + \")","v":""}]
["4898",null,"КунРс ЭУнг(А)-FRHF 2х6,0"," 2х6,0","6,0","КунРс"," 2","6,0","",null,null,null,"","",{"$f":"IF(SUM(L$8:L1051)=0, \"\", \" + \")","v":""}]
["17208",null,"КунРс ЭУнг(А)-FRHF 2х6,0 (N)"," 2х6,0 (N)","6,0 (N)","КунРс"," 2","6,0 "," (N)",null,null,null,"","",{"$f":"IF(SUM(L$8:L1052)=0, \"\", \" + \")","v":""}]
["17155",null,"КунРс ЭУнг(А)-FRHF 3х0,75"," 3х0,75","0,75","КунРс"," 3","0,75","",null,null,null,"","",{"$f":"IF(SUM(L$8:L1053)=0, \"\", \" + \")","v":""}]
["4880",null,"КунРс ЭУнг(А)-FRHF 3х0,75 (PE,N)"," 3х0,75 (PE,N)","0,75 (PE,N)","КунРс"," 3","0,75 "," (PE,N)",null,null,null,"","",{"$f":"IF(SUM(L$8:L1054)=0, \"\", \" + \")","v":""}]
["17156",null,"КунРс ЭУнг(А)-FRHF 3х1,0"," 3х1,0","1,0","КунРс"," 3","1,0","",null,null,null,"","",{"$f":"IF(SUM(L$8:L1055)=0, \"\", \" + \")","v":""}]
["4884",null,"КунРс ЭУнг(А)-FRHF 3х1,0 (PE,N)"," 3х1,0 (PE,N)","1,0 (PE,N)","КунРс"," 3","1,0 "," (PE,N)",null,null,null,"","",{"$f":"IF(SUM(L$8:L1056)=0, \"\", \" + \")","v":""}]
["17157",null,"КунРс ЭУнг(А)-FRHF 3х1,5"," 3х1,5","1,5","КунРс"," 3","1,5","",null,null,null,"","",{"$f":"IF(SUM(L$8:L1057)=0, \"\", \" + \")","v":""}]
["4888",null,"КунРс ЭУнг(А)-FRHF 3х1,5 (PE,N)"," 3х1,5 (PE,N)","1,5 (PE,N)","КунРс"," 3","1,5 "," (PE,N)",null,null,null,"","",{"$f":"IF(SUM(L$8:L1058)=0, \"\", \" + \")","v":""}]
["17161",null,"КунРс ЭУнг(А)-FRHF 3х10,0"," 3х10,0","10,0","КунРс"," 3","10,0","",null,null,null,"","",{"$f":"IF(SUM(L$8:L1059)=0, \"\", \" + \")","v":""}]
["4903",null,"КунРс ЭУнг(А)-FRHF 3х10,0 (PE,N)"," 3х10,0 (PE,N)","10,0 (PE,N)","КунРс"," 3","10,0 "," (PE,N)",null,null,null,"","",{"$f":"IF(SUM(L$8:L1060)=0, \"\", \" + \")","v":""}]
["17162",null,"КунРс ЭУнг(А)-FRHF 3х16,0"," 3х16,0","16,0","КунРс"," 3","16,0","",null,null,null,"","",{"$f":"IF(SUM(L$8:L1061)=0, \"\", \" + \")","v":""}]
["4907",null,"КунРс ЭУнг(А)-FRHF 3х16,0 (PE,N)"," 3х16,0 (PE,N)","16,0 (PE,N)","КунРс"," 3","16,0 "," (PE,N)",null,null,null,"","",{"$f":"IF(SUM(L$8:L1062)=0, \"\", \" + \")","v":""}]
["17158",null,"КунРс ЭУнг(А)-FRHF 3х2,5"," 3х2,5","2,5","КунРс"," 3","2,5","",null,null,null,"","",{"$f":"IF(SUM(L$8:L1063)=0, \"\", \" + \")","v":""}]
["4891",null,"КунРс ЭУнг(А)-FRHF 3х2,5 (PE,N)"," 3х2,5 (PE,N)","2,5 (PE,N)","КунРс"," 3","2,5 "," (PE,N)",null,null,null,"","",{"$f":"IF(SUM(L$8:L1064)=0, \"\", \" + \")","v":""}]
["17159",null,"КунРс ЭУнг(А)-FRHF 3х4,0"," 3х4,0","4,0","КунРс"," 3","4,0","",null,null,null,"","",{"$f":"IF(SUM(L$8:L1065)=0, \"\", \" + \")","v":""}]
["4895",null,"КунРс ЭУнг(А)-FRHF 3х4,0 (PE,N)"," 3х4,0 (PE,N)","4,0 (PE,N)","КунРс"," 3","4,0 "," (PE,N)",null,null,null,"","",{"$f":"IF(SUM(L$8:L1066)=0, \"\", \" + \")","v":""}]
["17160",null,"КунРс ЭУнг(А)-FRHF 3х6,0"," 3х6,0","6,0","КунРс"," 3","6,0","",null,null,null,"","",{"$f":"IF(SUM(L$8:L1067)=0, \"\", \" + \")","v":""}]
["4899",null,"КунРс ЭУнг(А)-FRHF 3х6,0 (PE,N)"," 3х6,0 (PE,N)","6,0 (PE,N)","КунРс"," 3","6,0 "," (PE,N)",null,null,null,"","",{"$f":"IF(SUM(L$8:L1068)=0, \"\", \" + \")","v":""}]
["17299",null,"КунРс ЭУнг(А)-FRHF 4х0,75 (N)"," 4х0,75 (N)","0,75 (N)","КунРс"," 4","0,75 "," (N)",null,null,null,"","",{"$f":"IF(SUM(L$8:L1069)=0, \"\", \" + \")","v":""}]
["4881",null,"КунРс ЭУнг(А)-FRHF 4х0,75 (PE)"," 4х0,75 (PE)","0,75 (PE)","КунРс"," 4","0,75 "," (PE)",null,null,null,"","",{"$f":"IF(SUM(L$8:L1070)=0, \"\", \" + \")","v":""}]
["17300",null,"КунРс ЭУнг(А)-FRHF 4х1,0 (N)"," 4х1,0 (N)","1,0 (N)","КунРс"," 4","1,0 "," (N)",null,null,null,"","",{"$f":"IF(SUM(L$8:L1071)=0, \"\", \" + \")","v":""}]
["4885",null,"КунРс ЭУнг(А)-FRHF 4х1,0 (PE)"," 4х1,0 (PE)","1,0 (PE)","КунРс"," 4","1,0 "," (PE)",null,null,null,"","",{"$f":"IF(SUM(L$8:L1072)=0, \"\", \" + \")","v":""}]
["17301",null,"КунРс ЭУнг(А)-FRHF 4х1,5 (N)"," 4х1,5 (N)","1,5 (N)","КунРс"," 4","1,5 "," (N)",null,null,null,"","",{"$f":"IF(SUM(L$8:L1073)=0, \"\", \" + \")","v":""}]
["4842",null,"КунРс ЭУнг(А)-FRHF 4х1,5 (PE)"," 4х1,5 (PE)","1,5 (PE)","КунРс"," 4","1,5 "," (PE)",null,null,null,"","",{"$f":"IF(SUM(L$8:L1074)=0, \"\", \" + \")","v":""}]
["17305",null,"КунРс ЭУнг(А)-FRHF 4х10,0 (N)"," 4х10,0 (N)","10,0 (N)","КунРс"," 4","10,0 "," (N)",null,null,null,"","",{"$f":"IF(SUM(L$8:L1075)=0, \"\", \" + \")","v":""}]
["4904",null,"КунРс ЭУнг(А)-FRHF 4х10,0 (PE)"," 4х10,0 (PE)","10,0 (PE)","КунРс"," 4","10,0 "," (PE)",null,null,null,"","",{"$f":"IF(SUM(L$8:L1076)=0, \"\", \" + \")","v":""}]
["17306",null,"КунРс ЭУнг(А)-FRHF 4х16,0 (N)"," 4х16,0 (N)","16,0 (N)","КунРс"," 4","16,0 "," (N)",null,null,null,"","",{"$f":"IF(SUM(L$8:L1077)=0, \"\", \" + \")","v":""}]
["4908",null,"КунРс ЭУнг(А)-FRHF 4х16,0 (PE)"," 4х16,0 (PE)","16,0 (PE)","КунРс"," 4","16,0 "," (PE)",null,null,null,"","",{"$f":"IF(SUM(L$8:L1078)=0, \"\", \" + \")","v":""}]
["17302",null,"КунРс ЭУнг(А)-FRHF 4х2,5 (N)"," 4х2,5 (N)","2,5 (N)","КунРс"," 4","2,5 "," (N)",null,null,null,"","",{"$f":"IF(SUM(L$8:L1079)=0, \"\", \" + \")","v":""}]
["4892",null,"КунРс ЭУнг(А)-FRHF 4х2,5 (PE)"," 4х2,5 (PE)","2,5 (PE)","КунРс"," 4","2,5 "," (PE)",null,null,null,"","",{"$f":"IF(SUM(L$8:L1080)=0, \"\", \" + \")","v":""}]
["17303",null,"КунРс ЭУнг(А)-FRHF 4х4,0 (N)"," 4х4,0 (N)","4,0 (N)","КунРс"," 4","4,0 "," (N)",null,null,null,"","",{"$f":"IF(SUM(L$8:L1081)=0, \"\", \" + \")","v":""}]
["4896",null,"КунРс ЭУнг(А)-FRHF 4х4,0 (PE)"," 4х4,0 (PE)","4,0 (PE)","КунРс"," 4","4,0 "," (PE)",null,null,null,"","",{"$f":"IF(SUM(L$8:L1082)=0, \"\", \" + \")","v":""}]
["17304",null,"КунРс ЭУнг(А)-FRHF 4х6,0 (N)"," 4х6,0 (N)","6,0 (N)","КунРс"," 4","6,0 "," (N)",null,null,null,"","",{"$f":"IF(SUM(L$8:L1083)=0, \"\", \" + \")","v":""}]
["4900",null,"КунРс ЭУнг(А)-FRHF 4х6,0 (PE)"," 4х6,0 (PE)","6,0 (PE)","КунРс"," 4","6,0 "," (PE)",null,null,null,"","",{"$f":"IF(SUM(L$8:L1084)=0, \"\", \" + \")","v":""}]
["17396",null,"КунРс ЭУнг(А)-FRHF 5х0,75 (N)"," 5х0,75 (N)","0,75 (N)","КунРс"," 5","0,75 "," (N)",null,null,null,"","",{"$f":"IF(SUM(L$8:L1085)=0, \"\", \" + \")","v":""}]
["4882",null,"КунРс ЭУнг(А)-FRHF 5х0,75 (PE,N)"," 5х0,75 (PE,N)","0,75 (PE,N)","КунРс"," 5","0,75 "," (PE,N)",null,null,null,"","",{"$f":"IF(SUM(L$8:L1086)=0, \"\", \" + \")","v":""}]
["17397",null,"КунРс ЭУнг(А)-FRHF 5х1,0 (N)"," 5х1,0 (N)","1,0 (N)","КунРс"," 5","1,0 "," (N)",null,null,null,"","",{"$f":"IF(SUM(L$8:L1087)=0, \"\", \" + \")","v":""}]
["4886",null,"КунРс ЭУнг(А)-FRHF 5х1,0 (PE,N)"," 5х1,0 (PE,N)","1,0 (PE,N)","КунРс"," 5","1,0 "," (PE,N)",null,null,null,"","",{"$f":"IF(SUM(L$8:L1088)=0, \"\", \" + \")","v":""}]
["17398",null,"КунРс ЭУнг(А)-FRHF 5х1,5 (N)"," 5х1,5 (N)","1,5 (N)","КунРс"," 5","1,5 "," (N)",null,null,null,"","",{"$f":"IF(SUM(L$8:L1089)=0, \"\", \" + \")","v":""}]
["4889",null,"КунРс ЭУнг(А)-FRHF 5х1,5 (PE,N)"," 5х1,5 (PE,N)","1,5 (PE,N)","КунРс"," 5","1,5 "," (PE,N)",null,null,null,"","",{"$f":"IF(SUM(L$8:L1090)=0, \"\", \" + \")","v":""}]
["17402",null,"КунРс ЭУнг(А)-FRHF 5х10,0 (N)"," 5х10,0 (N)","10,0 (N)","КунРс"," 5","10,0 "," (N)",null,null,null,"","",{"$f":"IF(SUM(L$8:L1091)=0, \"\", \" + \")","v":""}]
["4905",null,"КунРс ЭУнг(А)-FRHF 5х10,0 (PE,N)"," 5х10,0 (PE,N)","10,0 (PE,N)","КунРс"," 5","10,0 "," (PE,N)",null,null,null,"","",{"$f":"IF(SUM(L$8:L1092)=0, \"\", \" + \")","v":""}]
["17403",null,"КунРс ЭУнг(А)-FRHF 5х16,0 (N)"," 5х16,0 (N)","16,0 (N)","КунРс"," 5","16,0 "," (N)",null,null,null,"","",{"$f":"IF(SUM(L$8:L1093)=0, \"\", \" + \")","v":""}]
["4909",null,"КунРс ЭУнг(А)-FRHF 5х16,0 (PE,N)"," 5х16,0 (PE,N)","16,0 (PE,N)","КунРс"," 5","16,0 "," (PE,N)",null,null,null,"","",{"$f":"IF(SUM(L$8:L1094)=0, \"\", \" + \")","v":""}]
["17399",null,"КунРс ЭУнг(А)-FRHF 5х2,5 (N)"," 5х2,5 (N)","2,5 (N)","КунРс"," 5","2,5 "," (N)",null,null,null,"","",{"$f":"IF(SUM(L$8:L1095)=0, \"\", \" + \")","v":""}]
["4893",null,"КунРс ЭУнг(А)-FRHF 5х2,5 (PE,N)"," 5х2,5 (PE,N)","2,5 (PE,N)","КунРс"," 5","2,5 "," (PE,N)",null,null,null,"","",{"$f":"IF(SUM(L$8:L1096)=0, \"\", \" + \")","v":""}]
["17400",null,"КунРс ЭУнг(А)-FRHF 5х4,0 (N)",{"$f":"MID(C1098, FIND(\" \",C1098, FIND(\" \",C1098)+1), 100)","v":" 5х4,0 (N)"},"4,0 (N)",{"$f":"MID(C1098, 1, IF(ISERR(FIND(\"Кун\",C1098)), 3, 5))","v":"КунРс"}," 5","4,0 "," (N)",null,null,null,{"$f":"IF(L1098=0, \"\",CONCATENATE(O1098, C1098, \"-\",L1098,\"м\"))","v":""},"",{"$f":"IF(SUM(L$8:L1097)=0, \"\", \" + \")","v":""}]
["4897",null,"КунРс ЭУнг(А)-FRHF 5х4,0 (PE,N)",{"$f":"MID(C1099, FIND(\" \",C1099, FIND(\" \",C1099)+1), 100)","v":" 5х4,0 (PE,N)"},{"$f":"MID($D1099,IF(ISERR(FIND(\"х\",$D1099)), FIND(\"x\",$D1099)+1, FIND(\"х\",$D1099))+1, 100)","v":"4,0 (PE,N)"},"КунРс",{"$f":"MID($D1099,1, IF(ISERR(FIND(\"х\",$D1099)), FIND(\"x\",$D1099)-1, FIND(\"х\",$D1099))-1)","v":" 5"},{"$f":"IF(ISERR(FIND(\" \", E1099)), E1099, MID(E1099, 1, FIND(\" \",E1099)))","v":"4,0 "},{"$f":"IF(ISERR(FIND(\" \", E1099)), \"\", MID(E1099, FIND(\" \",E1099), 20))","v":" (PE,N)"},null,null,null,"",{"$f":"CONCATENATE(N1098,M1099)","v":""},{"$f":"IF(SUM(L$8:L1098)=0, \"\", \" + \")","v":""}]
["17401",null,"КунРс ЭУнг(А)-FRHF 5х6,0 (N)",{"$f":"MID(C1100, FIND(\" \",C1100, FIND(\" \",C1100)+1), 100)","v":" 5х6,0 (N)"},{"$f":"MID($D1100,IF(ISERR(FIND(\"х\",$D1100)), FIND(\"x\",$D1100)+1, FIND(\"х\",$D1100))+1, 100)","v":"6,0 (N)"},"КунРс",{"$f":"MID($D1100,1, IF(ISERR(FIND(\"х\",$D1100)), FIND(\"x\",$D1100)-1, FIND(\"х\",$D1100))-1)","v":" 5"},"6,0 ",{"$f":"IF(ISERR(FIND(\" \", E1100)), \"\", MID(E1100, FIND(\" \",E1100), 20))","v":" (N)"},null,null,null,"","",{"$f":"IF(SUM(L$8:L1099)=0, \"\", \" + \")","v":""}]
["4901",null,"КунРс ЭУнг(А)-FRHF 5х6,0 (PE,N)",{"$f":"MID(C1101, FIND(\" \",C1101, FIND(\" \",C1101)+1), 100)","v":" 5х6,0 (PE,N)"},{"$f":"MID($D1101,IF(ISERR(FIND(\"х\",$D1101)), FIND(\"x\",$D1101)+1, FIND(\"х\",$D1101))+1, 100)","v":"6,0 (PE,N)"},"КунРс",{"$f":"MID($D1101,1, IF(ISERR(FIND(\"х\",$D1101)), FIND(\"x\",$D1101)-1, FIND(\"х\",$D1101))-1)","v":" 5"},"6,0 ",{"$f":"IF(ISERR(FIND(\" \", E1101)), \"\", MID(E1101, FIND(\" \",E1101), 20))","v":" (PE,N)"},null,null,null,"","",{"$f":"IF(SUM(L$8:L1100)=0, \"\", \" + \")","v":""}]
["5671",null,"ВВГнг(А)-FRLSLTx 1x1,5 ок-0.66",{"$f":"MID(C1102, FIND(\" \",C1102),FIND(\" \",C1102, FIND(\" \",C1102)+1)-FIND(\" \",C1102) )","v":" 1x1,5"},{"$f":"MID($D1102,IF(ISERR(FIND(\"х\",$D1102)), FIND(\"x\",$D1102), FIND(\"х\",$D1102))+1, 100)","v":"1,5"},"ВВГ",{"$f":"MID($D1102,1, IF(ISERR(FIND(\"х\",$D1102)), FIND(\"x\",$D1102), FIND(\"х\",$D1102))-1)","v":" 1"},"1,5",{"$f":"IF(ISERR(FIND(\" \", E1102)), \"\", MID(E1102, FIND(\" \",E1102), 20))","v":""},null,null,null,"","",{"$f":"IF(SUM(L$8:L1101)=0, \"\", \" + \")","v":""}]
["16219",null,"ВВГнг(А)-FRLSLTx 1x1,5 ок-1"," 1x1,5",{"$f":"MID($D1103,IF(ISERR(FIND(\"х\",$D1103)), FIND(\"x\",$D1103), FIND(\"х\",$D1103))+1, 100)","v":"1,5"},"ВВГ",{"$f":"MID($D1103,1, IF(ISERR(FIND(\"х\",$D1103)), FIND(\"x\",$D1103), FIND(\"х\",$D1103))-1)","v":" 1"},"1,5",null,null,null,null,"","",{"$f":"IF(SUM(L$8:L1102)=0, \"\", \" + \")","v":""}]
["5690",null,"ВВГнг(А)-FRLSLTx 1x10,0 ок-0.66"," 1x10,0","10,0","ВВГ"," 1","10,0",null,null,null,null,"","",{"$f":"IF(SUM(L$8:L1103)=0, \"\", \" + \")","v":""}]
["16238",null,"ВВГнг(А)-FRLSLTx 1x10,0 ок-1"," 1x10,0","10,0","ВВГ"," 1","10,0",null,null,null,null,"","",{"$f":"IF(SUM(L$8:L1104)=0, \"\", \" + \")","v":""}]
["5695",null,"ВВГнг(А)-FRLSLTx 1x16,0 мк-0.66"," 1x16,0","16,0","ВВГ"," 1","16,0",null,null,null,null,"","",{"$f":"IF(SUM(L$8:L1105)=0, \"\", \" + \")","v":""}]
["16243",null,"ВВГнг(А)-FRLSLTx 1x16,0 мк-1"," 1x16,0","16,0","ВВГ"," 1","16,0",null,null,null,null,"","",{"$f":"IF(SUM(L$8:L1106)=0, \"\", \" + \")","v":""}]
["5676",null,"ВВГнг(А)-FRLSLTx 1x2,5 ок-0.66"," 1x2,5","2,5","ВВГ"," 1","2,5",null,null,null,null,"","",{"$f":"IF(SUM(L$8:L1107)=0, \"\", \" + \")","v":""}]
["16224",null,"ВВГнг(А)-FRLSLTx 1x2,5 ок-1"," 1x2,5","2,5","ВВГ"," 1","2,5",null,null,null,null,"","",{"$f":"IF(SUM(L$8:L1108)=0, \"\", \" + \")","v":""}]
["5680",null,"ВВГнг(А)-FRLSLTx 1x4,0 ок-0.66"," 1x4,0","4,0","ВВГ"," 1","4,0",null,null,null,null,"","",{"$f":"IF(SUM(L$8:L1109)=0, \"\", \" + \")","v":""}]
["16228",null,"ВВГнг(А)-FRLSLTx 1x4,0 ок-1"," 1x4,0","4,0","ВВГ"," 1","4,0",null,null,null,null,"","",{"$f":"IF(SUM(L$8:L1110)=0, \"\", \" + \")","v":""}]
["5685",null,"ВВГнг(А)-FRLSLTx 1x6,0 ок-0.66"," 1x6,0","6,0","ВВГ"," 1","6,0",null,null,null,null,"","",{"$f":"IF(SUM(L$8:L1111)=0, \"\", \" + \")","v":""}]
["16233",null,"ВВГнг(А)-FRLSLTx 1x6,0 ок-1"," 1x6,0","6,0","ВВГ"," 1","6,0",null,null,null,null,"","",{"$f":"IF(SUM(L$8:L1112)=0, \"\", \" + \")","v":""}]
["16220",null,"ВВГнг(А)-FRLSLTx 2x1,5 ок (N) -1"," 2x1,5","1,5","ВВГ"," 2","1,5",null,null,null,null,"","",{"$f":"IF(SUM(L$8:L1113)=0, \"\", \" + \")","v":""}]
["5672",null,"ВВГнг(А)-FRLSLTx 2x1,5 ок (N)-0.66"," 2x1,5","1,5","ВВГ"," 2","1,5",null,null,null,null,"","",{"$f":"IF(SUM(L$8:L1114)=0, \"\", \" + \")","v":""}]
["20964",null,"ВВГнг(А)-FRLSLTx 2x10,0 исп. СКОИ "," 2x10,0","10,0","ВВГ"," 2","10,0",null,null,null,null,"","",{"$f":"IF(SUM(L$8:L1115)=0, \"\", \" + \")","v":""}]
["16239",null,"ВВГнг(А)-FRLSLTx 2x10,0 ок (N) -1"," 2x10,0","10,0","ВВГ"," 2","10,0",null,null,null,null,"","",{"$f":"IF(SUM(L$8:L1116)=0, \"\", \" + \")","v":""}]
["5691",null,"ВВГнг(А)-FRLSLTx 2x10,0 ок (N)-0.66"," 2x10,0","10,0","ВВГ"," 2","10,0",null,null,null,null,"","",{"$f":"IF(SUM(L$8:L1117)=0, \"\", \" + \")","v":""}]
["16244",null,"ВВГнг(А)-FRLSLTx 2x16,0 мк (N) -1"," 2x16,0","16,0","ВВГ"," 2","16,0",null,null,null,null,"","",{"$f":"IF(SUM(L$8:L1118)=0, \"\", \" + \")","v":""}]
["5696",null,"ВВГнг(А)-FRLSLTx 2x16,0 мк (N)-0.66"," 2x16,0","16,0","ВВГ"," 2","16,0",null,null,null,null,"","",{"$f":"IF(SUM(L$8:L1119)=0, \"\", \" + \")","v":""}]
["20966",null,"ВВГнг(А)-FRLSLTx 2x2,5 исп. СКОИ "," 2x2,5","2,5","ВВГ"," 2","2,5",null,null,null,null,"","",{"$f":"IF(SUM(L$8:L1120)=0, \"\", \" + \")","v":""}]
["16225",null,"ВВГнг(А)-FRLSLTx 2x2,5 ок (N) -1"," 2x2,5","2,5","ВВГ"," 2","2,5",null,null,null,null,"","",{"$f":"IF(SUM(L$8:L1121)=0, \"\", \" + \")","v":""}]
["5677",null,"ВВГнг(А)-FRLSLTx 2x2,5 ок (N)-0.66"," 2x2,5","2,5","ВВГ"," 2","2,5",null,null,null,null,"","",{"$f":"IF(SUM(L$8:L1122)=0, \"\", \" + \")","v":""}]
["16229",null,"ВВГнг(А)-FRLSLTx 2x4,0 ок (N) -1"," 2x4,0","4,0","ВВГ"," 2","4,0",null,null,null,null,"","",{"$f":"IF(SUM(L$8:L1123)=0, \"\", \" + \")","v":""}]
["5681",null,"ВВГнг(А)-FRLSLTx 2x4,0 ок (N)-0.66"," 2x4,0","4,0","ВВГ"," 2","4,0",null,null,null,null,"","",{"$f":"IF(SUM(L$8:L1124)=0, \"\", \" + \")","v":""}]
["16234",null,"ВВГнг(А)-FRLSLTx 2x6,0 ок (N) -1"," 2x6,0","6,0","ВВГ"," 2","6,0",null,null,null,null,"","",{"$f":"IF(SUM(L$8:L1125)=0, \"\", \" + \")","v":""}]
["5686",null,"ВВГнг(А)-FRLSLTx 2x6,0 ок (N)-0.66"," 2x6,0","6,0","ВВГ"," 2","6,0",null,null,null,null,"","",{"$f":"IF(SUM(L$8:L1126)=0, \"\", \" + \")","v":""}]
["20965",null,"ВВГнг(А)-FRLSLTx 3x1,5 исп. СКОИ "," 3x1,5","1,5","ВВГ"," 3","1,5",null,null,null,null,"","",{"$f":"IF(SUM(L$8:L1127)=0, \"\", \" + \")","v":""}]
["5673",null,"ВВГнг(А)-FRLSLTx 3x1,5 ок-0.66"," 3x1,5","1,5","ВВГ"," 3","1,5",null,null,null,null,"","",{"$f":"IF(SUM(L$8:L1128)=0, \"\", \" + \")","v":""}]
["16221",null,"ВВГнг(А)-FRLSLTx 3x1,5 ок-1"," 3x1,5","1,5","ВВГ"," 3","1,5",null,null,null,null,"","",{"$f":"IF(SUM(L$8:L1129)=0, \"\", \" + \")","v":""}]
["5692",null,"ВВГнг(А)-FRLSLTx 3x10,0 ок-0.66"," 3x10,0","10,0","ВВГ"," 3","10,0",null,null,null,null,"","",{"$f":"IF(SUM(L$8:L1130)=0, \"\", \" + \")","v":""}]
["16240",null,"ВВГнг(А)-FRLSLTx 3x10,0 ок-1"," 3x10,0","10,0","ВВГ"," 3","10,0",null,null,null,null,"","",{"$f":"IF(SUM(L$8:L1131)=0, \"\", \" + \")","v":""}]
["5697",null,"ВВГнг(А)-FRLSLTx 3x16,0 мк-0.66"," 3x16,0","16,0","ВВГ"," 3","16,0",null,null,null,null,"","",{"$f":"IF(SUM(L$8:L1132)=0, \"\", \" + \")","v":""}]
["16245",null,"ВВГнг(А)-FRLSLTx 3x16,0 мк-1",{"$f":"MID(C1134, FIND(\" \",C1134),FIND(\" \",C1134, FIND(\" \",C1134)+1)-FIND(\" \",C1134) )","v":" 3x16,0"},"16,0","ВВГ"," 3","16,0",null,null,null,null,"","",{"$f":"IF(SUM(L$8:L1133)=0, \"\", \" + \")","v":""}]
["4496",null,"ВВГнг(А)-FRLSLTx 3x2,5 ок-0.66"," 3x2,5","2,5","ВВГ"," 3","2,5",null,null,null,null,"","",{"$f":"IF(SUM(L$8:L1134)=0, \"\", \" + \")","v":""}]
["6177",null,"ВВГнг(А)-FRLSLTx 3x2,5 ок-1"," 3x2,5","2,5","ВВГ"," 3","2,5",null,null,null,null,"","",{"$f":"IF(SUM(L$8:L1135)=0, \"\", \" + \")","v":""}]
["5682",null,"ВВГнг(А)-FRLSLTx 3x4,0 ок-0.66"," 3x4,0","4,0","ВВГ"," 3","4,0",null,null,null,null,"","",{"$f":"IF(SUM(L$8:L1136)=0, \"\", \" + \")","v":""}]
["16230",null,"ВВГнг(А)-FRLSLTx 3x4,0 ок-1"," 3x4,0","4,0","ВВГ"," 3","4,0",null,null,null,null,"","",{"$f":"IF(SUM(L$8:L1137)=0, \"\", \" + \")","v":""}]
["5687",null,"ВВГнг(А)-FRLSLTx 3x6,0 ок-0.66"," 3x6,0","6,0","ВВГ"," 3","6,0",null,null,null,null,"","",{"$f":"IF(SUM(L$8:L1138)=0, \"\", \" + \")","v":""}]
["16235",null,"ВВГнг(А)-FRLSLTx 3x6,0 ок-1"," 3x6,0","6,0","ВВГ"," 3","6,0",null,null,null,null,"","",{"$f":"IF(SUM(L$8:L1139)=0, \"\", \" + \")","v":""}]
["16222",null,"ВВГнг(А)-FRLSLTx 4x1,5 ок (N) -1"," 4x1,5","1,5","ВВГ"," 4","1,5",null,null,null,null,"","",{"$f":"IF(SUM(L$8:L1140)=0, \"\", \" + \")","v":""}]
["5674",null,"ВВГнг(А)-FRLSLTx 4x1,5 ок (N)-0.66"," 4x1,5","1,5","ВВГ"," 4","1,5",null,null,null,null,"","",{"$f":"IF(SUM(L$8:L1141)=0, \"\", \" + \")","v":""}]
["16241",null,"ВВГнг(А)-FRLSLTx 4x10,0 ок (N) -1"," 4x10,0","10,0","ВВГ"," 4","10,0",null,null,null,null,"","",{"$f":"IF(SUM(L$8:L1142)=0, \"\", \" + \")","v":""}]
["5693",null,"ВВГнг(А)-FRLSLTx 4x10,0 ок (N)-0.66"," 4x10,0","10,0","ВВГ"," 4","10,0",null,null,null,null,"","",{"$f":"IF(SUM(L$8:L1143)=0, \"\", \" + \")","v":""}]
["16246",null,"ВВГнг(А)-FRLSLTx 4x16,0 мк (N) -1"," 4x16,0","16,0","ВВГ"," 4","16,0",null,null,null,null,"","",{"$f":"IF(SUM(L$8:L1144)=0, \"\", \" + \")","v":""}]
["5698",null,"ВВГнг(А)-FRLSLTx 4x16,0 мк (N)-0.66"," 4x16,0","16,0","ВВГ"," 4","16,0",null,null,null,null,"","",{"$f":"IF(SUM(L$8:L1145)=0, \"\", \" + \")","v":""}]
["16226",null,"ВВГнг(А)-FRLSLTx 4x2,5 ок (N) -1"," 4x2,5","2,5","ВВГ"," 4","2,5",null,null,null,null,"","",{"$f":"IF(SUM(L$8:L1146)=0, \"\", \" + \")","v":""}]
["5678",null,"ВВГнг(А)-FRLSLTx 4x2,5 ок (N)-0.66"," 4x2,5","2,5","ВВГ"," 4","2,5",null,null,null,null,"","",{"$f":"IF(SUM(L$8:L1147)=0, \"\", \" + \")","v":""}]
["16231",null,"ВВГнг(А)-FRLSLTx 4x4,0 ок (N) -1"," 4x4,0","4,0","ВВГ"," 4","4,0",null,null,null,null,"","",{"$f":"IF(SUM(L$8:L1148)=0, \"\", \" + \")","v":""}]
["5683",null,"ВВГнг(А)-FRLSLTx 4x4,0 ок (N)-0.66"," 4x4,0","4,0","ВВГ"," 4","4,0",null,null,null,null,"","",{"$f":"IF(SUM(L$8:L1149)=0, \"\", \" + \")","v":""}]
["16236",null,"ВВГнг(А)-FRLSLTx 4x6,0 ок (N) -1"," 4x6,0","6,0","ВВГ"," 4","6,0",null,null,null,null,"","",{"$f":"IF(SUM(L$8:L1150)=0, \"\", \" + \")","v":""}]
["5688",null,"ВВГнг(А)-FRLSLTx 4x6,0 ок (N)-0.66"," 4x6,0","6,0","ВВГ"," 4","6,0",null,null,null,null,"","",{"$f":"IF(SUM(L$8:L1151)=0, \"\", \" + \")","v":""}]
["5675",null,"ВВГнг(А)-FRLSLTx 5x1,5 ок (N,PE)-0.66"," 5x1,5","1,5","ВВГ"," 5","1,5",null,null,null,null,"","",{"$f":"IF(SUM(L$8:L1152)=0, \"\", \" + \")","v":""}]
["16223",null,"ВВГнг(А)-FRLSLTx 5x1,5 ок (PE,N) -1"," 5x1,5","1,5","ВВГ"," 5","1,5",null,null,null,null,"","",{"$f":"IF(SUM(L$8:L1153)=0, \"\", \" + \")","v":""}]
["5694",null,"ВВГнг(А)-FRLSLTx 5x10,0 ок (N,PE)-0.66"," 5x10,0","10,0","ВВГ"," 5","10,0",null,null,null,null,"","",{"$f":"IF(SUM(L$8:L1154)=0, \"\", \" + \")","v":""}]
["16242",null,"ВВГнг(А)-FRLSLTx 5x10,0 ок (PE,N) -1"," 5x10,0","10,0","ВВГ"," 5","10,0",null,null,null,null,"","",{"$f":"IF(SUM(L$8:L1155)=0, \"\", \" + \")","v":""}]
["5699",null,"ВВГнг(А)-FRLSLTx 5x16,0 мк (N,PE)-0.66"," 5x16,0","16,0","ВВГ"," 5","16,0",null,null,null,null,"","",{"$f":"IF(SUM(L$8:L1156)=0, \"\", \" + \")","v":""}]
["16247",null,"ВВГнг(А)-FRLSLTx 5x16,0 мк (PE,N) -1"," 5x16,0","16,0","ВВГ"," 5","16,0",null,null,null,null,"","",{"$f":"IF(SUM(L$8:L1157)=0, \"\", \" + \")","v":""}]
["5679",null,"ВВГнг(А)-FRLSLTx 5x2,5 ок (N,PE)-0.66"," 5x2,5","2,5","ВВГ"," 5","2,5",null,null,null,null,"","",{"$f":"IF(SUM(L$8:L1158)=0, \"\", \" + \")","v":""}]
["16227",null,"ВВГнг(А)-FRLSLTx 5x2,5 ок (PE,N) -1"," 5x2,5","2,5","ВВГ"," 5","2,5",null,null,null,null,"","",{"$f":"IF(SUM(L$8:L1159)=0, \"\", \" + \")","v":""}]
["5684",null,"ВВГнг(А)-FRLSLTx 5x4,0 ок (N,PE)-0.66"," 5x4,0","4,0","ВВГ"," 5","4,0",null,null,null,null,"","",{"$f":"IF(SUM(L$8:L1160)=0, \"\", \" + \")","v":""}]
["16232",null,"ВВГнг(А)-FRLSLTx 5x4,0 ок (PE,N) -1"," 5x4,0","4,0",{"$f":"MID(C1162, 1, IF(ISERR(FIND(\"Кун\",C1162)), 3, 5))","v":"ВВГ"}," 5","4,0",null,null,null,null,{"$f":"IF(L1162=0, \"\",CONCATENATE(O1162, C1162, \"-\",L1162,\"м\"))","v":""},"",{"$f":"IF(SUM(L$8:L1161)=0, \"\", \" + \")","v":""}]
["5689",null,"ВВГнг(А)-FRLSLTx 5x6,0 ок (N,PE)-0.66"," 5x6,0","6,0","ВВГ"," 5",{"$f":"IF(ISERR(FIND(\" \", E1163)), E1163, MID(E1163, 1, FIND(\" \",E1163)))","v":"6,0"},null,null,null,null,"",{"$f":"CONCATENATE(N1162,M1163)","v":""},{"$f":"IF(SUM(L$8:L1162)=0, \"\", \" + \")","v":""}]
["16237",null,"ВВГнг(А)-FRLSLTx 5x6,0 ок (PE,N) -1"," 5x6,0","6,0","ВВГ"," 5","6,0",null,null,null,null,"","",{"$f":"IF(SUM(L$8:L1163)=0, \"\", \" + \")","v":""}]
["5700",null,"ВВГЭнг(А)-FRLSLTx 1x1,5 ок-0.66"," 1x1,5","1,5","ВВГ"," 1","1,5",null,null,null,null,"","",{"$f":"IF(SUM(L$8:L1164)=0, \"\", \" + \")","v":""}]
["16248",null,"ВВГЭнг(А)-FRLSLTx 1x1,5 ок-1",{"$f":"MID(C1166, FIND(\" \",C1166),FIND(\" \",C1166, FIND(\" \",C1166)+1)-FIND(\" \",C1166) )","v":" 1x1,5"},"1,5","ВВГ"," 1","1,5",null,null,null,null,"","",{"$f":"IF(SUM(L$8:L1165)=0, \"\", \" + \")","v":""}]
["5720",null,"ВВГЭнг(А)-FRLSLTx 1x10,0 ок-0.66"," 1x10,0",{"$f":"MID($D1167,IF(ISERR(FIND(\"х\",$D1167)), FIND(\"x\",$D1167), FIND(\"х\",$D1167))+1, 100)","v":"10,0"},"ВВГ",{"$f":"MID($D1167,1, IF(ISERR(FIND(\"х\",$D1167)), FIND(\"x\",$D1167), FIND(\"х\",$D1167))-1)","v":" 1"},"10,0",null,null,null,null,"","",{"$f":"IF(SUM(L$8:L1166)=0, \"\", \" + \")","v":""}]
["16268",null,"ВВГЭнг(А)-FRLSLTx 1x10,0 ок-1"," 1x10,0","10,0","ВВГ"," 1","10,0",null,null,null,null,"","",{"$f":"IF(SUM(L$8:L1167)=0, \"\", \" + \")","v":""}]
["5725",null,"ВВГЭнг(А)-FRLSLTx 1x16,0 мк-0.66"," 1x16,0","16,0","ВВГ"," 1","16,0",null,null,null,null,"","",{"$f":"IF(SUM(L$8:L1168)=0, \"\", \" + \")","v":""}]
["16273",null,"ВВГЭнг(А)-FRLSLTx 1x16,0 мк-1"," 1x16,0","16,0","ВВГ"," 1","16,0",null,null,null,null,"","",{"$f":"IF(SUM(L$8:L1169)=0, \"\", \" + \")","v":""}]
["5705",null,"ВВГЭнг(А)-FRLSLTx 1x2,5 ок-0.66"," 1x2,5","2,5","ВВГ"," 1","2,5",null,null,null,null,"","",{"$f":"IF(SUM(L$8:L1170)=0, \"\", \" + \")","v":""}]
["16253",null,"ВВГЭнг(А)-FRLSLTx 1x2,5 ок-1"," 1x2,5","2,5","ВВГ"," 1","2,5",null,null,null,null,"","",{"$f":"IF(SUM(L$8:L1171)=0, \"\", \" + \")","v":""}]
["5710",null,"ВВГЭнг(А)-FRLSLTx 1x4,0 ок-0.66"," 1x4,0","4,0","ВВГ"," 1","4,0",null,null,null,null,"","",{"$f":"IF(SUM(L$8:L1172)=0, \"\", \" + \")","v":""}]
["16258",null,"ВВГЭнг(А)-FRLSLTx 1x4,0 ок-1"," 1x4,0","4,0","ВВГ"," 1","4,0",null,null,null,null,"","",{"$f":"IF(SUM(L$8:L1173)=0, \"\", \" + \")","v":""}]
["5715",null,"ВВГЭнг(А)-FRLSLTx 1x6,0 ок-0.66"," 1x6,0","6,0","ВВГ"," 1","6,0",null,null,null,null,"","",{"$f":"IF(SUM(L$8:L1174)=0, \"\", \" + \")","v":""}]
["16263",null,"ВВГЭнг(А)-FRLSLTx 1x6,0 ок-1"," 1x6,0","6,0","ВВГ"," 1","6,0",null,null,null,null,"","",{"$f":"IF(SUM(L$8:L1175)=0, \"\", \" + \")","v":""}]
["16249",null,"ВВГЭнг(А)-FRLSLTx 2x1,5 ок (N) -1"," 2x1,5","1,5","ВВГ"," 2","1,5",null,null,null,null,"","",{"$f":"IF(SUM(L$8:L1176)=0, \"\", \" + \")","v":""}]
["5701",null,"ВВГЭнг(А)-FRLSLTx 2x1,5 ок (N)-0.66"," 2x1,5","1,5","ВВГ"," 2","1,5",null,null,null,null,"","",{"$f":"IF(SUM(L$8:L1177)=0, \"\", \" + \")","v":""}]
["16269",null,"ВВГЭнг(А)-FRLSLTx 2x10,0 ок (N) -1"," 2x10,0","10,0","ВВГ"," 2","10,0",null,null,null,null,"","",{"$f":"IF(SUM(L$8:L1178)=0, \"\", \" + \")","v":""}]
["5721",null,"ВВГЭнг(А)-FRLSLTx 2x10,0 ок (N)-0.66"," 2x10,0","10,0","ВВГ"," 2","10,0",null,null,null,null,"","",{"$f":"IF(SUM(L$8:L1179)=0, \"\", \" + \")","v":""}]
["16274",null,"ВВГЭнг(А)-FRLSLTx 2x16,0 мк (N) -1"," 2x16,0","16,0","ВВГ"," 2","16,0",null,null,null,null,"","",{"$f":"IF(SUM(L$8:L1180)=0, \"\", \" + \")","v":""}]
["5726",null,"ВВГЭнг(А)-FRLSLTx 2x16,0 мк (N)-0.66"," 2x16,0","16,0","ВВГ"," 2","16,0",null,null,null,null,"","",{"$f":"IF(SUM(L$8:L1181)=0, \"\", \" + \")","v":""}]
["16254",null,"ВВГЭнг(А)-FRLSLTx 2x2,5 ок (N) -1"," 2x2,5","2,5","ВВГ"," 2","2,5",null,null,null,null,"","",{"$f":"IF(SUM(L$8:L1182)=0, \"\", \" + \")","v":""}]
["5706",null,"ВВГЭнг(А)-FRLSLTx 2x2,5 ок (N)-0.66"," 2x2,5","2,5","ВВГ"," 2","2,5",null,null,null,null,"","",{"$f":"IF(SUM(L$8:L1183)=0, \"\", \" + \")","v":""}]
["16259",null,"ВВГЭнг(А)-FRLSLTx 2x4,0 ок (N) -1"," 2x4,0","4,0","ВВГ"," 2","4,0",null,null,null,null,"","",{"$f":"IF(SUM(L$8:L1184)=0, \"\", \" + \")","v":""}]
["5711",null,"ВВГЭнг(А)-FRLSLTx 2x4,0 ок (N)-0.66"," 2x4,0","4,0","ВВГ"," 2","4,0",null,null,null,null,"","",{"$f":"IF(SUM(L$8:L1185)=0, \"\", \" + \")","v":""}]
["16264",null,"ВВГЭнг(А)-FRLSLTx 2x6,0 ок (N) -1"," 2x6,0","6,0","ВВГ"," 2","6,0",null,null,null,null,"","",{"$f":"IF(SUM(L$8:L1186)=0, \"\", \" + \")","v":""}]
["5716",null,"ВВГЭнг(А)-FRLSLTx 2x6,0 ок (N)-0.66"," 2x6,0","6,0","ВВГ"," 2","6,0",null,null,null,null,"","",{"$f":"IF(SUM(L$8:L1187)=0, \"\", \" + \")","v":""}]
["5702",null,"ВВГЭнг(А)-FRLSLTx 3x1,5 ок-0.66"," 3x1,5","1,5","ВВГ"," 3","1,5",null,null,null,null,"","",{"$f":"IF(SUM(L$8:L1188)=0, \"\", \" + \")","v":""}]
["16250",null,"ВВГЭнг(А)-FRLSLTx 3x1,5 ок-1"," 3x1,5","1,5","ВВГ"," 3","1,5",null,null,null,null,"","",{"$f":"IF(SUM(L$8:L1189)=0, \"\", \" + \")","v":""}]
["5722",null,"ВВГЭнг(А)-FRLSLTx 3x10,0 ок-0.66"," 3x10,0","10,0","ВВГ"," 3","10,0",null,null,null,null,"","",{"$f":"IF(SUM(L$8:L1190)=0, \"\", \" + \")","v":""}]
["16270",null,"ВВГЭнг(А)-FRLSLTx 3x10,0 ок-1"," 3x10,0","10,0","ВВГ"," 3","10,0",null,null,null,null,"","",{"$f":"IF(SUM(L$8:L1191)=0, \"\", \" + \")","v":""}]
["5727",null,"ВВГЭнг(А)-FRLSLTx 3x16,0 мк-0.66"," 3x16,0","16,0","ВВГ"," 3","16,0",null,null,null,null,"","",{"$f":"IF(SUM(L$8:L1192)=0, \"\", \" + \")","v":""}]
["16275",null,"ВВГЭнг(А)-FRLSLTx 3x16,0 мк-1"," 3x16,0","16,0","ВВГ"," 3","16,0",null,null,null,null,"","",{"$f":"IF(SUM(L$8:L1193)=0, \"\", \" + \")","v":""}]
["5707",null,"ВВГЭнг(А)-FRLSLTx 3x2,5 ок-0.66"," 3x2,5","2,5","ВВГ"," 3","2,5",null,null,null,null,"","",{"$f":"IF(SUM(L$8:L1194)=0, \"\", \" + \")","v":""}]
["16255",null,"ВВГЭнг(А)-FRLSLTx 3x2,5 ок-1"," 3x2,5","2,5","ВВГ"," 3","2,5",null,null,null,null,"","",{"$f":"IF(SUM(L$8:L1195)=0, \"\", \" + \")","v":""}]
["5712",null,"ВВГЭнг(А)-FRLSLTx 3x4,0 ок-0.66"," 3x4,0","4,0","ВВГ"," 3","4,0",null,null,null,null,"","",{"$f":"IF(SUM(L$8:L1196)=0, \"\", \" + \")","v":""}]
["16260",null,"ВВГЭнг(А)-FRLSLTx 3x4,0 ок-1",{"$f":"MID(C1198, FIND(\" \",C1198),FIND(\" \",C1198, FIND(\" \",C1198)+1)-FIND(\" \",C1198) )","v":" 3x4,0"},"4,0","ВВГ"," 3","4,0",null,null,null,null,"","",{"$f":"IF(SUM(L$8:L1197)=0, \"\", \" + \")","v":""}]
["5717",null,"ВВГЭнг(А)-FRLSLTx 3x6,0 ок-0.66"," 3x6,0","6,0","ВВГ"," 3","6,0",null,null,null,null,"","",{"$f":"IF(SUM(L$8:L1198)=0, \"\", \" + \")","v":""}]
["16265",null,"ВВГЭнг(А)-FRLSLTx 3x6,0 ок-1"," 3x6,0","6,0","ВВГ"," 3","6,0",null,null,null,null,"","",{"$f":"IF(SUM(L$8:L1199)=0, \"\", \" + \")","v":""}]
["16251",null,"ВВГЭнг(А)-FRLSLTx 4x1,5 ок (N) -1"," 4x1,5","1,5","ВВГ"," 4","1,5",null,null,null,null,"","",{"$f":"IF(SUM(L$8:L1200)=0, \"\", \" + \")","v":""}]
["5703",null,"ВВГЭнг(А)-FRLSLTx 4x1,5 ок (N)-0.66"," 4x1,5","1,5","ВВГ"," 4","1,5",null,null,null,null,"","",{"$f":"IF(SUM(L$8:L1201)=0, \"\", \" + \")","v":""}]
["16271",null,"ВВГЭнг(А)-FRLSLTx 4x10,0 ок (N) -1"," 4x10,0","10,0","ВВГ"," 4","10,0",null,null,null,null,"","",{"$f":"IF(SUM(L$8:L1202)=0, \"\", \" + \")","v":""}]
["5723",null,"ВВГЭнг(А)-FRLSLTx 4x10,0 ок (N)-0.66"," 4x10,0","10,0","ВВГ"," 4","10,0",null,null,null,null,"","",{"$f":"IF(SUM(L$8:L1203)=0, \"\", \" + \")","v":""}]
["16276",null,"ВВГЭнг(А)-FRLSLTx 4x16,0 мк (N) -1"," 4x16,0","16,0","ВВГ"," 4","16,0",null,null,null,null,"","",{"$f":"IF(SUM(L$8:L1204)=0, \"\", \" + \")","v":""}]
["5728",null,"ВВГЭнг(А)-FRLSLTx 4x16,0 мк (N)-0.66"," 4x16,0","16,0","ВВГ"," 4","16,0",null,null,null,null,"","",{"$f":"IF(SUM(L$8:L1205)=0, \"\", \" + \")","v":""}]
["16256",null,"ВВГЭнг(А)-FRLSLTx 4x2,5 ок (N) -1"," 4x2,5","2,5","ВВГ"," 4","2,5",null,null,null,null,"","",{"$f":"IF(SUM(L$8:L1206)=0, \"\", \" + \")","v":""}]
["5708",null,"ВВГЭнг(А)-FRLSLTx 4x2,5 ок (N)-0.66"," 4x2,5","2,5","ВВГ"," 4","2,5",null,null,null,null,"","",{"$f":"IF(SUM(L$8:L1207)=0, \"\", \" + \")","v":""}]
["16261",null,"ВВГЭнг(А)-FRLSLTx 4x4,0 ок (N) -1"," 4x4,0","4,0","ВВГ"," 4","4,0",null,null,null,null,"","",{"$f":"IF(SUM(L$8:L1208)=0, \"\", \" + \")","v":""}]
["5713",null,"ВВГЭнг(А)-FRLSLTx 4x4,0 ок (N)-0.66"," 4x4,0","4,0","ВВГ"," 4","4,0",null,null,null,null,"","",{"$f":"IF(SUM(L$8:L1209)=0, \"\", \" + \")","v":""}]
["16266",null,"ВВГЭнг(А)-FRLSLTx 4x6,0 ок (N) -1"," 4x6,0","6,0","ВВГ"," 4","6,0",null,null,null,null,"","",{"$f":"IF(SUM(L$8:L1210)=0, \"\", \" + \")","v":""}]
["5718",null,"ВВГЭнг(А)-FRLSLTx 4x6,0 ок (N)-0.66"," 4x6,0","6,0","ВВГ"," 4","6,0",null,null,null,null,"","",{"$f":"IF(SUM(L$8:L1211)=0, \"\", \" + \")","v":""}]
["5704",null,"ВВГЭнг(А)-FRLSLTx 5x1,5 ок (N,PE)-0.66"," 5x1,5","1,5","ВВГ"," 5","1,5",null,null,null,null,"","",{"$f":"IF(SUM(L$8:L1212)=0, \"\", \" + \")","v":""}]
["16252",null,"ВВГЭнг(А)-FRLSLTx 5x1,5 ок (PE,N) -1"," 5x1,5","1,5","ВВГ"," 5","1,5",null,null,null,null,"","",{"$f":"IF(SUM(L$8:L1213)=0, \"\", \" + \")","v":""}]
["5724",null,"ВВГЭнг(А)-FRLSLTx 5x10,0 ок (N,PE)-0.66"," 5x10,0","10,0","ВВГ"," 5","10,0",null,null,null,null,"","",{"$f":"IF(SUM(L$8:L1214)=0, \"\", \" + \")","v":""}]
["16272",null,"ВВГЭнг(А)-FRLSLTx 5x10,0 ок (PE,N) -1"," 5x10,0","10,0","ВВГ"," 5","10,0",null,null,null,null,"","",{"$f":"IF(SUM(L$8:L1215)=0, \"\", \" + \")","v":""}]
["5729",null,"ВВГЭнг(А)-FRLSLTx 5x16,0 мк (N,PE)-0.66"," 5x16,0","16,0","ВВГ"," 5","16,0",null,null,null,null,"","",{"$f":"IF(SUM(L$8:L1216)=0, \"\", \" + \")","v":""}]
["16277",null,"ВВГЭнг(А)-FRLSLTx 5x16,0 мк (N) -1"," 5x16,0","16,0","ВВГ"," 5","16,0",null,null,null,null,"","",{"$f":"IF(SUM(L$8:L1217)=0, \"\", \" + \")","v":""}]
["5709",null,"ВВГЭнг(А)-FRLSLTx 5x2,5 ок (N,PE)-0.66"," 5x2,5","2,5","ВВГ"," 5","2,5",null,null,null,null,"","",{"$f":"IF(SUM(L$8:L1218)=0, \"\", \" + \")","v":""}]
["16257",null,"ВВГЭнг(А)-FRLSLTx 5x2,5 ок (PE,N) -1"," 5x2,5","2,5","ВВГ"," 5","2,5",null,null,null,null,"","",{"$f":"IF(SUM(L$8:L1219)=0, \"\", \" + \")","v":""}]
["5714",null,"ВВГЭнг(А)-FRLSLTx 5x4,0 ок (N,PE)-0.66"," 5x4,0","4,0","ВВГ"," 5","4,0",null,null,null,null,"","",{"$f":"IF(SUM(L$8:L1220)=0, \"\", \" + \")","v":""}]
["16262",null,"ВВГЭнг(А)-FRLSLTx 5x4,0 ок (PE,N) -1"," 5x4,0","4,0","ВВГ"," 5","4,0",null,null,null,null,"","",{"$f":"IF(SUM(L$8:L1221)=0, \"\", \" + \")","v":""}]
["5719",null,"ВВГЭнг(А)-FRLSLTx 5x6,0 ок (N,PE)-0.66"," 5x6,0","6,0","ВВГ"," 5","6,0",null,null,null,null,"","",{"$f":"IF(SUM(L$8:L1222)=0, \"\", \" + \")","v":""}]
["16267",null,"ВВГЭнг(А)-FRLSLTx 5x6,0 ок (PE,N) -1"," 5x6,0","6,0","ВВГ"," 5","6,0",null,null,null,null,"","",{"$f":"IF(SUM(L$8:L1223)=0, \"\", \" + \")","v":""}]

{"sheet":"ЛОУТОКС-СПЕЦЛАН-КЭРС-КШС","index":13,"n_rows":883,"n_cols":20,"rows_kept":883,"cut":false,"hidden":false,"merged":[[2,12,3,22],[4,9,4,11]]}
[null,null,null,null,null,null,null,null,null,null,null,null,null,null,{"$f":"IF(SUM($M$10:$M$417)=0, 0, 1)","v":0},null,null,null,null,{"$f":"COUNT(M10:M321)","v":0}]
[null,null,null,null,null,null,null,null,null,null,null,null,"Кабели в составе ОКЛ"]
[null,null,null,null,null,null,null,null,null,null,null,null,{"$f":"CONCATENATE(O321)","v":""}]
[]
[null,null,null,null,null,null,null,null,null,null,null,null,"Общая длина",null,null,null,null,{"$f":"SUM(M10:M321)","v":0},"м"]
[]
[]
[]
["Артикул",null,"Наименование",null,null,null,"Тип","HF/LS","Кол-во \nпар","Парность","Сечение/Диаметр",null,"Длина"]
["3466",null,"Лоутокс 20нг(А)-FRLSLTx 1х2х0,2",{"$f":"MID(C10, FIND(\" \",C10, FIND(\" \",C10)+1), 100)","v":" 1х2х0,2"},{"$f":"MID($D10,IF(ISERR(FIND(\"х\",$D10)), FIND(\"x\",$D10)+1, FIND(\"х\",$D10))+1, 100)","v":"2х0,2"},{"$f":"MID($E10,IF(ISERR(FIND(\"х\",$E10)), FIND(\"x\",$E10)+1, FIND(\"х\",$E10))+1,10)","v":"0,2"},{"$f":"MID(C10, 1, IF(ISERR(FIND(\"КЭР\",C10)),IF(ISERR(FIND(\"КШС\",C10)), 7, 3), 4))","v":"Лоутокс"},{"$f":"MID(C10,FIND(\"FR\",C10)+2, 2)","v":"LS"},{"$f":"MID($D10,1, IF(ISERR(FIND(\"х\",$D10)), FIND(\"x\",$D10)-1, FIND(\"х\",$D10))-1)","v":" 1"},{"$f":"MID($E10,1, IF(ISERR(FIND(\"х\",$E10)), FIND(\"x\",$E10)-1, FIND(\"х\",$E10)-1))","v":"2"},{"$f":"F10","v":"0,2"},null,null,{"$f":"IF(M10=0, \"\",CONCATENATE(P10, C10, \"-\",M10,\"м\"))","v":""},{"$f":"CONCATENATE(O9,N10)","v":""},{"$f":"IF(SUM(M$8:M9)=0, \"\", \" + \")","v":""}]
["3467",null,"Лоутокс 20нг(А)-FRLSLTx 1x2x0,35"," 1x2x0,35",{"$f":"MID($D11,IF(ISERR(FIND(\"х\",$D11)), FIND(\"x\",$D11), FIND(\"х\",$D11))+1, 100)","v":"2x0,35"},{"$f":"MID($E11,IF(ISERR(FIND(\"х\",$E11)), FIND(\"x\",$E11), FIND(\"х\",$E11))+1,15)","v":"0,35"},"Лоутокс","LS",{"$f":"MID($D11,1,IF(ISERR(FIND(\"х\",$D11)),FIND(\"x\",$D11),FIND(\"х\",$D11))-1)","v":" 1"},{"$f":"MID($E11,1, IF(ISERR(FIND(\"х\",$E11)), FIND(\"x\",$E11)-1, FIND(\"х\",$E11)))","v":"2"},"0,35",null,null,"",{"$f":"CONCATENATE(O10,N11)","v":""},{"$f":"IF(SUM(M$8:M10)=0, \"\", \" + \")","v":""}]
["3430",null,"Лоутокс 20нг(А)-FRLSLTx 1x2x0,5"," 1x2x0,5",{"$f":"MID($D12,IF(ISERR(FIND(\"х\",$D12)), FIND(\"x\",$D12), FIND(\"х\",$D12))+1, 100)","v":"2x0,5"},{"$f":"MID($E12,IF(ISERR(FIND(\"х\",$E12)), FIND(\"x\",$E12), FIND(\"х\",$E12))+1,15)","v":"0,5"},"Лоутокс","LS",{"$f":"MID($D12,1,IF(ISERR(FIND(\"х\",$D12)),FIND(\"x\",$D12),FIND(\"х\",$D12))-1)","v":" 1"},{"$f":"MID($E12,1, IF(ISERR(FIND(\"х\",$E12)), FIND(\"x\",$E12)-1, FIND(\"х\",$E12)))","v":"2"},"0,5",null,null,"","",{"$f":"IF(SUM(M$8:M11)=0, \"\", \" + \")","v":""}]
["3431",null,"Лоутокс 20нг(А)-FRLSLTx 1x2x0,75"," 1x2x0,75","2x0,75","0,75","Лоутокс","LS"," 1","2","0,75",null,null,"","",{"$f":"IF(SUM(M$8:M12)=0, \"\", \" + \")","v":""}]
["3432",null,"Лоутокс 20нг(А)-FRLSLTx 1x2x1,0"," 1x2x1,0","2x1,0","1,0","Лоутокс","LS"," 1","2","1,0",null,null,"","",{"$f":"IF(SUM(M$8:M13)=0, \"\", \" + \")","v":""}]
["3433",null,"Лоутокс 20нг(А)-FRLSLTx 1x2x1,5"," 1x2x1,5","2x1,5","1,5","Лоутокс","LS"," 1","2","1,5",null,null,"","",{"$f":"IF(SUM(M$8:M14)=0, \"\", \" + \")","v":""}]
["3434",null,"Лоутокс 20нг(А)-FRLSLTx 1x2x2,5"," 1x2x2,5","2x2,5","2,5","Лоутокс","LS"," 1","2","2,5",null,null,"","",{"$f":"IF(SUM(M$8:M15)=0, \"\", \" + \")","v":""}]
["3468",null,"Лоутокс 20нг(А)-FRLSLTx 2x2x0,2"," 2x2x0,2","2x0,2","0,2","Лоутокс","LS"," 2","2","0,2",null,null,"","",{"$f":"IF(SUM(M$8:M16)=0, \"\", \" + \")","v":""}]
["3469",null,"Лоутокс 20нг(А)-FRLSLTx 2x2x0,35"," 2x2x0,35","2x0,35","0,35","Лоутокс","LS"," 2","2","0,35",null,null,"","",{"$f":"IF(SUM(M$8:M17)=0, \"\", \" + \")","v":""}]
["3435",null,"Лоутокс 20нг(А)-FRLSLTx 2x2x0,5"," 2x2x0,5","2x0,5","0,5","Лоутокс","LS"," 2","2","0,5",null,null,"","",{"$f":"IF(SUM(M$8:M18)=0, \"\", \" + \")","v":""}]
["3436",null,"Лоутокс 20нг(А)-FRLSLTx 2x2x0,75"," 2x2x0,75","2x0,75","0,75","Лоутокс","LS"," 2","2","0,75",null,null,"","",{"$f":"IF(SUM(M$8:M19)=0, \"\", \" + \")","v":""}]
["3437",null,"Лоутокс 20нг(А)-FRLSLTx 2x2x1,0"," 2x2x1,0","2x1,0","1,0","Лоутокс","LS"," 2","2","1,0",null,null,"","",{"$f":"IF(SUM(M$8:M20)=0, \"\", \" + \")","v":""}]
["3438",null,"Лоутокс 20нг(А)-FRLSLTx 2x2x1,5"," 2x2x1,5","2x1,5","1,5","Лоутокс","LS"," 2","2","1,5",null,null,"","",{"$f":"IF(SUM(M$8:M21)=0, \"\", \" + \")","v":""}]
["3439",null,"Лоутокс 20нг(А)-FRLSLTx 2x2x2,5"," 2x2x2,5","2x2,5","2,5","Лоутокс","LS"," 2","2","2,5",null,null,"","",{"$f":"IF(SUM(M$8:M22)=0, \"\", \" + \")","v":""}]
["3462",null,"Лоутокс 21нг(А)-FRLSLTx 1x2x0,2"," 1x2x0,2","2x0,2","0,2","Лоутокс","LS"," 1","2","0,2",null,null,"","",{"$f":"IF(SUM(M$8:M23)=0, \"\", \" + \")","v":""}]
["3463",null,"Лоутокс 21нг(А)-FRLSLTx 1x2x0,35"," 1x2x0,35","2x0,35","0,35","Лоутокс","LS"," 1","2","0,35",null,null,"","",{"$f":"IF(SUM(M$8:M24)=0, \"\", \" + \")","v":""}]
["3338",null,"Лоутокс 21нг(А)-FRLSLTx 1x2x0,5"," 1x2x0,5","2x0,5","0,5","Лоутокс","LS"," 1","2","0,5",null,null,"","",{"$f":"IF(SUM(M$8:M25)=0, \"\", \" + \")","v":""}]
["3421",null,"Лоутокс 21нг(А)-FRLSLTx 1x2x0,75"," 1x2x0,75","2x0,75","0,75","Лоутокс","LS"," 1","2","0,75",null,null,"","",{"$f":"IF(SUM(M$8:M26)=0, \"\", \" + \")","v":""}]
["3422",null,"Лоутокс 21нг(А)-FRLSLTx 1x2x1,0"," 1x2x1,0","2x1,0","1,0","Лоутокс","LS"," 1","2","1,0",null,null,"","",{"$f":"IF(SUM(M$8:M27)=0, \"\", \" + \")","v":""}]
["3423",null,"Лоутокс 21нг(А)-FRLSLTx 1x2x1,5"," 1x2x1,5","2x1,5","1,5","Лоутокс","LS"," 1","2","1,5",null,null,"","",{"$f":"IF(SUM(M$8:M28)=0, \"\", \" + \")","v":""}]
["3424",null,"Лоутокс 21нг(А)-FRLSLTx 1x2x2,5"," 1x2x2,5","2x2,5","2,5","Лоутокс","LS"," 1","2","2,5",null,null,"","",{"$f":"IF(SUM(M$8:M29)=0, \"\", \" + \")","v":""}]
["3464",null,"Лоутокс 21нг(А)-FRLSLTx 2x2x0,2"," 2x2x0,2","2x0,2","0,2","Лоутокс","LS"," 2","2","0,2",null,null,"","",{"$f":"IF(SUM(M$8:M30)=0, \"\", \" + \")","v":""}]
["3465",null,"Лоутокс 21нг(А)-FRLSLTx 2x2x0,35"," 2x2x0,35","2x0,35","0,35","Лоутокс","LS"," 2","2","0,35",null,null,"","",{"$f":"IF(SUM(M$8:M31)=0, \"\", \" + \")","v":""}]
["3425",null,"Лоутокс 21нг(А)-FRLSLTx 2x2x0,5"," 2x2x0,5","2x0,5","0,5","Лоутокс","LS"," 2","2","0,5",null,null,"","",{"$f":"IF(SUM(M$8:M32)=0, \"\", \" + \")","v":""}]
["3426",null,"Лоутокс 21нг(А)-FRLSLTx 2x2x0,75"," 2x2x0,75","2x0,75","0,75","Лоутокс","LS"," 2","2","0,75",null,null,"","",{"$f":"IF(SUM(M$8:M33)=0, \"\", \" + \")","v":""}]
["3427",null,"Лоутокс 21нг(А)-FRLSLTx 2x2x1,0"," 2x2x1,0","2x1,0","1,0","Лоутокс","LS"," 2","2","1,0",null,null,"","",{"$f":"IF(SUM(M$8:M34)=0, \"\", \" + \")","v":""}]
["3428",null,"Лоутокс 21нг(А)-FRLSLTx 2x2x1,5"," 2x2x1,5","2x1,5","1,5","Лоутокс","LS"," 2","2","1,5",null,null,"","",{"$f":"IF(SUM(M$8:M35)=0, \"\", \" + \")","v":""}]
["3429",null,"Лоутокс 21нг(А)-FRLSLTx 2x2x2,5"," 2x2x2,5","2x2,5","2,5","Лоутокс","LS"," 2","2","2,5",null,null,"","",{"$f":"IF(SUM(M$8:M36)=0, \"\", \" + \")","v":""}]
["3440",null,"Лоутокс 30нг(А)-FRLSLTx 1x2x0,52"," 1x2x0,52","2x0,52","0,52","Лоутокс","LS"," 1","2","0,52",null,null,"","",{"$f":"IF(SUM(M$8:M37)=0, \"\", \" + \")","v":""}]
["3441",null,"Лоутокс 30нг(А)-FRLSLTx 2x2x0,52"," 2x2x0,52","2x0,52","0,52","Лоутокс","LS"," 2","2","0,52",null,null,"","",{"$f":"IF(SUM(M$8:M38)=0, \"\", \" + \")","v":""}]
["3444",null,"Лоутокс 30нг(А)-FRLSLTx 3x2x0,52"," 3x2x0,52","2x0,52","0,52","Лоутокс","LS"," 3","2","0,52",null,null,"","",{"$f":"IF(SUM(M$8:M39)=0, \"\", \" + \")","v":""}]
["3442",null,"Лоутокс 31нг(А)-FRLSLTx 1x2x0,52"," 1x2x0,52","2x0,52","0,52","Лоутокс","LS"," 1","2","0,52",null,null,"","",{"$f":"IF(SUM(M$8:M40)=0, \"\", \" + \")","v":""}]
["3443",null,"Лоутокс 31нг(А)-FRLSLTx 2x2x0,52"," 2x2x0,52","2x0,52","0,52","Лоутокс","LS"," 2","2","0,52",null,null,"","",{"$f":"IF(SUM(M$8:M41)=0, \"\", \" + \")","v":""}]
["3445",null,"Лоутокс 31нг(А)-FRLSLTx 3x2x0,52"," 3x2x0,52","2x0,52","0,52","Лоутокс","LS"," 3","2","0,52",null,null,"","",{"$f":"IF(SUM(M$8:M42)=0, \"\", \" + \")","v":""}]
["6312",null,"КЭРсПнг(А)-FRHF 10х0,2",{"$f":"MID(C44, FIND(\" \",C44 ), 100)","v":" 10х0,2"},{"$f":"MID($D44,IF(ISERR(FIND(\"х\",$D44)), FIND(\"x\",$D44)+1, FIND(\"х\",$D44))+1, 100)","v":"0,2"},null,"КЭРс","HF",{"$f":"MID($D44,1, IF(ISERR(FIND(\"х\",$D44)), FIND(\"x\",$D44)-1, FIND(\"х\",$D44))-1)","v":" 10"},null,{"$f":"E44","v":"0,2"},null,null,"","",{"$f":"IF(SUM(M$8:M43)=0, \"\", \" + \")","v":""}]
["6313",null,"КЭРсПнг(А)-FRHF 10х0,35"," 10х0,35","0,35",null,"КЭРс","HF"," 10",null,"0,35",null,null,"","",{"$f":"IF(SUM(M$8:M44)=0, \"\", \" + \")","v":""}]
["6314",null,"КЭРсПнг(А)-FRHF 10х0,5"," 10х0,5","0,5",null,"КЭРс","HF"," 10",null,"0,5",null,null,"","",{"$f":"IF(SUM(M$8:M45)=0, \"\", \" + \")","v":""}]
["6315",null,"КЭРсПнг(А)-FRHF 10х0,75"," 10х0,75","0,75",null,"КЭРс","HF"," 10",null,"0,75",null,null,"","",{"$f":"IF(SUM(M$8:M46)=0, \"\", \" + \")","v":""}]
["6316",null,"КЭРсПнг(А)-FRHF 10х1,0"," 10х1,0","1,0",null,"КЭРс","HF"," 10",null,"1,0",null,null,"","",{"$f":"IF(SUM(M$8:M47)=0, \"\", \" + \")","v":""}]
["6317",null,"КЭРсПнг(А)-FRHF 10х1,5"," 10х1,5","1,5",null,"КЭРс","HF"," 10",null,"1,5",null,null,"","",{"$f":"IF(SUM(M$8:M48)=0, \"\", \" + \")","v":""}]
["6318",null,"КЭРсПнг(А)-FRHF 10х2,5"," 10х2,5","2,5",null,"КЭРс","HF"," 10",null,"2,5",null,null,"","",{"$f":"IF(SUM(M$8:M49)=0, \"\", \" + \")","v":""}]
["17767",null,"КЭРсПнг(А)-FRHF 12х0,5"," 12х0,5","0,5",null,"КЭРс","HF"," 12",null,"0,5",null,null,"","",{"$f":"IF(SUM(M$8:M50)=0, \"\", \" + \")","v":""}]
["22184",null,"КЭРсПнг(А)-FRHF 12х1,0 "," 12х1,0 ","1,0 ",null,"КЭРс","HF"," 12",null,"1,0 ",null,null,"","",{"$f":"IF(SUM(M$8:M51)=0, \"\", \" + \")","v":""}]
["6265",null,"КЭРсПнг(А)-FRHF 2х0,2"," 2х0,2","0,2",null,"КЭРс","HF"," 2",null,"0,2",null,null,"","",{"$f":"IF(SUM(M$8:M52)=0, \"\", \" + \")","v":""}]
["6266",null,"КЭРсПнг(А)-FRHF 2х0,35"," 2х0,35","0,35",null,"КЭРс","HF"," 2",null,"0,35",null,null,"","",{"$f":"IF(SUM(M$8:M53)=0, \"\", \" + \")","v":""}]
["6267",null,"КЭРсПнг(А)-FRHF 2х0,5"," 2х0,5","0,5",null,"КЭРс","HF"," 2",null,"0,5",null,null,"","",{"$f":"IF(SUM(M$8:M54)=0, \"\", \" + \")","v":""}]
["6268",null,"КЭРсПнг(А)-FRHF 2х0,75"," 2х0,75","0,75",null,"КЭРс","HF"," 2",null,"0,75",null,null,"","",{"$f":"IF(SUM(M$8:M55)=0, \"\", \" + \")","v":""}]
["6269",null,"КЭРсПнг(А)-FRHF 2х1,0"," 2х1,0","1,0",null,"КЭРс","HF"," 2",null,"1,0",null,null,"","",{"$f":"IF(SUM(M$8:M56)=0, \"\", \" + \")","v":""}]
["6270",null,"КЭРсПнг(А)-FRHF 2х1,5"," 2х1,5","1,5",null,"КЭРс","HF"," 2",null,"1,5",null,null,"","",{"$f":"IF(SUM(M$8:M57)=0, \"\", \" + \")","v":""}]
["6271",null,"КЭРсПнг(А)-FRHF 2х2,5"," 2х2,5","2,5",null,"КЭРс","HF"," 2",null,"2,5",null,null,"","",{"$f":"IF(SUM(M$8:M58)=0, \"\", \" + \")","v":""}]
["6272",null,"КЭРсПнг(А)-FRHF 3х0,2"," 3х0,2","0,2",null,"КЭРс","HF"," 3",null,"0,2",null,null,"","",{"$f":"IF(SUM(M$8:M59)=0, \"\", \" + \")","v":""}]
["6273",null,"КЭРсПнг(А)-FRHF 3х0,35"," 3х0,35","0,35",null,"КЭРс","HF"," 3",null,"0,35",null,null,"","",{"$f":"IF(SUM(M$8:M60)=0, \"\", \" + \")","v":""}]
["6274",null,"КЭРсПнг(А)-FRHF 3х0,5"," 3х0,5","0,5",null,"КЭРс","HF"," 3",null,"0,5",null,null,"","",{"$f":"IF(SUM(M$8:M61)=0, \"\", \" + \")","v":""}]
["5877",null,"КЭРсПнг(А)-FRHF 3х0,75"," 3х0,75","0,75",null,"КЭРс","HF"," 3",null,"0,75",null,null,"","",{"$f":"IF(SUM(M$8:M62)=0, \"\", \" + \")","v":""}]
["6275",null,"КЭРсПнг(А)-FRHF 3х1,0"," 3х1,0","1,0",null,"КЭРс","HF"," 3",null,"1,0",null,null,"","",{"$f":"IF(SUM(M$8:M63)=0, \"\", \" + \")","v":""}]
["6276",null,"КЭРсПнг(А)-FRHF 3х1,5"," 3х1,5","1,5",null,"КЭРс","HF"," 3",null,"1,5",null,null,"","",{"$f":"IF(SUM(M$8:M64)=0, \"\", \" + \")","v":""}]
["6277",null,"КЭРсПнг(А)-FRHF 3х2,5"," 3х2,5","2,5",null,"КЭРс","HF"," 3",null,"2,5",null,null,"","",{"$f":"IF(SUM(M$8:M65)=0, \"\", \" + \")","v":""}]
["5876",null,"КЭРсПнг(А)-FRHF 4х0,2"," 4х0,2","0,2",null,"КЭРс","HF"," 4",null,"0,2",null,null,"","",{"$f":"IF(SUM(M$8:M66)=0, \"\", \" + \")","v":""}]
["6278",null,"КЭРсПнг(А)-FRHF 4х0,35"," 4х0,35","0,35",null,"КЭРс","HF"," 4",null,"0,35",null,null,"","",{"$f":"IF(SUM(M$8:M67)=0, \"\", \" + \")","v":""}]
["6279",null,"КЭРсПнг(А)-FRHF 4х0,5"," 4х0,5","0,5",null,"КЭРс","HF"," 4",null,"0,5",null,null,"","",{"$f":"IF(SUM(M$8:M68)=0, \"\", \" + \")","v":""}]
["6280",null,"КЭРсПнг(А)-FRHF 4х0,75"," 4х0,75","0,75",null,"КЭРс","HF"," 4",null,"0,75",null,null,"","",{"$f":"IF(SUM(M$8:M69)=0, \"\", \" + \")","v":""}]
["6281",null,"КЭРсПнг(А)-FRHF 4х1,0"," 4х1,0","1,0",null,{"$f":"MID(C71, 1, IF(ISERR(FIND(\"КЭР\",C71)),IF(ISERR(FIND(\"КШС\",C71)), 7, 3), 4))","v":"КЭРс"},{"$f":"MID(C71,FIND(\"FR\",C71)+2, 2)","v":"HF"}," 4",null,"1,0",null,null,"","",{"$f":"IF(SUM(M$8:M70)=0, \"\", \" + \")","v":""}]
["6282",null,"КЭРсПнг(А)-FRHF 4х1,5"," 4х1,5","1,5",null,"КЭРс","HF"," 4",null,"1,5",null,null,"","",{"$f":"IF(SUM(M$8:M71)=0, \"\", \" + \")","v":""}]
["6283",null,"КЭРсПнг(А)-FRHF 4х2,5"," 4х2,5","2,5",null,"КЭРс","HF"," 4",null,"2,5",null,null,"","",{"$f":"IF(SUM(M$8:M72)=0, \"\", \" + \")","v":""}]
["6284",null,"КЭРсПнг(А)-FRHF 5х0,2"," 5х0,2","0,2",null,"КЭРс","HF"," 5",null,"0,2",null,null,{"$f":"IF(M74=0, \"\",CONCATENATE(P74, C74, \"-\",M74,\"м\"))","v":""},"",{"$f":"IF(SUM(M$8:M73)=0, \"\", \" + \")","v":""}]
["6285",null,"КЭРсПнг(А)-FRHF 5х0,35"," 5х0,35","0,35",null,"КЭРс","HF"," 5",null,"0,35",null,null,"",{"$f":"CONCATENATE(O74,N75)","v":""},{"$f":"IF(SUM(M$8:M74)=0, \"\", \" + \")","v":""}]
["6286",null,"КЭРсПнг(А)-FRHF 5х0,5"," 5х0,5","0,5",null,"КЭРс","HF"," 5",null,"0,5",null,null,"","",{"$f":"IF(SUM(M$8:M75)=0, \"\", \" + \")","v":""}]
["6287",null,"КЭРсПнг(А)-FRHF 5х0,75"," 5х0,75","0,75",null,"КЭРс","HF"," 5",null,"0,75",null,null,"","",{"$f":"IF(SUM(M$8:M76)=0, \"\", \" + \")","v":""}]
["6288",null,"КЭРсПнг(А)-FRHF 5х1,0"," 5х1,0","1,0",null,"КЭРс","HF"," 5",null,"1,0",null,null,"","",{"$f":"IF(SUM(M$8:M77)=0, \"\", \" + \")","v":""}]
["6289",null,"КЭРсПнг(А)-FRHF 5х1,5"," 5х1,5","1,5",null,"КЭРс","HF"," 5",null,"1,5",null,null,"","",{"$f":"IF(SUM(M$8:M78)=0, \"\", \" + \")","v":""}]
["6290",null,"КЭРсПнг(А)-FRHF 5х2,5"," 5х2,5","2,5",null,"КЭРс","HF"," 5",null,"2,5",null,null,"","",{"$f":"IF(SUM(M$8:M79)=0, \"\", \" + \")","v":""}]
["6291",null,"КЭРсПнг(А)-FRHF 6х0,2"," 6х0,2","0,2",null,"КЭРс","HF"," 6",null,"0,2",null,null,"","",{"$f":"IF(SUM(M$8:M80)=0, \"\", \" + \")","v":""}]
["6292",null,"КЭРсПнг(А)-FRHF 6х0,35"," 6х0,35","0,35",null,"КЭРс","HF"," 6",null,"0,35",null,null,"","",{"$f":"IF(SUM(M$8:M81)=0, \"\", \" + \")","v":""}]
["6293",null,"КЭРсПнг(А)-FRHF 6х0,5"," 6х0,5","0,5",null,"КЭРс","HF"," 6",null,"0,5",null,null,"","",{"$f":"IF(SUM(M$8:M82)=0, \"\", \" + \")","v":""}]
["6294",null,"КЭРсПнг(А)-FRHF 6х0,75"," 6х0,75","0,75",null,"КЭРс","HF"," 6",null,"0,75",null,null,"","",{"$f":"IF(SUM(M$8:M83)=0, \"\", \" + \")","v":""}]
["6295",null,"КЭРсПнг(А)-FRHF 6х1,0"," 6х1,0","1,0",null,"КЭРс","HF"," 6",null,"1,0",null,null,"","",{"$f":"IF(SUM(M$8:M84)=0, \"\", \" + \")","v":""}]
["6296",null,"КЭРсПнг(А)-FRHF 6х1,5"," 6х1,5","1,5",null,"КЭРс","HF"," 6",null,"1,5",null,null,"","",{"$f":"IF(SUM(M$8:M85)=0, \"\", \" + \")","v":""}]
["6297",null,"КЭРсПнг(А)-FRHF 6х2,5"," 6х2,5","2,5",null,"КЭРс","HF"," 6",null,"2,5",null,null,"","",{"$f":"IF(SUM(M$8:M86)=0, \"\", \" + \")","v":""}]
["6298",null,"КЭРсПнг(А)-FRHF 7х0,2"," 7х0,2","0,2",null,"КЭРс","HF"," 7",null,"0,2",null,null,"","",{"$f":"IF(SUM(M$8:M87)=0, \"\", \" + \")","v":""}]
["6299",null,"КЭРсПнг(А)-FRHF 7х0,35"," 7х0,35","0,35",null,"КЭРс","HF"," 7",null,"0,35",null,null,"","",{"$f":"IF(SUM(M$8:M88)=0, \"\", \" + \")","v":""}]
["6300",null,"КЭРсПнг(А)-FRHF 7х0,5"," 7х0,5","0,5",null,"КЭРс","HF"," 7",null,"0,5",null,null,"","",{"$f":"IF(SUM(M$8:M89)=0, \"\", \" + \")","v":""}]
["6301",null,"КЭРсПнг(А)-FRHF 7х0,75"," 7х0,75","0,75",null,"КЭРс","HF"," 7",null,"0,75",null,null,"","",{"$f":"IF(SUM(M$8:M90)=0, \"\", \" + \")","v":""}]
["6302",null,"КЭРсПнг(А)-FRHF 7х1,0"," 7х1,0","1,0",null,"КЭРс","HF"," 7",null,"1,0",null,null,"","",{"$f":"IF(SUM(M$8:M91)=0, \"\", \" + \")","v":""}]
["6303",null,"КЭРсПнг(А)-FRHF 7х1,5"," 7х1,5","1,5",null,"КЭРс","HF"," 7",null,"1,5",null,null,"","",{"$f":"IF(SUM(M$8:M92)=0, \"\", \" + \")","v":""}]
["6304",null,"КЭРсПнг(А)-FRHF 7х2,5"," 7х2,5","2,5",null,"КЭРс","HF"," 7",null,"2,5",null,null,"","",{"$f":"IF(SUM(M$8:M93)=0, \"\", \" + \")","v":""}]
["6305",null,"КЭРсПнг(А)-FRHF 8х0,2"," 8х0,2","0,2",null,"КЭРс","HF"," 8",null,"0,2",null,null,"","",{"$f":"IF(SUM(M$8:M94)=0, \"\", \" + \")","v":""}]
["6306",null,"КЭРсПнг(А)-FRHF 8х0,35"," 8х0,35","0,35",null,"КЭРс","HF"," 8",null,"0,35",null,null,"","",{"$f":"IF(SUM(M$8:M95)=0, \"\", \" + \")","v":""}]
["6307",null,"КЭРсПнг(А)-FRHF 8х0,5"," 8х0,5","0,5",null,"КЭРс","HF"," 8",null,"0,5",null,null,"","",{"$f":"IF(SUM(M$8:M96)=0, \"\", \" + \")","v":""}]
["6308",null,"КЭРсПнг(А)-FRHF 8х0,75"," 8х0,75","0,75",null,"КЭРс","HF"," 8",null,"0,75",null,null,"","",{"$f":"IF(SUM(M$8:M97)=0, \"\", \" + \")","v":""}]
["6309",null,"КЭРсПнг(А)-FRHF 8х1,0"," 8х1,0","1,0",null,"КЭРс","HF"," 8",null,"1,0",null,null,"","",{"$f":"IF(SUM(M$8:M98)=0, \"\", \" + \")","v":""}]
["6310",null,"КЭРсПнг(А)-FRHF 8х1,5"," 8х1,5","1,5",null,"КЭРс","HF"," 8",null,"1,5",null,null,"","",{"$f":"IF(SUM(M$8:M99)=0, \"\", \" + \")","v":""}]
["6311",null,"КЭРсПнг(А)-FRHF 8х2,5"," 8х2,5","2,5",null,"КЭРс","HF"," 8",null,"2,5",null,null,"","",{"$f":"IF(SUM(M$8:M100)=0, \"\", \" + \")","v":""}]
["3277",null,"КЭРсУнг(D)-FRHF 10х0,2"," 10х0,2","0,2",null,"КЭРс","HF"," 10",null,"0,2",null,null,"","",{"$f":"IF(SUM(M$8:M101)=0, \"\", \" + \")","v":""}]
["3278",null,"КЭРсУнг(D)-FRHF 10х0,35"," 10х0,35","0,35",null,"КЭРс","HF"," 10",null,"0,35",null,null,"","",{"$f":"IF(SUM(M$8:M102)=0, \"\", \" + \")","v":""}]
["3279",null,"КЭРсУнг(D)-FRHF 10х0,5"," 10х0,5","0,5",null,"КЭРс","HF"," 10",null,"0,5",null,null,"","",{"$f":"IF(SUM(M$8:M103)=0, \"\", \" + \")","v":""}]
["3280",null,"КЭРсУнг(D)-FRHF 10х0,75"," 10х0,75","0,75",null,"КЭРс","HF"," 10",null,"0,75",null,null,"","",{"$f":"IF(SUM(M$8:M104)=0, \"\", \" + \")","v":""}]
["6238",null,"КЭРсУнг(D)-FRHF 10х1,0"," 10х1,0","1,0",null,"КЭРс","HF"," 10",null,"1,0",null,null,"","",{"$f":"IF(SUM(M$8:M105)=0, \"\", \" + \")","v":""}]
["6239",null,"КЭРсУнг(D)-FRHF 10х1,5"," 10х1,5","1,5",null,"КЭРс","HF"," 10",null,"1,5",null,null,"","",{"$f":"IF(SUM(M$8:M106)=0, \"\", \" + \")","v":""}]
["6240",null,"КЭРсУнг(D)-FRHF 10х2,5",{"$f":"MID(C108, FIND(\" \",C108 ), 100)","v":" 10х2,5"},{"$f":"MID($D108,IF(ISERR(FIND(\"х\",$D108)), FIND(\"x\",$D108)+1, FIND(\"х\",$D108))+1, 100)","v":"2,5"},null,"КЭРс","HF",{"$f":"MID($D108,1, IF(ISERR(FIND(\"х\",$D108)), FIND(\"x\",$D108)-1, FIND(\"х\",$D108))-1)","v":" 10"},null,{"$f":"E108","v":"2,5"},null,null,"","",{"$f":"IF(SUM(M$8:M107)=0, \"\", \" + \")","v":""}]
["3249",null,"КЭРсУнг(D)-FRHF 2х0,2"," 2х0,2","0,2",null,"КЭРс","HF"," 2",null,"0,2",null,null,"","",{"$f":"IF(SUM(M$8:M108)=0, \"\", \" + \")","v":""}]
["3250",null,"КЭРсУнг(D)-FRHF 2х0,35"," 2х0,35","0,35",null,"КЭРс","HF"," 2",null,"0,35",null,null,"","",{"$f":"IF(SUM(M$8:M109)=0, \"\", \" + \")","v":""}]
["3251",null,"КЭРсУнг(D)-FRHF 2х0,5"," 2х0,5","0,5",null,"КЭРс","HF"," 2",null,"0,5",null,null,"","",{"$f":"IF(SUM(M$8:M110)=0, \"\", \" + \")","v":""}]
["3252",null,"КЭРсУнг(D)-FRHF 2х0,75"," 2х0,75","0,75",null,"КЭРс","HF"," 2",null,"0,75",null,null,"","",{"$f":"IF(SUM(M$8:M111)=0, \"\", \" + \")","v":""}]
["6217",null,"КЭРсУнг(D)-FRHF 2х1,0"," 2х1,0","1,0",null,"КЭРс","HF"," 2",null,"1,0",null,null,"","",{"$f":"IF(SUM(M$8:M112)=0, \"\", \" + \")","v":""}]
["6218",null,"КЭРсУнг(D)-FRHF 2х1,5"," 2х1,5","1,5",null,"КЭРс","HF"," 2",null,"1,5",null,null,"","",{"$f":"IF(SUM(M$8:M113)=0, \"\", \" + \")","v":""}]
["6219",null,"КЭРсУнг(D)-FRHF 2х2,5"," 2х2,5","2,5",null,"КЭРс","HF"," 2",null,"2,5",null,null,"","",{"$f":"IF(SUM(M$8:M114)=0, \"\", \" + \")","v":""}]
["3253",null,"КЭРсУнг(D)-FRHF 3х0,2"," 3х0,2","0,2",null,"КЭРс","HF"," 3",null,"0,2",null,null,"","",{"$f":"IF(SUM(M$8:M115)=0, \"\", \" + \")","v":""}]
["3254",null,"КЭРсУнг(D)-FRHF 3х0,35"," 3х0,35","0,35",null,"КЭРс","HF"," 3",null,"0,35",null,null,"","",{"$f":"IF(SUM(M$8:M116)=0, \"\", \" + \")","v":""}]
["3255",null,"КЭРсУнг(D)-FRHF 3х0,5"," 3х0,5","0,5",null,"КЭРс","HF"," 3",null,"0,5",null,null,"","",{"$f":"IF(SUM(M$8:M117)=0, \"\", \" + \")","v":""}]
["3256",null,"КЭРсУнг(D)-FRHF 3х0,75"," 3х0,75","0,75",null,"КЭРс","HF"," 3",null,"0,75",null,null,"","",{"$f":"IF(SUM(M$8:M118)=0, \"\", \" + \")","v":""}]
["6220",null,"КЭРсУнг(D)-FRHF 3х1,0"," 3х1,0","1,0",null,"КЭРс","HF"," 3",null,"1,0",null,null,"","",{"$f":"IF(SUM(M$8:M119)=0, \"\", \" + \")","v":""}]
["6221",null,"КЭРсУнг(D)-FRHF 3х1,5"," 3х1,5","1,5",null,"КЭРс","HF"," 3",null,"1,5",null,null,"","",{"$f":"IF(SUM(M$8:M120)=0, \"\", \" + \")","v":""}]
["6222",null,"КЭРсУнг(D)-FRHF 3х2,5"," 3х2,5","2,5",null,"КЭРс","HF"," 3",null,"2,5",null,null,"","",{"$f":"IF(SUM(M$8:M121)=0, \"\", \" + \")","v":""}]
["3257",null,"КЭРсУнг(D)-FRHF 4х0,2"," 4х0,2","0,2",null,"КЭРс","HF"," 4",null,"0,2",null,null,"","",{"$f":"IF(SUM(M$8:M122)=0, \"\", \" + \")","v":""}]
["3258",null,"КЭРсУнг(D)-FRHF 4х0,35"," 4х0,35","0,35",null,"КЭРс","HF"," 4",null,"0,35",null,null,"","",{"$f":"IF(SUM(M$8:M123)=0, \"\", \" + \")","v":""}]
["3259",null,"КЭРсУнг(D)-FRHF 4х0,5"," 4х0,5","0,5",null,"КЭРс","HF"," 4",null,"0,5",null,null,"","",{"$f":"IF(SUM(M$8:M124)=0, \"\", \" + \")","v":""}]
["3260",null,"КЭРсУнг(D)-FRHF 4х0,75"," 4х0,75","0,75",null,"КЭРс","HF"," 4",null,"0,75",null,null,"","",{"$f":"IF(SUM(M$8:M125)=0, \"\", \" + \")","v":""}]
["6223",null,"КЭРсУнг(D)-FRHF 4х1,0"," 4х1,0","1,0",null,"КЭРс","HF"," 4",null,"1,0",null,null,"","",{"$f":"IF(SUM(M$8:M126)=0, \"\", \" + \")","v":""}]
["6224",null,"КЭРсУнг(D)-FRHF 4х1,5"," 4х1,5","1,5",null,"КЭРс","HF"," 4",null,"1,5",null,null,"","",{"$f":"IF(SUM(M$8:M127)=0, \"\", \" + \")","v":""}]
["6225",null,"КЭРсУнг(D)-FRHF 4х2,5"," 4х2,5","2,5",null,"КЭРс","HF"," 4",null,"2,5",null,null,"","",{"$f":"IF(SUM(M$8:M128)=0, \"\", \" + \")","v":""}]
["3261",null,"КЭРсУнг(D)-FRHF 5х0,2"," 5х0,2","0,2",null,"КЭРс","HF"," 5",null,"0,2",null,null,"","",{"$f":"IF(SUM(M$8:M129)=0, \"\", \" + \")","v":""}]
["3262",null,"КЭРсУнг(D)-FRHF 5х0,35"," 5х0,35","0,35",null,"КЭРс","HF"," 5",null,"0,35",null,null,"","",{"$f":"IF(SUM(M$8:M130)=0, \"\", \" + \")","v":""}]
["3263",null,"КЭРсУнг(D)-FRHF 5х0,5"," 5х0,5","0,5",null,"КЭРс","HF"," 5",null,"0,5",null,null,"","",{"$f":"IF(SUM(M$8:M131)=0, \"\", \" + \")","v":""}]
["3264",null,"КЭРсУнг(D)-FRHF 5х0,75"," 5х0,75","0,75",null,"КЭРс","HF"," 5",null,"0,75",null,null,"","",{"$f":"IF(SUM(M$8:M132)=0, \"\", \" + \")","v":""}]
["6226",null,"КЭРсУнг(D)-FRHF 5х1,0"," 5х1,0","1,0",null,"КЭРс","HF"," 5",null,"1,0",null,null,"","",{"$f":"IF(SUM(M$8:M133)=0, \"\", \" + \")","v":""}]
["6227",null,"КЭРсУнг(D)-FRHF 5х1,5"," 5х1,5","1,5",null,{"$f":"MID(C135, 1, IF(ISERR(FIND(\"КЭР\",C135)),IF(ISERR(FIND(\"КШС\",C135)), 7, 3), 4))","v":"КЭРс"},{"$f":"MID(C135,FIND(\"FR\",C135)+2, 2)","v":"HF"}," 5",null,"1,5",null,null,"","",{"$f":"IF(SUM(M$8:M134)=0, \"\", \" + \")","v":""}]
["6228",null,"КЭРсУнг(D)-FRHF 5х2,5"," 5х2,5","2,5",null,"КЭРс","HF"," 5",null,"2,5",null,null,"","",{"$f":"IF(SUM(M$8:M135)=0, \"\", \" + \")","v":""}]
["3265",null,"КЭРсУнг(D)-FRHF 6х0,2"," 6х0,2","0,2",null,"КЭРс","HF"," 6",null,"0,2",null,null,"","",{"$f":"IF(SUM(M$8:M136)=0, \"\", \" + \")","v":""}]
["3266",null,"КЭРсУнг(D)-FRHF 6х0,35"," 6х0,35","0,35",null,"КЭРс","HF"," 6",null,"0,35",null,null,{"$f":"IF(M138=0, \"\",CONCATENATE(P138, C138, \"-\",M138,\"м\"))","v":""},"",{"$f":"IF(SUM(M$8:M137)=0, \"\", \" + \")","v":""}]
["3267",null,"КЭРсУнг(D)-FRHF 6х0,5"," 6х0,5","0,5",null,"КЭРс","HF"," 6",null,"0,5",null,null,"",{"$f":"CONCATENATE(O138,N139)","v":""},{"$f":"IF(SUM(M$8:M138)=0, \"\", \" + \")","v":""}]
["3268",null,"КЭРсУнг(D)-FRHF 6х0,75"," 6х0,75","0,75",null,"КЭРс","HF"," 6",null,"0,75",null,null,"","",{"$f":"IF(SUM(M$8:M139)=0, \"\", \" + \")","v":""}]
["6229",null,"КЭРсУнг(D)-FRHF 6х1,0"," 6х1,0","1,0",null,"КЭРс","HF"," 6",null,"1,0",null,null,"","",{"$f":"IF(SUM(M$8:M140)=0, \"\", \" + \")","v":""}]
["6230",null,"КЭРсУнг(D)-FRHF 6х1,5"," 6х1,5","1,5",null,"КЭРс","HF"," 6",null,"1,5",null,null,"","",{"$f":"IF(SUM(M$8:M141)=0, \"\", \" + \")","v":""}]
["6231",null,"КЭРсУнг(D)-FRHF 6х2,5"," 6х2,5","2,5",null,"КЭРс","HF"," 6",null,"2,5",null,null,"","",{"$f":"IF(SUM(M$8:M142)=0, \"\", \" + \")","v":""}]
["3269",null,"КЭРсУнг(D)-FRHF 7х0,2"," 7х0,2","0,2",null,"КЭРс","HF"," 7",null,"0,2",null,null,"","",{"$f":"IF(SUM(M$8:M143)=0, \"\", \" + \")","v":""}]
["3270",null,"КЭРсУнг(D)-FRHF 7х0,35"," 7х0,35","0,35",null,"КЭРс","HF"," 7",null,"0,35",null,null,"","",{"$f":"IF(SUM(M$8:M144)=0, \"\", \" + \")","v":""}]
["3271",null,"КЭРсУнг(D)-FRHF 7х0,5"," 7х0,5","0,5",null,"КЭРс","HF"," 7",null,"0,5",null,null,"","",{"$f":"IF(SUM(M$8:M145)=0, \"\", \" + \")","v":""}]
["3272",null,"КЭРсУнг(D)-FRHF 7х0,75"," 7х0,75","0,75",null,"КЭРс","HF"," 7",null,"0,75",null,null,"","",{"$f":"IF(SUM(M$8:M146)=0, \"\", \" + \")","v":""}]
["6232",null,"КЭРсУнг(D)-FRHF 7х1,0"," 7х1,0","1,0",null,"КЭРс","HF"," 7",null,"1,0",null,null,"","",{"$f":"IF(SUM(M$8:M147)=0, \"\", \" + \")","v":""}]
["6233",null,"КЭРсУнг(D)-FRHF 7х1,5"," 7х1,5","1,5",null,"КЭРс","HF"," 7",null,"1,5",null,null,"","",{"$f":"IF(SUM(M$8:M148)=0, \"\", \" + \")","v":""}]
["6234",null,"КЭРсУнг(D)-FRHF 7х2,5"," 7х2,5","2,5",null,"КЭРс","HF"," 7",null,"2,5",null,null,"","",{"$f":"IF(SUM(M$8:M149)=0, \"\", \" + \")","v":""}]
["3273",null,"КЭРсУнг(D)-FRHF 8х0,2"," 8х0,2","0,2",null,"КЭРс","HF"," 8",null,"0,2",null,null,"","",{"$f":"IF(SUM(M$8:M150)=0, \"\", \" + \")","v":""}]
["3274",null,"КЭРсУнг(D)-FRHF 8х0,35"," 8х0,35","0,35",null,"КЭРс","HF"," 8",null,"0,35",null,null,"","",{"$f":"IF(SUM(M$8:M151)=0, \"\", \" + \")","v":""}]
["3275",null,"КЭРсУнг(D)-FRHF 8х0,5"," 8х0,5","0,5",null,"КЭРс","HF"," 8",null,"0,5",null,null,"","",{"$f":"IF(SUM(M$8:M152)=0, \"\", \" + \")","v":""}]
["3276",null,"КЭРсУнг(D)-FRHF 8х0,75"," 8х0,75","0,75",null,"КЭРс","HF"," 8",null,"0,75",null,null,"","",{"$f":"IF(SUM(M$8:M153)=0, \"\", \" + \")","v":""}]
["6235",null,"КЭРсУнг(D)-FRHF 8х1,0"," 8х1,0","1,0",null,"КЭРс","HF"," 8",null,"1,0",null,null,"","",{"$f":"IF(SUM(M$8:M154)=0, \"\", \" + \")","v":""}]
["6236",null,"КЭРсУнг(D)-FRHF 8х1,5"," 8х1,5","1,5",null,"КЭРс","HF"," 8",null,"1,5",null,null,"","",{"$f":"IF(SUM(M$8:M155)=0, \"\", \" + \")","v":""}]
["6237",null,"КЭРсУнг(D)-FRHF 8х2,5"," 8х2,5","2,5",null,"КЭРс","HF"," 8",null,"2,5",null,null,"","",{"$f":"IF(SUM(M$8:M156)=0, \"\", \" + \")","v":""}]
["6366",null,"КЭРсЭПнг(А)-FRHF 10х0,2"," 10х0,2","0,2",null,"КЭРс","HF"," 10",null,"0,2",null,null,"","",{"$f":"IF(SUM(M$8:M157)=0, \"\", \" + \")","v":""}]
["6367",null,"КЭРсЭПнг(А)-FRHF 10х0,35"," 10х0,35","0,35",null,"КЭРс","HF"," 10",null,"0,35",null,null,"","",{"$f":"IF(SUM(M$8:M158)=0, \"\", \" + \")","v":""}]
["6368",null,"КЭРсЭПнг(А)-FRHF 10х0,5"," 10х0,5","0,5",null,"КЭРс","HF"," 10",null,"0,5",null,null,"","",{"$f":"IF(SUM(M$8:M159)=0, \"\", \" + \")","v":""}]
["6369",null,"КЭРсЭПнг(А)-FRHF 10х0,75"," 10х0,75","0,75",null,"КЭРс","HF"," 10",null,"0,75",null,null,"","",{"$f":"IF(SUM(M$8:M160)=0, \"\", \" + \")","v":""}]
["6370",null,"КЭРсЭПнг(А)-FRHF 10х1,0"," 10х1,0","1,0",null,"КЭРс","HF"," 10",null,"1,0",null,null,"","",{"$f":"IF(SUM(M$8:M161)=0, \"\", \" + \")","v":""}]
["6371",null,"КЭРсЭПнг(А)-FRHF 10х1,5"," 10х1,5","1,5",null,"КЭРс","HF"," 10",null,"1,5",null,null,"","",{"$f":"IF(SUM(M$8:M162)=0, \"\", \" + \")","v":""}]
["6372",null,"КЭРсЭПнг(А)-FRHF 10х2,5"," 10х2,5","2,5",null,"КЭРс","HF"," 10",null,"2,5",null,null,"","",{"$f":"IF(SUM(M$8:M163)=0, \"\", \" + \")","v":""}]
["17971",null,"КЭРсЭПнг(А)-FRHF 12х0,35"," 12х0,35","0,35",null,"КЭРс","HF"," 12",null,"0,35",null,null,"","",{"$f":"IF(SUM(M$8:M164)=0, \"\", \" + \")","v":""}]
["20159",null,"КЭРсЭПнг(А)-FRHF 12х0,5"," 12х0,5","0,5",null,"КЭРс","HF"," 12",null,"0,5",null,null,"","",{"$f":"IF(SUM(M$8:M165)=0, \"\", \" + \")","v":""}]
["20732",null,"КЭРсЭПнг(А)-FRHF 12х0.75"," 12х0.75","0.75",null,"КЭРс","HF"," 12",null,"0.75",null,null,"","",{"$f":"IF(SUM(M$8:M166)=0, \"\", \" + \")","v":""}]
["20160",null,"КЭРсЭПнг(А)-FRHF 12х1,0 "," 12х1,0 ","1,0 ",null,"КЭРс","HF"," 12",null,"1,0 ",null,null,"","",{"$f":"IF(SUM(M$8:M167)=0, \"\", \" + \")","v":""}]
["20669",null,"КЭРсЭПнг(А)-FRHF 12х1.5"," 12х1.5","1.5",null,"КЭРс","HF"," 12",null,"1.5",null,null,"","",{"$f":"IF(SUM(M$8:M168)=0, \"\", \" + \")","v":""}]
["17661",null,"КЭРсЭПнг(А)-FRHF 14х0,35"," 14х0,35","0,35",null,"КЭРс","HF"," 14",null,"0,35",null,null,"","",{"$f":"IF(SUM(M$8:M169)=0, \"\", \" + \")","v":""}]
["6542",null,"КЭРсЭПнг(А)-FRHF 14х1,0"," 14х1,0","1,0",null,"КЭРс","HF"," 14",null,"1,0",null,null,"","",{"$f":"IF(SUM(M$8:M170)=0, \"\", \" + \")","v":""}]
["20666",null,"КЭРсЭПнг(А)-FRHF 19х0.75",{"$f":"MID(C172, FIND(\" \",C172 ), 100)","v":" 19х0.75"},{"$f":"MID($D172,IF(ISERR(FIND(\"х\",$D172)), FIND(\"x\",$D172)+1, FIND(\"х\",$D172))+1, 100)","v":"0.75"},null,"КЭРс","HF",{"$f":"MID($D172,1, IF(ISERR(FIND(\"х\",$D172)), FIND(\"x\",$D172)-1, FIND(\"х\",$D172))-1)","v":" 19"},null,{"$f":"E172","v":"0.75"},null,null,"","",{"$f":"IF(SUM(M$8:M171)=0, \"\", \" + \")","v":""}]
["20665",null,"КЭРсЭПнг(А)-FRHF 19х1,0"," 19х1,0","1,0",null,"КЭРс","HF"," 19",null,"1,0",null,null,"","",{"$f":"IF(SUM(M$8:M172)=0, \"\", \" + \")","v":""}]
["20667",null,"КЭРсЭПнг(А)-FRHF 24х0.75"," 24х0.75","0.75",null,"КЭРс","HF"," 24",null,"0.75",null,null,"","",{"$f":"IF(SUM(M$8:M173)=0, \"\", \" + \")","v":""}]
["20668",null,"КЭРсЭПнг(А)-FRHF 27х0.75"," 27х0.75","0.75",null,"КЭРс","HF"," 27",null,"0.75",null,null,"","",{"$f":"IF(SUM(M$8:M174)=0, \"\", \" + \")","v":""}]
["21883",null,"КЭРсЭПнг(А)-FRHF 27х1,0 "," 27х1,0 ","1,0 ",null,"КЭРс","HF"," 27",null,"1,0 ",null,null,"","",{"$f":"IF(SUM(M$8:M175)=0, \"\", \" + \")","v":""}]
["6319",null,"КЭРсЭПнг(А)-FRHF 2х0,2"," 2х0,2","0,2",null,"КЭРс","HF"," 2",null,"0,2",null,null,"","",{"$f":"IF(SUM(M$8:M176)=0, \"\", \" + \")","v":""}]
["6320",null,"КЭРсЭПнг(А)-FRHF 2х0,35"," 2х0,35","0,35",null,"КЭРс","HF"," 2",null,"0,35",null,null,"","",{"$f":"IF(SUM(M$8:M177)=0, \"\", \" + \")","v":""}]
["6321",null,"КЭРсЭПнг(А)-FRHF 2х0,5"," 2х0,5","0,5",null,"КЭРс","HF"," 2",null,"0,5",null,null,"","",{"$f":"IF(SUM(M$8:M178)=0, \"\", \" + \")","v":""}]
["6322",null,"КЭРсЭПнг(А)-FRHF 2х0,75"," 2х0,75","0,75",null,"КЭРс","HF"," 2",null,"0,75",null,null,"","",{"$f":"IF(SUM(M$8:M179)=0, \"\", \" + \")","v":""}]
["6323",null,"КЭРсЭПнг(А)-FRHF 2х1,0"," 2х1,0","1,0",null,"КЭРс","HF"," 2",null,"1,0",null,null,"","",{"$f":"IF(SUM(M$8:M180)=0, \"\", \" + \")","v":""}]
["5598",null,"КЭРсЭПнг(А)-FRHF 2х1,5"," 2х1,5","1,5",null,"КЭРс","HF"," 2",null,"1,5",null,null,"","",{"$f":"IF(SUM(M$8:M181)=0, \"\", \" + \")","v":""}]
["6324",null,"КЭРсЭПнг(А)-FRHF 2х2,5"," 2х2,5","2,5",null,"КЭРс","HF"," 2",null,"2,5",null,null,"","",{"$f":"IF(SUM(M$8:M182)=0, \"\", \" + \")","v":""}]
["21884",null,"КЭРсЭПнг(А)-FRHF 30х1,0 "," 30х1,0 ","1,0 ",null,"КЭРс","HF"," 30",null,"1,0 ",null,null,"","",{"$f":"IF(SUM(M$8:M183)=0, \"\", \" + \")","v":""}]
["6325",null,"КЭРсЭПнг(А)-FRHF 3х0,2"," 3х0,2","0,2",null,"КЭРс","HF"," 3",null,"0,2",null,null,"","",{"$f":"IF(SUM(M$8:M184)=0, \"\", \" + \")","v":""}]
["6326",null,"КЭРсЭПнг(А)-FRHF 3х0,35"," 3х0,35","0,35",null,"КЭРс","HF"," 3",null,"0,35",null,null,"","",{"$f":"IF(SUM(M$8:M185)=0, \"\", \" + \")","v":""}]
["6327",null,"КЭРсЭПнг(А)-FRHF 3х0,5"," 3х0,5","0,5",null,"КЭРс","HF"," 3",null,"0,5",null,null,"","",{"$f":"IF(SUM(M$8:M186)=0, \"\", \" + \")","v":""}]
["6328",null,"КЭРсЭПнг(А)-FRHF 3х0,75"," 3х0,75","0,75",null,"КЭРс","HF"," 3",null,"0,75",null,null,"","",{"$f":"IF(SUM(M$8:M187)=0, \"\", \" + \")","v":""}]
["6329",null,"КЭРсЭПнг(А)-FRHF 3х1,0"," 3х1,0","1,0",null,"КЭРс","HF"," 3",null,"1,0",null,null,"","",{"$f":"IF(SUM(M$8:M188)=0, \"\", \" + \")","v":""}]
["6330",null,"КЭРсЭПнг(А)-FRHF 3х1,5"," 3х1,5","1,5",null,"КЭРс","HF"," 3",null,"1,5",null,null,"","",{"$f":"IF(SUM(M$8:M189)=0, \"\", \" + \")","v":""}]
["6331",null,"КЭРсЭПнг(А)-FRHF 3х2,5"," 3х2,5","2,5",null,"КЭРс","HF"," 3",null,"2,5",null,null,"","",{"$f":"IF(SUM(M$8:M190)=0, \"\", \" + \")","v":""}]
["6332",null,"КЭРсЭПнг(А)-FRHF 4х0,2"," 4х0,2","0,2",null,"КЭРс","HF"," 4",null,"0,2",null,null,"","",{"$f":"IF(SUM(M$8:M191)=0, \"\", \" + \")","v":""}]
["6333",null,"КЭРсЭПнг(А)-FRHF 4х0,35"," 4х0,35","0,35",null,"КЭРс","HF"," 4",null,"0,35",null,null,"","",{"$f":"IF(SUM(M$8:M192)=0, \"\", \" + \")","v":""}]
["6334",null,"КЭРсЭПнг(А)-FRHF 4х0,5"," 4х0,5","0,5",null,"КЭРс","HF"," 4",null,"0,5",null,null,"","",{"$f":"IF(SUM(M$8:M193)=0, \"\", \" + \")","v":""}]
["5401",null,"КЭРсЭПнг(А)-FRHF 4х0,75"," 4х0,75","0,75",null,"КЭРс","HF"," 4",null,"0,75",null,null,"","",{"$f":"IF(SUM(M$8:M194)=0, \"\", \" + \")","v":""}]
["6335",null,"КЭРсЭПнг(А)-FRHF 4х1,0"," 4х1,0","1,0",null,"КЭРс","HF"," 4",null,"1,0",null,null,"","",{"$f":"IF(SUM(M$8:M195)=0, \"\", \" + \")","v":""}]
["6336",null,"КЭРсЭПнг(А)-FRHF 4х1,5"," 4х1,5","1,5",null,"КЭРс","HF"," 4",null,"1,5",null,null,"","",{"$f":"IF(SUM(M$8:M196)=0, \"\", \" + \")","v":""}]
["6337",null,"КЭРсЭПнг(А)-FRHF 4х2,5"," 4х2,5","2,5",null,"КЭРс","HF"," 4",null,"2,5",null,null,"","",{"$f":"IF(SUM(M$8:M197)=0, \"\", \" + \")","v":""}]
["6338",null,"КЭРсЭПнг(А)-FRHF 5х0,2"," 5х0,2","0,2",null,{"$f":"MID(C199, 1, IF(ISERR(FIND(\"КЭР\",C199)),IF(ISERR(FIND(\"КШС\",C199)), 7, 3), 4))","v":"КЭРс"},{"$f":"MID(C199,FIND(\"FR\",C199)+2, 2)","v":"HF"}," 5",null,"0,2",null,null,"","",{"$f":"IF(SUM(M$8:M198)=0, \"\", \" + \")","v":""}]
["6339",null,"КЭРсЭПнг(А)-FRHF 5х0,35"," 5х0,35","0,35",null,"КЭРс","HF"," 5",null,"0,35",null,null,"","",{"$f":"IF(SUM(M$8:M199)=0, \"\", \" + \")","v":""}]
["6340",null,"КЭРсЭПнг(А)-FRHF 5х0,5"," 5х0,5","0,5",null,"КЭРс","HF"," 5",null,"0,5",null,null,"","",{"$f":"IF(SUM(M$8:M200)=0, \"\", \" + \")","v":""}]
["6341",null,"КЭРсЭПнг(А)-FRHF 5х0,75"," 5х0,75","0,75",null,"КЭРс","HF"," 5",null,"0,75",null,null,{"$f":"IF(M202=0, \"\",CONCATENATE(P202, C202, \"-\",M202,\"м\"))","v":""},"",{"$f":"IF(SUM(M$8:M201)=0, \"\", \" + \")","v":""}]
["6342",null,"КЭРсЭПнг(А)-FRHF 5х1,0"," 5х1,0","1,0",null,"КЭРс","HF"," 5",null,"1,0",null,null,"",{"$f":"CONCATENATE(O202,N203)","v":""},{"$f":"IF(SUM(M$8:M202)=0, \"\", \" + \")","v":""}]
["6343",null,"КЭРсЭПнг(А)-FRHF 5х1,5"," 5х1,5","1,5",null,"КЭРс","HF"," 5",null,"1,5",null,null,"","",{"$f":"IF(SUM(M$8:M203)=0, \"\", \" + \")","v":""}]
["6344",null,"КЭРсЭПнг(А)-FRHF 5х2,5"," 5х2,5","2,5",null,"КЭРс","HF"," 5",null,"2,5",null,null,"","",{"$f":"IF(SUM(M$8:M204)=0, \"\", \" + \")","v":""}]
["6345",null,"КЭРсЭПнг(А)-FRHF 6х0,2"," 6х0,2","0,2",null,"КЭРс","HF"," 6",null,"0,2",null,null,"","",{"$f":"IF(SUM(M$8:M205)=0, \"\", \" + \")","v":""}]
["6346",null,"КЭРсЭПнг(А)-FRHF 6х0,35"," 6х0,35","0,35",null,"КЭРс","HF"," 6",null,"0,35",null,null,"","",{"$f":"IF(SUM(M$8:M206)=0, \"\", \" + \")","v":""}]
["6347",null,"КЭРсЭПнг(А)-FRHF 6х0,5"," 6х0,5","0,5",null,"КЭРс","HF"," 6",null,"0,5",null,null,"","",{"$f":"IF(SUM(M$8:M207)=0, \"\", \" + \")","v":""}]
["6348",null,"КЭРсЭПнг(А)-FRHF 6х0,75"," 6х0,75","0,75",null,"КЭРс","HF"," 6",null,"0,75",null,null,"","",{"$f":"IF(SUM(M$8:M208)=0, \"\", \" + \")","v":""}]
["6349",null,"КЭРсЭПнг(А)-FRHF 6х1,0"," 6х1,0","1,0",null,"КЭРс","HF"," 6",null,"1,0",null,null,"","",{"$f":"IF(SUM(M$8:M209)=0, \"\", \" + \")","v":""}]
["6350",null,"КЭРсЭПнг(А)-FRHF 6х1,5"," 6х1,5","1,5",null,"КЭРс","HF"," 6",null,"1,5",null,null,"","",{"$f":"IF(SUM(M$8:M210)=0, \"\", \" + \")","v":""}]
["6351",null,"КЭРсЭПнг(А)-FRHF 6х2,5"," 6х2,5","2,5",null,"КЭРс","HF"," 6",null,"2,5",null,null,"","",{"$f":"IF(SUM(M$8:M211)=0, \"\", \" + \")","v":""}]
["6352",null,"КЭРсЭПнг(А)-FRHF 7х0,2"," 7х0,2","0,2",null,"КЭРс","HF"," 7",null,"0,2",null,null,"","",{"$f":"IF(SUM(M$8:M212)=0, \"\", \" + \")","v":""}]
["6353",null,"КЭРсЭПнг(А)-FRHF 7х0,35"," 7х0,35","0,35",null,"КЭРс","HF"," 7",null,"0,35",null,null,"","",{"$f":"IF(SUM(M$8:M213)=0, \"\", \" + \")","v":""}]
["6354",null,"КЭРсЭПнг(А)-FRHF 7х0,5"," 7х0,5","0,5",null,"КЭРс","HF"," 7",null,"0,5",null,null,"","",{"$f":"IF(SUM(M$8:M214)=0, \"\", \" + \")","v":""}]
["6355",null,"КЭРсЭПнг(А)-FRHF 7х0,75"," 7х0,75","0,75",null,"КЭРс","HF"," 7",null,"0,75",null,null,"","",{"$f":"IF(SUM(M$8:M215)=0, \"\", \" + \")","v":""}]
["6356",null,"КЭРсЭПнг(А)-FRHF 7х1,0"," 7х1,0","1,0",null,"КЭРс","HF"," 7",null,"1,0",null,null,"","",{"$f":"IF(SUM(M$8:M216)=0, \"\", \" + \")","v":""}]
["6357",null,"КЭРсЭПнг(А)-FRHF 7х1,5"," 7х1,5","1,5",null,"КЭРс","HF"," 7",null,"1,5",null,null,"","",{"$f":"IF(SUM(M$8:M217)=0, \"\", \" + \")","v":""}]
["6358",null,"КЭРсЭПнг(А)-FRHF 7х2,5"," 7х2,5","2,5",null,"КЭРс","HF"," 7",null,"2,5",null,null,"","",{"$f":"IF(SUM(M$8:M218)=0, \"\", \" + \")","v":""}]
["6359",null,"КЭРсЭПнг(А)-FRHF 8х0,2"," 8х0,2","0,2",null,"КЭРс","HF"," 8",null,"0,2",null,null,"","",{"$f":"IF(SUM(M$8:M219)=0, \"\", \" + \")","v":""}]
["6360",null,"КЭРсЭПнг(А)-FRHF 8х0,35"," 8х0,35","0,35",null,"КЭРс","HF"," 8",null,"0,35",null,null,"","",{"$f":"IF(SUM(M$8:M220)=0, \"\", \" + \")","v":""}]
["6361",null,"КЭРсЭПнг(А)-FRHF 8х0,5"," 8х0,5","0,5",null,"КЭРс","HF"," 8",null,"0,5",null,null,"","",{"$f":"IF(SUM(M$8:M221)=0, \"\", \" + \")","v":""}]
["6362",null,"КЭРсЭПнг(А)-FRHF 8х0,75"," 8х0,75","0,75",null,"КЭРс","HF"," 8",null,"0,75",null,null,"","",{"$f":"IF(SUM(M$8:M222)=0, \"\", \" + \")","v":""}]
["6363",null,"КЭРсЭПнг(А)-FRHF 8х1,0"," 8х1,0","1,0",null,"КЭРс","HF"," 8",null,"1,0",null,null,"","",{"$f":"IF(SUM(M$8:M223)=0, \"\", \" + \")","v":""}]
["6364",null,"КЭРсЭПнг(А)-FRHF 8х1,5"," 8х1,5","1,5",null,"КЭРс","HF"," 8",null,"1,5",null,null,"","",{"$f":"IF(SUM(M$8:M224)=0, \"\", \" + \")","v":""}]
["6365",null,"КЭРсЭПнг(А)-FRHF 8х2,5"," 8х2,5","2,5",null,"КЭРс","HF"," 8",null,"2,5",null,null,"","",{"$f":"IF(SUM(M$8:M225)=0, \"\", \" + \")","v":""}]
["3309",null,"КЭРсЭУнг(D)-FRHF 10х0,2"," 10х0,2","0,2",null,"КЭРс","HF"," 10",null,"0,2",null,null,"","",{"$f":"IF(SUM(M$8:M226)=0, \"\", \" + \")","v":""}]
["3310",null,"КЭРсЭУнг(D)-FRHF 10х0,35"," 10х0,35","0,35",null,"КЭРс","HF"," 10",null,"0,35",null,null,"","",{"$f":"IF(SUM(M$8:M227)=0, \"\", \" + \")","v":""}]
["3311",null,"КЭРсЭУнг(D)-FRHF 10х0,5"," 10х0,5","0,5",null,"КЭРс","HF"," 10",null,"0,5",null,null,"","",{"$f":"IF(SUM(M$8:M228)=0, \"\", \" + \")","v":""}]
["3312",null,"КЭРсЭУнг(D)-FRHF 10х0,75"," 10х0,75","0,75",null,"КЭРс","HF"," 10",null,"0,75",null,null,"","",{"$f":"IF(SUM(M$8:M229)=0, \"\", \" + \")","v":""}]
["6261",null,"КЭРсЭУнг(D)-FRHF 10х1,0"," 10х1,0","1,0",null,"КЭРс","HF"," 10",null,"1,0",null,null,"","",{"$f":"IF(SUM(M$8:M230)=0, \"\", \" + \")","v":""}]
["6262",null,"КЭРсЭУнг(D)-FRHF 10х1,5"," 10х1,5","1,5",null,"КЭРс","HF"," 10",null,"1,5",null,null,"","",{"$f":"IF(SUM(M$8:M231)=0, \"\", \" + \")","v":""}]
["6263",null,"КЭРсЭУнг(D)-FRHF 10х2,5"," 10х2,5","2,5",null,"КЭРс","HF"," 10",null,"2,5",null,null,"","",{"$f":"IF(SUM(M$8:M232)=0, \"\", \" + \")","v":""}]
["21049",null,"КЭРсЭУнг(D)-FRHF 12х0,35 "," 12х0,35 ","0,35 ",null,"КЭРс","HF"," 12",null,"0,35 ",null,null,"","",{"$f":"IF(SUM(M$8:M233)=0, \"\", \" + \")","v":""}]
["23553",null,"КЭРсЭУнг(D)-FRHF 12х1,5 "," 12х1,5 ","1,5 ",null,"КЭРс","HF"," 12",null,"1,5 ",null,null,"","",{"$f":"IF(SUM(M$8:M234)=0, \"\", \" + \")","v":""}]
["23554",null,"КЭРсЭУнг(D)-FRHF 18х1,5 ",{"$f":"MID(C236, FIND(\" \",C236 ), 100)","v":" 18х1,5 "},{"$f":"MID($D236,IF(ISERR(FIND(\"х\",$D236)), FIND(\"x\",$D236)+1, FIND(\"х\",$D236))+1, 100)","v":"1,5 "},null,"КЭРс","HF",{"$f":"MID($D236,1, IF(ISERR(FIND(\"х\",$D236)), FIND(\"x\",$D236)-1, FIND(\"х\",$D236))-1)","v":" 18"},null,{"$f":"E236","v":"1,5 "},null,null,"","",{"$f":"IF(SUM(M$8:M235)=0, \"\", \" + \")","v":""}]
["23556",null,"КЭРсЭУнг(D)-FRHF 25х1,5 "," 25х1,5 ","1,5 ",null,"КЭРс","HF"," 25",null,"1,5 ",null,null,"","",{"$f":"IF(SUM(M$8:M236)=0, \"\", \" + \")","v":""}]
["3281",null,"КЭРсЭУнг(D)-FRHF 2х0,2"," 2х0,2","0,2",null,"КЭРс","HF"," 2",null,"0,2",null,null,"","",{"$f":"IF(SUM(M$8:M237)=0, \"\", \" + \")","v":""}]
["3282",null,"КЭРсЭУнг(D)-FRHF 2х0,35"," 2х0,35","0,35",null,"КЭРс","HF"," 2",null,"0,35",null,null,"","",{"$f":"IF(SUM(M$8:M238)=0, \"\", \" + \")","v":""}]
["3283",null,"КЭРсЭУнг(D)-FRHF 2х0,5"," 2х0,5","0,5",null,"КЭРс","HF"," 2",null,"0,5",null,null,"","",{"$f":"IF(SUM(M$8:M239)=0, \"\", \" + \")","v":""}]
["3284",null,"КЭРсЭУнг(D)-FRHF 2х0,75"," 2х0,75","0,75",null,"КЭРс","HF"," 2",null,"0,75",null,null,"","",{"$f":"IF(SUM(M$8:M240)=0, \"\", \" + \")","v":""}]
["4633",null,"КЭРсЭУнг(D)-FRHF 2х1,0"," 2х1,0","1,0",null,"КЭРс","HF"," 2",null,"1,0",null,null,"","",{"$f":"IF(SUM(M$8:M241)=0, \"\", \" + \")","v":""}]
["6247",null,"КЭРсЭУнг(D)-FRHF 2х1,5"," 2х1,5","1,5",null,"КЭРс","HF"," 2",null,"1,5",null,null,"","",{"$f":"IF(SUM(M$8:M242)=0, \"\", \" + \")","v":""}]
["6248",null,"КЭРсЭУнг(D)-FRHF 2х2,5"," 2х2,5","2,5",null,"КЭРс","HF"," 2",null,"2,5",null,null,"","",{"$f":"IF(SUM(M$8:M243)=0, \"\", \" + \")","v":""}]
["23555",null,"КЭРсЭУнг(D)-FRHF 30х1,5 "," 30х1,5 ","1,5 ",null,"КЭРс","HF"," 30",null,"1,5 ",null,null,"","",{"$f":"IF(SUM(M$8:M244)=0, \"\", \" + \")","v":""}]
["3285",null,"КЭРсЭУнг(D)-FRHF 3х0,2"," 3х0,2","0,2",null,"КЭРс","HF"," 3",null,"0,2",null,null,"","",{"$f":"IF(SUM(M$8:M245)=0, \"\", \" + \")","v":""}]
["3286",null,"КЭРсЭУнг(D)-FRHF 3х0,35"," 3х0,35","0,35",null,"КЭРс","HF"," 3",null,"0,35",null,null,"","",{"$f":"IF(SUM(M$8:M246)=0, \"\", \" + \")","v":""}]
["3287",null,"КЭРсЭУнг(D)-FRHF 3х0,5"," 3х0,5","0,5",null,"КЭРс","HF"," 3",null,"0,5",null,null,"","",{"$f":"IF(SUM(M$8:M247)=0, \"\", \" + \")","v":""}]
["3288",null,"КЭРсЭУнг(D)-FRHF 3х0,75"," 3х0,75","0,75",null,"КЭРс","HF"," 3",null,"0,75",null,null,"","",{"$f":"IF(SUM(M$8:M248)=0, \"\", \" + \")","v":""}]
["6249",null,"КЭРсЭУнг(D)-FRHF 3х1,0"," 3х1,0","1,0",null,"КЭРс","HF"," 3",null,"1,0",null,null,"","",{"$f":"IF(SUM(M$8:M249)=0, \"\", \" + \")","v":""}]
["6250",null,"КЭРсЭУнг(D)-FRHF 3х1,5"," 3х1,5","1,5",null,"КЭРс","HF"," 3",null,"1,5",null,null,"","",{"$f":"IF(SUM(M$8:M250)=0, \"\", \" + \")","v":""}]
["6251",null,"КЭРсЭУнг(D)-FRHF 3х2,5"," 3х2,5","2,5",null,"КЭРс","HF"," 3",null,"2,5",null,null,"","",{"$f":"IF(SUM(M$8:M251)=0, \"\", \" + \")","v":""}]
["3289",null,"КЭРсЭУнг(D)-FRHF 4х0,2"," 4х0,2","0,2",null,"КЭРс","HF"," 4",null,"0,2",null,null,"","",{"$f":"IF(SUM(M$8:M252)=0, \"\", \" + \")","v":""}]
["3290",null,"КЭРсЭУнг(D)-FRHF 4х0,35"," 4х0,35","0,35",null,"КЭРс","HF"," 4",null,"0,35",null,null,"","",{"$f":"IF(SUM(M$8:M253)=0, \"\", \" + \")","v":""}]
["3291",null,"КЭРсЭУнг(D)-FRHF 4х0,5"," 4х0,5","0,5",null,"КЭРс","HF"," 4",null,"0,5",null,null,"","",{"$f":"IF(SUM(M$8:M254)=0, \"\", \" + \")","v":""}]
["3292",null,"КЭРсЭУнг(D)-FRHF 4х0,75"," 4х0,75","0,75",null,"КЭРс","HF"," 4",null,"0,75",null,null,"","",{"$f":"IF(SUM(M$8:M255)=0, \"\", \" + \")","v":""}]
["6241",null,"КЭРсЭУнг(D)-FRHF 4х1,0"," 4х1,0","1,0",null,"КЭРс","HF"," 4",null,"1,0",null,null,"","",{"$f":"IF(SUM(M$8:M256)=0, \"\", \" + \")","v":""}]
["6242",null,"КЭРсЭУнг(D)-FRHF 4х1,5"," 4х1,5","1,5",null,"КЭРс","HF"," 4",null,"1,5",null,null,"","",{"$f":"IF(SUM(M$8:M257)=0, \"\", \" + \")","v":""}]
["6243",null,"КЭРсЭУнг(D)-FRHF 4х2,5"," 4х2,5","2,5",null,"КЭРс","HF"," 4",null,"2,5",null,null,"","",{"$f":"IF(SUM(M$8:M258)=0, \"\", \" + \")","v":""}]
["3293",null,"КЭРсЭУнг(D)-FRHF 5х0,2"," 5х0,2","0,2",null,"КЭРс","HF"," 5",null,"0,2",null,null,"","",{"$f":"IF(SUM(M$8:M259)=0, \"\", \" + \")","v":""}]
["3294",null,"КЭРсЭУнг(D)-FRHF 5х0,35"," 5х0,35","0,35",null,"КЭРс","HF"," 5",null,"0,35",null,null,"","",{"$f":"IF(SUM(M$8:M260)=0, \"\", \" + \")","v":""}]
["3295",null,"КЭРсЭУнг(D)-FRHF 5х0,5"," 5х0,5","0,5",null,"КЭРс","HF"," 5",null,"0,5",null,null,"","",{"$f":"IF(SUM(M$8:M261)=0, \"\", \" + \")","v":""}]
["3296",null,"КЭРсЭУнг(D)-FRHF 5х0,75"," 5х0,75","0,75",null,{"$f":"MID(C263, 1, IF(ISERR(FIND(\"КЭР\",C263)),IF(ISERR(FIND(\"КШС\",C263)), 7, 3), 4))","v":"КЭРс"},{"$f":"MID(C263,FIND(\"FR\",C263)+2, 2)","v":"HF"}," 5",null,"0,75",null,null,"","",{"$f":"IF(SUM(M$8:M262)=0, \"\", \" + \")","v":""}]
["6244",null,"КЭРсЭУнг(D)-FRHF 5х1,0"," 5х1,0","1,0",null,"КЭРс","HF"," 5",null,"1,0",null,null,"","",{"$f":"IF(SUM(M$8:M263)=0, \"\", \" + \")","v":""}]
["6245",null,"КЭРсЭУнг(D)-FRHF 5х1,5"," 5х1,5","1,5",null,"КЭРс","HF"," 5",null,"1,5",null,null,"","",{"$f":"IF(SUM(M$8:M264)=0, \"\", \" + \")","v":""}]
["6246",null,"КЭРсЭУнг(D)-FRHF 5х2,5"," 5х2,5","2,5",null,"КЭРс","HF"," 5",null,"2,5",null,null,{"$f":"IF(M266=0, \"\",CONCATENATE(P266, C266, \"-\",M266,\"м\"))","v":""},"",{"$f":"IF(SUM(M$8:M265)=0, \"\", \" + \")","v":""}]
["3297",null,"КЭРсЭУнг(D)-FRHF 6х0,2"," 6х0,2","0,2",null,"КЭРс","HF"," 6",null,"0,2",null,null,"",{"$f":"CONCATENATE(O266,N267)","v":""},{"$f":"IF(SUM(M$8:M266)=0, \"\", \" + \")","v":""}]
["3298",null,"КЭРсЭУнг(D)-FRHF 6х0,35"," 6х0,35","0,35",null,"КЭРс","HF"," 6",null,"0,35",null,null,"","",{"$f":"IF(SUM(M$8:M267)=0, \"\", \" + \")","v":""}]
["3299",null,"КЭРсЭУнг(D)-FRHF 6х0,5"," 6х0,5","0,5",null,"КЭРс","HF"," 6",null,"0,5",null,null,"","",{"$f":"IF(SUM(M$8:M268)=0, \"\", \" + \")","v":""}]
["3300",null,"КЭРсЭУнг(D)-FRHF 6х0,75"," 6х0,75","0,75",null,"КЭРс","HF"," 6",null,"0,75",null,null,"","",{"$f":"IF(SUM(M$8:M269)=0, \"\", \" + \")","v":""}]
["6252",null,"КЭРсЭУнг(D)-FRHF 6х1,0"," 6х1,0","1,0",null,"КЭРс","HF"," 6",null,"1,0",null,null,"","",{"$f":"IF(SUM(M$8:M270)=0, \"\", \" + \")","v":""}]
["6253",null,"КЭРсЭУнг(D)-FRHF 6х1,5"," 6х1,5","1,5",null,"КЭРс","HF"," 6",null,"1,5",null,null,"","",{"$f":"IF(SUM(M$8:M271)=0, \"\", \" + \")","v":""}]
["6254",null,"КЭРсЭУнг(D)-FRHF 6х2,5"," 6х2,5","2,5",null,"КЭРс","HF"," 6",null,"2,5",null,null,"","",{"$f":"IF(SUM(M$8:M272)=0, \"\", \" + \")","v":""}]
["3301",null,"КЭРсЭУнг(D)-FRHF 7х0,2"," 7х0,2","0,2",null,"КЭРс","HF"," 7",null,"0,2",null,null,"","",{"$f":"IF(SUM(M$8:M273)=0, \"\", \" + \")","v":""}]
["3302",null,"КЭРсЭУнг(D)-FRHF 7х0,35"," 7х0,35","0,35",null,"КЭРс","HF"," 7",null,"0,35",null,null,"","",{"$f":"IF(SUM(M$8:M274)=0, \"\", \" + \")","v":""}]
["3303",null,"КЭРсЭУнг(D)-FRHF 7х0,5"," 7х0,5","0,5",null,"КЭРс","HF"," 7",null,"0,5",null,null,"","",{"$f":"IF(SUM(M$8:M275)=0, \"\", \" + \")","v":""}]
["3304",null,"КЭРсЭУнг(D)-FRHF 7х0,75"," 7х0,75","0,75",null,"КЭРс","HF"," 7",null,"0,75",null,null,"","",{"$f":"IF(SUM(M$8:M276)=0, \"\", \" + \")","v":""}]
["6255",null,"КЭРсЭУнг(D)-FRHF 7х1,0"," 7х1,0","1,0",null,"КЭРс","HF"," 7",null,"1,0",null,null,"","",{"$f":"IF(SUM(M$8:M277)=0, \"\", \" + \")","v":""}]
["6256",null,"КЭРсЭУнг(D)-FRHF 7х1,5"," 7х1,5","1,5",null,"КЭРс","HF"," 7",null,"1,5",null,null,"","",{"$f":"IF(SUM(M$8:M278)=0, \"\", \" + \")","v":""}]
["6257",null,"КЭРсЭУнг(D)-FRHF 7х2,5"," 7х2,5","2,5",null,"КЭРс","HF"," 7",null,"2,5",null,null,"","",{"$f":"IF(SUM(M$8:M279)=0, \"\", \" + \")","v":""}]
["3305",null,"КЭРсЭУнг(D)-FRHF 8х0,2"," 8х0,2","0,2",null,"КЭРс","HF"," 8",null,"0,2",null,null,"","",{"$f":"IF(SUM(M$8:M280)=0, \"\", \" + \")","v":""}]
["3306",null,"КЭРсЭУнг(D)-FRHF 8х0,35"," 8х0,35","0,35",null,"КЭРс","HF"," 8",null,"0,35",null,null,"","",{"$f":"IF(SUM(M$8:M281)=0, \"\", \" + \")","v":""}]
["3307",null,"КЭРсЭУнг(D)-FRHF 8х0,5"," 8х0,5","0,5",null,"КЭРс","HF"," 8",null,"0,5",null,null,"","",{"$f":"IF(SUM(M$8:M282)=0, \"\", \" + \")","v":""}]
["3308",null,"КЭРсЭУнг(D)-FRHF 8х0,75"," 8х0,75","0,75",null,"КЭРс","HF"," 8",null,"0,75",null,null,"","",{"$f":"IF(SUM(M$8:M283)=0, \"\", \" + \")","v":""}]
["6258",null,"КЭРсЭУнг(D)-FRHF 8х1,0"," 8х1,0","1,0",null,"КЭРс","HF"," 8",null,"1,0",null,null,"","",{"$f":"IF(SUM(M$8:M284)=0, \"\", \" + \")","v":""}]
["6259",null,"КЭРсЭУнг(D)-FRHF 8х1,5"," 8х1,5","1,5",null,"КЭРс","HF"," 8",null,"1,5",null,null,"","",{"$f":"IF(SUM(M$8:M285)=0, \"\", \" + \")","v":""}]
["6260",null,"КЭРсЭУнг(D)-FRHF 8х2,5"," 8х2,5","2,5",null,"КЭРс","HF"," 8",null,"2,5",null,null,"","",{"$f":"IF(SUM(M$8:M286)=0, \"\", \" + \")","v":""}]
["5022",null,"СПЕЦЛАН UTP-3нг(А)-FRHF 2х2х0,52",{"$f":"MID(C288, FIND(\" \",C288,FIND(\"FR\",C288)),20)","v":" 2х2х0,52"},{"$f":"MID($D288,IF(ISERR(FIND(\"х\",$D288)), FIND(\"x\",$D288), FIND(\"х\",$D288))+1, 100)","v":"2х0,52"},{"$f":"MID($E288,IF(ISERR(FIND(\"х\",$E288)), FIND(\"x\",$E288), FIND(\"х\",$E288))+1,10)","v":"0,52"},"СПЕЦЛАН","HF",{"$f":"MID($D288,1, IF(ISERR(FIND(\"х\",$D288)), FIND(\"x\",$D288), FIND(\"х\",$D288))-1)","v":" 2"},{"$f":"MID($E288,1, IF(ISERR(FIND(\"х\",$E288)), FIND(\"x\",$E288), FIND(\"х\",$E288))-1)","v":"2"},{"$f":"F288","v":"0,52"},null,null,"","",{"$f":"IF(SUM(M$8:M287)=0, \"\", \" + \")","v":""}]
["5023",null,"СПЕЦЛАН UTP-3нг(А)-FRHF 4х2х0,52"," 4х2х0,52",{"$f":"MID($D289,IF(ISERR(FIND(\"х\",$D289)), FIND(\"x\",$D289), FIND(\"х\",$D289))+1, 100)","v":"2х0,52"},{"$f":"MID($E289,IF(ISERR(FIND(\"х\",$E289)), FIND(\"x\",$E289), FIND(\"х\",$E289))+1,10)","v":"0,52"},"СПЕЦЛАН","HF",{"$f":"MID($D289,1, IF(ISERR(FIND(\"х\",$D289)), FIND(\"x\",$D289), FIND(\"х\",$D289))-1)","v":" 4"},{"$f":"MID($E289,1, IF(ISERR(FIND(\"х\",$E289)), FIND(\"x\",$E289), FIND(\"х\",$E289))-1)","v":"2"},"0,52",null,null,"","",{"$f":"IF(SUM(M$8:M288)=0, \"\", \" + \")","v":""}]
["5736",null,"СПЕЦЛАН UTP-3нг(А)-FRLS 2х2х0,52"," 2х2х0,52","2х0,52","0,52","СПЕЦЛАН","LS"," 2","2","0,52",null,null,"","",{"$f":"IF(SUM(M$8:M289)=0, \"\", \" + \")","v":""}]
["5737",null,"СПЕЦЛАН UTP-3нг(А)-FRLS 4х2х0,52"," 4х2х0,52","2х0,52","0,52","СПЕЦЛАН","LS"," 4","2","0,52",null,null,"","",{"$f":"IF(SUM(M$8:M290)=0, \"\", \" + \")","v":""}]
["16524",null,"СПЕЦЛАН UTP-3нг(А)-FRLSLTx 2х2х0,52"," 2х2х0,52","2х0,52","0,52","СПЕЦЛАН","LS"," 2","2","0,52",null,null,"","",{"$f":"IF(SUM(M$8:M291)=0, \"\", \" + \")","v":""}]
["16525",null,"СПЕЦЛАН UTP-3нг(А)-FRLSLTx 4х2х0,52"," 4х2х0,52","2х0,52","0,52","СПЕЦЛАН","LS"," 4","2","0,52",null,null,"","",{"$f":"IF(SUM(M$8:M292)=0, \"\", \" + \")","v":""}]
["16561",null,"СПЕЦЛАН UTP-5нг(D)-FRLS 2х2х0,52"," 2х2х0,52","2х0,52","0,52","СПЕЦЛАН","LS"," 2","2","0,52",null,null,"","",{"$f":"IF(SUM(M$8:M293)=0, \"\", \" + \")","v":""}]
["16562",null,"СПЕЦЛАН UTP-5нг(D)-FRLS 4х2х0,52"," 4х2х0,52","2х0,52","0,52","СПЕЦЛАН","LS"," 4","2","0,52",null,null,"","",{"$f":"IF(SUM(M$8:M294)=0, \"\", \" + \")","v":""}]
["16559",null,"СПЕЦЛАН UTP-5нг(А)-FRHF 2х2х0,52"," 2х2х0,52","2х0,52","0,52","СПЕЦЛАН","HF"," 2","2","0,52",null,null,"","",{"$f":"IF(SUM(M$8:M295)=0, \"\", \" + \")","v":""}]
["16560",null,"СПЕЦЛАН UTP-5нг(А)-FRHF 4х2х0,52"," 4х2х0,52","2х0,52","0,52","СПЕЦЛАН","HF"," 4","2","0,52",null,null,"","",{"$f":"IF(SUM(M$8:M296)=0, \"\", \" + \")","v":""}]
["2961",null,"КШСГнг(А)-FRHF 1x2x0,60",{"$f":"MID(C298, FIND(\" \",C298) +1, 100)","v":"1x2x0,60"},{"$f":"MID($D298,IF(ISERR(FIND(\"х\",$D298)), FIND(\"x\",$D298), FIND(\"х\",$D298))+1, 100)","v":"2x0,60"},{"$f":"MID($E298,IF(ISERR(FIND(\"х\",$E298)), FIND(\"x\",$E298), FIND(\"х\",$E298))+1,10)","v":"0,60"},"КШС","HF",{"$f":"MID($D298,1, IF(ISERR(FIND(\"х\",$D298)), FIND(\"x\",$D298), FIND(\"х\",$D298))-1)","v":"1"},{"$f":"MID($E298,1, IF(ISERR(FIND(\"х\",$E298)), FIND(\"x\",$E298), FIND(\"х\",$E298))-1)","v":"2"},"0,60",null,null,"","",{"$f":"IF(SUM(M$8:M297)=0, \"\", \" + \")","v":""}]
["2962",null,"КШСГнг(А)-FRHF 2x2x0,60","2x2x0,60",{"$f":"MID($D299,IF(ISERR(FIND(\"х\",$D299)), FIND(\"x\",$D299), FIND(\"х\",$D299))+1, 100)","v":"2x0,60"},{"$f":"MID($E299,IF(ISERR(FIND(\"х\",$E299)), FIND(\"x\",$E299), FIND(\"х\",$E299))+1,10)","v":"0,60"},"КШС","HF",{"$f":"MID($D299,1, IF(ISERR(FIND(\"х\",$D299)), FIND(\"x\",$D299), FIND(\"х\",$D299))-1)","v":"2"},{"$f":"MID($E299,1, IF(ISERR(FIND(\"х\",$E299)), FIND(\"x\",$E299), FIND(\"х\",$E299))-1)","v":"2"},"0,60",null,null,"","",{"$f":"IF(SUM(M$8:M298)=0, \"\", \" + \")","v":""}]
["2963",null,"КШСГнг(А)-FRHF 3x2x0,60","3x2x0,60","2x0,60","0,60","КШС","HF","3","2","0,60",null,null,"","",{"$f":"IF(SUM(M$8:M299)=0, \"\", \" + \")","v":""}]
["2964",null,"КШСГнг(А)-FRLS 1x2x0,60","1x2x0,60","2x0,60","0,60","КШС","LS","1","2","0,60",null,null,"","",{"$f":"IF(SUM(M$8:M300)=0, \"\", \" + \")","v":""}]
["2965",null,"КШСГнг(А)-FRLS 2x2x0,60","2x2x0,60","2x0,60","0,60","КШС","LS","2","2","0,60",null,null,"","",{"$f":"IF(SUM(M$8:M301)=0, \"\", \" + \")","v":""}]
["2966",null,"КШСГнг(А)-FRLS 3x2x0,60","3x2x0,60","2x0,60","0,60","КШС","LS","3","2","0,60",null,null,"","",{"$f":"IF(SUM(M$8:M302)=0, \"\", \" + \")","v":""}]
["2970",null,"КШСГЭнг(А)-FRHF 1x2x0,60","1x2x0,60","2x0,60","0,60","КШС","HF","1","2","0,60",null,null,"","",{"$f":"IF(SUM(M$8:M303)=0, \"\", \" + \")","v":""}]
["2971",null,"КШСГЭнг(А)-FRHF 2x2x0,60","2x2x0,60","2x0,60","0,60","КШС","HF","2","2","0,60",null,null,"","",{"$f":"IF(SUM(M$8:M304)=0, \"\", \" + \")","v":""}]
["2972",null,"КШСГЭнг(А)-FRHF 3x2x0,60","3x2x0,60","2x0,60","0,60","КШС","HF","3","2","0,60",null,null,"","",{"$f":"IF(SUM(M$8:M305)=0, \"\", \" + \")","v":""}]
["2967",null,"КШСГЭнг(А)-FRLS 1x2x0,60","1x2x0,60","2x0,60","0,60","КШС","LS","1","2","0,60",null,null,"","",{"$f":"IF(SUM(M$8:M306)=0, \"\", \" + \")","v":""}]
["2968",null,"КШСГЭнг(А)-FRLS 2x2x0,60","2x2x0,60","2x0,60","0,60","КШС","LS","2","2","0,60",null,null,"","",{"$f":"IF(SUM(M$8:M307)=0, \"\", \" + \")","v":""}]
["2969",null,"КШСГЭнг(А)-FRLS 3x2x0,60","3x2x0,60","2x0,60","0,60","КШС","LS","3","2","0,60",null,null,"","",{"$f":"IF(SUM(M$8:M308)=0, \"\", \" + \")","v":""}]
["2949",null,"КШСнг(А)-FRHF 1x2x0,52","1x2x0,52","2x0,52","0,52","КШС","HF","1","2","0,52",null,null,"","",{"$f":"IF(SUM(M$8:M309)=0, \"\", \" + \")","v":""}]
["2950",null,"КШСнг(А)-FRHF 2x2x0,52","2x2x0,52","2x0,52","0,52","КШС","HF","2","2","0,52",null,null,"","",{"$f":"IF(SUM(M$8:M310)=0, \"\", \" + \")","v":""}]
["2951",null,"КШСнг(А)-FRHF 3x2x0,52","3x2x0,52","2x0,52","0,52","КШС","HF","3","2","0,52",null,null,"","",{"$f":"IF(SUM(M$8:M311)=0, \"\", \" + \")","v":""}]
["2952",null,"КШСнг(А)-FRLS 1x2x0,52","1x2x0,52","2x0,52","0,52","КШС","LS","1","2","0,52",null,null,"","",{"$f":"IF(SUM(M$8:M312)=0, \"\", \" + \")","v":""}]
["2953",null,"КШСнг(А)-FRLS 2x2x0,52","2x2x0,52","2x0,52","0,52","КШС","LS","2","2","0,52",null,null,"","",{"$f":"IF(SUM(M$8:M313)=0, \"\", \" + \")","v":""}]
["2954",null,"КШСнг(А)-FRLS 3x2x0,52","3x2x0,52","2x0,52","0,52","КШС","LS","3","2","0,52",null,null,"","",{"$f":"IF(SUM(M$8:M314)=0, \"\", \" + \")","v":""}]
["2958",null,"КШСЭнг(А)-FRHF 1x2x0,52","1x2x0,52","2x0,52","0,52","КШС","HF","1","2","0,52",null,null,"","",{"$f":"IF(SUM(M$8:M315)=0, \"\", \" + \")","v":""}]
["2959",null,"КШСЭнг(А)-FRHF 2x2x0,52","2x2x0,52","2x0,52","0,52","КШС","HF","2","2","0,52",null,null,"","",{"$f":"IF(SUM(M$8:M316)=0, \"\", \" + \")","v":""}]
["2960",null,"КШСЭнг(А)-FRHF 3x2x0,52","3x2x0,52","2x0,52","0,52","КШС","HF","3","2","0,52",null,null,"","",{"$f":"IF(SUM(M$8:M317)=0, \"\", \" + \")","v":""}]
["2955",null,"КШСЭнг(А)-FRLS 1x2x0,52","1x2x0,52","2x0,52","0,52","КШС","LS","1","2","0,52",null,null,"","",{"$f":"IF(SUM(M$8:M318)=0, \"\", \" + \")","v":""}]
["2956",null,"КШСЭнг(А)-FRLS 2x2x0,52","2x2x0,52","2x0,52","0,52","КШС","LS","2","2","0,52",null,null,"","",{"$f":"IF(SUM(M$8:M319)=0, \"\", \" + \")","v":""}]
["2957",null,"КШСЭнг(А)-FRLS 3x2x0,52","3x2x0,52","2x0,52","0,52","КШС","LS","3","2","0,52",null,null,"","",{"$f":"IF(SUM(M$8:M320)=0, \"\", \" + \")","v":""}]
[null,null,null,null,null,null,null,null,null,null,null,null,null,"","",{"$f":"IF(SUM(M$8:M321)=0, \"\", \" + \")","v":""}]
[null,null,null,null,null,null,null,null,null,null,null,null,null,"","",{"$f":"IF(SUM(M$8:M322)=0, \"\", \" + \")","v":""}]
[null,null,null,null,null,null,null,null,null,null,null,null,null,"","",{"$f":"IF(SUM(M$8:M323)=0, \"\", \" + \")","v":""}]
[null,null,null,null,null,null,null,null,null,null,null,null,null,"","",{"$f":"IF(SUM(M$8:M324)=0, \"\", \" + \")","v":""}]
[null,null,null,null,null,null,null,null,null,null,null,null,null,"","",{"$f":"IF(SUM(M$8:M325)=0, \"\", \" + \")","v":""}]
[null,null,null,null,null,null,null,null,null,null,null,null,null,"","",{"$f":"IF(SUM(M$8:M326)=0, \"\", \" + \")","v":""}]
[null,null,null,null,null,null,null,null,null,null,null,null,null,"","",{"$f":"IF(SUM(M$8:M327)=0, \"\", \" + \")","v":""}]
[null,null,null,null,null,null,null,null,null,null,null,null,null,"","",{"$f":"IF(SUM(M$8:M328)=0, \"\", \" + \")","v":""}]
[null,null,null,null,null,null,null,null,null,null,null,null,null,{"$f":"IF(M330=0, \"\",CONCATENATE(P330, C330, \"-\",M330,\"м\"))","v":""},"",{"$f":"IF(SUM(M$8:M329)=0, \"\", \" + \")","v":""}]
[null,null,null,null,null,null,null,null,null,null,null,null,null,"",{"$f":"CONCATENATE(O330,N331)","v":""},{"$f":"IF(SUM(M$8:M330)=0, \"\", \" + \")","v":""}]
[null,null,null,null,null,null,null,null,null,null,null,null,null,"","",{"$f":"IF(SUM(M$8:M331)=0, \"\", \" + \")","v":""}]
[null,null,null,null,null,null,null,null,null,null,null,null,null,"","",{"$f":"IF(SUM(M$8:M332)=0, \"\", \" + \")","v":""}]
[null,null,null,null,null,null,null,null,null,null,null,null,null,"","",{"$f":"IF(SUM(M$8:M333)=0, \"\", \" + \")","v":""}]
[null,null,null,null,null,null,null,null,null,null,null,null,null,"","",{"$f":"IF(SUM(M$8:M334)=0, \"\", \" + \")","v":""}]
[null,null,null,null,null,null,null,null,null,null,null,null,null,"","",{"$f":"IF(SUM(M$8:M335)=0, \"\", \" + \")","v":""}]
[null,null,null,null,null,null,null,null,null,null,null,null,null,"","",{"$f":"IF(SUM(M$8:M336)=0, \"\", \" + \")","v":""}]
[null,null,null,null,null,null,null,null,null,null,null,null,null,"","",{"$f":"IF(SUM(M$8:M337)=0, \"\", \" + \")","v":""}]
[null,null,null,null,null,null,null,null,null,null,null,null,null,"","",{"$f":"IF(SUM(M$8:M338)=0, \"\", \" + \")","v":""}]
[null,null,null,null,null,null,null,null,null,null,null,null,null,"","",{"$f":"IF(SUM(M$8:M339)=0, \"\", \" + \")","v":""}]
[null,null,null,null,null,null,null,null,null,null,null,null,null,"","",{"$f":"IF(SUM(M$8:M340)=0, \"\", \" + \")","v":""}]
[null,null,null,null,null,null,null,null,null,null,null,null,null,"","",{"$f":"IF(SUM(M$8:M341)=0, \"\", \" + \")","v":""}]
[null,null,null,null,null,null,null,null,null,null,null,null,null,"","",{"$f":"IF(SUM(M$8:M342)=0, \"\", \" + \")","v":""}]
[null,null,null,null,null,null,null,null,null,null,null,null,null,"","",{"$f":"IF(SUM(M$8:M343)=0, \"\", \" + \")","v":""}]
[null,null,null,null,null,null,null,null,null,null,null,null,null,"","",{"$f":"IF(SUM(M$8:M344)=0, \"\", \" + \")","v":""}]
[null,null,null,null,null,null,null,null,null,null,null,null,null,"","",{"$f":"IF(SUM(M$8:M345)=0, \"\", \" + \")","v":""}]
[null,null,null,null,null,null,null,null,null,null,null,null,null,"","",{"$f":"IF(SUM(M$8:M346)=0, \"\", \" + \")","v":""}]
[null,null,null,null,null,null,null,null,null,null,null,null,null,"","",{"$f":"IF(SUM(M$8:M347)=0, \"\", \" + \")","v":""}]
[null,null,null,null,null,null,null,null,null,null,null,null,null,"","",{"$f":"IF(SUM(M$8:M348)=0, \"\", \" + \")","v":""}]
[null,null,null,null,null,null,null,null,null,null,null,null,null,"","",{"$f":"IF(SUM(M$8:M349)=0, \"\", \" + \")","v":""}]
[null,null,null,null,null,null,null,null,null,null,null,null,null,"","",{"$f":"IF(SUM(M$8:M350)=0, \"\", \" + \")","v":""}]
[null,null,null,null,null,null,null,null,null,null,null,null,null,"","",{"$f":"IF(SUM(M$8:M351)=0, \"\", \" + \")","v":""}]
[null,null,null,null,null,null,null,null,null,null,null,null,null,"","",{"$f":"IF(SUM(M$8:M352)=0, \"\", \" + \")","v":""}]
[null,null,null,null,null,null,null,null,null,null,null,null,null,"","",{"$f":"IF(SUM(M$8:M353)=0, \"\", \" + \")","v":""}]
[null,null,null,null,null,null,null,null,null,null,null,null,null,"","",{"$f":"IF(SUM(M$8:M354)=0, \"\", \" + \")","v":""}]
[null,null,null,null,null,null,null,null,null,null,null,null,null,"","",{"$f":"IF(SUM(M$8:M355)=0, \"\", \" + \")","v":""}]
[null,null,null,null,null,null,null,null,null,null,null,null,null,"","",{"$f":"IF(SUM(M$8:M356)=0, \"\", \" + \")","v":""}]
[null,null,null,null,null,null,null,null,null,null,null,null,null,"","",{"$f":"IF(SUM(M$8:M357)=0, \"\", \" + \")","v":""}]
[null,null,null,null,null,null,null,null,null,null,null,null,null,"","",{"$f":"IF(SUM(M$8:M358)=0, \"\", \" + \")","v":""}]
[null,null,null,null,null,null,null,null,null,null,null,null,null,"","",{"$f":"IF(SUM(M$8:M359)=0, \"\", \" + \")","v":""}]
[null,null,null,null,null,null,null,null,null,null,null,null,null,"","",{"$f":"IF(SUM(M$8:M360)=0, \"\", \" + \")","v":""}]
[null,null,null,null,null,null,null,null,null,null,null,null,null,"","",{"$f":"IF(SUM(M$8:M361)=0, \"\", \" + \")","v":""}]
[null,null,null,null,null,null,null,null,null,null,null,null,null,"","",{"$f":"IF(SUM(M$8:M362)=0, \"\", \" + \")","v":""}]
[null,null,null,null,null,null,null,null,null,null,null,null,null,"","",{"$f":"IF(SUM(M$8:M363)=0, \"\", \" + \")","v":""}]
[null,null,null,null,null,null,null,null,null,null,null,null,null,"","",{"$f":"IF(SUM(M$8:M364)=0, \"\", \" + \")","v":""}]
[null,null,null,null,null,null,null,null,null,null,null,null,null,"","",{"$f":"IF(SUM(M$8:M365)=0, \"\", \" + \")","v":""}]
[null,null,null,null,null,null,null,null,null,null,null,null,null,"","",{"$f":"IF(SUM(M$8:M366)=0, \"\", \" + \")","v":""}]
[null,null,null,null,null,null,null,null,null,null,null,null,null,"","",{"$f":"IF(SUM(M$8:M367)=0, \"\", \" + \")","v":""}]
[null,null,null,null,null,null,null,null,null,null,null,null,null,"","",{"$f":"IF(SUM(M$8:M368)=0, \"\", \" + \")","v":""}]
[null,null,null,null,null,null,null,null,null,null,null,null,null,"","",{"$f":"IF(SUM(M$8:M369)=0, \"\", \" + \")","v":""}]
[null,null,null,null,null,null,null,null,null,null,null,null,null,"","",{"$f":"IF(SUM(M$8:M370)=0, \"\", \" + \")","v":""}]
[null,null,null,null,null,null,null,null,null,null,null,null,null,"","",{"$f":"IF(SUM(M$8:M371)=0, \"\", \" + \")","v":""}]
[null,null,null,null,null,null,null,null,null,null,null,null,null,"","",{"$f":"IF(SUM(M$8:M372)=0, \"\", \" + \")","v":""}]
[null,null,null,null,null,null,null,null,null,null,null,null,null,"","",{"$f":"IF(SUM(M$8:M373)=0, \"\", \" + \")","v":""}]
[null,null,null,null,null,null,null,null,null,null,null,null,null,"","",{"$f":"IF(SUM(M$8:M374)=0, \"\", \" + \")","v":""}]
[null,null,null,null,null,null,null,null,null,null,null,null,null,"","",{"$f":"IF(SUM(M$8:M375)=0, \"\", \" + \")","v":""}]
[null,null,null,null,null,null,null,null,null,null,null,null,null,"","",{"$f":"IF(SUM(M$8:M376)=0, \"\", \" + \")","v":""}]
[null,null,null,null,null,null,null,null,null,null,null,null,null,"","",{"$f":"IF(SUM(M$8:M377)=0, \"\", \" + \")","v":""}]
[null,null,null,null,null,null,null,null,null,null,null,null,null,"","",{"$f":"IF(SUM(M$8:M378)=0, \"\", \" + \")","v":""}]
[null,null,null,null,null,null,null,null,null,null,null,null,null,"","",{"$f":"IF(SUM(M$8:M379)=0, \"\", \" + \")","v":""}]
[null,null,null,null,null,null,null,null,null,null,null,null,null,"","",{"$f":"IF(SUM(M$8:M380)=0, \"\", \" + \")","v":""}]
[null,null,null,null,null,null,null,null,null,null,null,null,null,"","",{"$f":"IF(SUM(M$8:M381)=0, \"\", \" + \")","v":""}]
[null,null,null,null,null,null,null,null,null,null,null,null,null,"","",{"$f":"IF(SUM(M$8:M382)=0, \"\", \" + \")","v":""}]
[null,null,null,null,null,null,null,null,null,null,null,null,null,"","",{"$f":"IF(SUM(M$8:M383)=0, \"\", \" + \")","v":""}]
[null,null,null,null,null,null,null,null,null,null,null,null,null,"","",{"$f":"IF(SUM(M$8:M384)=0, \"\", \" + \")","v":""}]
[null,null,null,null,null,null,null,null,null,null,null,null,null,"","",{"$f":"IF(SUM(M$8:M385)=0, \"\", \" + \")","v":""}]
[null,null,null,null,null,null,null,null,null,null,null,null,null,"","",{"$f":"IF(SUM(M$8:M386)=0, \"\", \" + \")","v":""}]
[null,null,null,null,null,null,null,null,null,null,null,null,null,"","",{"$f":"IF(SUM(M$8:M387)=0, \"\", \" + \")","v":""}]
[null,null,null,null,null,null,null,null,null,null,null,null,null,"","",{"$f":"IF(SUM(M$8:M388)=0, \"\", \" + \")","v":""}]
[null,null,null,null,null,null,null,null,null,null,null,null,null,"","",{"$f":"IF(SUM(M$8:M389)=0, \"\", \" + \")","v":""}]
[null,null,null,null,null,null,null,null,null,null,null,null,null,"","",{"$f":"IF(SUM(M$8:M390)=0, \"\", \" + \")","v":""}]
[null,null,null,null,null,null,null,null,null,null,null,null,null,"","",{"$f":"IF(SUM(M$8:M391)=0, \"\", \" + \")","v":""}]
[null,null,null,null,null,null,null,null,null,null,null,null,null,"","",{"$f":"IF(SUM(M$8:M392)=0, \"\", \" + \")","v":""}]
[null,null,null,null,null,null,null,null,null,null,null,null,null,{"$f":"IF(M394=0, \"\",CONCATENATE(P394, C394, \"-\",M394,\"м\"))","v":""},"",{"$f":"IF(SUM(M$8:M393)=0, \"\", \" + \")","v":""}]
[null,null,null,null,null,null,null,null,null,null,null,null,null,"",{"$f":"CONCATENATE(O394,N395)","v":""},{"$f":"IF(SUM(M$8:M394)=0, \"\", \" + \")","v":""}]
[null,null,null,null,null,null,null,null,null,null,null,null,null,"","",{"$f":"IF(SUM(M$8:M395)=0, \"\", \" + \")","v":""}]
[null,null,null,null,null,null,null,null,null,null,null,null,null,"","",{"$f":"IF(SUM(M$8:M396)=0, \"\", \" + \")","v":""}]
[null,null,null,null,null,null,null,null,null,null,null,null,null,"","",{"$f":"IF(SUM(M$8:M397)=0, \"\", \" + \")","v":""}]
[null,null,null,null,null,null,null,null,null,null,null,null,null,"","",{"$f":"IF(SUM(M$8:M398)=0, \"\", \" + \")","v":""}]
[null,null,null,null,null,null,null,null,null,null,null,null,null,"","",{"$f":"IF(SUM(M$8:M399)=0, \"\", \" + \")","v":""}]
[null,null,null,null,null,null,null,null,null,null,null,null,null,"","",{"$f":"IF(SUM(M$8:M400)=0, \"\", \" + \")","v":""}]
[null,null,null,null,null,null,null,null,null,null,null,null,null,"","",{"$f":"IF(SUM(M$8:M401)=0, \"\", \" + \")","v":""}]
[null,null,null,null,null,null,null,null,null,null,null,null,null,"","",{"$f":"IF(SUM(M$8:M402)=0, \"\", \" + \")","v":""}]
[null,null,null,null,null,null,null,null,null,null,null,null,null,"","",{"$f":"IF(SUM(M$8:M403)=0, \"\", \" + \")","v":""}]
[null,null,null,null,null,null,null,null,null,null,null,null,null,"","",{"$f":"IF(SUM(M$8:M404)=0, \"\", \" + \")","v":""}]
[null,null,null,null,null,null,null,null,null,null,null,null,null,"","",{"$f":"IF(SUM(M$8:M405)=0, \"\", \" + \")","v":""}]
[null,null,null,null,null,null,null,null,null,null,null,null,null,"","",{"$f":"IF(SUM(M$8:M406)=0, \"\", \" + \")","v":""}]
[null,null,null,null,null,null,null,null,null,null,null,null,null,"","",{"$f":"IF(SUM(M$8:M407)=0, \"\", \" + \")","v":""}]
[null,null,null,null,null,null,null,null,null,null,null,null,null,"","",{"$f":"IF(SUM(M$8:M408)=0, \"\", \" + \")","v":""}]
[null,null,null,null,null,null,null,null,null,null,null,null,null,"","",{"$f":"IF(SUM(M$8:M409)=0, \"\", \" + \")","v":""}]
[null,null,null,null,null,null,null,null,null,null,null,null,null,"","",{"$f":"IF(SUM(M$8:M410)=0, \"\", \" + \")","v":""}]
[null,null,null,null,null,null,null,null,null,null,null,null,null,"","",{"$f":"IF(SUM(M$8:M411)=0, \"\", \" + \")","v":""}]
[null,null,null,null,null,null,null,null,null,null,null,null,null,"","",{"$f":"IF(SUM(M$8:M412)=0, \"\", \" + \")","v":""}]
[null,null,null,null,null,null,null,null,null,null,null,null,null,"","",{"$f":"IF(SUM(M$8:M413)=0, \"\", \" + \")","v":""}]
[null,null,null,null,null,null,null,null,null,null,null,null,null,"","",{"$f":"IF(SUM(M$8:M414)=0, \"\", \" + \")","v":""}]
[null,null,null,null,null,null,null,null,null,null,null,null,null,"","",{"$f":"IF(SUM(M$8:M415)=0, \"\", \" + \")","v":""}]
[null,null,null,null,null,null,null,null,null,null,null,null,null,"","",{"$f":"IF(SUM(M$8:M416)=0, \"\", \" + \")","v":""}]
[null,null,null,null,null,null,null,null,null,null,null,null,null,"","",{"$f":"IF(SUM(M$8:M417)=0, \"\", \" + \")","v":""}]
[null,null,null,null,null,null,null,null,null,null,null,null,null,"","",{"$f":"IF(SUM(M$8:M418)=0, \"\", \" + \")","v":""}]
[null,null,null,null,null,null,null,null,null,null,null,null,null,"","",{"$f":"IF(SUM(M$8:M419)=0, \"\", \" + \")","v":""}]
[null,null,null,null,null,null,null,null,null,null,null,null,null,"","",{"$f":"IF(SUM(M$8:M420)=0, \"\", \" + \")","v":""}]
[null,null,null,null,null,null,null,null,null,null,null,null,null,"","",{"$f":"IF(SUM(M$8:M421)=0, \"\", \" + \")","v":""}]
[null,null,null,null,null,null,null,null,null,null,null,null,null,"","",{"$f":"IF(SUM(M$8:M422)=0, \"\", \" + \")","v":""}]
[null,null,null,null,null,null,null,null,null,null,null,null,null,"","",{"$f":"IF(SUM(M$8:M423)=0, \"\", \" + \")","v":""}]
[null,null,null,null,null,null,null,null,null,null,null,null,null,"","",{"$f":"IF(SUM(M$8:M424)=0, \"\", \" + \")","v":""}]
[null,null,null,null,null,null,null,null,null,null,null,null,null,"","",{"$f":"IF(SUM(M$8:M425)=0, \"\", \" + \")","v":""}]
[null,null,null,null,null,null,null,null,null,null,null,null,null,"","",{"$f":"IF(SUM(M$8:M426)=0, \"\", \" + \")","v":""}]
[null,null,null,null,null,null,null,null,null,null,null,null,null,"","",{"$f":"IF(SUM(M$8:M427)=0, \"\", \" + \")","v":""}]
[null,null,null,null,null,null,null,null,null,null,null,null,null,"","",{"$f":"IF(SUM(M$8:M428)=0, \"\", \" + \")","v":""}]
[null,null,null,null,null,null,null,null,null,null,null,null,null,"","",{"$f":"IF(SUM(M$8:M429)=0, \"\", \" + \")","v":""}]
[null,null,null,null,null,null,null,null,null,null,null,null,null,"","",{"$f":"IF(SUM(M$8:M430)=0, \"\", \" + \")","v":""}]
[null,null,null,null,null,null,null,null,null,null,null,null,null,"","",{"$f":"IF(SUM(M$8:M431)=0, \"\", \" + \")","v":""}]
[null,null,null,null,null,null,null,null,null,null,null,null,null,"","",{"$f":"IF(SUM(M$8:M432)=0, \"\", \" + \")","v":""}]
[null,null,null,null,null,null,null,null,null,null,null,null,null,"","",{"$f":"IF(SUM(M$8:M433)=0, \"\", \" + \")","v":""}]
[null,null,null,null,null,null,null,null,null,null,null,null,null,"","",{"$f":"IF(SUM(M$8:M434)=0, \"\", \" + \")","v":""}]
[null,null,null,null,null,null,null,null,null,null,null,null,null,"","",{"$f":"IF(SUM(M$8:M435)=0, \"\", \" + \")","v":""}]
[null,null,null,null,null,null,null,null,null,null,null,null,null,"","",{"$f":"IF(SUM(M$8:M436)=0, \"\", \" + \")","v":""}]
[null,null,null,null,null,null,null,null,null,null,null,null,null,"","",{"$f":"IF(SUM(M$8:M437)=0, \"\", \" + \")","v":""}]
[null,null,null,null,null,null,null,null,null,null,null,null,null,"","",{"$f":"IF(SUM(M$8:M438)=0, \"\", \" + \")","v":""}]
[null,null,null,null,null,null,null,null,null,null,null,null,null,"","",{"$f":"IF(SUM(M$8:M439)=0, \"\", \" + \")","v":""}]
[null,null,null,null,null,null,null,null,null,null,null,null,null,"","",{"$f":"IF(SUM(M$8:M440)=0, \"\", \" + \")","v":""}]
[null,null,null,null,null,null,null,null,null,null,null,null,null,"","",{"$f":"IF(SUM(M$8:M441)=0, \"\", \" + \")","v":""}]
[null,null,null,null,null,null,null,null,null,null,null,null,null,"","",{"$f":"IF(SUM(M$8:M442)=0, \"\", \" + \")","v":""}]
[null,null,null,null,null,null,null,null,null,null,null,null,null,"","",{"$f":"IF(SUM(M$8:M443)=0, \"\", \" + \")","v":""}]
[null,null,null,null,null,null,null,null,null,null,null,null,null,"","",{"$f":"IF(SUM(M$8:M444)=0, \"\", \" + \")","v":""}]
[null,null,null,null,null,null,null,null,null,null,null,null,null,"","",{"$f":"IF(SUM(M$8:M445)=0, \"\", \" + \")","v":""}]
[null,null,null,null,null,null,null,null,null,null,null,null,null,"","",{"$f":"IF(SUM(M$8:M446)=0, \"\", \" + \")","v":""}]
[null,null,null,null,null,null,null,null,null,null,null,null,null,"","",{"$f":"IF(SUM(M$8:M447)=0, \"\", \" + \")","v":""}]
[null,null,null,null,null,null,null,null,null,null,null,null,null,"","",{"$f":"IF(SUM(M$8:M448)=0, \"\", \" + \")","v":""}]
[null,null,null,null,null,null,null,null,null,null,null,null,null,"","",{"$f":"IF(SUM(M$8:M449)=0, \"\", \" + \")","v":""}]
[null,null,null,null,null,null,null,null,null,null,null,null,null,"","",{"$f":"IF(SUM(M$8:M450)=0, \"\", \" + \")","v":""}]
[null,null,null,null,null,null,null,null,null,null,null,null,null,"","",{"$f":"IF(SUM(M$8:M451)=0, \"\", \" + \")","v":""}]
[null,null,null,null,null,null,null,null,null,null,null,null,null,"","",{"$f":"IF(SUM(M$8:M452)=0, \"\", \" + \")","v":""}]
[null,null,null,null,null,null,null,null,null,null,null,null,null,"","",{"$f":"IF(SUM(M$8:M453)=0, \"\", \" + \")","v":""}]
[null,null,null,null,null,null,null,null,null,null,null,null,null,"","",{"$f":"IF(SUM(M$8:M454)=0, \"\", \" + \")","v":""}]
[null,null,null,null,null,null,null,null,null,null,null,null,null,"","",{"$f":"IF(SUM(M$8:M455)=0, \"\", \" + \")","v":""}]
[null,null,null,null,null,null,null,null,null,null,null,null,null,"","",{"$f":"IF(SUM(M$8:M456)=0, \"\", \" + \")","v":""}]
[null,null,null,null,null,null,null,null,null,null,null,null,null,{"$f":"IF(M458=0, \"\",CONCATENATE(P458, C458, \"-\",M458,\"м\"))","v":""},"",{"$f":"IF(SUM(M$8:M457)=0, \"\", \" + \")","v":""}]
[null,null,null,null,null,null,null,null,null,null,null,null,null,"",{"$f":"CONCATENATE(O458,N459)","v":""},{"$f":"IF(SUM(M$8:M458)=0, \"\", \" + \")","v":""}]
[null,null,null,null,null,null,null,null,null,null,null,null,null,"","",{"$f":"IF(SUM(M$8:M459)=0, \"\", \" + \")","v":""}]
[null,null,null,null,null,null,null,null,null,null,null,null,null,"","",{"$f":"IF(SUM(M$8:M460)=0, \"\", \" + \")","v":""}]
[null,null,null,null,null,null,null,null,null,null,null,null,null,"","",{"$f":"IF(SUM(M$8:M461)=0, \"\", \" + \")","v":""}]
[null,null,null,null,null,null,null,null,null,null,null,null,null,"","",{"$f":"IF(SUM(M$8:M462)=0, \"\", \" + \")","v":""}]
[null,null,null,null,null,null,null,null,null,null,null,null,null,"","",{"$f":"IF(SUM(M$8:M463)=0, \"\", \" + \")","v":""}]
[null,null,null,null,null,null,null,null,null,null,null,null,null,"","",{"$f":"IF(SUM(M$8:M464)=0, \"\", \" + \")","v":""}]
[null,null,null,null,null,null,null,null,null,null,null,null,null,"","",{"$f":"IF(SUM(M$8:M465)=0, \"\", \" + \")","v":""}]
[null,null,null,null,null,null,null,null,null,null,null,null,null,"","",{"$f":"IF(SUM(M$8:M466)=0, \"\", \" + \")","v":""}]
[null,null,null,null,null,null,null,null,null,null,null,null,null,"","",{"$f":"IF(SUM(M$8:M467)=0, \"\", \" + \")","v":""}]
[null,null,null,null,null,null,null,null,null,null,null,null,null,"","",{"$f":"IF(SUM(M$8:M468)=0, \"\", \" + \")","v":""}]
[null,null,null,null,null,null,null,null,null,null,null,null,null,"","",{"$f":"IF(SUM(M$8:M469)=0, \"\", \" + \")","v":""}]
[null,null,null,null,null,null,null,null,null,null,null,null,null,"","",{"$f":"IF(SUM(M$8:M470)=0, \"\", \" + \")","v":""}]
[null,null,null,null,null,null,null,null,null,null,null,null,null,"","",{"$f":"IF(SUM(M$8:M471)=0, \"\", \" + \")","v":""}]
[null,null,null,null,null,null,null,null,null,null,null,null,null,"","",{"$f":"IF(SUM(M$8:M472)=0, \"\", \" + \")","v":""}]
[null,null,null,null,null,null,null,null,null,null,null,null,null,"","",{"$f":"IF(SUM(M$8:M473)=0, \"\", \" + \")","v":""}]
[null,null,null,null,null,null,null,null,null,null,null,null,null,"","",{"$f":"IF(SUM(M$8:M474)=0, \"\", \" + \")","v":""}]
[null,null,null,null,null,null,null,null,null,null,null,null,null,"","",{"$f":"IF(SUM(M$8:M475)=0, \"\", \" + \")","v":""}]
[null,null,null,null,null,null,null,null,null,null,null,null,null,"","",{"$f":"IF(SUM(M$8:M476)=0, \"\", \" + \")","v":""}]
[null,null,null,null,null,null,null,null,null,null,null,null,null,"","",{"$f":"IF(SUM(M$8:M477)=0, \"\", \" + \")","v":""}]
[null,null,null,null,null,null,null,null,null,null,null,null,null,"","",{"$f":"IF(SUM(M$8:M478)=0, \"\", \" + \")","v":""}]
[null,null,null,null,null,null,null,null,null,null,null,null,null,"","",{"$f":"IF(SUM(M$8:M479)=0, \"\", \" + \")","v":""}]
[null,null,null,null,null,null,null,null,null,null,null,null,null,"","",{"$f":"IF(SUM(M$8:M480)=0, \"\", \" + \")","v":""}]
[null,null,null,null,null,null,null,null,null,null,null,null,null,"","",{"$f":"IF(SUM(M$8:M481)=0, \"\", \" + \")","v":""}]
[null,null,null,null,null,null,null,null,null,null,null,null,null,"","",{"$f":"IF(SUM(M$8:M482)=0, \"\", \" + \")","v":""}]
[null,null,null,null,null,null,null,null,null,null,null,null,null,"","",{"$f":"IF(SUM(M$8:M483)=0, \"\", \" + \")","v":""}]
[null,null,null,null,null,null,null,null,null,null,null,null,null,"","",{"$f":"IF(SUM(M$8:M484)=0, \"\", \" + \")","v":""}]
[null,null,null,null,null,null,null,null,null,null,null,null,null,"","",{"$f":"IF(SUM(M$8:M485)=0, \"\", \" + \")","v":""}]
[null,null,null,null,null,null,null,null,null,null,null,null,null,"","",{"$f":"IF(SUM(M$8:M486)=0, \"\", \" + \")","v":""}]
[null,null,null,null,null,null,null,null,null,null,null,null,null,"","",{"$f":"IF(SUM(M$8:M487)=0, \"\", \" + \")","v":""}]
[null,null,null,null,null,null,null,null,null,null,null,null,null,"","",{"$f":"IF(SUM(M$8:M488)=0, \"\", \" + \")","v":""}]
[null,null,null,null,null,null,null,null,null,null,null,null,null,"","",{"$f":"IF(SUM(M$8:M489)=0, \"\", \" + \")","v":""}]
[null,null,null,null,null,null,null,null,null,null,null,null,null,"","",{"$f":"IF(SUM(M$8:M490)=0, \"\", \" + \")","v":""}]
[null,null,null,null,null,null,null,null,null,null,null,null,null,"","",{"$f":"IF(SUM(M$8:M491)=0, \"\", \" + \")","v":""}]
[null,null,null,null,null,null,null,null,null,null,null,null,null,"","",{"$f":"IF(SUM(M$8:M492)=0, \"\", \" + \")","v":""}]
[null,null,null,null,null,null,null,null,null,null,null,null,null,"","",{"$f":"IF(SUM(M$8:M493)=0, \"\", \" + \")","v":""}]
[null,null,null,null,null,null,null,null,null,null,null,null,null,"","",{"$f":"IF(SUM(M$8:M494)=0, \"\", \" + \")","v":""}]
[null,null,null,null,null,null,null,null,null,null,null,null,null,"","",{"$f":"IF(SUM(M$8:M495)=0, \"\", \" + \")","v":""}]
[null,null,null,null,null,null,null,null,null,null,null,null,null,"","",{"$f":"IF(SUM(M$8:M496)=0, \"\", \" + \")","v":""}]
[null,null,null,null,null,null,null,null,null,null,null,null,null,"","",{"$f":"IF(SUM(M$8:M497)=0, \"\", \" + \")","v":""}]
[null,null,null,null,null,null,null,null,null,null,null,null,null,"","",{"$f":"IF(SUM(M$8:M498)=0, \"\", \" + \")","v":""}]
[null,null,null,null,null,null,null,null,null,null,null,null,null,"","",{"$f":"IF(SUM(M$8:M499)=0, \"\", \" + \")","v":""}]
[null,null,null,null,null,null,null,null,null,null,null,null,null,"","",{"$f":"IF(SUM(M$8:M500)=0, \"\", \" + \")","v":""}]
[null,null,null,null,null,null,null,null,null,null,null,null,null,"","",{"$f":"IF(SUM(M$8:M501)=0, \"\", \" + \")","v":""}]
[null,null,null,null,null,null,null,null,null,null,null,null,null,"","",{"$f":"IF(SUM(M$8:M502)=0, \"\", \" + \")","v":""}]
[null,null,null,null,null,null,null,null,null,null,null,null,null,"","",{"$f":"IF(SUM(M$8:M503)=0, \"\", \" + \")","v":""}]
[null,null,null,null,null,null,null,null,null,null,null,null,null,"","",{"$f":"IF(SUM(M$8:M504)=0, \"\", \" + \")","v":""}]
[null,null,null,null,null,null,null,null,null,null,null,null,null,"","",{"$f":"IF(SUM(M$8:M505)=0, \"\", \" + \")","v":""}]
[null,null,null,null,null,null,null,null,null,null,null,null,null,"","",{"$f":"IF(SUM(M$8:M506)=0, \"\", \" + \")","v":""}]
[null,null,null,null,null,null,null,null,null,null,null,null,null,"","",{"$f":"IF(SUM(M$8:M507)=0, \"\", \" + \")","v":""}]
[null,null,null,null,null,null,null,null,null,null,null,null,null,"","",{"$f":"IF(SUM(M$8:M508)=0, \"\", \" + \")","v":""}]
[null,null,null,null,null,null,null,null,null,null,null,null,null,"","",{"$f":"IF(SUM(M$8:M509)=0, \"\", \" + \")","v":""}]
[null,null,null,null,null,null,null,null,null,null,null,null,null,"","",{"$f":"IF(SUM(M$8:M510)=0, \"\", \" + \")","v":""}]
[null,null,null,null,null,null,null,null,null,null,null,null,null,"","",{"$f":"IF(SUM(M$8:M511)=0, \"\", \" + \")","v":""}]
[null,null,null,null,null,null,null,null,null,null,null,null,null,"","",{"$f":"IF(SUM(M$8:M512)=0, \"\", \" + \")","v":""}]
[null,null,null,null,null,null,null,null,null,null,null,null,null,"","",{"$f":"IF(SUM(M$8:M513)=0, \"\", \" + \")","v":""}]
[null,null,null,null,null,null,null,null,null,null,null,null,null,"","",{"$f":"IF(SUM(M$8:M514)=0, \"\", \" + \")","v":""}]
[null,null,null,null,null,null,null,null,null,null,null,null,null,"","",{"$f":"IF(SUM(M$8:M515)=0, \"\", \" + \")","v":""}]
[null,null,null,null,null,null,null,null,null,null,null,null,null,"","",{"$f":"IF(SUM(M$8:M516)=0, \"\", \" + \")","v":""}]
[null,null,null,null,null,null,null,null,null,null,null,null,null,"","",{"$f":"IF(SUM(M$8:M517)=0, \"\", \" + \")","v":""}]
[null,null,null,null,null,null,null,null,null,null,null,null,null,"","",{"$f":"IF(SUM(M$8:M518)=0, \"\", \" + \")","v":""}]
[null,null,null,null,null,null,null,null,null,null,null,null,null,"","",{"$f":"IF(SUM(M$8:M519)=0, \"\", \" + \")","v":""}]
[null,null,null,null,null,null,null,null,null,null,null,null,null,"","",{"$f":"IF(SUM(M$8:M520)=0, \"\", \" + \")","v":""}]
[null,null,null,null,null,null,null,null,null,null,null,null,null,{"$f":"IF(M522=0, \"\",CONCATENATE(P522, C522, \"-\",M522,\"м\"))","v":""},"",{"$f":"IF(SUM(M$8:M521)=0, \"\", \" + \")","v":""}]
[null,null,null,null,null,null,null,null,null,null,null,null,null,"",{"$f":"CONCATENATE(O522,N523)","v":""},{"$f":"IF(SUM(M$8:M522)=0, \"\", \" + \")","v":""}]
[null,null,null,null,null,null,null,null,null,null,null,null,null,"","",{"$f":"IF(SUM(M$8:M523)=0, \"\", \" + \")","v":""}]
[null,null,null,null,null,null,null,null,null,null,null,null,null,"","",{"$f":"IF(SUM(M$8:M524)=0, \"\", \" + \")","v":""}]
[null,null,null,null,null,null,null,null,null,null,null,null,null,"","",{"$f":"IF(SUM(M$8:M525)=0, \"\", \" + \")","v":""}]
[null,null,null,null,null,null,null,null,null,null,null,null,null,"","",{"$f":"IF(SUM(M$8:M526)=0, \"\", \" + \")","v":""}]
[null,null,null,null,null,null,null,null,null,null,null,null,null,"","",{"$f":"IF(SUM(M$8:M527)=0, \"\", \" + \")","v":""}]
[null,null,null,null,null,null,null,null,null,null,null,null,null,"","",{"$f":"IF(SUM(M$8:M528)=0, \"\", \" + \")","v":""}]
[null,null,null,null,null,null,null,null,null,null,null,null,null,"","",{"$f":"IF(SUM(M$8:M529)=0, \"\", \" + \")","v":""}]
[null,null,null,null,null,null,null,null,null,null,null,null,null,"","",{"$f":"IF(SUM(M$8:M530)=0, \"\", \" + \")","v":""}]
[null,null,null,null,null,null,null,null,null,null,null,null,null,"","",{"$f":"IF(SUM(M$8:M531)=0, \"\", \" + \")","v":""}]
[null,null,null,null,null,null,null,null,null,null,null,null,null,"","",{"$f":"IF(SUM(M$8:M532)=0, \"\", \" + \")","v":""}]
[null,null,null,null,null,null,null,null,null,null,null,null,null,"","",{"$f":"IF(SUM(M$8:M533)=0, \"\", \" + \")","v":""}]
[null,null,null,null,null,null,null,null,null,null,null,null,null,"","",{"$f":"IF(SUM(M$8:M534)=0, \"\", \" + \")","v":""}]
[null,null,null,null,null,null,null,null,null,null,null,null,null,"","",{"$f":"IF(SUM(M$8:M535)=0, \"\", \" + \")","v":""}]
[null,null,null,null,null,null,null,null,null,null,null,null,null,"","",{"$f":"IF(SUM(M$8:M536)=0, \"\", \" + \")","v":""}]
[null,null,null,null,null,null,null,null,null,null,null,null,null,"","",{"$f":"IF(SUM(M$8:M537)=0, \"\", \" + \")","v":""}]
[null,null,null,null,null,null,null,null,null,null,null,null,null,"","",{"$f":"IF(SUM(M$8:M538)=0, \"\", \" + \")","v":""}]
[null,null,null,null,null,null,null,null,null,null,null,null,null,"","",{"$f":"IF(SUM(M$8:M539)=0, \"\", \" + \")","v":""}]
[null,null,null,null,null,null,null,null,null,null,null,null,null,"","",{"$f":"IF(SUM(M$8:M540)=0, \"\", \" + \")","v":""}]
[null,null,null,null,null,null,null,null,null,null,null,null,null,"","",{"$f":"IF(SUM(M$8:M541)=0, \"\", \" + \")","v":""}]
[null,null,null,null,null,null,null,null,null,null,null,null,null,"","",{"$f":"IF(SUM(M$8:M542)=0, \"\", \" + \")","v":""}]
[null,null,null,null,null,null,null,null,null,null,null,null,null,"","",{"$f":"IF(SUM(M$8:M543)=0, \"\", \" + \")","v":""}]
[null,null,null,null,null,null,null,null,null,null,null,null,null,"","",{"$f":"IF(SUM(M$8:M544)=0, \"\", \" + \")","v":""}]
[null,null,null,null,null,null,null,null,null,null,null,null,null,"","",{"$f":"IF(SUM(M$8:M545)=0, \"\", \" + \")","v":""}]
[null,null,null,null,null,null,null,null,null,null,null,null,null,"","",{"$f":"IF(SUM(M$8:M546)=0, \"\", \" + \")","v":""}]
[null,null,null,null,null,null,null,null,null,null,null,null,null,"","",{"$f":"IF(SUM(M$8:M547)=0, \"\", \" + \")","v":""}]
[null,null,null,null,null,null,null,null,null,null,null,null,null,"","",{"$f":"IF(SUM(M$8:M548)=0, \"\", \" + \")","v":""}]
[null,null,null,null,null,null,null,null,null,null,null,null,null,"","",{"$f":"IF(SUM(M$8:M549)=0, \"\", \" + \")","v":""}]
[null,null,null,null,null,null,null,null,null,null,null,null,null,"","",{"$f":"IF(SUM(M$8:M550)=0, \"\", \" + \")","v":""}]
[null,null,null,null,null,null,null,null,null,null,null,null,null,"","",{"$f":"IF(SUM(M$8:M551)=0, \"\", \" + \")","v":""}]
[null,null,null,null,null,null,null,null,null,null,null,null,null,"","",{"$f":"IF(SUM(M$8:M552)=0, \"\", \" + \")","v":""}]
[null,null,null,null,null,null,null,null,null,null,null,null,null,"","",{"$f":"IF(SUM(M$8:M553)=0, \"\", \" + \")","v":""}]
[null,null,null,null,null,null,null,null,null,null,null,null,null,"","",{"$f":"IF(SUM(M$8:M554)=0, \"\", \" + \")","v":""}]
[null,null,null,null,null,null,null,null,null,null,null,null,null,"","",{"$f":"IF(SUM(M$8:M555)=0, \"\", \" + \")","v":""}]
[null,null,null,null,null,null,null,null,null,null,null,null,null,"","",{"$f":"IF(SUM(M$8:M556)=0, \"\", \" + \")","v":""}]
[null,null,null,null,null,null,null,null,null,null,null,null,null,"","",{"$f":"IF(SUM(M$8:M557)=0, \"\", \" + \")","v":""}]
[null,null,null,null,null,null,null,null,null,null,null,null,null,"","",{"$f":"IF(SUM(M$8:M558)=0, \"\", \" + \")","v":""}]
[null,null,null,null,null,null,null,null,null,null,null,null,null,"","",{"$f":"IF(SUM(M$8:M559)=0, \"\", \" + \")","v":""}]
[null,null,null,null,null,null,null,null,null,null,null,null,null,"","",{"$f":"IF(SUM(M$8:M560)=0, \"\", \" + \")","v":""}]
[null,null,null,null,null,null,null,null,null,null,null,null,null,"","",{"$f":"IF(SUM(M$8:M561)=0, \"\", \" + \")","v":""}]
[null,null,null,null,null,null,null,null,null,null,null,null,null,"","",{"$f":"IF(SUM(M$8:M562)=0, \"\", \" + \")","v":""}]
[null,null,null,null,null,null,null,null,null,null,null,null,null,"","",{"$f":"IF(SUM(M$8:M563)=0, \"\", \" + \")","v":""}]
[null,null,null,null,null,null,null,null,null,null,null,null,null,"","",{"$f":"IF(SUM(M$8:M564)=0, \"\", \" + \")","v":""}]
[null,null,null,null,null,null,null,null,null,null,null,null,null,"","",{"$f":"IF(SUM(M$8:M565)=0, \"\", \" + \")","v":""}]
[null,null,null,null,null,null,null,null,null,null,null,null,null,"","",{"$f":"IF(SUM(M$8:M566)=0, \"\", \" + \")","v":""}]
[null,null,null,null,null,null,null,null,null,null,null,null,null,"","",{"$f":"IF(SUM(M$8:M567)=0, \"\", \" + \")","v":""}]
[null,null,null,null,null,null,null,null,null,null,null,null,null,"","",{"$f":"IF(SUM(M$8:M568)=0, \"\", \" + \")","v":""}]
[null,null,null,null,null,null,null,null,null,null,null,null,null,"","",{"$f":"IF(SUM(M$8:M569)=0, \"\", \" + \")","v":""}]
[null,null,null,null,null,null,null,null,null,null,null,null,null,"","",{"$f":"IF(SUM(M$8:M570)=0, \"\", \" + \")","v":""}]
[null,null,null,null,null,null,null,null,null,null,null,null,null,"","",{"$f":"IF(SUM(M$8:M571)=0, \"\", \" + \")","v":""}]
[null,null,null,null,null,null,null,null,null,null,null,null,null,"","",{"$f":"IF(SUM(M$8:M572)=0, \"\", \" + \")","v":""}]
[null,null,null,null,null,null,null,null,null,null,null,null,null,"","",{"$f":"IF(SUM(M$8:M573)=0, \"\", \" + \")","v":""}]
[null,null,null,null,null,null,null,null,null,null,null,null,null,"","",{"$f":"IF(SUM(M$8:M574)=0, \"\", \" + \")","v":""}]
[null,null,null,null,null,null,null,null,null,null,null,null,null,"","",{"$f":"IF(SUM(M$8:M575)=0, \"\", \" + \")","v":""}]
[null,null,null,null,null,null,null,null,null,null,null,null,null,"","",{"$f":"IF(SUM(M$8:M576)=0, \"\", \" + \")","v":""}]
[null,null,null,null,null,null,null,null,null,null,null,null,null,"","",{"$f":"IF(SUM(M$8:M577)=0, \"\", \" + \")","v":""}]
[null,null,null,null,null,null,null,null,null,null,null,null,null,"","",{"$f":"IF(SUM(M$8:M578)=0, \"\", \" + \")","v":""}]
[null,null,null,null,null,null,null,null,null,null,null,null,null,"","",{"$f":"IF(SUM(M$8:M579)=0, \"\", \" + \")","v":""}]
[null,null,null,null,null,null,null,null,null,null,null,null,null,"","",{"$f":"IF(SUM(M$8:M580)=0, \"\", \" + \")","v":""}]
[null,null,null,null,null,null,null,null,null,null,null,null,null,"","",{"$f":"IF(SUM(M$8:M581)=0, \"\", \" + \")","v":""}]
[null,null,null,null,null,null,null,null,null,null,null,null,null,"","",{"$f":"IF(SUM(M$8:M582)=0, \"\", \" + \")","v":""}]
[null,null,null,null,null,null,null,null,null,null,null,null,null,"","",{"$f":"IF(SUM(M$8:M583)=0, \"\", \" + \")","v":""}]
[null,null,null,null,null,null,null,null,null,null,null,null,null,"","",{"$f":"IF(SUM(M$8:M584)=0, \"\", \" + \")","v":""}]
[null,null,null,null,null,null,null,null,null,null,null,null,null,{"$f":"IF(M586=0, \"\",CONCATENATE(P586, C586, \"-\",M586,\"м\"))","v":""},"",{"$f":"IF(SUM(M$8:M585)=0, \"\", \" + \")","v":""}]
[null,null,null,null,null,null,null,null,null,null,null,null,null,"",{"$f":"CONCATENATE(O586,N587)","v":""},{"$f":"IF(SUM(M$8:M586)=0, \"\", \" + \")","v":""}]
[null,null,null,null,null,null,null,null,null,null,null,null,null,"","",{"$f":"IF(SUM(M$8:M587)=0, \"\", \" + \")","v":""}]
[null,null,null,null,null,null,null,null,null,null,null,null,null,"","",{"$f":"IF(SUM(M$8:M588)=0, \"\", \" + \")","v":""}]
[null,null,null,null,null,null,null,null,null,null,null,null,null,"","",{"$f":"IF(SUM(M$8:M589)=0, \"\", \" + \")","v":""}]
[null,null,null,null,null,null,null,null,null,null,null,null,null,"","",{"$f":"IF(SUM(M$8:M590)=0, \"\", \" + \")","v":""}]
[null,null,null,null,null,null,null,null,null,null,null,null,null,"","",{"$f":"IF(SUM(M$8:M591)=0, \"\", \" + \")","v":""}]
[null,null,null,null,null,null,null,null,null,null,null,null,null,"","",{"$f":"IF(SUM(M$8:M592)=0, \"\", \" + \")","v":""}]
[null,null,null,null,null,null,null,null,null,null,null,null,null,"","",{"$f":"IF(SUM(M$8:M593)=0, \"\", \" + \")","v":""}]
[null,null,null,null,null,null,null,null,null,null,null,null,null,"","",{"$f":"IF(SUM(M$8:M594)=0, \"\", \" + \")","v":""}]
[null,null,null,null,null,null,null,null,null,null,null,null,null,"","",{"$f":"IF(SUM(M$8:M595)=0, \"\", \" + \")","v":""}]
[null,null,null,null,null,null,null,null,null,null,null,null,null,"","",{"$f":"IF(SUM(M$8:M596)=0, \"\", \" + \")","v":""}]
[null,null,null,null,null,null,null,null,null,null,null,null,null,"","",{"$f":"IF(SUM(M$8:M597)=0, \"\", \" + \")","v":""}]
[null,null,null,null,null,null,null,null,null,null,null,null,null,"","",{"$f":"IF(SUM(M$8:M598)=0, \"\", \" + \")","v":""}]
[null,null,null,null,null,null,null,null,null,null,null,null,null,"","",{"$f":"IF(SUM(M$8:M599)=0, \"\", \" + \")","v":""}]
[null,null,null,null,null,null,null,null,null,null,null,null,null,"","",{"$f":"IF(SUM(M$8:M600)=0, \"\", \" + \")","v":""}]
[null,null,null,null,null,null,null,null,null,null,null,null,null,"","",{"$f":"IF(SUM(M$8:M601)=0, \"\", \" + \")","v":""}]
[null,null,null,null,null,null,null,null,null,null,null,null,null,"","",{"$f":"IF(SUM(M$8:M602)=0, \"\", \" + \")","v":""}]
[null,null,null,null,null,null,null,null,null,null,null,null,null,"","",{"$f":"IF(SUM(M$8:M603)=0, \"\", \" + \")","v":""}]
[null,null,null,null,null,null,null,null,null,null,null,null,null,"","",{"$f":"IF(SUM(M$8:M604)=0, \"\", \" + \")","v":""}]
[null,null,null,null,null,null,null,null,null,null,null,null,null,"","",{"$f":"IF(SUM(M$8:M605)=0, \"\", \" + \")","v":""}]
[null,null,null,null,null,null,null,null,null,null,null,null,null,"","",{"$f":"IF(SUM(M$8:M606)=0, \"\", \" + \")","v":""}]
[null,null,null,null,null,null,null,null,null,null,null,null,null,"","",{"$f":"IF(SUM(M$8:M607)=0, \"\", \" + \")","v":""}]
[null,null,null,null,null,null,null,null,null,null,null,null,null,"","",{"$f":"IF(SUM(M$8:M608)=0, \"\", \" + \")","v":""}]
[null,null,null,null,null,null,null,null,null,null,null,null,null,"","",{"$f":"IF(SUM(M$8:M609)=0, \"\", \" + \")","v":""}]
[null,null,null,null,null,null,null,null,null,null,null,null,null,"","",{"$f":"IF(SUM(M$8:M610)=0, \"\", \" + \")","v":""}]
[null,null,null,null,null,null,null,null,null,null,null,null,null,"","",{"$f":"IF(SUM(M$8:M611)=0, \"\", \" + \")","v":""}]
[null,null,null,null,null,null,null,null,null,null,null,null,null,"","",{"$f":"IF(SUM(M$8:M612)=0, \"\", \" + \")","v":""}]
[null,null,null,null,null,null,null,null,null,null,null,null,null,"","",{"$f":"IF(SUM(M$8:M613)=0, \"\", \" + \")","v":""}]
[null,null,null,null,null,null,null,null,null,null,null,null,null,"","",{"$f":"IF(SUM(M$8:M614)=0, \"\", \" + \")","v":""}]
[null,null,null,null,null,null,null,null,null,null,null,null,null,"","",{"$f":"IF(SUM(M$8:M615)=0, \"\", \" + \")","v":""}]
[null,null,null,null,null,null,null,null,null,null,null,null,null,"","",{"$f":"IF(SUM(M$8:M616)=0, \"\", \" + \")","v":""}]
[null,null,null,null,null,null,null,null,null,null,null,null,null,"","",{"$f":"IF(SUM(M$8:M617)=0, \"\", \" + \")","v":""}]
[null,null,null,null,null,null,null,null,null,null,null,null,null,"","",{"$f":"IF(SUM(M$8:M618)=0, \"\", \" + \")","v":""}]
[null,null,null,null,null,null,null,null,null,null,null,null,null,"","",{"$f":"IF(SUM(M$8:M619)=0, \"\", \" + \")","v":""}]
[null,null,null,null,null,null,null,null,null,null,null,null,null,"","",{"$f":"IF(SUM(M$8:M620)=0, \"\", \" + \")","v":""}]
[null,null,null,null,null,null,null,null,null,null,null,null,null,"","",{"$f":"IF(SUM(M$8:M621)=0, \"\", \" + \")","v":""}]
[null,null,null,null,null,null,null,null,null,null,null,null,null,"","",{"$f":"IF(SUM(M$8:M622)=0, \"\", \" + \")","v":""}]
[null,null,null,null,null,null,null,null,null,null,null,null,null,"","",{"$f":"IF(SUM(M$8:M623)=0, \"\", \" + \")","v":""}]
[null,null,null,null,null,null,null,null,null,null,null,null,null,"","",{"$f":"IF(SUM(M$8:M624)=0, \"\", \" + \")","v":""}]
[null,null,null,null,null,null,null,null,null,null,null,null,null,"","",{"$f":"IF(SUM(M$8:M625)=0, \"\", \" + \")","v":""}]
[null,null,null,null,null,null,null,null,null,null,null,null,null,"","",{"$f":"IF(SUM(M$8:M626)=0, \"\", \" + \")","v":""}]
[null,null,null,null,null,null,null,null,null,null,null,null,null,"","",{"$f":"IF(SUM(M$8:M627)=0, \"\", \" + \")","v":""}]
[null,null,null,null,null,null,null,null,null,null,null,null,null,"","",{"$f":"IF(SUM(M$8:M628)=0, \"\", \" + \")","v":""}]
[null,null,null,null,null,null,null,null,null,null,null,null,null,"","",{"$f":"IF(SUM(M$8:M629)=0, \"\", \" + \")","v":""}]
[null,null,null,null,null,null,null,null,null,null,null,null,null,"","",{"$f":"IF(SUM(M$8:M630)=0, \"\", \" + \")","v":""}]
[null,null,null,null,null,null,null,null,null,null,null,null,null,"","",{"$f":"IF(SUM(M$8:M631)=0, \"\", \" + \")","v":""}]
[null,null,null,null,null,null,null,null,null,null,null,null,null,"","",{"$f":"IF(SUM(M$8:M632)=0, \"\", \" + \")","v":""}]
[null,null,null,null,null,null,null,null,null,null,null,null,null,"","",{"$f":"IF(SUM(M$8:M633)=0, \"\", \" + \")","v":""}]
[null,null,null,null,null,null,null,null,null,null,null,null,null,"","",{"$f":"IF(SUM(M$8:M634)=0, \"\", \" + \")","v":""}]
[null,null,null,null,null,null,null,null,null,null,null,null,null,"","",{"$f":"IF(SUM(M$8:M635)=0, \"\", \" + \")","v":""}]
[null,null,null,null,null,null,null,null,null,null,null,null,null,"","",{"$f":"IF(SUM(M$8:M636)=0, \"\", \" + \")","v":""}]
[null,null,null,null,null,null,null,null,null,null,null,null,null,"","",{"$f":"IF(SUM(M$8:M637)=0, \"\", \" + \")","v":""}]
[null,null,null,null,null,null,null,null,null,null,null,null,null,"","",{"$f":"IF(SUM(M$8:M638)=0, \"\", \" + \")","v":""}]
[null,null,null,null,null,null,null,null,null,null,null,null,null,"","",{"$f":"IF(SUM(M$8:M639)=0, \"\", \" + \")","v":""}]
[null,null,null,null,null,null,null,null,null,null,null,null,null,"","",{"$f":"IF(SUM(M$8:M640)=0, \"\", \" + \")","v":""}]
[null,null,null,null,null,null,null,null,null,null,null,null,null,"","",{"$f":"IF(SUM(M$8:M641)=0, \"\", \" + \")","v":""}]
[null,null,null,null,null,null,null,null,null,null,null,null,null,"","",{"$f":"IF(SUM(M$8:M642)=0, \"\", \" + \")","v":""}]
[null,null,null,null,null,null,null,null,null,null,null,null,null,"","",{"$f":"IF(SUM(M$8:M643)=0, \"\", \" + \")","v":""}]
[null,null,null,null,null,null,null,null,null,null,null,null,null,"","",{"$f":"IF(SUM(M$8:M644)=0, \"\", \" + \")","v":""}]
[null,null,null,null,null,null,null,null,null,null,null,null,null,"","",{"$f":"IF(SUM(M$8:M645)=0, \"\", \" + \")","v":""}]
[null,null,null,null,null,null,null,null,null,null,null,null,null,"","",{"$f":"IF(SUM(M$8:M646)=0, \"\", \" + \")","v":""}]
[null,null,null,null,null,null,null,null,null,null,null,null,null,"","",{"$f":"IF(SUM(M$8:M647)=0, \"\", \" + \")","v":""}]
[null,null,null,null,null,null,null,null,null,null,null,null,null,"","",{"$f":"IF(SUM(M$8:M648)=0, \"\", \" + \")","v":""}]
[null,null,null,null,null,null,null,null,null,null,null,null,null,{"$f":"IF(M650=0, \"\",CONCATENATE(P650, C650, \"-\",M650,\"м\"))","v":""},"",{"$f":"IF(SUM(M$8:M649)=0, \"\", \" + \")","v":""}]
[null,null,null,null,null,null,null,null,null,null,null,null,null,"",{"$f":"CONCATENATE(O650,N651)","v":""},{"$f":"IF(SUM(M$8:M650)=0, \"\", \" + \")","v":""}]
[null,null,null,null,null,null,null,null,null,null,null,null,null,"","",{"$f":"IF(SUM(M$8:M651)=0, \"\", \" + \")","v":""}]
[null,null,null,null,null,null,null,null,null,null,null,null,null,"","",{"$f":"IF(SUM(M$8:M652)=0, \"\", \" + \")","v":""}]
[null,null,null,null,null,null,null,null,null,null,null,null,null,"","",{"$f":"IF(SUM(M$8:M653)=0, \"\", \" + \")","v":""}]
[null,null,null,null,null,null,null,null,null,null,null,null,null,"","",{"$f":"IF(SUM(M$8:M654)=0, \"\", \" + \")","v":""}]
[null,null,null,null,null,null,null,null,null,null,null,null,null,"","",{"$f":"IF(SUM(M$8:M655)=0, \"\", \" + \")","v":""}]
[null,null,null,null,null,null,null,null,null,null,null,null,null,"","",{"$f":"IF(SUM(M$8:M656)=0, \"\", \" + \")","v":""}]
[null,null,null,null,null,null,null,null,null,null,null,null,null,"","",{"$f":"IF(SUM(M$8:M657)=0, \"\", \" + \")","v":""}]
[null,null,null,null,null,null,null,null,null,null,null,null,null,"","",{"$f":"IF(SUM(M$8:M658)=0, \"\", \" + \")","v":""}]
[null,null,null,null,null,null,null,null,null,null,null,null,null,"","",{"$f":"IF(SUM(M$8:M659)=0, \"\", \" + \")","v":""}]
[null,null,null,null,null,null,null,null,null,null,null,null,null,"","",{"$f":"IF(SUM(M$8:M660)=0, \"\", \" + \")","v":""}]
[null,null,null,null,null,null,null,null,null,null,null,null,null,"","",{"$f":"IF(SUM(M$8:M661)=0, \"\", \" + \")","v":""}]
[null,null,null,null,null,null,null,null,null,null,null,null,null,"","",{"$f":"IF(SUM(M$8:M662)=0, \"\", \" + \")","v":""}]
[null,null,null,null,null,null,null,null,null,null,null,null,null,"","",{"$f":"IF(SUM(M$8:M663)=0, \"\", \" + \")","v":""}]
[null,null,null,null,null,null,null,null,null,null,null,null,null,"","",{"$f":"IF(SUM(M$8:M664)=0, \"\", \" + \")","v":""}]
[null,null,null,null,null,null,null,null,null,null,null,null,null,"","",{"$f":"IF(SUM(M$8:M665)=0, \"\", \" + \")","v":""}]
[null,null,null,null,null,null,null,null,null,null,null,null,null,"","",{"$f":"IF(SUM(M$8:M666)=0, \"\", \" + \")","v":""}]
[null,null,null,null,null,null,null,null,null,null,null,null,null,"","",{"$f":"IF(SUM(M$8:M667)=0, \"\", \" + \")","v":""}]
[null,null,null,null,null,null,null,null,null,null,null,null,null,"","",{"$f":"IF(SUM(M$8:M668)=0, \"\", \" + \")","v":""}]
[null,null,null,null,null,null,null,null,null,null,null,null,null,"","",{"$f":"IF(SUM(M$8:M669)=0, \"\", \" + \")","v":""}]
[null,null,null,null,null,null,null,null,null,null,null,null,null,"","",{"$f":"IF(SUM(M$8:M670)=0, \"\", \" + \")","v":""}]
[null,null,null,null,null,null,null,null,null,null,null,null,null,"","",{"$f":"IF(SUM(M$8:M671)=0, \"\", \" + \")","v":""}]
[null,null,null,null,null,null,null,null,null,null,null,null,null,"","",{"$f":"IF(SUM(M$8:M672)=0, \"\", \" + \")","v":""}]
[null,null,null,null,null,null,null,null,null,null,null,null,null,"","",{"$f":"IF(SUM(M$8:M673)=0, \"\", \" + \")","v":""}]
[null,null,null,null,null,null,null,null,null,null,null,null,null,"","",{"$f":"IF(SUM(M$8:M674)=0, \"\", \" + \")","v":""}]
[null,null,null,null,null,null,null,null,null,null,null,null,null,"","",{"$f":"IF(SUM(M$8:M675)=0, \"\", \" + \")","v":""}]
[null,null,null,null,null,null,null,null,null,null,null,null,null,"","",{"$f":"IF(SUM(M$8:M676)=0, \"\", \" + \")","v":""}]
[null,null,null,null,null,null,null,null,null,null,null,null,null,"","",{"$f":"IF(SUM(M$8:M677)=0, \"\", \" + \")","v":""}]
[null,null,null,null,null,null,null,null,null,null,null,null,null,"","",{"$f":"IF(SUM(M$8:M678)=0, \"\", \" + \")","v":""}]
[null,null,null,null,null,null,null,null,null,null,null,null,null,"","",{"$f":"IF(SUM(M$8:M679)=0, \"\", \" + \")","v":""}]
[null,null,null,null,null,null,null,null,null,null,null,null,null,"","",{"$f":"IF(SUM(M$8:M680)=0, \"\", \" + \")","v":""}]
[null,null,null,null,null,null,null,null,null,null,null,null,null,"","",{"$f":"IF(SUM(M$8:M681)=0, \"\", \" + \")","v":""}]
[null,null,null,null,null,null,null,null,null,null,null,null,null,"","",{"$f":"IF(SUM(M$8:M682)=0, \"\", \" + \")","v":""}]
[null,null,null,null,null,null,null,null,null,null,null,null,null,"","",{"$f":"IF(SUM(M$8:M683)=0, \"\", \" + \")","v":""}]
[null,null,null,null,null,null,null,null,null,null,null,null,null,"","",{"$f":"IF(SUM(M$8:M684)=0, \"\", \" + \")","v":""}]
[null,null,null,null,null,null,null,null,null,null,null,null,null,"","",{"$f":"IF(SUM(M$8:M685)=0, \"\", \" + \")","v":""}]
[null,null,null,null,null,null,null,null,null,null,null,null,null,"","",{"$f":"IF(SUM(M$8:M686)=0, \"\", \" + \")","v":""}]
[null,null,null,null,null,null,null,null,null,null,null,null,null,"","",{"$f":"IF(SUM(M$8:M687)=0, \"\", \" + \")","v":""}]
[null,null,null,null,null,null,null,null,null,null,null,null,null,"","",{"$f":"IF(SUM(M$8:M688)=0, \"\", \" + \")","v":""}]
[null,null,null,null,null,null,null,null,null,null,null,null,null,"","",{"$f":"IF(SUM(M$8:M689)=0, \"\", \" + \")","v":""}]
[null,null,null,null,null,null,null,null,null,null,null,null,null,"","",{"$f":"IF(SUM(M$8:M690)=0, \"\", \" + \")","v":""}]
[null,null,null,null,null,null,null,null,null,null,null,null,null,"","",{"$f":"IF(SUM(M$8:M691)=0, \"\", \" + \")","v":""}]
[null,null,null,null,null,null,null,null,null,null,null,null,null,"","",{"$f":"IF(SUM(M$8:M692)=0, \"\", \" + \")","v":""}]
[null,null,null,null,null,null,null,null,null,null,null,null,null,"","",{"$f":"IF(SUM(M$8:M693)=0, \"\", \" + \")","v":""}]
[null,null,null,null,null,null,null,null,null,null,null,null,null,"","",{"$f":"IF(SUM(M$8:M694)=0, \"\", \" + \")","v":""}]
[null,null,null,null,null,null,null,null,null,null,null,null,null,"","",{"$f":"IF(SUM(M$8:M695)=0, \"\", \" + \")","v":""}]
[null,null,null,null,null,null,null,null,null,null,null,null,null,"","",{"$f":"IF(SUM(M$8:M696)=0, \"\", \" + \")","v":""}]
[null,null,null,null,null,null,null,null,null,null,null,null,null,"","",{"$f":"IF(SUM(M$8:M697)=0, \"\", \" + \")","v":""}]
[null,null,null,null,null,null,null,null,null,null,null,null,null,"","",{"$f":"IF(SUM(M$8:M698)=0, \"\", \" + \")","v":""}]
[null,null,null,null,null,null,null,null,null,null,null,null,null,"","",{"$f":"IF(SUM(M$8:M699)=0, \"\", \" + \")","v":""}]
[null,null,null,null,null,null,null,null,null,null,null,null,null,"","",{"$f":"IF(SUM(M$8:M700)=0, \"\", \" + \")","v":""}]
[null,null,null,null,null,null,null,null,null,null,null,null,null,"","",{"$f":"IF(SUM(M$8:M701)=0, \"\", \" + \")","v":""}]
[null,null,null,null,null,null,null,null,null,null,null,null,null,"","",{"$f":"IF(SUM(M$8:M702)=0, \"\", \" + \")","v":""}]
[null,null,null,null,null,null,null,null,null,null,null,null,null,"","",{"$f":"IF(SUM(M$8:M703)=0, \"\", \" + \")","v":""}]
[null,null,null,null,null,null,null,null,null,null,null,null,null,"","",{"$f":"IF(SUM(M$8:M704)=0, \"\", \" + \")","v":""}]
[null,null,null,null,null,null,null,null,null,null,null,null,null,"","",{"$f":"IF(SUM(M$8:M705)=0, \"\", \" + \")","v":""}]
[null,null,null,null,null,null,null,null,null,null,null,null,null,"","",{"$f":"IF(SUM(M$8:M706)=0, \"\", \" + \")","v":""}]
[null,null,null,null,null,null,null,null,null,null,null,null,null,"","",{"$f":"IF(SUM(M$8:M707)=0, \"\", \" + \")","v":""}]
[null,null,null,null,null,null,null,null,null,null,null,null,null,"","",{"$f":"IF(SUM(M$8:M708)=0, \"\", \" + \")","v":""}]
[null,null,null,null,null,null,null,null,null,null,null,null,null,"","",{"$f":"IF(SUM(M$8:M709)=0, \"\", \" + \")","v":""}]
[null,null,null,null,null,null,null,null,null,null,null,null,null,"","",{"$f":"IF(SUM(M$8:M710)=0, \"\", \" + \")","v":""}]
[null,null,null,null,null,null,null,null,null,null,null,null,null,"","",{"$f":"IF(SUM(M$8:M711)=0, \"\", \" + \")","v":""}]
[null,null,null,null,null,null,null,null,null,null,null,null,null,"","",{"$f":"IF(SUM(M$8:M712)=0, \"\", \" + \")","v":""}]
[null,null,null,null,null,null,null,null,null,null,null,null,null,{"$f":"IF(M714=0, \"\",CONCATENATE(P714, C714, \"-\",M714,\"м\"))","v":""},"",{"$f":"IF(SUM(M$8:M713)=0, \"\", \" + \")","v":""}]
[null,null,null,null,null,null,null,null,null,null,null,null,null,"",{"$f":"CONCATENATE(O714,N715)","v":""},{"$f":"IF(SUM(M$8:M714)=0, \"\", \" + \")","v":""}]
[null,null,null,null,null,null,null,null,null,null,null,null,null,"","",{"$f":"IF(SUM(M$8:M715)=0, \"\", \" + \")","v":""}]
[null,null,null,null,null,null,null,null,null,null,null,null,null,"","",{"$f":"IF(SUM(M$8:M716)=0, \"\", \" + \")","v":""}]
[null,null,null,null,null,null,null,null,null,null,null,null,null,"","",{"$f":"IF(SUM(M$8:M717)=0, \"\", \" + \")","v":""}]
[null,null,null,null,null,null,null,null,null,null,null,null,null,"","",{"$f":"IF(SUM(M$8:M718)=0, \"\", \" + \")","v":""}]
[null,null,null,null,null,null,null,null,null,null,null,null,null,"","",{"$f":"IF(SUM(M$8:M719)=0, \"\", \" + \")","v":""}]
[null,null,null,null,null,null,null,null,null,null,null,null,null,"","",{"$f":"IF(SUM(M$8:M720)=0, \"\", \" + \")","v":""}]
[null,null,null,null,null,null,null,null,null,null,null,null,null,"","",{"$f":"IF(SUM(M$8:M721)=0, \"\", \" + \")","v":""}]
[null,null,null,null,null,null,null,null,null,null,null,null,null,"","",{"$f":"IF(SUM(M$8:M722)=0, \"\", \" + \")","v":""}]
[null,null,null,null,null,null,null,null,null,null,null,null,null,"","",{"$f":"IF(SUM(M$8:M723)=0, \"\", \" + \")","v":""}]
[null,null,null,null,null,null,null,null,null,null,null,null,null,"","",{"$f":"IF(SUM(M$8:M724)=0, \"\", \" + \")","v":""}]
[null,null,null,null,null,null,null,null,null,null,null,null,null,"","",{"$f":"IF(SUM(M$8:M725)=0, \"\", \" + \")","v":""}]
[null,null,null,null,null,null,null,null,null,null,null,null,null,"","",{"$f":"IF(SUM(M$8:M726)=0, \"\", \" + \")","v":""}]
[null,null,null,null,null,null,null,null,null,null,null,null,null,"","",{"$f":"IF(SUM(M$8:M727)=0, \"\", \" + \")","v":""}]
[null,null,null,null,null,null,null,null,null,null,null,null,null,"","",{"$f":"IF(SUM(M$8:M728)=0, \"\", \" + \")","v":""}]
[null,null,null,null,null,null,null,null,null,null,null,null,null,"","",{"$f":"IF(SUM(M$8:M729)=0, \"\", \" + \")","v":""}]
[null,null,null,null,null,null,null,null,null,null,null,null,null,"","",{"$f":"IF(SUM(M$8:M730)=0, \"\", \" + \")","v":""}]
[null,null,null,null,null,null,null,null,null,null,null,null,null,"","",{"$f":"IF(SUM(M$8:M731)=0, \"\", \" + \")","v":""}]
[null,null,null,null,null,null,null,null,null,null,null,null,null,"","",{"$f":"IF(SUM(M$8:M732)=0, \"\", \" + \")","v":""}]
[null,null,null,null,null,null,null,null,null,null,null,null,null,"","",{"$f":"IF(SUM(M$8:M733)=0, \"\", \" + \")","v":""}]
[null,null,null,null,null,null,null,null,null,null,null,null,null,"","",{"$f":"IF(SUM(M$8:M734)=0, \"\", \" + \")","v":""}]
[null,null,null,null,null,null,null,null,null,null,null,null,null,"","",{"$f":"IF(SUM(M$8:M735)=0, \"\", \" + \")","v":""}]
[null,null,null,null,null,null,null,null,null,null,null,null,null,"","",{"$f":"IF(SUM(M$8:M736)=0, \"\", \" + \")","v":""}]
[null,null,null,null,null,null,null,null,null,null,null,null,null,"","",{"$f":"IF(SUM(M$8:M737)=0, \"\", \" + \")","v":""}]
[null,null,null,null,null,null,null,null,null,null,null,null,null,"","",{"$f":"IF(SUM(M$8:M738)=0, \"\", \" + \")","v":""}]
[null,null,null,null,null,null,null,null,null,null,null,null,null,"","",{"$f":"IF(SUM(M$8:M739)=0, \"\", \" + \")","v":""}]
[null,null,null,null,null,null,null,null,null,null,null,null,null,"","",{"$f":"IF(SUM(M$8:M740)=0, \"\", \" + \")","v":""}]
[null,null,null,null,null,null,null,null,null,null,null,null,null,"","",{"$f":"IF(SUM(M$8:M741)=0, \"\", \" + \")","v":""}]
[null,null,null,null,null,null,null,null,null,null,null,null,null,"","",{"$f":"IF(SUM(M$8:M742)=0, \"\", \" + \")","v":""}]
[null,null,null,null,null,null,null,null,null,null,null,null,null,"","",{"$f":"IF(SUM(M$8:M743)=0, \"\", \" + \")","v":""}]
[null,null,null,null,null,null,null,null,null,null,null,null,null,"","",{"$f":"IF(SUM(M$8:M744)=0, \"\", \" + \")","v":""}]
[null,null,null,null,null,null,null,null,null,null,null,null,null,"","",{"$f":"IF(SUM(M$8:M745)=0, \"\", \" + \")","v":""}]
[null,null,null,null,null,null,null,null,null,null,null,null,null,"","",{"$f":"IF(SUM(M$8:M746)=0, \"\", \" + \")","v":""}]
[null,null,null,null,null,null,null,null,null,null,null,null,null,"","",{"$f":"IF(SUM(M$8:M747)=0, \"\", \" + \")","v":""}]
[null,null,null,null,null,null,null,null,null,null,null,null,null,"","",{"$f":"IF(SUM(M$8:M748)=0, \"\", \" + \")","v":""}]
[null,null,null,null,null,null,null,null,null,null,null,null,null,"","",{"$f":"IF(SUM(M$8:M749)=0, \"\", \" + \")","v":""}]
[null,null,null,null,null,null,null,null,null,null,null,null,null,"","",{"$f":"IF(SUM(M$8:M750)=0, \"\", \" + \")","v":""}]
[null,null,null,null,null,null,null,null,null,null,null,null,null,"","",{"$f":"IF(SUM(M$8:M751)=0, \"\", \" + \")","v":""}]
[null,null,null,null,null,null,null,null,null,null,null,null,null,"","",{"$f":"IF(SUM(M$8:M752)=0, \"\", \" + \")","v":""}]
[null,null,null,null,null,null,null,null,null,null,null,null,null,"","",{"$f":"IF(SUM(M$8:M753)=0, \"\", \" + \")","v":""}]
[null,null,null,null,null,null,null,null,null,null,null,null,null,"","",{"$f":"IF(SUM(M$8:M754)=0, \"\", \" + \")","v":""}]
[null,null,null,null,null,null,null,null,null,null,null,null,null,"","",{"$f":"IF(SUM(M$8:M755)=0, \"\", \" + \")","v":""}]
[null,null,null,null,null,null,null,null,null,null,null,null,null,"","",{"$f":"IF(SUM(M$8:M756)=0, \"\", \" + \")","v":""}]
[null,null,null,null,null,null,null,null,null,null,null,null,null,"","",{"$f":"IF(SUM(M$8:M757)=0, \"\", \" + \")","v":""}]
[null,null,null,null,null,null,null,null,null,null,null,null,null,"","",{"$f":"IF(SUM(M$8:M758)=0, \"\", \" + \")","v":""}]
[null,null,null,null,null,null,null,null,null,null,null,null,null,"","",{"$f":"IF(SUM(M$8:M759)=0, \"\", \" + \")","v":""}]
[null,null,null,null,null,null,null,null,null,null,null,null,null,"","",{"$f":"IF(SUM(M$8:M760)=0, \"\", \" + \")","v":""}]
[null,null,null,null,null,null,null,null,null,null,null,null,null,"","",{"$f":"IF(SUM(M$8:M761)=0, \"\", \" + \")","v":""}]
[null,null,null,null,null,null,null,null,null,null,null,null,null,"","",{"$f":"IF(SUM(M$8:M762)=0, \"\", \" + \")","v":""}]
[null,null,null,null,null,null,null,null,null,null,null,null,null,"","",{"$f":"IF(SUM(M$8:M763)=0, \"\", \" + \")","v":""}]
[null,null,null,null,null,null,null,null,null,null,null,null,null,"","",{"$f":"IF(SUM(M$8:M764)=0, \"\", \" + \")","v":""}]
[null,null,null,null,null,null,null,null,null,null,null,null,null,"","",{"$f":"IF(SUM(M$8:M765)=0, \"\", \" + \")","v":""}]
[null,null,null,null,null,null,null,null,null,null,null,null,null,"","",{"$f":"IF(SUM(M$8:M766)=0, \"\", \" + \")","v":""}]
[null,null,null,null,null,null,null,null,null,null,null,null,null,"","",{"$f":"IF(SUM(M$8:M767)=0, \"\", \" + \")","v":""}]
[null,null,null,null,null,null,null,null,null,null,null,null,null,"","",{"$f":"IF(SUM(M$8:M768)=0, \"\", \" + \")","v":""}]
[null,null,null,null,null,null,null,null,null,null,null,null,null,"","",{"$f":"IF(SUM(M$8:M769)=0, \"\", \" + \")","v":""}]
[null,null,null,null,null,null,null,null,null,null,null,null,null,"","",{"$f":"IF(SUM(M$8:M770)=0, \"\", \" + \")","v":""}]
[null,null,null,null,null,null,null,null,null,null,null,null,null,"","",{"$f":"IF(SUM(M$8:M771)=0, \"\", \" + \")","v":""}]
[null,null,null,null,null,null,null,null,null,null,null,null,null,"","",{"$f":"IF(SUM(M$8:M772)=0, \"\", \" + \")","v":""}]
[null,null,null,null,null,null,null,null,null,null,null,null,null,"","",{"$f":"IF(SUM(M$8:M773)=0, \"\", \" + \")","v":""}]
[null,null,null,null,null,null,null,null,null,null,null,null,null,"","",{"$f":"IF(SUM(M$8:M774)=0, \"\", \" + \")","v":""}]
[null,null,null,null,null,null,null,null,null,null,null,null,null,"","",{"$f":"IF(SUM(M$8:M775)=0, \"\", \" + \")","v":""}]
[null,null,null,null,null,null,null,null,null,null,null,null,null,"","",{"$f":"IF(SUM(M$8:M776)=0, \"\", \" + \")","v":""}]
[null,null,null,null,null,null,null,null,null,null,null,null,null,{"$f":"IF(M778=0, \"\",CONCATENATE(P778, C778, \"-\",M778,\"м\"))","v":""},"",{"$f":"IF(SUM(M$8:M777)=0, \"\", \" + \")","v":""}]
[null,null,null,null,null,null,null,null,null,null,null,null,null,"",{"$f":"CONCATENATE(O778,N779)","v":""},{"$f":"IF(SUM(M$8:M778)=0, \"\", \" + \")","v":""}]
[null,null,null,null,null,null,null,null,null,null,null,null,null,"","",{"$f":"IF(SUM(M$8:M779)=0, \"\", \" + \")","v":""}]
[null,null,null,null,null,null,null,null,null,null,null,null,null,"","",{"$f":"IF(SUM(M$8:M780)=0, \"\", \" + \")","v":""}]
[null,null,null,null,null,null,null,null,null,null,null,null,null,"","",{"$f":"IF(SUM(M$8:M781)=0, \"\", \" + \")","v":""}]
[null,null,null,null,null,null,null,null,null,null,null,null,null,"","",{"$f":"IF(SUM(M$8:M782)=0, \"\", \" + \")","v":""}]
[null,null,null,null,null,null,null,null,null,null,null,null,null,"","",{"$f":"IF(SUM(M$8:M783)=0, \"\", \" + \")","v":""}]
[null,null,null,null,null,null,null,null,null,null,null,null,null,"","",{"$f":"IF(SUM(M$8:M784)=0, \"\", \" + \")","v":""}]
[null,null,null,null,null,null,null,null,null,null,null,null,null,"","",{"$f":"IF(SUM(M$8:M785)=0, \"\", \" + \")","v":""}]
[null,null,null,null,null,null,null,null,null,null,null,null,null,"","",{"$f":"IF(SUM(M$8:M786)=0, \"\", \" + \")","v":""}]
[null,null,null,null,null,null,null,null,null,null,null,null,null,"","",{"$f":"IF(SUM(M$8:M787)=0, \"\", \" + \")","v":""}]
[null,null,null,null,null,null,null,null,null,null,null,null,null,"","",{"$f":"IF(SUM(M$8:M788)=0, \"\", \" + \")","v":""}]
[null,null,null,null,null,null,null,null,null,null,null,null,null,"","",{"$f":"IF(SUM(M$8:M789)=0, \"\", \" + \")","v":""}]
[null,null,null,null,null,null,null,null,null,null,null,null,null,"","",{"$f":"IF(SUM(M$8:M790)=0, \"\", \" + \")","v":""}]
[null,null,null,null,null,null,null,null,null,null,null,null,null,"","",{"$f":"IF(SUM(M$8:M791)=0, \"\", \" + \")","v":""}]
[null,null,null,null,null,null,null,null,null,null,null,null,null,"","",{"$f":"IF(SUM(M$8:M792)=0, \"\", \" + \")","v":""}]
[null,null,null,null,null,null,null,null,null,null,null,null,null,"","",{"$f":"IF(SUM(M$8:M793)=0, \"\", \" + \")","v":""}]
[null,null,null,null,null,null,null,null,null,null,null,null,null,"","",{"$f":"IF(SUM(M$8:M794)=0, \"\", \" + \")","v":""}]
[null,null,null,null,null,null,null,null,null,null,null,null,null,"","",{"$f":"IF(SUM(M$8:M795)=0, \"\", \" + \")","v":""}]
[null,null,null,null,null,null,null,null,null,null,null,null,null,"","",{"$f":"IF(SUM(M$8:M796)=0, \"\", \" + \")","v":""}]
[null,null,null,null,null,null,null,null,null,null,null,null,null,"","",{"$f":"IF(SUM(M$8:M797)=0, \"\", \" + \")","v":""}]
[null,null,null,null,null,null,null,null,null,null,null,null,null,"","",{"$f":"IF(SUM(M$8:M798)=0, \"\", \" + \")","v":""}]
[null,null,null,null,null,null,null,null,null,null,null,null,null,"","",{"$f":"IF(SUM(M$8:M799)=0, \"\", \" + \")","v":""}]
[null,null,null,null,null,null,null,null,null,null,null,null,null,"","",{"$f":"IF(SUM(M$8:M800)=0, \"\", \" + \")","v":""}]
[null,null,null,null,null,null,null,null,null,null,null,null,null,"","",{"$f":"IF(SUM(M$8:M801)=0, \"\", \" + \")","v":""}]
[null,null,null,null,null,null,null,null,null,null,null,null,null,"","",{"$f":"IF(SUM(M$8:M802)=0, \"\", \" + \")","v":""}]
[null,null,null,null,null,null,null,null,null,null,null,null,null,"","",{"$f":"IF(SUM(M$8:M803)=0, \"\", \" + \")","v":""}]
[null,null,null,null,null,null,null,null,null,null,null,null,null,"","",{"$f":"IF(SUM(M$8:M804)=0, \"\", \" + \")","v":""}]
[null,null,null,null,null,null,null,null,null,null,null,null,null,"","",{"$f":"IF(SUM(M$8:M805)=0, \"\", \" + \")","v":""}]
[null,null,null,null,null,null,null,null,null,null,null,null,null,"","",{"$f":"IF(SUM(M$8:M806)=0, \"\", \" + \")","v":""}]
[null,null,null,null,null,null,null,null,null,null,null,null,null,"","",{"$f":"IF(SUM(M$8:M807)=0, \"\", \" + \")","v":""}]
[null,null,null,null,null,null,null,null,null,null,null,null,null,"","",{"$f":"IF(SUM(M$8:M808)=0, \"\", \" + \")","v":""}]
[null,null,null,null,null,null,null,null,null,null,null,null,null,"","",{"$f":"IF(SUM(M$8:M809)=0, \"\", \" + \")","v":""}]
[null,null,null,null,null,null,null,null,null,null,null,null,null,"","",{"$f":"IF(SUM(M$8:M810)=0, \"\", \" + \")","v":""}]
[null,null,null,null,null,null,null,null,null,null,null,null,null,"","",{"$f":"IF(SUM(M$8:M811)=0, \"\", \" + \")","v":""}]
[null,null,null,null,null,null,null,null,null,null,null,null,null,"","",{"$f":"IF(SUM(M$8:M812)=0, \"\", \" + \")","v":""}]
[null,null,null,null,null,null,null,null,null,null,null,null,null,"","",{"$f":"IF(SUM(M$8:M813)=0, \"\", \" + \")","v":""}]
[null,null,null,null,null,null,null,null,null,null,null,null,null,"","",{"$f":"IF(SUM(M$8:M814)=0, \"\", \" + \")","v":""}]
[null,null,null,null,null,null,null,null,null,null,null,null,null,"","",{"$f":"IF(SUM(M$8:M815)=0, \"\", \" + \")","v":""}]
[null,null,null,null,null,null,null,null,null,null,null,null,null,"","",{"$f":"IF(SUM(M$8:M816)=0, \"\", \" + \")","v":""}]
[null,null,null,null,null,null,null,null,null,null,null,null,null,"","",{"$f":"IF(SUM(M$8:M817)=0, \"\", \" + \")","v":""}]
[null,null,null,null,null,null,null,null,null,null,null,null,null,"","",{"$f":"IF(SUM(M$8:M818)=0, \"\", \" + \")","v":""}]
[null,null,null,null,null,null,null,null,null,null,null,null,null,"","",{"$f":"IF(SUM(M$8:M819)=0, \"\", \" + \")","v":""}]
[null,null,null,null,null,null,null,null,null,null,null,null,null,"","",{"$f":"IF(SUM(M$8:M820)=0, \"\", \" + \")","v":""}]
[null,null,null,null,null,null,null,null,null,null,null,null,null,"","",{"$f":"IF(SUM(M$8:M821)=0, \"\", \" + \")","v":""}]
[null,null,null,null,null,null,null,null,null,null,null,null,null,"","",{"$f":"IF(SUM(M$8:M822)=0, \"\", \" + \")","v":""}]
[null,null,null,null,null,null,null,null,null,null,null,null,null,"","",{"$f":"IF(SUM(M$8:M823)=0, \"\", \" + \")","v":""}]
[null,null,null,null,null,null,null,null,null,null,null,null,null,"","",{"$f":"IF(SUM(M$8:M824)=0, \"\", \" + \")","v":""}]
[null,null,null,null,null,null,null,null,null,null,null,null,null,"","",{"$f":"IF(SUM(M$8:M825)=0, \"\", \" + \")","v":""}]
[null,null,null,null,null,null,null,null,null,null,null,null,null,"","",{"$f":"IF(SUM(M$8:M826)=0, \"\", \" + \")","v":""}]
[null,null,null,null,null,null,null,null,null,null,null,null,null,"","",{"$f":"IF(SUM(M$8:M827)=0, \"\", \" + \")","v":""}]
[null,null,null,null,null,null,null,null,null,null,null,null,null,"","",{"$f":"IF(SUM(M$8:M828)=0, \"\", \" + \")","v":""}]
[null,null,null,null,null,null,null,null,null,null,null,null,null,"","",{"$f":"IF(SUM(M$8:M829)=0, \"\", \" + \")","v":""}]
[null,null,null,null,null,null,null,null,null,null,null,null,null,"","",{"$f":"IF(SUM(M$8:M830)=0, \"\", \" + \")","v":""}]
[null,null,null,null,null,null,null,null,null,null,null,null,null,"","",{"$f":"IF(SUM(M$8:M831)=0, \"\", \" + \")","v":""}]
[null,null,null,null,null,null,null,null,null,null,null,null,null,"","",{"$f":"IF(SUM(M$8:M832)=0, \"\", \" + \")","v":""}]
[null,null,null,null,null,null,null,null,null,null,null,null,null,"","",{"$f":"IF(SUM(M$8:M833)=0, \"\", \" + \")","v":""}]
[null,null,null,null,null,null,null,null,null,null,null,null,null,"","",{"$f":"IF(SUM(M$8:M834)=0, \"\", \" + \")","v":""}]
[null,null,null,null,null,null,null,null,null,null,null,null,null,"","",{"$f":"IF(SUM(M$8:M835)=0, \"\", \" + \")","v":""}]
[null,null,null,null,null,null,null,null,null,null,null,null,null,"","",{"$f":"IF(SUM(M$8:M836)=0, \"\", \" + \")","v":""}]
[null,null,null,null,null,null,null,null,null,null,null,null,null,"","",{"$f":"IF(SUM(M$8:M837)=0, \"\", \" + \")","v":""}]
[null,null,null,null,null,null,null,null,null,null,null,null,null,"","",{"$f":"IF(SUM(M$8:M838)=0, \"\", \" + \")","v":""}]
[null,null,null,null,null,null,null,null,null,null,null,null,null,"","",{"$f":"IF(SUM(M$8:M839)=0, \"\", \" + \")","v":""}]
[null,null,null,null,null,null,null,null,null,null,null,null,null,"","",{"$f":"IF(SUM(M$8:M840)=0, \"\", \" + \")","v":""}]
[null,null,null,null,null,null,null,null,null,null,null,null,null,{"$f":"IF(M842=0, \"\",CONCATENATE(P842, C842, \"-\",M842,\"м\"))","v":""},"",{"$f":"IF(SUM(M$8:M841)=0, \"\", \" + \")","v":""}]
[null,null,null,null,null,null,null,null,null,null,null,null,null,"",{"$f":"CONCATENATE(O842,N843)","v":""},{"$f":"IF(SUM(M$8:M842)=0, \"\", \" + \")","v":""}]
[null,null,null,null,null,null,null,null,null,null,null,null,null,"","",{"$f":"IF(SUM(M$8:M843)=0, \"\", \" + \")","v":""}]
[null,null,null,null,null,null,null,null,null,null,null,null,null,"","",{"$f":"IF(SUM(M$8:M844)=0, \"\", \" + \")","v":""}]
[null,null,null,null,null,null,null,null,null,null,null,null,null,"","",{"$f":"IF(SUM(M$8:M845)=0, \"\", \" + \")","v":""}]
[null,null,null,null,null,null,null,null,null,null,null,null,null,"","",{"$f":"IF(SUM(M$8:M846)=0, \"\", \" + \")","v":""}]
[null,null,null,null,null,null,null,null,null,null,null,null,null,"","",{"$f":"IF(SUM(M$8:M847)=0, \"\", \" + \")","v":""}]
[null,null,null,null,null,null,null,null,null,null,null,null,null,"","",{"$f":"IF(SUM(M$8:M848)=0, \"\", \" + \")","v":""}]
[null,null,null,null,null,null,null,null,null,null,null,null,null,"","",{"$f":"IF(SUM(M$8:M849)=0, \"\", \" + \")","v":""}]
[null,null,null,null,null,null,null,null,null,null,null,null,null,"","",{"$f":"IF(SUM(M$8:M850)=0, \"\", \" + \")","v":""}]
[null,null,null,null,null,null,null,null,null,null,null,null,null,"","",{"$f":"IF(SUM(M$8:M851)=0, \"\", \" + \")","v":""}]
[null,null,null,null,null,null,null,null,null,null,null,null,null,"","",{"$f":"IF(SUM(M$8:M852)=0, \"\", \" + \")","v":""}]
[null,null,null,null,null,null,null,null,null,null,null,null,null,"","",{"$f":"IF(SUM(M$8:M853)=0, \"\", \" + \")","v":""}]
[null,null,null,null,null,null,null,null,null,null,null,null,null,"","",{"$f":"IF(SUM(M$8:M854)=0, \"\", \" + \")","v":""}]
[null,null,null,null,null,null,null,null,null,null,null,null,null,"","",{"$f":"IF(SUM(M$8:M855)=0, \"\", \" + \")","v":""}]
[null,null,null,null,null,null,null,null,null,null,null,null,null,"","",{"$f":"IF(SUM(M$8:M856)=0, \"\", \" + \")","v":""}]
[null,null,null,null,null,null,null,null,null,null,null,null,null,"","",{"$f":"IF(SUM(M$8:M857)=0, \"\", \" + \")","v":""}]
[null,null,null,null,null,null,null,null,null,null,null,null,null,"","",{"$f":"IF(SUM(M$8:M858)=0, \"\", \" + \")","v":""}]
[null,null,null,null,null,null,null,null,null,null,null,null,null,"","",{"$f":"IF(SUM(M$8:M859)=0, \"\", \" + \")","v":""}]
[null,null,null,null,null,null,null,null,null,null,null,null,null,"","",{"$f":"IF(SUM(M$8:M860)=0, \"\", \" + \")","v":""}]
[null,null,null,null,null,null,null,null,null,null,null,null,null,"","",{"$f":"IF(SUM(M$8:M861)=0, \"\", \" + \")","v":""}]
[null,null,null,null,null,null,null,null,null,null,null,null,null,"","",{"$f":"IF(SUM(M$8:M862)=0, \"\", \" + \")","v":""}]
[null,null,null,null,null,null,null,null,null,null,null,null,null,"","",{"$f":"IF(SUM(M$8:M863)=0, \"\", \" + \")","v":""}]
[null,null,null,null,null,null,null,null,null,null,null,null,null,"","",{"$f":"IF(SUM(M$8:M864)=0, \"\", \" + \")","v":""}]
[null,null,null,null,null,null,null,null,null,null,null,null,null,"","",{"$f":"IF(SUM(M$8:M865)=0, \"\", \" + \")","v":""}]
[null,null,null,null,null,null,null,null,null,null,null,null,null,"","",{"$f":"IF(SUM(M$8:M866)=0, \"\", \" + \")","v":""}]
[null,null,null,null,null,null,null,null,null,null,null,null,null,"","",{"$f":"IF(SUM(M$8:M867)=0, \"\", \" + \")","v":""}]
[null,null,null,null,null,null,null,null,null,null,null,null,null,"","",{"$f":"IF(SUM(M$8:M868)=0, \"\", \" + \")","v":""}]
[null,null,null,null,null,null,null,null,null,null,null,null,null,"","",{"$f":"IF(SUM(M$8:M869)=0, \"\", \" + \")","v":""}]
[null,null,null,null,null,null,null,null,null,null,null,null,null,"","",{"$f":"IF(SUM(M$8:M870)=0, \"\", \" + \")","v":""}]
[null,null,null,null,null,null,null,null,null,null,null,null,null,"","",{"$f":"IF(SUM(M$8:M871)=0, \"\", \" + \")","v":""}]
[null,null,null,null,null,null,null,null,null,null,null,null,null,"","",{"$f":"IF(SUM(M$8:M872)=0, \"\", \" + \")","v":""}]
[null,null,null,null,null,null,null,null,null,null,null,null,null,"","",{"$f":"IF(SUM(M$8:M873)=0, \"\", \" + \")","v":""}]
[null,null,null,null,null,null,null,null,null,null,null,null,null,"","",{"$f":"IF(SUM(M$8:M874)=0, \"\", \" + \")","v":""}]
[null,null,null,null,null,null,null,null,null,null,null,null,null,"","",{"$f":"IF(SUM(M$8:M875)=0, \"\", \" + \")","v":""}]
[null,null,null,null,null,null,null,null,null,null,null,null,null,"","",{"$f":"IF(SUM(M$8:M876)=0, \"\", \" + \")","v":""}]
[null,null,null,null,null,null,null,null,null,null,null,null,null,"","",{"$f":"IF(SUM(M$8:M877)=0, \"\", \" + \")","v":""}]
[null,null,null,null,null,null,null,null,null,null,null,null,null,"","",{"$f":"IF(SUM(M$8:M878)=0, \"\", \" + \")","v":""}]
[null,null,null,null,null,null,null,null,null,null,null,null,null,"","",{"$f":"IF(SUM(M$8:M879)=0, \"\", \" + \")","v":""}]
[null,null,null,null,null,null,null,null,null,null,null,null,null,"","",{"$f":"IF(SUM(M$8:M880)=0, \"\", \" + \")","v":""}]
[null,null,null,null,null,null,null,null,null,null,null,null,null,"","",{"$f":"IF(SUM(M$8:M881)=0, \"\", \" + \")","v":""}]
[null,null,null,null,null,null,null,null,null,null,null,null,null,"","",{"$f":"IF(SUM(M$8:M882)=0, \"\", \" + \")","v":""}]

{"sheet":"ЗАКАЗ","index":14,"n_rows":261,"n_cols":34,"rows_kept":261,"cut":false,"hidden":false,"merged":[[16,4,16,12]]}
[]
[]
[]
[null,null,null,{"$f":"'Выбор ОКЛ'!C25","v":"СПЕЦКАБЛАЙН-КиТ-МР20-200 м"}]
[]
[null,null,"Выбранная ОКЛ",{"$f":"CONCATENATE(D4, \"(\", AE12, \")-\", E21)","v":"СПЕЦКАБЛАЙН-КиТ-МР20-200 м(КПСнг(А)-FRHF 1х2х0,5-100м)-ТУ 16.К99-083-2015"}]
[]
[]
[null,null,null,"КПС",{"$f":"КПС!K3","v":"КПСнг(А)-FRHF 1х2х0,5-100м"},null,null,{"$f":"КПС!P5","v":100},null,null,{"$f":"IF(H9=0, \"\",CONCATENATE(AG9,E9,))","v":"КПСнг(А)-FRHF 1х2х0,5-100м"},null,null,null,null,null,null,null,null,null,null,null,null,null,null,null,null,null,null,null,{"$f":"K9","v":"КПСнг(А)-FRHF 1х2х0,5-100м"},null,{"$f":"IF(SUM(H$9:H9)=0, \"+\", \"\")","v":""},{"$f":"IF(SUM(H9:H12)=0, \"\", \" + \")","v":" + "}]
[null,null,null,"КСБ",{"$f":"КСБ!L3","v":""},null,null,{"$f":"КСБ!Q5","v":0},null,null,{"$f":"IF(H10=0, \"\",CONCATENATE(AG10,E10,))","v":""},null,null,null,null,null,null,null,null,null,null,null,null,null,null,null,null,null,null,null,{"$f":"CONCATENATE(AE9,K10)","v":"КПСнг(А)-FRHF 1х2х0,5-100м"},null,{"$f":"IF(SUM(H$8:H9)=0, \"\", \" + \")","v":" + "}]
[null,null,null,"Силовые",{"$f":"'Силовой кабель'!L3","v":""},null,null,{"$f":"'Силовой кабель'!Q5","v":0},null,null,{"$f":"IF(H11=0, \"\",CONCATENATE(AG11,E11,))","v":""},null,null,null,null,null,null,null,null,null,null,null,null,null,null,null,null,null,null,null,{"$f":"CONCATENATE(AE10,K11)","v":"КПСнг(А)-FRHF 1х2х0,5-100м"},null,{"$f":"IF(SUM(H$8:H10)=0, \"\", \" + \")","v":" + "}]
[null,null,null,"Лоутокс",{"$f":"'ЛОУТОКС-СПЕЦЛАН-КЭРС-КШС'!M3","v":""},null,null,{"$f":"'ЛОУТОКС-СПЕЦЛАН-КЭРС-КШС'!R5","v":0},null,null,{"$f":"IF(H12=0, \"\",CONCATENATE(AG12,E12,))","v":""},null,null,null,null,null,null,null,null,null,null,null,null,null,null,null,null,null,null,null,{"$f":"CONCATENATE(AE11,K12)","v":"КПСнг(А)-FRHF 1х2х0,5-100м"},null,{"$f":"IF(SUM(H$8:H11)=0, \"\", \" + \")","v":" + "}]
[null,null,"Адрес для отправки запроса",null,"info@spcable.ru"]
[]
[null,null,"Итоговая запись:",null,{"$f":"D6","v":"СПЕЦКАБЛАЙН-КиТ-МР20-200 м(КПСнг(А)-FRHF 1х2х0,5-100м)-ТУ 16.К99-083-2015"}]
[]
[]
[]
[null,null,null,null,"Спецификация ОКЛ",null,null,null,null,null,null,null,null,null,null,null,null,null,null,null,null,null,null,{"$f":"AE12","v":"КПСнг(А)-FRHF 1х2х0,5-100м"}]
[null,null,null,null,null,null,null,null,null,null,null,null,null,null,null,null,null,null,null,null,{"$f":"IF(W20=\"\", \"\",MID(W20,1, FIND(\"-\", W20, FIND(\"FR\",W20))-1))","v":"КПСнг(А)-FRHF 1х2х0,5"},{"$f":"IF(W20=\"\", \"\",MID(W20,FIND(\"-\", W20, FIND(\"FR\",W20))+1,1000))","v":"100м"},{"$f":"IF(ISERR(FIND(\"+\",X19)), X19,MID(X19, 1, FIND(\"+\",X19)-1))","v":"КПСнг(А)-FRHF 1х2х0,5-100м"},{"$f":"IF(ISERR(FIND(\"+\",X19)), \"\", MID(X19, FIND(\"+\",X19)+1, 10000))","v":""}]
[null,null,"ТУ",null,{"$f":"MID(ОКЛ!AN4, 2,200)","v":"ТУ 16.К99-083-2015"},null,null,null,null,null,null,null,null,null,null,null,null,null,null,null,{"$f":"IF(W21=\"\", \"\",MID(W21,1, FIND(\"-\", W21, FIND(\"FR\",W21))-1))","v":""},{"$f":"IF(W21=\"\", \"\",MID(W21,FIND(\"-\", W21, FIND(\"FR\",W21))+1,1000))","v":""},"",""]
[null,null,"Длина линии",null,{"$f":"CONCATENATE(ROUND('Выбор ОКЛ'!I25, 0), \" м\")","v":"200 м"},null,null,null,null,null,null,null,null,null,null,null,null,null,null,null,"","",{"$f":"IF(ISERR(FIND(\"+\",X24)), X24,MID(X24, 1, FIND(\"+\",X24)-1))","v":""},{"$f":"IF(ISERR(FIND(\"+\",X24)), \"\", MID(X24, FIND(\"+\",X24)+1, 10000))","v":""}]
[null,null,"Поверхность монтажа",null,{"$f":"'OKL (3)'!T4","v":"бетон"},null,null,null,null,null,null,null,null,null,null,null,null,null,null,null,"","",{"$f":"IF(ISERR(FIND(\"+\",X22)), X22,MID(X22, 1, FIND(\"+\",X22)-1))","v":""},{"$f":"IF(ISERR(FIND(\"+\",X22)), \"\", MID(X22, FIND(\"+\",X22)+1, 10000))","v":""}]
[null,null,"Подвес в виде",null,{"$f":"'OKL (3)'!F4","v":"металлорукава"},null,null,null,null,null,null,null,null,null,null,null,null,null,null,null,{"$f":"IF(W24=\"\", \"\",MID(W24,1, FIND(\"-\", W24, FIND(\"FR\",W24))-1))","v":""},{"$f":"IF(W24=\"\", \"\",MID(W24,FIND(\"-\", W24, FIND(\"FR\",W24))+1,1000))","v":""},{"$f":"IF(ISERR(FIND(\"+\",X21)), X21,MID(X21, 1, FIND(\"+\",X21)-1))","v":""},{"$f":"IF(ISERR(FIND(\"+\",X21)), \"\", MID(X21, FIND(\"+\",X21)+1, 10000))","v":""}]
[null,null,"Размер несущего элемента",null,{"$f":"'OKL (3)'!G4","v":"20 мм"}]
[null,null,"Материал несущего элемента",null,{"$f":"'OKL (3)'!R4","v":"ПВХ"},null,null,null,null,null,null,null,null,null,null,null,null,null,null,null,"","",{"$f":"IF(ISERR(FIND(\"+\",X23)), X23,MID(X23, 1, FIND(\"+\",X23)-1))","v":""},{"$f":"IF(ISERR(FIND(\"+\",X23)), \"\", MID(X23, FIND(\"+\",X23)+1, 10000))","v":""}]
[null,null,"Крепежный элемент",null,{"$f":"'OKL (3)'!V4","v":"Скоба"},null,null,null,null,null,null,null,null,null,null,null,null,null,null,null,"","","",{"$f":"IF(ISERR(FIND(\"+\",X26)), \"\", MID(X26, FIND(\"+\",X26)+1, 10000))","v":""}]
[null,null,null,null,null,null,null,null,null,null,null,null,null,null,null,null,null,null,null,null,"","","",""]
[null,null,null,null,null,null,null,null,null,null,null,null,null,null,null,null,null,null,null,null,"","","",""]
[null,null,"Кабели, в составе ОКЛ:",null,null,null,null,null,null,null,null,null,null,null,null,null,null,null,null,null,"","","",""]
[null,null,null,null,null,null,null,null,null,null,null,null,null,null,null,null,null,null,null,null,"","","",""]
[null,null,null,{"$f":"IF(E32=\"\", \"\",D31+1)","v":1},{"$f":"U20","v":"КПСнг(А)-FRHF 1х2х0,5"},{"$f":"V20","v":"100м"},null,null,null,null,null,null,null,null,null,null,null,null,null,null,"","","",""]
[null,null,null,{"$f":"IF(E33=\"\", \"\",D32+1)","v":""},{"$f":"U21","v":""},{"$f":"V21","v":""},null,null,null,null,null,null,null,null,null,null,null,null,null,null,"","","",""]
[null,null,null,"",{"$f":"U24","v":""},{"$f":"V24","v":""},null,null,null,null,null,null,null,null,null,null,null,null,null,null,"","","",""]
[null,null,null,"",{"$f":"U22","v":""},{"$f":"V22","v":""},null,null,null,null,null,null,null,null,null,null,null,null,null,null,"","","",""]
[null,null,null,"",{"$f":"U23","v":""},{"$f":"V23","v":""},null,null,null,null,null,null,null,null,null,null,null,null,null,null,"","","",""]
[null,null,null,"",{"$f":"U26","v":""},{"$f":"V26","v":""},null,null,null,null,null,null,null,null,null,null,null,null,null,null,"","","",""]
[null,null,null,"","","",null,null,null,null,null,null,null,null,null,null,null,null,null,null,"","","",""]
[null,null,null,"","","",null,null,null,null,null,null,null,null,null,null,null,null,null,null,"","","",""]
[null,null,null,"","","",null,null,null,null,null,null,null,null,null,null,null,null,null,null,"","","",""]
[null,null,null,"","","",null,null,null,null,null,null,null,null,null,null,null,null,null,null,null,null,"",""]
[null,null,null,"","","",null,null,null,null,null,null,null,null,null,null,null,null,null,null,null,null,"",""]
[null,null,null,"","","",null,null,null,null,null,null,null,null,null,null,null,null,null,null,null,null,"",""]
[null,null,null,"","","",null,null,null,null,null,null,null,null,null,null,null,null,null,null,null,null,"",""]
[null,null,null,"","","",null,null,null,null,null,null,null,null,null,null,null,null,null,null,null,null,"",""]
[null,null,null,"","","",null,null,null,null,null,null,null,null,null,null,null,null,null,null,null,null,"",""]
[null,null,null,"","","",null,null,null,null,null,null,null,null,null,null,null,null,null,null,null,null,"",""]
[null,null,null,"","","",null,null,null,null,null,null,null,null,null,null,null,null,null,null,null,null,"",""]
[null,null,null,{"$f":"IF(E49=\"\", \"\",D48+1)","v":""},"","",null,null,null,null,null,null,null,null,null,null,null,null,null,null,null,null,"",""]
[null,null,null,{"$f":"IF(E50=\"\", \"\",D49+1)","v":""},{"$f":"U39","v":""},{"$f":"V39","v":""},null,null,null,null,null,null,null,null,null,null,null,null,null,null,null,null,"",""]
[null,null,null,{"$f":"IF(E51=\"\", \"\",D50+1)","v":""},"","",null,null,null,null,null,null,null,null,null,null,null,null,null,null,null,null,"",""]
[null,null,null,{"$f":"IF(E52=\"\", \"\",D51+1)","v":""},{"$f":"W41","v":""},null,null,null,null,null,null,null,null,null,null,null,null,null,null,null,null,null,"",""]
[null,null,null,"","",null,null,null,null,null,null,null,null,null,null,null,null,null,null,null,null,null,"",""]
[null,null,null,"","",null,null,null,null,null,null,null,null,null,null,null,null,null,null,null,null,null,"",""]
[null,null,null,"","",null,null,null,null,null,null,null,null,null,null,null,null,null,null,null,null,null,"",""]
[null,null,null,"","",null,null,null,null,null,null,null,null,null,null,null,null,null,null,null,null,null,"",""]
[null,null,null,"","",null,null,null,null,null,null,null,null,null,null,null,null,null,null,null,null,null,"",""]
[null,null,null,{"$f":"IF(E58=\"\", \"\",D57+1)","v":""},"",null,null,null,null,null,null,null,null,null,null,null,null,null,null,null,null,null,"",""]
[null,null,null,null,null,null,null,null,null,null,null,null,null,null,null,null,null,null,null,null,null,null,"",""]
[null,null,null,null,null,null,null,null,null,null,null,null,null,null,null,null,null,null,null,null,null,null,"",""]
[null,null,null,null,null,null,null,null,null,null,null,null,null,null,null,null,null,null,null,null,null,null,"",""]
[null,null,null,null,null,null,null,null,null,null,null,null,null,null,null,null,null,null,null,null,null,null,"",""]
[null,null,null,null,null,null,null,null,null,null,null,null,null,null,null,null,null,null,null,null,null,null,"",""]
[null,null,null,null,null,null,null,null,null,null,null,null,null,null,null,null,null,null,null,null,null,null,"",""]
[null,null,null,null,null,null,null,null,null,null,null,null,null,null,null,null,null,null,null,null,null,null,"",""]
[null,null,null,null,null,null,null,null,null,null,null,null,null,null,null,null,null,null,null,null,null,null,"",""]
[null,null,null,null,null,null,null,null,null,null,null,null,null,null,null,null,null,null,null,null,null,null,"",""]
[null,null,null,null,null,null,null,null,null,null,null,null,null,null,null,null,null,null,null,null,null,null,"",""]
[null,null,null,null,null,null,null,null,null,null,null,null,null,null,null,null,null,null,null,null,null,null,"",""]
[null,null,null,null,null,null,null,null,null,null,null,null,null,null,null,null,null,null,null,null,null,null,"",""]
[null,null,null,null,null,null,null,null,null,null,null,null,null,null,null,null,null,null,null,null,null,null,"",""]
[null,null,null,null,null,null,null,null,null,null,null,null,null,null,null,null,null,null,null,null,null,null,"",""]
[null,null,null,null,null,null,null,null,null,null,null,null,null,null,null,null,null,null,null,null,null,null,"",""]
[null,null,null,null,null,null,null,null,null,null,null,null,null,null,null,null,null,null,null,null,null,null,"",""]
[null,null,null,null,null,null,null,null,null,null,null,null,null,null,null,null,null,null,null,null,null,null,"",""]
[null,null,null,null,null,null,null,null,null,null,null,null,null,null,null,null,null,null,null,null,null,null,"",""]
[null,null,null,null,null,null,null,null,null,null,null,null,null,null,null,null,null,null,null,null,null,null,"",""]
[null,null,null,null,null,null,null,null,null,null,null,null,null,null,null,null,null,null,null,null,null,null,"",""]
[null,null,null,null,null,null,null,null,null,null,null,null,null,null,null,null,null,null,null,null,null,null,"",""]
[null,null,null,null,null,null,null,null,null,null,null,null,null,null,null,null,null,null,null,null,null,null,"",""]
[null,null,null,null,null,null,null,null,null,null,null,null,null,null,null,null,null,null,null,null,null,null,"",""]
[null,null,null,null,null,null,null,null,null,null,null,null,null,null,null,null,null,null,null,null,null,null,"",""]
[null,null,null,null,null,null,null,null,null,null,null,null,null,null,null,null,null,null,null,null,null,null,"",""]
[null,null,null,null,null,null,null,null,null,null,null,null,null,null,null,null,null,null,null,null,null,null,"",""]
[null,null,null,null,null,null,null,null,null,null,null,null,null,null,null,null,null,null,null,null,null,null,"",""]
[null,null,null,null,null,null,null,null,null,null,null,null,null,null,null,null,null,null,null,null,null,null,"",""]
[null,null,null,null,null,null,null,null,null,null,null,null,null,null,null,null,null,null,null,null,null,null,"",""]
[null,null,null,null,null,null,null,null,null,null,null,null,null,null,null,null,null,null,null,null,null,null,{"$f":"IF(ISERR(FIND(\"+\",X87)), X87,MID(X87, 1, FIND(\"+\",X87)-1))","v":""},""]
[null,null,null,null,null,null,null,null,null,null,null,null,null,null,null,null,null,null,null,null,null,null,"",""]
[null,null,null,null,null,null,null,null,null,null,null,null,null,null,null,null,null,null,null,null,null,null,"",""]
[null,null,null,null,null,null,null,null,null,null,null,null,null,null,null,null,null,null,null,null,null,null,"",{"$f":"IF(ISERR(FIND(\"+\",X90)), \"\", MID(X90, FIND(\"+\",X90)+1, 10000))","v":""}]
[null,null,null,null,null,null,null,null,null,null,null,null,null,null,null,null,null,null,null,null,null,null,"",""]
[null,null,null,null,null,null,null,null,null,null,null,null,null,null,null,null,null,null,null,null,null,null,"",""]
[null,null,null,null,null,null,null,null,null,null,null,null,null,null,null,null,null,null,null,null,null,null,"",""]
[null,null,null,null,null,null,null,null,null,null,null,null,null,null,null,null,null,null,null,null,null,null,"",""]
[null,null,null,null,null,null,null,null,null,null,null,null,null,null,null,null,null,null,null,null,null,null,"",""]
[null,null,null,null,null,null,null,null,null,null,null,null,null,null,null,null,null,null,null,null,null,null,"",""]
[null,null,null,null,null,null,null,null,null,null,null,null,null,null,null,null,null,null,null,null,null,null,"",""]
[null,null,null,null,null,null,null,null,null,null,null,null,null,null,null,null,null,null,null,null,null,null,"",""]
[null,null,null,null,null,null,null,null,null,null,null,null,null,null,null,null,null,null,null,null,null,null,"",""]
[null,null,null,null,null,null,null,null,null,null,null,null,null,null,null,null,null,null,null,null,null,null,"",""]
[null,null,null,null,null,null,null,null,null,null,null,null,null,null,null,null,null,null,null,null,null,null,"",""]
[null,null,null,null,null,null,null,null,null,null,null,null,null,null,null,null,null,null,null,null,null,null,"",""]
[null,null,null,null,null,null,null,null,null,null,null,null,null,null,null,null,null,null,null,null,null,null,"",""]
[null,null,null,null,null,null,null,null,null,null,null,null,null,null,null,null,null,null,null,null,null,null,"",""]
[null,null,null,null,null,null,null,null,null,null,null,null,null,null,null,null,null,null,null,null,null,null,"",""]
[null,null,null,null,null,null,null,null,null,null,null,null,null,null,null,null,null,null,null,null,null,null,"",""]
[null,null,null,null,null,null,null,null,null,null,null,null,null,null,null,null,null,null,null,null,null,null,"",""]
[null,null,null,null,null,null,null,null,null,null,null,null,null,null,null,null,null,null,null,null,null,null,"",""]
[null,null,null,null,null,null,null,null,null,null,null,null,null,null,null,null,null,null,null,null,null,null,"",""]
[null,null,null,null,null,null,null,null,null,null,null,null,null,null,null,null,null,null,null,null,null,null,"",""]
[null,null,null,null,null,null,null,null,null,null,null,null,null,null,null,null,null,null,null,null,null,null,"",""]
[null,null,null,null,null,null,null,null,null,null,null,null,null,null,null,null,null,null,null,null,null,null,"",""]
[null,null,null,null,null,null,null,null,null,null,null,null,null,null,null,null,null,null,null,null,null,null,"",""]
[null,null,null,null,null,null,null,null,null,null,null,null,null,null,null,null,null,null,null,null,null,null,"",""]
[null,null,null,null,null,null,null,null,null,null,null,null,null,null,null,null,null,null,null,null,null,null,"",""]
[null,null,null,null,null,null,null,null,null,null,null,null,null,null,null,null,null,null,null,null,null,null,"",""]
[null,null,null,null,null,null,null,null,null,null,null,null,null,null,null,null,null,null,null,null,null,null,"",""]
[null,null,null,null,null,null,null,null,null,null,null,null,null,null,null,null,null,null,null,null,null,null,"",""]
[null,null,null,null,null,null,null,null,null,null,null,null,null,null,null,null,null,null,null,null,null,null,"",""]
[null,null,null,null,null,null,null,null,null,null,null,null,null,null,null,null,null,null,null,null,null,null,"",""]
[null,null,null,null,null,null,null,null,null,null,null,null,null,null,null,null,null,null,null,null,null,null,"",""]
[null,null,null,null,null,null,null,null,null,null,null,null,null,null,null,null,null,null,null,null,null,null,"",""]
[null,null,null,null,null,null,null,null,null,null,null,null,null,null,null,null,null,null,null,null,null,null,"",""]
[null,null,null,null,null,null,null,null,null,null,null,null,null,null,null,null,null,null,null,null,null,null,"",""]
[null,null,null,null,null,null,null,null,null,null,null,null,null,null,null,null,null,null,null,null,null,null,"",""]
[null,null,null,null,null,null,null,null,null,null,null,null,null,null,null,null,null,null,null,null,null,null,"",""]
[null,null,null,null,null,null,null,null,null,null,null,null,null,null,null,null,null,null,null,null,null,null,"",""]
[null,null,null,null,null,null,null,null,null,null,null,null,null,null,null,null,null,null,null,null,null,null,"",""]
[null,null,null,null,null,null,null,null,null,null,null,null,null,null,null,null,null,null,null,null,null,null,"",""]
[null,null,null,null,null,null,null,null,null,null,null,null,null,null,null,null,null,null,null,null,null,null,"",""]
[null,null,null,null,null,null,null,null,null,null,null,null,null,null,null,null,null,null,null,null,null,null,"",""]
[null,null,null,null,null,null,null,null,null,null,null,null,null,null,null,null,null,null,null,null,null,null,"",""]
[null,null,null,null,null,null,null,null,null,null,null,null,null,null,null,null,null,null,null,null,null,null,"",""]
[null,null,null,null,null,null,null,null,null,null,null,null,null,null,null,null,null,null,null,null,null,null,"",""]
[null,null,null,null,null,null,null,null,null,null,null,null,null,null,null,null,null,null,null,null,null,null,"",""]
[null,null,null,null,null,null,null,null,null,null,null,null,null,null,null,null,null,null,null,null,null,null,"",""]
[null,null,null,null,null,null,null,null,null,null,null,null,null,null,null,null,null,null,null,null,null,null,"",""]
[null,null,null,null,null,null,null,null,null,null,null,null,null,null,null,null,null,null,null,null,null,null,"",""]
[null,null,null,null,null,null,null,null,null,null,null,null,null,null,null,null,null,null,null,null,null,null,"",""]
[null,null,null,null,null,null,null,null,null,null,null,null,null,null,null,null,null,null,null,null,null,null,"",""]
[null,null,null,null,null,null,null,null,null,null,null,null,null,null,null,null,null,null,null,null,null,null,"",""]
[null,null,null,null,null,null,null,null,null,null,null,null,null,null,null,null,null,null,null,null,null,null,"",""]
[null,null,null,null,null,null,null,null,null,null,null,null,null,null,null,null,null,null,null,null,null,null,"",""]
[null,null,null,null,null,null,null,null,null,null,null,null,null,null,null,null,null,null,null,null,null,null,"",""]
[null,null,null,null,null,null,null,null,null,null,null,null,null,null,null,null,null,null,null,null,null,null,"",""]
[null,null,null,null,null,null,null,null,null,null,null,null,null,null,null,null,null,null,null,null,null,null,"",""]
[null,null,null,null,null,null,null,null,null,null,null,null,null,null,null,null,null,null,null,null,null,null,"",""]
[null,null,null,null,null,null,null,null,null,null,null,null,null,null,null,null,null,null,null,null,null,null,"",""]
[null,null,null,null,null,null,null,null,null,null,null,null,null,null,null,null,null,null,null,null,null,null,"",""]
[null,null,null,null,null,null,null,null,null,null,null,null,null,null,null,null,null,null,null,null,null,null,"",""]
[null,null,null,null,null,null,null,null,null,null,null,null,null,null,null,null,null,null,null,null,null,null,{"$f":"IF(ISERR(FIND(\"+\",X151)), X151,MID(X151, 1, FIND(\"+\",X151)-1))","v":""},""]
[null,null,null,null,null,null,null,null,null,null,null,null,null,null,null,null,null,null,null,null,null,null,"",""]
[null,null,null,null,null,null,null,null,null,null,null,null,null,null,null,null,null,null,null,null,null,null,"",""]
[null,null,null,null,null,null,null,null,null,null,null,null,null,null,null,null,null,null,null,null,null,null,"",{"$f":"IF(ISERR(FIND(\"+\",X154)), \"\", MID(X154, FIND(\"+\",X154)+1, 10000))","v":""}]
[null,null,null,null,null,null,null,null,null,null,null,null,null,null,null,null,null,null,null,null,null,null,"",""]
[null,null,null,null,null,null,null,null,null,null,null,null,null,null,null,null,null,null,null,null,null,null,"",""]
[null,null,null,null,null,null,null,null,null,null,null,null,null,null,null,null,null,null,null,null,null,null,"",""]
[null,null,null,null,null,null,null,null,null,null,null,null,null,null,null,null,null,null,null,null,null,null,"",""]
[null,null,null,null,null,null,null,null,null,null,null,null,null,null,null,null,null,null,null,null,null,null,"",""]
[null,null,null,null,null,null,null,null,null,null,null,null,null,null,null,null,null,null,null,null,null,null,"",""]
[null,null,null,null,null,null,null,null,null,null,null,null,null,null,null,null,null,null,null,null,null,null,"",""]
[null,null,null,null,null,null,null,null,null,null,null,null,null,null,null,null,null,null,null,null,null,null,"",""]
[null,null,null,null,null,null,null,null,null,null,null,null,null,null,null,null,null,null,null,null,null,null,"",""]
[null,null,null,null,null,null,null,null,null,null,null,null,null,null,null,null,null,null,null,null,null,null,"",""]
[null,null,null,null,null,null,null,null,null,null,null,null,null,null,null,null,null,null,null,null,null,null,"",""]
[null,null,null,null,null,null,null,null,null,null,null,null,null,null,null,null,null,null,null,null,null,null,"",""]
[null,null,null,null,null,null,null,null,null,null,null,null,null,null,null,null,null,null,null,null,null,null,"",""]
[null,null,null,null,null,null,null,null,null,null,null,null,null,null,null,null,null,null,null,null,null,null,"",""]
[null,null,null,null,null,null,null,null,null,null,null,null,null,null,null,null,null,null,null,null,null,null,"",""]
[null,null,null,null,null,null,null,null,null,null,null,null,null,null,null,null,null,null,null,null,null,null,"",""]
[null,null,null,null,null,null,null,null,null,null,null,null,null,null,null,null,null,null,null,null,null,null,"",""]
[null,null,null,null,null,null,null,null,null,null,null,null,null,null,null,null,null,null,null,null,null,null,"",""]
[null,null,null,null,null,null,null,null,null,null,null,null,null,null,null,null,null,null,null,null,null,null,"",""]
[null,null,null,null,null,null,null,null,null,null,null,null,null,null,null,null,null,null,null,null,null,null,"",""]
[null,null,null,null,null,null,null,null,null,null,null,null,null,null,null,null,null,null,null,null,null,null,"",""]
[null,null,null,null,null,null,null,null,null,null,null,null,null,null,null,null,null,null,null,null,null,null,"",""]
[null,null,null,null,null,null,null,null,null,null,null,null,null,null,null,null,null,null,null,null,null,null,"",""]
[null,null,null,null,null,null,null,null,null,null,null,null,null,null,null,null,null,null,null,null,null,null,"",""]
[null,null,null,null,null,null,null,null,null,null,null,null,null,null,null,null,null,null,null,null,null,null,"",""]
[null,null,null,null,null,null,null,null,null,null,null,null,null,null,null,null,null,null,null,null,null,null,"",""]
[null,null,null,null,null,null,null,null,null,null,null,null,null,null,null,null,null,null,null,null,null,null,"",""]
[null,null,null,null,null,null,null,null,null,null,null,null,null,null,null,null,null,null,null,null,null,null,"",""]
[null,null,null,null,null,null,null,null,null,null,null,null,null,null,null,null,null,null,null,null,null,null,"",""]
[null,null,null,null,null,null,null,null,null,null,null,null,null,null,null,null,null,null,null,null,null,null,"",""]
[null,null,null,null,null,null,null,null,null,null,null,null,null,null,null,null,null,null,null,null,null,null,"",""]
[null,null,null,null,null,null,null,null,null,null,null,null,null,null,null,null,null,null,null,null,null,null,"",""]
[null,null,null,null,null,null,null,null,null,null,null,null,null,null,null,null,null,null,null,null,null,null,"",""]
[null,null,null,null,null,null,null,null,null,null,null,null,null,null,null,null,null,null,null,null,null,null,"",""]
[null,null,null,null,null,null,null,null,null,null,null,null,null,null,null,null,null,null,null,null,null,null,"",""]
[null,null,null,null,null,null,null,null,null,null,null,null,null,null,null,null,null,null,null,null,null,null,"",""]
[null,null,null,null,null,null,null,null,null,null,null,null,null,null,null,null,null,null,null,null,null,null,"",""]
[null,null,null,null,null,null,null,null,null,null,null,null,null,null,null,null,null,null,null,null,null,null,"",""]
[null,null,null,null,null,null,null,null,null,null,null,null,null,null,null,null,null,null,null,null,null,null,"",""]
[null,null,null,null,null,null,null,null,null,null,null,null,null,null,null,null,null,null,null,null,null,null,"",""]
[null,null,null,null,null,null,null,null,null,null,null,null,null,null,null,null,null,null,null,null,null,null,"",""]
[null,null,null,null,null,null,null,null,null,null,null,null,null,null,null,null,null,null,null,null,null,null,"",""]
[null,null,null,null,null,null,null,null,null,null,null,null,null,null,null,null,null,null,null,null,null,null,"",""]
[null,null,null,null,null,null,null,null,null,null,null,null,null,null,null,null,null,null,null,null,null,null,"",""]
[null,null,null,null,null,null,null,null,null,null,null,null,null,null,null,null,null,null,null,null,null,null,"",""]
[null,null,null,null,null,null,null,null,null,null,null,null,null,null,null,null,null,null,null,null,null,null,"",""]
[null,null,null,null,null,null,null,null,null,null,null,null,null,null,null,null,null,null,null,null,null,null,"",""]
[null,null,null,null,null,null,null,null,null,null,null,null,null,null,null,null,null,null,null,null,null,null,"",""]
[null,null,null,null,null,null,null,null,null,null,null,null,null,null,null,null,null,null,null,null,null,null,"",""]
[null,null,null,null,null,null,null,null,null,null,null,null,null,null,null,null,null,null,null,null,null,null,"",""]
[null,null,null,null,null,null,null,null,null,null,null,null,null,null,null,null,null,null,null,null,null,null,"",""]
[null,null,null,null,null,null,null,null,null,null,null,null,null,null,null,null,null,null,null,null,null,null,"",""]
[null,null,null,null,null,null,null,null,null,null,null,null,null,null,null,null,null,null,null,null,null,null,"",""]
[null,null,null,null,null,null,null,null,null,null,null,null,null,null,null,null,null,null,null,null,null,null,"",""]
[null,null,null,null,null,null,null,null,null,null,null,null,null,null,null,null,null,null,null,null,null,null,"",""]
[null,null,null,null,null,null,null,null,null,null,null,null,null,null,null,null,null,null,null,null,null,null,"",""]
[null,null,null,null,null,null,null,null,null,null,null,null,null,null,null,null,null,null,null,null,null,null,"",""]
[null,null,null,null,null,null,null,null,null,null,null,null,null,null,null,null,null,null,null,null,null,null,"",""]
[null,null,null,null,null,null,null,null,null,null,null,null,null,null,null,null,null,null,null,null,null,null,"",""]
[null,null,null,null,null,null,null,null,null,null,null,null,null,null,null,null,null,null,null,null,null,null,"",""]
[null,null,null,null,null,null,null,null,null,null,null,null,null,null,null,null,null,null,null,null,null,null,{"$f":"IF(ISERR(FIND(\"+\",X215)), X215,MID(X215, 1, FIND(\"+\",X215)-1))","v":""},""]
[null,null,null,null,null,null,null,null,null,null,null,null,null,null,null,null,null,null,null,null,null,null,"",""]
[null,null,null,null,null,null,null,null,null,null,null,null,null,null,null,null,null,null,null,null,null,null,"",""]
[null,null,null,null,null,null,null,null,null,null,null,null,null,null,null,null,null,null,null,null,null,null,"",{"$f":"IF(ISERR(FIND(\"+\",X218)), \"\", MID(X218, FIND(\"+\",X218)+1, 10000))","v":""}]
[null,null,null,null,null,null,null,null,null,null,null,null,null,null,null,null,null,null,null,null,null,null,"",""]
[null,null,null,null,null,null,null,null,null,null,null,null,null,null,null,null,null,null,null,null,null,null,"",""]
[null,null,null,null,null,null,null,null,null,null,null,null,null,null,null,null,null,null,null,null,null,null,"",""]
[null,null,null,null,null,null,null,null,null,null,null,null,null,null,null,null,null,null,null,null,null,null,"",""]
[null,null,null,null,null,null,null,null,null,null,null,null,null,null,null,null,null,null,null,null,null,null,"",""]
[null,null,null,null,null,null,null,null,null,null,null,null,null,null,null,null,null,null,null,null,null,null,"",""]
[null,null,null,null,null,null,null,null,null,null,null,null,null,null,null,null,null,null,null,null,null,null,"",""]
[null,null,null,null,null,null,null,null,null,null,null,null,null,null,null,null,null,null,null,null,null,null,"",""]
[null,null,null,null,null,null,null,null,null,null,null,null,null,null,null,null,null,null,null,null,null,null,"",""]
[null,null,null,null,null,null,null,null,null,null,null,null,null,null,null,null,null,null,null,null,null,null,"",""]
[null,null,null,null,null,null,null,null,null,null,null,null,null,null,null,null,null,null,null,null,null,null,"",""]
[null,null,null,null,null,null,null,null,null,null,null,null,null,null,null,null,null,null,null,null,null,null,"",""]
[null,null,null,null,null,null,null,null,null,null,null,null,null,null,null,null,null,null,null,null,null,null,"",""]
[null,null,null,null,null,null,null,null,null,null,null,null,null,null,null,null,null,null,null,null,null,null,"",""]
[null,null,null,null,null,null,null,null,null,null,null,null,null,null,null,null,null,null,null,null,null,null,"",""]
[null,null,null,null,null,null,null,null,null,null,null,null,null,null,null,null,null,null,null,null,null,null,"",""]
[null,null,null,null,null,null,null,null,null,null,null,null,null,null,null,null,null,null,null,null,null,null,"",""]
[null,null,null,null,null,null,null,null,null,null,null,null,null,null,null,null,null,null,null,null,null,null,"",""]
[null,null,null,null,null,null,null,null,null,null,null,null,null,null,null,null,null,null,null,null,null,null,"",""]
[null,null,null,null,null,null,null,null,null,null,null,null,null,null,null,null,null,null,null,null,null,null,"",""]
[null,null,null,null,null,null,null,null,null,null,null,null,null,null,null,null,null,null,null,null,null,null,"",""]
[null,null,null,null,null,null,null,null,null,null,null,null,null,null,null,null,null,null,null,null,null,null,"",""]
[null,null,null,null,null,null,null,null,null,null,null,null,null,null,null,null,null,null,null,null,null,null,"",""]
[null,null,null,null,null,null,null,null,null,null,null,null,null,null,null,null,null,null,null,null,null,null,"",""]
[null,null,null,null,null,null,null,null,null,null,null,null,null,null,null,null,null,null,null,null,null,null,"",""]
[null,null,null,null,null,null,null,null,null,null,null,null,null,null,null,null,null,null,null,null,null,null,"",""]
[null,null,null,null,null,null,null,null,null,null,null,null,null,null,null,null,null,null,null,null,null,null,"",""]
[null,null,null,null,null,null,null,null,null,null,null,null,null,null,null,null,null,null,null,null,null,null,"",""]
[null,null,null,null,null,null,null,null,null,null,null,null,null,null,null,null,null,null,null,null,null,null,"",""]
[null,null,null,null,null,null,null,null,null,null,null,null,null,null,null,null,null,null,null,null,null,null,"",""]
[null,null,null,null,null,null,null,null,null,null,null,null,null,null,null,null,null,null,null,null,null,null,"",""]
[null,null,null,null,null,null,null,null,null,null,null,null,null,null,null,null,null,null,null,null,null,null,"",""]
[null,null,null,null,null,null,null,null,null,null,null,null,null,null,null,null,null,null,null,null,null,null,"",""]
[null,null,null,null,null,null,null,null,null,null,null,null,null,null,null,null,null,null,null,null,null,null,"",""]
[null,null,null,null,null,null,null,null,null,null,null,null,null,null,null,null,null,null,null,null,null,null,"",""]
[null,null,null,null,null,null,null,null,null,null,null,null,null,null,null,null,null,null,null,null,null,null,"",""]
[null,null,null,null,null,null,null,null,null,null,null,null,null,null,null,null,null,null,null,null,null,null,"",""]
[null,null,null,null,null,null,null,null,null,null,null,null,null,null,null,null,null,null,null,null,null,null,"",""]
[null,null,null,null,null,null,null,null,null,null,null,null,null,null,null,null,null,null,null,null,null,null,"",""]
[null,null,null,null,null,null,null,null,null,null,null,null,null,null,null,null,null,null,null,null,null,null,"",""]
[null,null,null,null,null,null,null,null,null,null,null,null,null,null,null,null,null,null,null,null,null,null,"",""]
[null,null,null,null,null,null,null,null,null,null,null,null,null,null,null,null,null,null,null,null,null,null,"",""]

{"sheet":"Итого","index":15,"n_rows":261,"n_cols":24,"rows_kept":261,"cut":false,"hidden":false,"merged":[[16,4,16,12]]}
[]
[]
[]
[]
[]
[]
[]
[]
[]
[]
[]
[]
[null,null,"Адрес для отправки запроса",null,"info@spcable.ru"]
[]
[null,null,"Итоговая запись:",null,"СПЕЦКАБЛАЙН-КиТ-МР20-200 м(КПСнг(А)-FRHF 1х2х0,5-100м)-ТУ 16.К99-083-2015"]
[]
[]
[]
[null,null,null,null,"Спецификация ОКЛ",null,null,null,null,null,null,null,null,null,null,null,null,null,null,null,null,null,null,{"$f":"AE12","v":0}]
[null,null,null,null,null,null,null,null,null,null,null,null,null,null,null,null,null,null,null,null,{"$f":"IF(W20=\"\", \"\",MID(W20,1, FIND(\"-\", W20, FIND(\"FR\",W20))-1))","v":{"$error":"#VALUE!"}},{"$f":"IF(W20=\"\", \"\",MID(W20,FIND(\"-\", W20, FIND(\"FR\",W20))+1,1000))","v":{"$error":"#VALUE!"}},{"$f":"IF(ISERR(FIND(\"+\",X19)), X19,MID(X19, 1, FIND(\"+\",X19)-1))","v":0},{"$f":"IF(ISERR(FIND(\"+\",X19)), \"\", MID(X19, FIND(\"+\",X19)+1, 10000))","v":""}]
[null,null,"ТУ",null,"ТУ 16.К99-083-2015",null,null,null,null,null,null,null,null,null,null,null,null,null,null,null,{"$f":"IF(W21=\"\", \"\",MID(W21,1, FIND(\"-\", W21, FIND(\"FR\",W21))-1))","v":""},{"$f":"IF(W21=\"\", \"\",MID(W21,FIND(\"-\", W21, FIND(\"FR\",W21))+1,1000))","v":""},"",""]
[null,null,"Длина линии",null,"200 м",null,null,null,null,null,null,null,null,null,null,null,null,null,null,null,"","",{"$f":"IF(ISERR(FIND(\"+\",X24)), X24,MID(X24, 1, FIND(\"+\",X24)-1))","v":""},{"$f":"IF(ISERR(FIND(\"+\",X24)), \"\", MID(X24, FIND(\"+\",X24)+1, 10000))","v":""}]
[null,null,"Поверхность монтажа",null,"бетон",null,null,null,null,null,null,null,null,null,null,null,null,null,null,null,"","",{"$f":"IF(ISERR(FIND(\"+\",X22)), X22,MID(X22, 1, FIND(\"+\",X22)-1))","v":""},{"$f":"IF(ISERR(FIND(\"+\",X22)), \"\", MID(X22, FIND(\"+\",X22)+1, 10000))","v":""}]
[null,null,"Подвес в виде",null,"металлорукава",null,null,null,null,null,null,null,null,null,null,null,null,null,null,null,{"$f":"IF(W24=\"\", \"\",MID(W24,1, FIND(\"-\", W24, FIND(\"FR\",W24))-1))","v":""},{"$f":"IF(W24=\"\", \"\",MID(W24,FIND(\"-\", W24, FIND(\"FR\",W24))+1,1000))","v":""},{"$f":"IF(ISERR(FIND(\"+\",X21)), X21,MID(X21, 1, FIND(\"+\",X21)-1))","v":""},{"$f":"IF(ISERR(FIND(\"+\",X21)), \"\", MID(X21, FIND(\"+\",X21)+1, 10000))","v":""}]
[null,null,"Размер несущего элемента",null,"20 мм"]
[null,null,"Материал несущего элемента",null,"ПВХ",null,null,null,null,null,null,null,null,null,null,null,null,null,null,null,"","",{"$f":"IF(ISERR(FIND(\"+\",X23)), X23,MID(X23, 1, FIND(\"+\",X23)-1))","v":""},{"$f":"IF(ISERR(FIND(\"+\",X23)), \"\", MID(X23, FIND(\"+\",X23)+1, 10000))","v":""}]
[null,null,"Крепежный элемент",null,"Скоба",null,null,null,null,null,null,null,null,null,null,null,null,null,null,null,"","","",{"$f":"IF(ISERR(FIND(\"+\",X26)), \"\", MID(X26, FIND(\"+\",X26)+1, 10000))","v":""}]
[null,null,null,null,null,null,null,null,null,null,null,null,null,null,null,null,null,null,null,null,"","","",""]
[null,null,null,null,null,null,null,null,null,null,null,null,null,null,null,null,null,null,null,null,"","","",""]
[null,null,"Кабели, в составе ОКЛ:",null,null,null,null,null,null,null,null,null,null,null,null,null,null,null,null,null,"","","",""]
[null,null,null,null,null,null,null,null,null,null,null,null,null,null,null,null,null,null,null,null,"","","",""]
[null,null,null,1,"КПСнг(А)-FRHF 1х2х0,5","100м",null,null,null,null,null,null,null,null,null,null,null,null,null,null,"","","",""]
[null,null,null,"","","",null,null,null,null,null,null,null,null,null,null,null,null,null,null,"","","",""]
[null,null,null,"","","",null,null,null,null,null,null,null,null,null,null,null,null,null,null,"","","",""]
[null,null,null,"","","",null,null,null,null,null,null,null,null,null,null,null,null,null,null,"","","",""]
[null,null,null,"","","",null,null,null,null,null,null,null,null,null,null,null,null,null,null,"","","",""]
[null,null,null,"","","",null,null,null,null,null,null,null,null,null,null,null,null,null,null,"","","",""]
[null,null,null,"","","",null,null,null,null,null,null,null,null,null,null,null,null,null,null,"","","",""]
[null,null,null,"","","",null,null,null,null,null,null,null,null,null,null,null,null,null,null,"","","",""]
[null,null,null,"","","",null,null,null,null,null,null,null,null,null,null,null,null,null,null,"","","",""]
[null,null,null,"","","",null,null,null,null,null,null,null,null,null,null,null,null,null,null,null,null,"",""]
[null,null,null,"","","",null,null,null,null,null,null,null,null,null,null,null,null,null,null,null,null,"",""]
[null,null,null,"","","",null,null,null,null,null,null,null,null,null,null,null,null,null,null,null,null,"",""]
[null,null,null,"","","",null,null,null,null,null,null,null,null,null,null,null,null,null,null,null,null,"",""]
[null,null,null,"","","",null,null,null,null,null,null,null,null,null,null,null,null,null,null,null,null,"",""]
[null,null,null,"","","",null,null,null,null,null,null,null,null,null,null,null,null,null,null,null,null,"",""]
[null,null,null,"","","",null,null,null,null,null,null,null,null,null,null,null,null,null,null,null,null,"",""]
[null,null,null,"","","",null,null,null,null,null,null,null,null,null,null,null,null,null,null,null,null,"",""]
[null,null,null,"","","",null,null,null,null,null,null,null,null,null,null,null,null,null,null,null,null,"",""]
[null,null,null,null,null,null,null,null,null,null,null,null,null,null,null,null,null,null,null,null,null,null,"",""]
[null,null,null,null,null,null,null,null,null,null,null,null,null,null,null,null,null,null,null,null,null,null,"",""]
[null,null,null,null,null,null,null,null,null,null,null,null,null,null,null,null,null,null,null,null,null,null,"",""]
[null,null,null,null,null,null,null,null,null,null,null,null,null,null,null,null,null,null,null,null,null,null,"",""]
[null,null,null,null,null,null,null,null,null,null,null,null,null,null,null,null,null,null,null,null,null,null,"",""]
[null,null,null,null,null,null,null,null,null,null,null,null,null,null,null,null,null,null,null,null,null,null,"",""]
[null,null,null,null,null,null,null,null,null,null,null,null,null,null,null,null,null,null,null,null,null,null,"",""]
[null,null,null,null,null,null,null,null,null,null,null,null,null,null,null,null,null,null,null,null,null,null,"",""]
[null,null,null,null,null,null,null,null,null,null,null,null,null,null,null,null,null,null,null,null,null,null,"",""]
[null,null,null,null,null,null,null,null,null,null,null,null,null,null,null,null,null,null,null,null,null,null,"",""]
[null,null,null,null,null,null,null,null,null,null,null,null,null,null,null,null,null,null,null,null,null,null,"",""]
[null,null,null,null,null,null,null,null,null,null,null,null,null,null,null,null,null,null,null,null,null,null,"",""]
[null,null,null,null,null,null,null,null,null,null,null,null,null,null,null,null,null,null,null,null,null,null,"",""]
[null,null,null,null,null,null,null,null,null,null,null,null,null,null,null,null,null,null,null,null,null,null,"",""]
[null,null,null,null,null,null,null,null,null,null,null,null,null,null,null,null,null,null,null,null,null,null,"",""]
[null,null,null,null,null,null,null,null,null,null,null,null,null,null,null,null,null,null,null,null,null,null,"",""]
[null,null,null,null,null,null,null,null,null,null,null,null,null,null,null,null,null,null,null,null,null,null,"",""]
[null,null,null,null,null,null,null,null,null,null,null,null,null,null,null,null,null,null,null,null,null,null,"",""]
[null,null,null,null,null,null,null,null,null,null,null,null,null,null,null,null,null,null,null,null,null,null,"",""]
[null,null,null,null,null,null,null,null,null,null,null,null,null,null,null,null,null,null,null,null,null,null,"",""]
[null,null,null,null,null,null,null,null,null,null,null,null,null,null,null,null,null,null,null,null,null,null,"",""]
[null,null,null,null,null,null,null,null,null,null,null,null,null,null,null,null,null,null,null,null,null,null,"",""]
[null,null,null,null,null,null,null,null,null,null,null,null,null,null,null,null,null,null,null,null,null,null,"",""]
[null,null,null,null,null,null,null,null,null,null,null,null,null,null,null,null,null,null,null,null,null,null,"",""]
[null,null,null,null,null,null,null,null,null,null,null,null,null,null,null,null,null,null,null,null,null,null,"",""]
[null,null,null,null,null,null,null,null,null,null,null,null,null,null,null,null,null,null,null,null,null,null,"",""]
[null,null,null,null,null,null,null,null,null,null,null,null,null,null,null,null,null,null,null,null,null,null,"",""]
[null,null,null,null,null,null,null,null,null,null,null,null,null,null,null,null,null,null,null,null,null,null,"",""]
[null,null,null,null,null,null,null,null,null,null,null,null,null,null,null,null,null,null,null,null,null,null,"",""]
[null,null,null,null,null,null,null,null,null,null,null,null,null,null,null,null,null,null,null,null,null,null,"",""]
[null,null,null,null,null,null,null,null,null,null,null,null,null,null,null,null,null,null,null,null,null,null,"",""]
[null,null,null,null,null,null,null,null,null,null,null,null,null,null,null,null,null,null,null,null,null,null,"",""]
[null,null,null,null,null,null,null,null,null,null,null,null,null,null,null,null,null,null,null,null,null,null,"",""]
[null,null,null,null,null,null,null,null,null,null,null,null,null,null,null,null,null,null,null,null,null,null,"",""]
[null,null,null,null,null,null,null,null,null,null,null,null,null,null,null,null,null,null,null,null,null,null,"",""]
[null,null,null,null,null,null,null,null,null,null,null,null,null,null,null,null,null,null,null,null,null,null,"",""]
[null,null,null,null,null,null,null,null,null,null,null,null,null,null,null,null,null,null,null,null,null,null,"",""]
[null,null,null,null,null,null,null,null,null,null,null,null,null,null,null,null,null,null,null,null,null,null,"",""]
[null,null,null,null,null,null,null,null,null,null,null,null,null,null,null,null,null,null,null,null,null,null,{"$f":"IF(ISERR(FIND(\"+\",X87)), X87,MID(X87, 1, FIND(\"+\",X87)-1))","v":""},""]
[null,null,null,null,null,null,null,null,null,null,null,null,null,null,null,null,null,null,null,null,null,null,"",""]
[null,null,null,null,null,null,null,null,null,null,null,null,null,null,null,null,null,null,null,null,null,null,"",""]
[null,null,null,null,null,null,null,null,null,null,null,null,null,null,null,null,null,null,null,null,null,null,"",{"$f":"IF(ISERR(FIND(\"+\",X90)), \"\", MID(X90, FIND(\"+\",X90)+1, 10000))","v":""}]
[null,null,null,null,null,null,null,null,null,null,null,null,null,null,null,null,null,null,null,null,null,null,"",""]
[null,null,null,null,null,null,null,null,null,null,null,null,null,null,null,null,null,null,null,null,null,null,"",""]
[null,null,null,null,null,null,null,null,null,null,null,null,null,null,null,null,null,null,null,null,null,null,"",""]
[null,null,null,null,null,null,null,null,null,null,null,null,null,null,null,null,null,null,null,null,null,null,"",""]
[null,null,null,null,null,null,null,null,null,null,null,null,null,null,null,null,null,null,null,null,null,null,"",""]
[null,null,null,null,null,null,null,null,null,null,null,null,null,null,null,null,null,null,null,null,null,null,"",""]
[null,null,null,null,null,null,null,null,null,null,null,null,null,null,null,null,null,null,null,null,null,null,"",""]
[null,null,null,null,null,null,null,null,null,null,null,null,null,null,null,null,null,null,null,null,null,null,"",""]
[null,null,null,null,null,null,null,null,null,null,null,null,null,null,null,null,null,null,null,null,null,null,"",""]
[null,null,null,null,null,null,null,null,null,null,null,null,null,null,null,null,null,null,null,null,null,null,"",""]
[null,null,null,null,null,null,null,null,null,null,null,null,null,null,null,null,null,null,null,null,null,null,"",""]
[null,null,null,null,null,null,null,null,null,null,null,null,null,null,null,null,null,null,null,null,null,null,"",""]
[null,null,null,null,null,null,null,null,null,null,null,null,null,null,null,null,null,null,null,null,null,null,"",""]
[null,null,null,null,null,null,null,null,null,null,null,null,null,null,null,null,null,null,null,null,null,null,"",""]
[null,null,null,null,null,null,null,null,null,null,null,null,null,null,null,null,null,null,null,null,null,null,"",""]
[null,null,null,null,null,null,null,null,null,null,null,null,null,null,null,null,null,null,null,null,null,null,"",""]
[null,null,null,null,null,null,null,null,null,null,null,null,null,null,null,null,null,null,null,null,null,null,"",""]
[null,null,null,null,null,null,null,null,null,null,null,null,null,null,null,null,null,null,null,null,null,null,"",""]
[null,null,null,null,null,null,null,null,null,null,null,null,null,null,null,null,null,null,null,null,null,null,"",""]
[null,null,null,null,null,null,null,null,null,null,null,null,null,null,null,null,null,null,null,null,null,null,"",""]
[null,null,null,null,null,null,null,null,null,null,null,null,null,null,null,null,null,null,null,null,null,null,"",""]
[null,null,null,null,null,null,null,null,null,null,null,null,null,null,null,null,null,null,null,null,null,null,"",""]
[null,null,null,null,null,null,null,null,null,null,null,null,null,null,null,null,null,null,null,null,null,null,"",""]
[null,null,null,null,null,null,null,null,null,null,null,null,null,null,null,null,null,null,null,null,null,null,"",""]
[null,null,null,null,null,null,null,null,null,null,null,null,null,null,null,null,null,null,null,null,null,null,"",""]
[null,null,null,null,null,null,null,null,null,null,null,null,null,null,null,null,null,null,null,null,null,null,"",""]
[null,null,null,null,null,null,null,null,null,null,null,null,null,null,null,null,null,null,null,null,null,null,"",""]
[null,null,null,null,null,null,null,null,null,null,null,null,null,null,null,null,null,null,null,null,null,null,"",""]
[null,null,null,null,null,null,null,null,null,null,null,null,null,null,null,null,null,null,null,null,null,null,"",""]
[null,null,null,null,null,null,null,null,null,null,null,null,null,null,null,null,null,null,null,null,null,null,"",""]
[null,null,null,null,null,null,null,null,null,null,null,null,null,null,null,null,null,null,null,null,null,null,"",""]
[null,null,null,null,null,null,null,null,null,null,null,null,null,null,null,null,null,null,null,null,null,null,"",""]
[null,null,null,null,null,null,null,null,null,null,null,null,null,null,null,null,null,null,null,null,null,null,"",""]
[null,null,null,null,null,null,null,null,null,null,null,null,null,null,null,null,null,null,null,null,null,null,"",""]
[null,null,null,null,null,null,null,null,null,null,null,null,null,null,null,null,null,null,null,null,null,null,"",""]
[null,null,null,null,null,null,null,null,null,null,null,null,null,null,null,null,null,null,null,null,null,null,"",""]
[null,null,null,null,null,null,null,null,null,null,null,null,null,null,null,null,null,null,null,null,null,null,"",""]
[null,null,null,null,null,null,null,null,null,null,null,null,null,null,null,null,null,null,null,null,null,null,"",""]
[null,null,null,null,null,null,null,null,null,null,null,null,null,null,null,null,null,null,null,null,null,null,"",""]
[null,null,null,null,null,null,null,null,null,null,null,null,null,null,null,null,null,null,null,null,null,null,"",""]
[null,null,null,null,null,null,null,null,null,null,null,null,null,null,null,null,null,null,null,null,null,null,"",""]
[null,null,null,null,null,null,null,null,null,null,null,null,null,null,null,null,null,null,null,null,null,null,"",""]
[null,null,null,null,null,null,null,null,null,null,null,null,null,null,null,null,null,null,null,null,null,null,"",""]
[null,null,null,null,null,null,null,null,null,null,null,null,null,null,null,null,null,null,null,null,null,null,"",""]
[null,null,null,null,null,null,null,null,null,null,null,null,null,null,null,null,null,null,null,null,null,null,"",""]
[null,null,null,null,null,null,null,null,null,null,null,null,null,null,null,null,null,null,null,null,null,null,"",""]
[null,null,null,null,null,null,null,null,null,null,null,null,null,null,null,null,null,null,null,null,null,null,"",""]
[null,null,null,null,null,null,null,null,null,null,null,null,null,null,null,null,null,null,null,null,null,null,"",""]
[null,null,null,null,null,null,null,null,null,null,null,null,null,null,null,null,null,null,null,null,null,null,"",""]
[null,null,null,null,null,null,null,null,null,null,null,null,null,null,null,null,null,null,null,null,null,null,"",""]
[null,null,null,null,null,null,null,null,null,null,null,null,null,null,null,null,null,null,null,null,null,null,"",""]
[null,null,null,null,null,null,null,null,null,null,null,null,null,null,null,null,null,null,null,null,null,null,"",""]
[null,null,null,null,null,null,null,null,null,null,null,null,null,null,null,null,null,null,null,null,null,null,"",""]
[null,null,null,null,null,null,null,null,null,null,null,null,null,null,null,null,null,null,null,null,null,null,"",""]
[null,null,null,null,null,null,null,null,null,null,null,null,null,null,null,null,null,null,null,null,null,null,"",""]
[null,null,null,null,null,null,null,null,null,null,null,null,null,null,null,null,null,null,null,null,null,null,"",""]
[null,null,null,null,null,null,null,null,null,null,null,null,null,null,null,null,null,null,null,null,null,null,"",""]
[null,null,null,null,null,null,null,null,null,null,null,null,null,null,null,null,null,null,null,null,null,null,"",""]
[null,null,null,null,null,null,null,null,null,null,null,null,null,null,null,null,null,null,null,null,null,null,"",""]
[null,null,null,null,null,null,null,null,null,null,null,null,null,null,null,null,null,null,null,null,null,null,"",""]
[null,null,null,null,null,null,null,null,null,null,null,null,null,null,null,null,null,null,null,null,null,null,{"$f":"IF(ISERR(FIND(\"+\",X151)), X151,MID(X151, 1, FIND(\"+\",X151)-1))","v":""},""]
[null,null,null,null,null,null,null,null,null,null,null,null,null,null,null,null,null,null,null,null,null,null,"",""]
[null,null,null,null,null,null,null,null,null,null,null,null,null,null,null,null,null,null,null,null,null,null,"",""]
[null,null,null,null,null,null,null,null,null,null,null,null,null,null,null,null,null,null,null,null,null,null,"",{"$f":"IF(ISERR(FIND(\"+\",X154)), \"\", MID(X154, FIND(\"+\",X154)+1, 10000))","v":""}]
[null,null,null,null,null,null,null,null,null,null,null,null,null,null,null,null,null,null,null,null,null,null,"",""]
[null,null,null,null,null,null,null,null,null,null,null,null,null,null,null,null,null,null,null,null,null,null,"",""]
[null,null,null,null,null,null,null,null,null,null,null,null,null,null,null,null,null,null,null,null,null,null,"",""]
[null,null,null,null,null,null,null,null,null,null,null,null,null,null,null,null,null,null,null,null,null,null,"",""]
[null,null,null,null,null,null,null,null,null,null,null,null,null,null,null,null,null,null,null,null,null,null,"",""]
[null,null,null,null,null,null,null,null,null,null,null,null,null,null,null,null,null,null,null,null,null,null,"",""]
[null,null,null,null,null,null,null,null,null,null,null,null,null,null,null,null,null,null,null,null,null,null,"",""]
[null,null,null,null,null,null,null,null,null,null,null,null,null,null,null,null,null,null,null,null,null,null,"",""]
[null,null,null,null,null,null,null,null,null,null,null,null,null,null,null,null,null,null,null,null,null,null,"",""]
[null,null,null,null,null,null,null,null,null,null,null,null,null,null,null,null,null,null,null,null,null,null,"",""]
[null,null,null,null,null,null,null,null,null,null,null,null,null,null,null,null,null,null,null,null,null,null,"",""]
[null,null,null,null,null,null,null,null,null,null,null,null,null,null,null,null,null,null,null,null,null,null,"",""]
[null,null,null,null,null,null,null,null,null,null,null,null,null,null,null,null,null,null,null,null,null,null,"",""]
[null,null,null,null,null,null,null,null,null,null,null,null,null,null,null,null,null,null,null,null,null,null,"",""]
[null,null,null,null,null,null,null,null,null,null,null,null,null,null,null,null,null,null,null,null,null,null,"",""]
[null,null,null,null,null,null,null,null,null,null,null,null,null,null,null,null,null,null,null,null,null,null,"",""]
[null,null,null,null,null,null,null,null,null,null,null,null,null,null,null,null,null,null,null,null,null,null,"",""]
[null,null,null,null,null,null,null,null,null,null,null,null,null,null,null,null,null,null,null,null,null,null,"",""]
[null,null,null,null,null,null,null,null,null,null,null,null,null,null,null,null,null,null,null,null,null,null,"",""]
[null,null,null,null,null,null,null,null,null,null,null,null,null,null,null,null,null,null,null,null,null,null,"",""]
[null,null,null,null,null,null,null,null,null,null,null,null,null,null,null,null,null,null,null,null,null,null,"",""]
[null,null,null,null,null,null,null,null,null,null,null,null,null,null,null,null,null,null,null,null,null,null,"",""]
[null,null,null,null,null,null,null,null,null,null,null,null,null,null,null,null,null,null,null,null,null,null,"",""]
[null,null,null,null,null,null,null,null,null,null,null,null,null,null,null,null,null,null,null,null,null,null,"",""]
[null,null,null,null,null,null,null,null,null,null,null,null,null,null,null,null,null,null,null,null,null,null,"",""]
[null,null,null,null,null,null,null,null,null,null,null,null,null,null,null,null,null,null,null,null,null,null,"",""]
[null,null,null,null,null,null,null,null,null,null,null,null,null,null,null,null,null,null,null,null,null,null,"",""]
[null,null,null,null,null,null,null,null,null,null,null,null,null,null,null,null,null,null,null,null,null,null,"",""]
[null,null,null,null,null,null,null,null,null,null,null,null,null,null,null,null,null,null,null,null,null,null,"",""]
[null,null,null,null,null,null,null,null,null,null,null,null,null,null,null,null,null,null,null,null,null,null,"",""]
[null,null,null,null,null,null,null,null,null,null,null,null,null,null,null,null,null,null,null,null,null,null,"",""]
[null,null,null,null,null,null,null,null,null,null,null,null,null,null,null,null,null,null,null,null,null,null,"",""]
[null,null,null,null,null,null,null,null,null,null,null,null,null,null,null,null,null,null,null,null,null,null,"",""]
[null,null,null,null,null,null,null,null,null,null,null,null,null,null,null,null,null,null,null,null,null,null,"",""]
[null,null,null,null,null,null,null,null,null,null,null,null,null,null,null,null,null,null,null,null,null,null,"",""]
[null,null,null,null,null,null,null,null,null,null,null,null,null,null,null,null,null,null,null,null,null,null,"",""]
[null,null,null,null,null,null,null,null,null,null,null,null,null,null,null,null,null,null,null,null,null,null,"",""]
[null,null,null,null,null,null,null,null,null,null,null,null,null,null,null,null,null,null,null,null,null,null,"",""]
[null,null,null,null,null,null,null,null,null,null,null,null,null,null,null,null,null,null,null,null,null,null,"",""]
[null,null,null,null,null,null,null,null,null,null,null,null,null,null,null,null,null,null,null,null,null,null,"",""]
[null,null,null,null,null,null,null,null,null,null,null,null,null,null,null,null,null,null,null,null,null,null,"",""]
[null,null,null,null,null,null,null,null,null,null,null,null,null,null,null,null,null,null,null,null,null,null,"",""]
[null,null,null,null,null,null,null,null,null,null,null,null,null,null,null,null,null,null,null,null,null,null,"",""]
[null,null,null,null,null,null,null,null,null,null,null,null,null,null,null,null,null,null,null,null,null,null,"",""]
[null,null,null,null,null,null,null,null,null,null,null,null,null,null,null,null,null,null,null,null,null,null,"",""]
[null,null,null,null,null,null,null,null,null,null,null,null,null,null,null,null,null,null,null,null,null,null,"",""]
[null,null,null,null,null,null,null,null,null,null,null,null,null,null,null,null,null,null,null,null,null,null,"",""]
[null,null,null,null,null,null,null,null,null,null,null,null,null,null,null,null,null,null,null,null,null,null,"",""]
[null,null,null,null,null,null,null,null,null,null,null,null,null,null,null,null,null,null,null,null,null,null,"",""]
[null,null,null,null,null,null,null,null,null,null,null,null,null,null,null,null,null,null,null,null,null,null,"",""]
[null,null,null,null,null,null,null,null,null,null,null,null,null,null,null,null,null,null,null,null,null,null,"",""]
[null,null,null,null,null,null,null,null,null,null,null,null,null,null,null,null,null,null,null,null,null,null,"",""]
[null,null,null,null,null,null,null,null,null,null,null,null,null,null,null,null,null,null,null,null,null,null,"",""]
[null,null,null,null,null,null,null,null,null,null,null,null,null,null,null,null,null,null,null,null,null,null,"",""]
[null,null,null,null,null,null,null,null,null,null,null,null,null,null,null,null,null,null,null,null,null,null,"",""]
[null,null,null,null,null,null,null,null,null,null,null,null,null,null,null,null,null,null,null,null,null,null,"",""]
[null,null,null,null,null,null,null,null,null,null,null,null,null,null,null,null,null,null,null,null,null,null,"",""]
[null,null,null,null,null,null,null,null,null,null,null,null,null,null,null,null,null,null,null,null,null,null,"",""]
[null,null,null,null,null,null,null,null,null,null,null,null,null,null,null,null,null,null,null,null,null,null,"",""]
[null,null,null,null,null,null,null,null,null,null,null,null,null,null,null,null,null,null,null,null,null,null,"",""]
[null,null,null,null,null,null,null,null,null,null,null,null,null,null,null,null,null,null,null,null,null,null,{"$f":"IF(ISERR(FIND(\"+\",X215)), X215,MID(X215, 1, FIND(\"+\",X215)-1))","v":""},""]
[null,null,null,null,null,null,null,null,null,null,null,null,null,null,null,null,null,null,null,null,null,null,"",""]
[null,null,null,null,null,null,null,null,null,null,null,null,null,null,null,null,null,null,null,null,null,null,"",""]
[null,null,null,null,null,null,null,null,null,null,null,null,null,null,null,null,null,null,null,null,null,null,"",{"$f":"IF(ISERR(FIND(\"+\",X218)), \"\", MID(X218, FIND(\"+\",X218)+1, 10000))","v":""}]
[null,null,null,null,null,null,null,null,null,null,null,null,null,null,null,null,null,null,null,null,null,null,"",""]
[null,null,null,null,null,null,null,null,null,null,null,null,null,null,null,null,null,null,null,null,null,null,"",""]
[null,null,null,null,null,null,null,null,null,null,null,null,null,null,null,null,null,null,null,null,null,null,"",""]
[null,null,null,null,null,null,null,null,null,null,null,null,null,null,null,null,null,null,null,null,null,null,"",""]
[null,null,null,null,null,null,null,null,null,null,null,null,null,null,null,null,null,null,null,null,null,null,"",""]
[null,null,null,null,null,null,null,null,null,null,null,null,null,null,null,null,null,null,null,null,null,null,"",""]
[null,null,null,null,null,null,null,null,null,null,null,null,null,null,null,null,null,null,null,null,null,null,"",""]
[null,null,null,null,null,null,null,null,null,null,null,null,null,null,null,null,null,null,null,null,null,null,"",""]
[null,null,null,null,null,null,null,null,null,null,null,null,null,null,null,null,null,null,null,null,null,null,"",""]
[null,null,null,null,null,null,null,null,null,null,null,null,null,null,null,null,null,null,null,null,null,null,"",""]
[null,null,null,null,null,null,null,null,null,null,null,null,null,null,null,null,null,null,null,null,null,null,"",""]
[null,null,null,null,null,null,null,null,null,null,null,null,null,null,null,null,null,null,null,null,null,null,"",""]
[null,null,null,null,null,null,null,null,null,null,null,null,null,null,null,null,null,null,null,null,null,null,"",""]
[null,null,null,null,null,null,null,null,null,null,null,null,null,null,null,null,null,null,null,null,null,null,"",""]
[null,null,null,null,null,null,null,null,null,null,null,null,null,null,null,null,null,null,null,null,null,null,"",""]
[null,null,null,null,null,null,null,null,null,null,null,null,null,null,null,null,null,null,null,null,null,null,"",""]
[null,null,null,null,null,null,null,null,null,null,null,null,null,null,null,null,null,null,null,null,null,null,"",""]
[null,null,null,null,null,null,null,null,null,null,null,null,null,null,null,null,null,null,null,null,null,null,"",""]
[null,null,null,null,null,null,null,null,null,null,null,null,null,null,null,null,null,null,null,null,null,null,"",""]
[null,null,null,null,null,null,null,null,null,null,null,null,null,null,null,null,null,null,null,null,null,null,"",""]
[null,null,null,null,null,null,null,null,null,null,null,null,null,null,null,null,null,null,null,null,null,null,"",""]
[null,null,null,null,null,null,null,null,null,null,null,null,null,null,null,null,null,null,null,null,null,null,"",""]
[null,null,null,null,null,null,null,null,null,null,null,null,null,null,null,null,null,null,null,null,null,null,"",""]
[null,null,null,null,null,null,null,null,null,null,null,null,null,null,null,null,null,null,null,null,null,null,"",""]
[null,null,null,null,null,null,null,null,null,null,null,null,null,null,null,null,null,null,null,null,null,null,"",""]
[null,null,null,null,null,null,null,null,null,null,null,null,null,null,null,null,null,null,null,null,null,null,"",""]
[null,null,null,null,null,null,null,null,null,null,null,null,null,null,null,null,null,null,null,null,null,null,"",""]
[null,null,null,null,null,null,null,null,null,null,null,null,null,null,null,null,null,null,null,null,null,null,"",""]
[null,null,null,null,null,null,null,null,null,null,null,null,null,null,null,null,null,null,null,null,null,null,"",""]
[null,null,null,null,null,null,null,null,null,null,null,null,null,null,null,null,null,null,null,null,null,null,"",""]
[null,null,null,null,null,null,null,null,null,null,null,null,null,null,null,null,null,null,null,null,null,null,"",""]
[null,null,null,null,null,null,null,null,null,null,null,null,null,null,null,null,null,null,null,null,null,null,"",""]
[null,null,null,null,null,null,null,null,null,null,null,null,null,null,null,null,null,null,null,null,null,null,"",""]
[null,null,null,null,null,null,null,null,null,null,null,null,null,null,null,null,null,null,null,null,null,null,"",""]
[null,null,null,null,null,null,null,null,null,null,null,null,null,null,null,null,null,null,null,null,null,null,"",""]
[null,null,null,null,null,null,null,null,null,null,null,null,null,null,null,null,null,null,null,null,null,null,"",""]
[null,null,null,null,null,null,null,null,null,null,null,null,null,null,null,null,null,null,null,null,null,null,"",""]
[null,null,null,null,null,null,null,null,null,null,null,null,null,null,null,null,null,null,null,null,null,null,"",""]
[null,null,null,null,null,null,null,null,null,null,null,null,null,null,null,null,null,null,null,null,null,null,"",""]
[null,null,null,null,null,null,null,null,null,null,null,null,null,null,null,null,null,null,null,null,null,null,"",""]
[null,null,null,null,null,null,null,null,null,null,null,null,null,null,null,null,null,null,null,null,null,null,"",""]
[null,null,null,null,null,null,null,null,null,null,null,null,null,null,null,null,null,null,null,null,null,null,"",""]

{"sheet":"КАБЕЛИ","index":16,"n_rows":8,"n_cols":7,"rows_kept":8,"cut":false,"hidden":true,"merged":[]}
[]
["Номенклатура",{"$f":"CONCATENATE(\"(\", E8, \")\")","v":"(КПСнг(А)-FRHF 1х2х0,5-100м)"}]
["Общая длина кабеля",{"$f":"SUM(C5:C8)","v":100}]
[]
["КПС",{"$f":"КПС!K3","v":"КПСнг(А)-FRHF 1х2х0,5-100м"},{"$f":"КПС!P5","v":100},{"$f":"IF(C5=0, \"\",CONCATENATE(F5,B5,))","v":"КПСнг(А)-FRHF 1х2х0,5-100м"},{"$f":"CONCATENATE(E3,D5)","v":"КПСнг(А)-FRHF 1х2х0,5-100м"},{"$f":"IF(SUM(C3:C$3)=0, \"\", \" + \")","v":""},{"$f":"IF(SUM(B3:B$9)=0, \"\", \" + \")","v":" + "}]
["КСБ",{"$f":"КСБ!L3","v":""},{"$f":"КСБ!Q5","v":0},{"$f":"IF(C6=0, \"\",CONCATENATE(F6,B6,))","v":""},{"$f":"CONCATENATE(E5,D6)","v":"КПСнг(А)-FRHF 1х2х0,5-100м"},{"$f":"IF(SUM(C$3:C5)=0, \"\", \" + \")","v":" + "}]
["Силовые",{"$f":"'Силовой кабель'!L3","v":""},{"$f":"'Силовой кабель'!Q5","v":0},{"$f":"IF(C7=0, \"\",CONCATENATE(F7,B7,))","v":""},{"$f":"CONCATENATE(E6,D7)","v":"КПСнг(А)-FRHF 1х2х0,5-100м"},{"$f":"IF(SUM(C$3:C6)=0, \"\", \" + \")","v":" + "}]
["Лоутокс",{"$f":"'ЛОУТОКС-СПЕЦЛАН-КЭРС-КШС'!M3","v":""},{"$f":"'ЛОУТОКС-СПЕЦЛАН-КЭРС-КШС'!R5","v":0},{"$f":"IF(C8=0, \"\",CONCATENATE(F8,B8,))","v":""},{"$f":"CONCATENATE(E7,D8)","v":"КПСнг(А)-FRHF 1х2х0,5-100м"},{"$f":"IF(SUM(C$3:C7)=0, \"\", \" + \")","v":" + "}]

{"sheet":"Лист2","index":17,"n_rows":0,"n_cols":0,"rows_kept":0,"cut":false,"hidden":true,"merged":[]}